{"text_format":"1","workbook":"xlsx","n_sheets":16,"sheets":["Start","Input","Binary_Input","Output SET File Generator","Dashboard","Default","V1","V2","V3","V4","V5","V6","V7","V8","V9","V10"],"not_rendered":{"charts":0,"images":0,"macros":1,"external_links":0,"defined_names":3,"comments":0,"pivot_tables":0},"unopened":[],"bounds":{"document_bytes":16777216,"sheet_cells":100000,"rows_first":2000,"rows_last":500,"rows_between":2000,"halvings":0,"cell_chars":16384,"cell_head_chars":4096},"cells_cut":0,"cells_raw":0,"read":"whole","date_system":"1900"}

{"sheet":"Start","index":0,"n_rows":63,"n_cols":108,"rows_kept":63,"cut":false,"hidden":true,"merged":[]}
["Sheet Name"]
["Start",null,null,null,null,null,true,true,"Sell Only",0,"Current",0,"Fixed lot ",0,"First ooposite lat ",0,"Sunda ",0,"Disabled ",0,"Disable ",0,"Pendin ent disabled ",0,"Disabled ",0,"In points",0,"From avera e c en rice ",0,"Disabled",0,"Sum: previous lot + adding [I-2-3-4-5-...] ",0,"Disabled ",0,"Ocn't use fcrc en ",0,"Ocn't use fcr clcse ",0,"Ocn't use fcr artial clcse ",0,"Disabled ",0,"CCI",0,"Close price ",0,"Simple ",0,"Low/High ",0,"Open on Collective signal ",0,"Median price ",0,"Disabled ",0,"Disabled ",0,"Sim le ",0,"Disabled ",0,"Disabled ",0,"Disabled ",0,"Disabled ",0,"Sim ",0,"In cints ",0,"Disabled ",0,"In cints ",0,"Dis able ",0,"Disable Smoothin Filtr ",0,"Disabled ",0,"Eve bar cf incl TF ",0,"Schedule disabled ",0,"Disable DST ",0,"Disabled","-1","Disabled","-1","News Disabled",0,"Solid",0,"Disabled ",0,"diszbled ",0,"Withdraw every day ",0,"Disabled ",0,"Pearscn ",0]
["Input",null,null,null,null,null,false,false,"Both (Buy & Sell)",1,"I Minute ",{"$f":"+L2+1","v":1},"Risk per trade ",{"$f":"+N2+1","v":1},"Last opposite lot ",{"$f":"+P2+1","v":1},"Mcncia ",{"$f":"+R2+1","v":1},"00",{"$f":"+T2+1","v":1},"StdDev ",{"$f":"+V2+1","v":1},"Ent with STOP order ",{"$f":"+X2+1","v":1},"Trail on signal ",{"$f":"+Z2+1","v":1},"Coefficient to Volatility",{"$f":"+AB2+1","v":1},"Frcm lastc en rice ",{"$f":"+AD2+1","v":1},"Enabled",{"$f":"+AF2+1","v":1},"Fibc: revicus Ict + ",{"$f":"+AH2+1","v":1},"Big candle in any direction ",{"$f":"+AJ2+1","v":1},"Open on Individual signal ",{"$f":"+AL2+1","v":1},"Close on Individual signal ",{"$f":"+AN2+1","v":1},"Partial close on Individual signal ",{"$f":"+AP2+1","v":1},"Inside zone ",{"$f":"+AR2+1","v":1},"WPR ",{"$f":"+AT2+1","v":1},"Open price ",{"$f":"+AV2+1","v":1},"Exponential ",{"$f":"+AX2+1","v":1},"CIcse/CIcse ",{"$f":"+AZ2+1","v":1},"Dont use for open ",{"$f":"+BB2+1","v":1},"Close price ",{"$f":"+BD2+1","v":1},"Market Base Line  Si nal Level ",{"$f":"+BF2+1","v":1},"Buy on Main > O / Sell on Main O ",{"$f":"+BH2+1","v":1},"Ex cnential ",{"$f":"+BJ2+1","v":1},"Buy cn +01 level / Sell cn -DI level ",{"$f":"+BL2+1","v":1},"Buy > level/ Sell -level ",{"$f":"+BN2+1","v":1},"Direction ",{"$f":"+BP2+1","v":1},"8u below MA/ Sell above MA ",{"$f":"+BR2+1","v":1},"Exponential",{"$f":"+BT2+1","v":1},"Volatili  Coefficient ",{"$f":"+BV2+1","v":1},"Extremum break ",{"$f":"+BX2+1","v":1},"Volatility coefficient ",{"$f":"+BZ2+1","v":1},"ATR ",{"$f":"+CB2+1","v":1},"Allow trade cn growth (Volatility MA) ",{"$f":"+CD2+1","v":1},"On retracement (buy level, sell level) ",{"$f":"+CF2+1","v":1},"Eve tick ",{"$f":"+CH2+1","v":1},"Apply to the first entry only ",{"$f":"+CJ2+1","v":1},"DST Eurc e (last Sunda / last Sundi ",{"$f":"+CL2+1","v":1},"00",0,"00",0,"News time as a filter",{"$f":"+CR2+1","v":1},"Dash",{"$f":"+CT2+1","v":1},"Trend lines frcmc en tc current rice ",{"$f":"+CV2+1","v":1},"Withdraw percent of profit ",{"$f":"+CX2+1","v":1},"Withdraw ",{"$f":"+CZ2+1","v":1},"Rh2 one u ",{"$f":"+DB2+1","v":1},"S earman ",{"$f":"+DD2+1","v":1}]
["Output SET File Generator",null,null,null,null,null,null,null,"Buy Only",2,"2 Minutes ",{"$f":"+L3+1","v":2},"Mar in ercent use ",{"$f":"+N3+1","v":2},"Sum c osite lots ",{"$f":"+P3+1","v":2},"Tuesday ",{"$f":"+R3+1","v":2},"01",{"$f":"+T3+1","v":2},"ATR (Close-open) ",{"$f":"+V3+1","v":2},"Ent with LIMIT crdet ",{"$f":"+X3+1","v":2},"Trail alwa ",{"$f":"+Z3+1","v":2},null,null,"From firstc en rice ",{"$f":"+AD3+1","v":2},null,null,"re- revious lot [I-1-2-3- ",{"$f":"+AH3+1","v":2},"CO-directional big candle ony ",{"$f":"+AJ3+1","v":2},"Open on Collective signal ",{"$f":"+AL3+1","v":2},"Close on Individual signal, in profit only ",2,"Partial close on Collective si nal ",2,"Cross IN ",2,"RSI",2,"High price ",2,"Smoothed ",2,null,null,"O en on Individual si nal ",{"$f":"+BB3+1","v":2},"Open price ",{"$f":"+BD3+1","v":2},null,null,"Buy on 2 growing bars / Sell on 2 reducing ba ",{"$f":"+BH3+1","v":2},"Smoothed ",2,"8u 'sell on crosses -DI u 'down when A ",{"$f":"+BL3+1","v":2},"Buy on rise / Sell on fall ",{"$f":"+BN3+1","v":2},"Si nal ",{"$f":"+BP3+1","v":2},"Bu abcve MA/ Sell belcw MA ",{"$f":"+BR3+1","v":2},"Smoothed ",2,null,null,"Trend continue (last broken extremum directi ",{"$f":"+BX3+1","v":2},"Average ZZ size coefficient ",2,"StdÜe• ",2,"Allow trade on reduce (VolatiF ",2,"On retracement + opposite direction ",2,"Every MI bar ",2,"A to all new trades ",2,"DST USA (2nd Sunday of March/ 1st Sunday ",2,"01",{"$f":"+CN3+1","v":1},"01",{"$f":"+CP3+1","v":1},"No News time as a filter",{"$f":"+CR3+1","v":2},"Dot",2,"Horizontal lines like in MT ",2,"Withdraw fixed amount ",2,"ever-v month ",2,"Reletv.•e on ",2]
[null,null,null,null,null,null,null,null,null,null,"3 Minutes ",3,"Fixed size er 1000 ",3,null,null,"We d ne5day ",{"$f":"+R4+1","v":3},"02",3,"WATR ",3,null,null,null,null,null,null,null,null,null,null,"Martin: revicus Ict cceff [I-2-4-8-16-...] ",{"$f":"+AH4+1","v":3},"bi candle on ",{"$f":"+AJ4+1","v":3},"O en on Collective si nal (neutrals- nals acc ",3,"Close on Collective signal ",3,null,null,"cross OUT ",3,"Stochastic K ",3,"L price ",3,"Linear hted ",3,null,null,"nai ",3,"High price ",3,null,null,"guy on 3 growing bars / Sell on 3 reducing ba ",3,"Linear weighted ",3,null,null,"8 on bottom / Sell on to ",3,null,null,"Buy on cross DN / Sell on cross UP ",3,"Linear weighted ",3,null,null,"Reversion point ",3,"Extremum bar size coefficient ",3,"ATR (Close-Open) ",3,null,null,"On trend reversal (b level on DN trend, ",3,"Every M5 bar ",3,"Apply to all trade operations ",3,"DST Australia (1st Sunday of April / 1st Sunda ",3,"02",{"$f":"+CN4+1","v":2},"02",{"$f":"+CP4+1","v":2},null,null,"Dashdot",3,"Trend lines + Horizontal lines ",3,null,null,"Withdraw every quarter ",3]
[null,null,null,null,null,null,null,null,null,null,"4 Minutes ",4,"Fixed size per 1000 USO ",4,null,null,"Thursday ",4,"03",4,"Volume ",4,null,null,null,null,null,null,null,null,null,null,"Martin Sum: previous lots sum coeff [1-2-6- ",4,null,null,null,null,"Close on Collective si nal, in rofit on ",4,null,null,"Cross MA ",4,"Stochastic D ",4,"Median price ",4,null,null,null,null,"O en on Collective si nal (neutral si nals acc ",4,"Low rice ",4,null,null,"Buy on Main > Signal / Sell on Main < Signal ",4,"Jurik MA ",4,null,null,null,null,null,null,"8 on cross UP / Sell on cross DN ",4,"Jurik MA ",4,null,null,"Counter-trend (distance from last extremum) ",4,null,null,"W ATR ",4,null,null,null,null,"Every M15 bar ",4,null,null,"DST New Zeland (1st Sun of A ril / last Su ",4,"03",3,"03",3,null,null,"Dashdotdot",4,null,null,null,null,"Withdraw eve ",4]
[null,null,null,null,null,null,null,null,null,null,"5 Minutes ",5,"Pip cost like EURUSD ",5,null,null,"Friday ",5,"04",5,null,null,null,null,null,null,null,null,null,null,null,null,"Logistic Growth ",5,null,null,null,null,null,null,null,null,null,null,"Momentum",5,"Typical price ",5,null,null,null,null,null,null,"Median rice ",5,null,null,"Main and Signal cross ",5,"FRAMA ",5,null,null,null,null,null,null,null,null,"FRAMA ",5,null,null,null,null,null,null,"Volume ",5,null,null,null,null,"Every M30 bar ",5,null,null,null,null,"04",4,"04",4]
[null,null,null,null,null,null,null,null,null,null,"6 Minutes ",6,"Pip cost like EURUSD (fixed) ",6,null,null,"Saturd ",6,"05",6,null,null,null,null,null,null,null,null,null,null,null,null,"Soft Martin: prev lot coeff - prev lot [1-1-2-4 ",6,null,null,null,null,null,null,null,null,null,null,null,null,"W €1 hted rice ",6,null,null,null,null,null,null,"Typical price ",6,null,null,"Main and Si nal cross >/•: 0 ",6,"TMA",6,null,null,null,null,null,null,null,null,"TMA",6,null,null,null,null,null,null,null,null,null,null,null,null,"Every HI bar ",6,null,null,null,null,"05",5,"05",5]
[null,null,null,null,null,null,null,null,null,null,"10 Minutes ",7,"Amount in base curren ",7,null,null,null,null,"06",7,null,null,null,null,null,null,null,null,null,null,null,null,"Custom lot coefficients ",7,null,null,null,null,null,null,null,null,null,null,null,null,null,null,null,null,null,null,null,null,"Wei hted rice ",7,null,null,"Bu cn Si nal> O/ Sell cn Si ",7,"TEMA",7,null,null,null,null,null,null,null,null,"TEMA",7,null,null,null,null,null,null,null,null,null,null,null,null,"Every HA bar ",7,null,null,null,null,"06",6,"06",6]
[null,null,null,null,null,null,null,null,null,null,"12 Minutes ",8,null,null,null,null,null,null,"07",8,null,null,null,null,null,null,null,null,null,null,null,null,null,null,null,null,null,null,null,null,null,null,null,null,null,null,null,null,null,null,null,null,null,null,null,null,null,null,"Buy on Main > Signal and Signal O/ Sell on ",8,"HMA",8,null,null,null,null,null,null,null,null,"HMA",8,null,null,null,null,null,null,null,null,null,null,null,null,"Every DI bar ",8,null,null,null,null,"07",7,"07",7]
[null,null,null,null,null,null,null,null,null,null,"15 Minutes ",9,null,null,null,null,null,null,"08",9,null,null,null,null,null,null,null,null,null,null,null,null,null,null,null,null,null,null,null,null,null,null,null,null,null,null,null,null,null,null,null,null,null,null,null,null,null,null,"Main cross O ",9,null,null,null,null,null,null,null,null,null,null,null,null,null,null,null,null,null,null,null,null,null,null,null,null,"Every WI bar ",9,null,null,null,null,"08",8,"08",8]
[null,null,null,null,null,null,null,null,null,null,"20 Minutes ",10,null,null,null,null,null,null,"09",10,null,null,null,null,null,null,null,null,null,null,null,null,null,null,null,null,null,null,null,null,null,null,null,null,null,null,null,null,null,null,null,null,null,null,null,null,null,null,"Si nal cross O ",10,null,null,null,null,null,null,null,null,null,null,null,null,null,null,null,null,null,null,null,null,null,null,null,null,"Eve MNI bar ",10,null,null,null,null,"09",9,"09",9]
[null,null,null,null,null,null,null,null,null,null,"30 Minutes ",11,null,null,null,null,null,null,"10",11,null,null,null,null,null,null,null,null,null,null,null,null,null,null,null,null,null,null,null,null,null,null,null,null,null,null,null,null,null,null,null,null,null,null,null,null,null,null,null,null,null,null,null,null,null,null,null,null,null,null,null,null,null,null,null,null,null,null,null,null,null,null,null,null,null,null,null,null,null,null,"10",10,"10",10]
[null,null,null,null,null,null,null,null,null,null,"2 Hours ",12,null,null,null,null,null,null,"11",12,null,null,null,null,null,null,null,null,null,null,null,null,null,null,null,null,null,null,null,null,null,null,null,null,null,null,null,null,null,null,null,null,null,null,null,null,null,null,null,null,null,null,null,null,null,null,null,null,null,null,null,null,null,null,null,null,null,null,null,null,null,null,null,null,null,null,null,null,null,null,"11",11,"11",11]
[null,null,null,null,null,null,null,null,null,null,"3 Hours ",13,null,null,null,null,null,null,"12",13,null,null,null,null,null,null,null,null,null,null,null,null,null,null,null,null,null,null,null,null,null,null,null,null,null,null,null,null,null,null,null,null,null,null,null,null,null,null,null,null,null,null,null,null,null,null,null,null,null,null,null,null,null,null,null,null,null,null,null,null,null,null,null,null,null,null,null,null,null,null,"12",12,"12",12]
[null,null,null,null,null,null,null,null,null,null,"4 Hours ",14,null,null,null,null,null,null,"13",14,null,null,null,null,null,null,null,null,null,null,null,null,null,null,null,null,null,null,null,null,null,null,null,null,null,null,null,null,null,null,null,null,null,null,null,null,null,null,null,null,null,null,null,null,null,null,null,null,null,null,null,null,null,null,null,null,null,null,null,null,null,null,null,null,null,null,null,null,null,null,"13",13,"13",13]
[null,null,null,null,null,null,null,null,null,null,"6 Hours ",15,null,null,null,null,null,null,"14",15,null,null,null,null,null,null,null,null,null,null,null,null,null,null,null,null,null,null,null,null,null,null,null,null,null,null,null,null,null,null,null,null,null,null,null,null,null,null,null,null,null,null,null,null,null,null,null,null,null,null,null,null,null,null,null,null,null,null,null,null,null,null,null,null,null,null,null,null,null,null,"14",14,"14",14]
[null,null,null,null,null,null,null,null,null,null,"g Hours ",16,null,null,null,null,null,null,"15",16,null,null,null,null,null,null,null,null,null,null,null,null,null,null,null,null,null,null,null,null,null,null,null,null,null,null,null,null,null,null,null,null,null,null,null,null,null,null,null,null,null,null,null,null,null,null,null,null,null,null,null,null,null,null,null,null,null,null,null,null,null,null,null,null,null,null,null,null,null,null,"15",15,"15",15]
[null,null,null,null,null,null,null,null,null,null,"12 Hours ",17,null,null,null,null,null,null,"16",17,null,null,null,null,null,null,null,null,null,null,null,null,null,null,null,null,null,null,null,null,null,null,null,null,null,null,null,null,null,null,null,null,null,null,null,null,null,null,null,null,null,null,null,null,null,null,null,null,null,null,null,null,null,null,null,null,null,null,null,null,null,null,null,null,null,null,null,null,null,null,"16",16,"16",16]
[null,null,null,null,null,null,null,null,null,null,"1 Day ",18,null,null,null,null,null,null,"17",18,null,null,null,null,null,null,null,null,null,null,null,null,null,null,null,null,null,null,null,null,null,null,null,null,null,null,null,null,null,null,null,null,null,null,null,null,null,null,null,null,null,null,null,null,null,null,null,null,null,null,null,null,null,null,null,null,null,null,null,null,null,null,null,null,null,null,null,null,null,null,"17",17,"17",17]
[null,null,null,null,null,null,null,null,null,null,"1 week ",19,null,null,null,null,null,null,"18",19,null,null,null,null,null,null,null,null,null,null,null,null,null,null,null,null,null,null,null,null,null,null,null,null,null,null,null,null,null,null,null,null,null,null,null,null,null,null,null,null,null,null,null,null,null,null,null,null,null,null,null,null,null,null,null,null,null,null,null,null,null,null,null,null,null,null,null,null,null,null,"18",18,"18",18]
[null,null,null,null,null,null,null,null,null,null,"I Month ",20,null,null,null,null,null,null,"19",20,null,null,null,null,null,null,null,null,null,null,null,null,null,null,null,null,null,null,null,null,null,null,null,null,null,null,null,null,null,null,null,null,null,null,null,null,null,null,null,null,null,null,null,null,null,null,null,null,null,null,null,null,null,null,null,null,null,null,null,null,null,null,null,null,null,null,null,null,null,null,"19",19,"19",19]
[null,null,null,null,null,null,null,null,null,null,null,null,null,null,null,null,null,null,"20",21,null,null,null,null,null,null,null,null,null,null,null,null,null,null,null,null,null,null,null,null,null,null,null,null,null,null,null,null,null,null,null,null,null,null,null,null,null,null,null,null,null,null,null,null,null,null,null,null,null,null,null,null,null,null,null,null,null,null,null,null,null,null,null,null,null,null,null,null,null,null,"20",20,"20",20]
[null,null,null,null,null,null,null,null,null,null,null,null,null,null,null,null,null,null,"21",22,null,null,null,null,null,null,null,null,null,null,null,null,null,null,null,null,null,null,null,null,null,null,null,null,null,null,null,null,null,null,null,null,null,null,null,null,null,null,null,null,null,null,null,null,null,null,null,null,null,null,null,null,null,null,null,null,null,null,null,null,null,null,null,null,null,null,null,null,null,null,"21",21,"21",21]
[null,null,null,null,null,null,null,null,null,null,null,null,null,null,null,null,null,null,"22",23,null,null,null,null,null,null,null,null,null,null,null,null,null,null,null,null,null,null,null,null,null,null,null,null,null,null,null,null,null,null,null,null,null,null,null,null,null,null,null,null,null,null,null,null,null,null,null,null,null,null,null,null,null,null,null,null,null,null,null,null,null,null,null,null,null,null,null,null,null,null,"22",22,"22",22]
[null,null,null,null,null,null,null,null,null,null,null,null,null,null,null,null,null,null,"23",24,null,null,null,null,null,null,null,null,null,null,null,null,null,null,null,null,null,null,null,null,null,null,null,null,null,null,null,null,null,null,null,null,null,null,null,null,null,null,null,null,null,null,null,null,null,null,null,null,null,null,null,null,null,null,null,null,null,null,null,null,null,null,null,null,null,null,null,null,null,null,"23",23,"23",23]
[null,null,null,null,null,null,null,null,null,null,null,null,null,null,null,null,null,null,null,null,null,null,null,null,null,null,null,null,null,null,null,null,null,null,null,null,null,null,null,null,null,null,null,null,null,null,null,null,null,null,null,null,null,null,null,null,null,null,null,null,null,null,null,null,null,null,null,null,null,null,null,null,null,null,null,null,null,null,null,null,null,null,null,null,null,null,null,null,null,null,"24",24,"24",24]
[null,null,null,null,null,null,null,null,null,null,null,null,null,null,null,null,null,null,null,null,null,null,null,null,null,null,null,null,null,null,null,null,null,null,null,null,null,null,null,null,null,null,null,null,null,null,null,null,null,null,null,null,null,null,null,null,null,null,null,null,null,null,null,null,null,null,null,null,null,null,null,null,null,null,null,null,null,null,null,null,null,null,null,null,null,null,null,null,null,null,null,null,"25",25]
[null,null,null,null,null,null,null,null,null,null,null,null,null,null,null,null,null,null,null,null,null,null,null,null,null,null,null,null,null,null,null,null,null,null,null,null,null,null,null,null,null,null,null,null,null,null,null,null,null,null,null,null,null,null,null,null,null,null,null,null,null,null,null,null,null,null,null,null,null,null,null,null,null,null,null,null,null,null,null,null,null,null,null,null,null,null,null,null,null,null,null,null,"26",26]
[null,null,null,null,null,null,null,null,null,null,null,null,null,null,null,null,null,null,null,null,null,null,null,null,null,null,null,null,null,null,null,null,null,null,null,null,null,null,null,null,null,null,null,null,null,null,null,null,null,null,null,null,null,null,null,null,null,null,null,null,null,null,null,null,null,null,null,null,null,null,null,null,null,null,null,null,null,null,null,null,null,null,null,null,null,null,null,null,null,null,null,null,"27",27]
[null,null,null,null,null,null,null,null,null,null,null,null,null,null,null,null,null,null,null,null,null,null,null,null,null,null,null,null,null,null,null,null,null,null,null,null,null,null,null,null,null,null,null,null,null,null,null,null,null,null,null,null,null,null,null,null,null,null,null,null,null,null,null,null,null,null,null,null,null,null,null,null,null,null,null,null,null,null,null,null,null,null,null,null,null,null,null,null,null,null,null,null,"28",28]
[null,null,null,null,null,null,null,null,null,null,null,null,null,null,null,null,null,null,null,null,null,null,null,null,null,null,null,null,null,null,null,null,null,null,null,null,null,null,null,null,null,null,null,null,null,null,null,null,null,null,null,null,null,null,null,null,null,null,null,null,null,null,null,null,null,null,null,null,null,null,null,null,null,null,null,null,null,null,null,null,null,null,null,null,null,null,null,null,null,null,null,null,"29",29]
[null,null,null,null,null,null,null,null,null,null,null,null,null,null,null,null,null,null,null,null,null,null,null,null,null,null,null,null,null,null,null,null,null,null,null,null,null,null,null,null,null,null,null,null,null,null,null,null,null,null,null,null,null,null,null,null,null,null,null,null,null,null,null,null,null,null,null,null,null,null,null,null,null,null,null,null,null,null,null,null,null,null,null,null,null,null,null,null,null,null,null,null,"30",30]
[null,null,null,null,null,null,null,null,null,null,null,null,null,null,null,null,null,null,null,null,null,null,null,null,null,null,null,null,null,null,null,null,null,null,null,null,null,null,null,null,null,null,null,null,null,null,null,null,null,null,null,null,null,null,null,null,null,null,null,null,null,null,null,null,null,null,null,null,null,null,null,null,null,null,null,null,null,null,null,null,null,null,null,null,null,null,null,null,null,null,null,null,"31",31]
[null,null,null,null,null,null,null,null,null,null,null,null,null,null,null,null,null,null,null,null,null,null,null,null,null,null,null,null,null,null,null,null,null,null,null,null,null,null,null,null,null,null,null,null,null,null,null,null,null,null,null,null,null,null,null,null,null,null,null,null,null,null,null,null,null,null,null,null,null,null,null,null,null,null,null,null,null,null,null,null,null,null,null,null,null,null,null,null,null,null,null,null,"32",32]
[null,null,null,null,null,null,null,null,null,null,null,null,null,null,null,null,null,null,null,null,null,null,null,null,null,null,null,null,null,null,null,null,null,null,null,null,null,null,null,null,null,null,null,null,null,null,null,null,null,null,null,null,null,null,null,null,null,null,null,null,null,null,null,null,null,null,null,null,null,null,null,null,null,null,null,null,null,null,null,null,null,null,null,null,null,null,null,null,null,null,null,null,"33",33]
[null,null,null,null,null,null,null,null,null,null,null,null,null,null,null,null,null,null,null,null,null,null,null,null,null,null,null,null,null,null,null,null,null,null,null,null,null,null,null,null,null,null,null,null,null,null,null,null,null,null,null,null,null,null,null,null,null,null,null,null,null,null,null,null,null,null,null,null,null,null,null,null,null,null,null,null,null,null,null,null,null,null,null,null,null,null,null,null,null,null,null,null,"34",34]
[null,null,null,null,null,null,null,null,null,null,null,null,null,null,null,null,null,null,null,null,null,null,null,null,null,null,null,null,null,null,null,null,null,null,null,null,null,null,null,null,null,null,null,null,null,null,null,null,null,null,null,null,null,null,null,null,null,null,null,null,null,null,null,null,null,null,null,null,null,null,null,null,null,null,null,null,null,null,null,null,null,null,null,null,null,null,null,null,null,null,null,null,"35",35]
[null,null,null,null,null,null,null,null,null,null,null,null,null,null,null,null,null,null,null,null,null,null,null,null,null,null,null,null,null,null,null,null,null,null,null,null,null,null,null,null,null,null,null,null,null,null,null,null,null,null,null,null,null,null,null,null,null,null,null,null,null,null,null,null,null,null,null,null,null,null,null,null,null,null,null,null,null,null,null,null,null,null,null,null,null,null,null,null,null,null,null,null,"36",36]
[null,null,null,null,null,null,null,null,null,null,null,null,null,null,null,null,null,null,null,null,null,null,null,null,null,null,null,null,null,null,null,null,null,null,null,null,null,null,null,null,null,null,null,null,null,null,null,null,null,null,null,null,null,null,null,null,null,null,null,null,null,null,null,null,null,null,null,null,null,null,null,null,null,null,null,null,null,null,null,null,null,null,null,null,null,null,null,null,null,null,null,null,"37",37]
[null,null,null,null,null,null,null,null,null,null,null,null,null,null,null,null,null,null,null,null,null,null,null,null,null,null,null,null,null,null,null,null,null,null,null,null,null,null,null,null,null,null,null,null,null,null,null,null,null,null,null,null,null,null,null,null,null,null,null,null,null,null,null,null,null,null,null,null,null,null,null,null,null,null,null,null,null,null,null,null,null,null,null,null,null,null,null,null,null,null,null,null,"38",38]
[null,null,null,null,null,null,null,null,null,null,null,null,null,null,null,null,null,null,null,null,null,null,null,null,null,null,null,null,null,null,null,null,null,null,null,null,null,null,null,null,null,null,null,null,null,null,null,null,null,null,null,null,null,null,null,null,null,null,null,null,null,null,null,null,null,null,null,null,null,null,null,null,null,null,null,null,null,null,null,null,null,null,null,null,null,null,null,null,null,null,null,null,"39",39]
[null,null,null,null,null,null,null,null,null,null,null,null,null,null,null,null,null,null,null,null,null,null,null,null,null,null,null,null,null,null,null,null,null,null,null,null,null,null,null,null,null,null,null,null,null,null,null,null,null,null,null,null,null,null,null,null,null,null,null,null,null,null,null,null,null,null,null,null,null,null,null,null,null,null,null,null,null,null,null,null,null,null,null,null,null,null,null,null,null,null,null,null,"40",40]
[null,null,null,null,null,null,null,null,null,null,null,null,null,null,null,null,null,null,null,null,null,null,null,null,null,null,null,null,null,null,null,null,null,null,null,null,null,null,null,null,null,null,null,null,null,null,null,null,null,null,null,null,null,null,null,null,null,null,null,null,null,null,null,null,null,null,null,null,null,null,null,null,null,null,null,null,null,null,null,null,null,null,null,null,null,null,null,null,null,null,null,null,"41",41]
[null,null,null,null,null,null,null,null,null,null,null,null,null,null,null,null,null,null,null,null,null,null,null,null,null,null,null,null,null,null,null,null,null,null,null,null,null,null,null,null,null,null,null,null,null,null,null,null,null,null,null,null,null,null,null,null,null,null,null,null,null,null,null,null,null,null,null,null,null,null,null,null,null,null,null,null,null,null,null,null,null,null,null,null,null,null,null,null,null,null,null,null,"42",42]
[null,null,null,null,null,null,null,null,null,null,null,null,null,null,null,null,null,null,null,null,null,null,null,null,null,null,null,null,null,null,null,null,null,null,null,null,null,null,null,null,null,null,null,null,null,null,null,null,null,null,null,null,null,null,null,null,null,null,null,null,null,null,null,null,null,null,null,null,null,null,null,null,null,null,null,null,null,null,null,null,null,null,null,null,null,null,null,null,null,null,null,null,"43",43]
[null,null,null,null,null,null,null,null,null,null,null,null,null,null,null,null,null,null,null,null,null,null,null,null,null,null,null,null,null,null,null,null,null,null,null,null,null,null,null,null,null,null,null,null,null,null,null,null,null,null,null,null,null,null,null,null,null,null,null,null,null,null,null,null,null,null,null,null,null,null,null,null,null,null,null,null,null,null,null,null,null,null,null,null,null,null,null,null,null,null,null,null,"44",44]
[null,null,null,null,null,null,null,null,null,null,null,null,null,null,null,null,null,null,null,null,null,null,null,null,null,null,null,null,null,null,null,null,null,null,null,null,null,null,null,null,null,null,null,null,null,null,null,null,null,null,null,null,null,null,null,null,null,null,null,null,null,null,null,null,null,null,null,null,null,null,null,null,null,null,null,null,null,null,null,null,null,null,null,null,null,null,null,null,null,null,null,null,"45",45]
[null,null,null,null,null,null,null,null,null,null,null,null,null,null,null,null,null,null,null,null,null,null,null,null,null,null,null,null,null,null,null,null,null,null,null,null,null,null,null,null,null,null,null,null,null,null,null,null,null,null,null,null,null,null,null,null,null,null,null,null,null,null,null,null,null,null,null,null,null,null,null,null,null,null,null,null,null,null,null,null,null,null,null,null,null,null,null,null,null,null,null,null,"46",46]
[null,null,null,null,null,null,null,null,null,null,null,null,null,null,null,null,null,null,null,null,null,null,null,null,null,null,null,null,null,null,null,null,null,null,null,null,null,null,null,null,null,null,null,null,null,null,null,null,null,null,null,null,null,null,null,null,null,null,null,null,null,null,null,null,null,null,null,null,null,null,null,null,null,null,null,null,null,null,null,null,null,null,null,null,null,null,null,null,null,null,null,null,"47",47]
[null,null,null,null,null,null,null,null,null,null,null,null,null,null,null,null,null,null,null,null,null,null,null,null,null,null,null,null,null,null,null,null,null,null,null,null,null,null,null,null,null,null,null,null,null,null,null,null,null,null,null,null,null,null,null,null,null,null,null,null,null,null,null,null,null,null,null,null,null,null,null,null,null,null,null,null,null,null,null,null,null,null,null,null,null,null,null,null,null,null,null,null,"48",48]
[null,null,null,null,null,null,null,null,null,null,null,null,null,null,null,null,null,null,null,null,null,null,null,null,null,null,null,null,null,null,null,null,null,null,null,null,null,null,null,null,null,null,null,null,null,null,null,null,null,null,null,null,null,null,null,null,null,null,null,null,null,null,null,null,null,null,null,null,null,null,null,null,null,null,null,null,null,null,null,null,null,null,null,null,null,null,null,null,null,null,null,null,"49",49]
[null,null,null,null,null,null,null,null,null,null,null,null,null,null,null,null,null,null,null,null,null,null,null,null,null,null,null,null,null,null,null,null,null,null,null,null,null,null,null,null,null,null,null,null,null,null,null,null,null,null,null,null,null,null,null,null,null,null,null,null,null,null,null,null,null,null,null,null,null,null,null,null,null,null,null,null,null,null,null,null,null,null,null,null,null,null,null,null,null,null,null,null,"50",50]
[null,null,null,null,null,null,null,null,null,null,null,null,null,null,null,null,null,null,null,null,null,null,null,null,null,null,null,null,null,null,null,null,null,null,null,null,null,null,null,null,null,null,null,null,null,null,null,null,null,null,null,null,null,null,null,null,null,null,null,null,null,null,null,null,null,null,null,null,null,null,null,null,null,null,null,null,null,null,null,null,null,null,null,null,null,null,null,null,null,null,null,null,"51",51]
[null,null,null,null,null,null,null,null,null,null,null,null,null,null,null,null,null,null,null,null,null,null,null,null,null,null,null,null,null,null,null,null,null,null,null,null,null,null,null,null,null,null,null,null,null,null,null,null,null,null,null,null,null,null,null,null,null,null,null,null,null,null,null,null,null,null,null,null,null,null,null,null,null,null,null,null,null,null,null,null,null,null,null,null,null,null,null,null,null,null,null,null,"52",52]
[null,null,null,null,null,null,null,null,null,null,null,null,null,null,null,null,null,null,null,null,null,null,null,null,null,null,null,null,null,null,null,null,null,null,null,null,null,null,null,null,null,null,null,null,null,null,null,null,null,null,null,null,null,null,null,null,null,null,null,null,null,null,null,null,null,null,null,null,null,null,null,null,null,null,null,null,null,null,null,null,null,null,null,null,null,null,null,null,null,null,null,null,"53",53]
[null,null,null,null,null,null,null,null,null,null,null,null,null,null,null,null,null,null,null,null,null,null,null,null,null,null,null,null,null,null,null,null,null,null,null,null,null,null,null,null,null,null,null,null,null,null,null,null,null,null,null,null,null,null,null,null,null,null,null,null,null,null,null,null,null,null,null,null,null,null,null,null,null,null,null,null,null,null,null,null,null,null,null,null,null,null,null,null,null,null,null,null,"54",54]
[null,null,null,null,null,null,null,null,null,null,null,null,null,null,null,null,null,null,null,null,null,null,null,null,null,null,null,null,null,null,null,null,null,null,null,null,null,null,null,null,null,null,null,null,null,null,null,null,null,null,null,null,null,null,null,null,null,null,null,null,null,null,null,null,null,null,null,null,null,null,null,null,null,null,null,null,null,null,null,null,null,null,null,null,null,null,null,null,null,null,null,null,"55",55]
[null,null,null,null,null,null,null,null,null,null,null,null,null,null,null,null,null,null,null,null,null,null,null,null,null,null,null,null,null,null,null,null,null,null,null,null,null,null,null,null,null,null,null,null,null,null,null,null,null,null,null,null,null,null,null,null,null,null,null,null,null,null,null,null,null,null,null,null,null,null,null,null,null,null,null,null,null,null,null,null,null,null,null,null,null,null,null,null,null,null,null,null,"56",56]
[null,null,null,null,null,null,null,null,null,null,null,null,null,null,null,null,null,null,null,null,null,null,null,null,null,null,null,null,null,null,null,null,null,null,null,null,null,null,null,null,null,null,null,null,null,null,null,null,null,null,null,null,null,null,null,null,null,null,null,null,null,null,null,null,null,null,null,null,null,null,null,null,null,null,null,null,null,null,null,null,null,null,null,null,null,null,null,null,null,null,null,null,"57",57]
[null,null,null,null,null,null,null,null,null,null,null,null,null,null,null,null,null,null,null,null,null,null,null,null,null,null,null,null,null,null,null,null,null,null,null,null,null,null,null,null,null,null,null,null,null,null,null,null,null,null,null,null,null,null,null,null,null,null,null,null,null,null,null,null,null,null,null,null,null,null,null,null,null,null,null,null,null,null,null,null,null,null,null,null,null,null,null,null,null,null,null,null,"58",58]
[null,null,null,null,null,null,null,null,null,null,null,null,null,null,null,null,null,null,null,null,null,null,null,null,null,null,null,null,null,null,null,null,null,null,null,null,null,null,null,null,null,null,null,null,null,null,null,null,null,null,null,null,null,null,null,null,null,null,null,null,null,null,null,null,null,null,null,null,null,null,null,null,null,null,null,null,null,null,null,null,null,null,null,null,null,null,null,null,null,null,null,null,"59",59]
[null,null,null,null,null,null,null,null,null,null,null,null,null,null,null,null,null,null,null,null,null,null,null,null,null,null,null,null,null,null,null,null,null,null,null,null,null,null,null,null,null,null,null,null,null,null,null,null,null,null,null,null,null,null,null,null,null,null,null,null,null,null,null,null,null,null,null,null,null,null,null,null,null,null,null,null,null,null,null,null,null,null,null,null,null,null,null,null,null,null,null,null,"60",60]

{"sheet":"Input","index":1,"n_rows":659,"n_cols":13,"rows_kept":659,"cut":false,"hidden":false,"merged":[]}
[]
[]
[]
[]
[null,"Set Name","Fibo"]
[null,"Set Version","Default Setting","Version 1","Version 2","Version 3","Version 4","Version 5","Version 6","Version 7","Version 8","Version 9","Version 10"]
["; Binance properties","Binance properties"]
["BinanceTradeConnector_Settings====================================================================================","8inanceTradeConnector settings:"]
["CustomStartBalance=0||0||0.000000||0.000000||N","Custom account balance (O use real 8inance balance)",0,0,0,0,0,0,0,0,0,0,0]
["ShowVirtualInfoOnChart=false||false||0||true||N","Show virtual info on the chart",false,false,false,false,false,false,false,false,false,false,false]
["SaveVirtualStateOnEveryChange=true||false||0||true||N","Save virtual state on every change",true,true,true,true,true,true,true,true,true,true,true]
["SendAlertsToGrammy=true||false||0||true||N","Send alerts to Grammy",true,true,true,true,true,true,true,true,true,true,true]
["; Expert properties","Expert properties"]
["Expert_Properties====================================================================================","Expert properties:"]
["Expert_Id=3040||3040||1||30400||N","Expert Id"]
["Expert_Comment=CP","Expert Comment"]
["SetDescription=","Set description (write your notes here)"]
["TradeDirection=0||-1||0||1||N","Trade direction","Both (Buy & Sell)","Both (Buy & Sell)","Both (Buy & Sell)","Both (Buy & Sell)","Both (Buy & Sell)","Both (Buy & Sell)","Both (Buy & Sell)","Both (Buy & Sell)","Both (Buy & Sell)","Both (Buy & Sell)","Both (Buy & Sell)"]
["Signal_TimeFrame=0||0||0||1||N","Signal TimeFrame","2 Minutes ","2 Minutes ","2 Minutes ","2 Minutes ","2 Minutes ","2 Minutes ","2 Minutes ","2 Minutes ","2 Minutes ","2 Minutes ","2 Minutes "]
["NewDealOnNewBar=false||false||0||true||N","New deal on the new bar",false,false,false,false,false,false,false,false,false,false,false]
["MaxFloatingLoss1=0||0||0.000000||0.000000||N","Max floating loss (1st trade) (account currency) (O disable",0,0,0,0,0,0,0,0,0,0,0]
["MaxFloatingLoss=0||0||0.000000||0.000000||N","Max floating loss (martin trade) (account currency) (O - disa",0,0,0,0,0,0,0,0,0,0,0]
["MinMarginLevel1=0||0||0.000000||0.000000||N","Min margin level % (1st trade) (O disable limit)",0,0,0,0,0,0,0,0,0,0,0]
["MinMarginLevel=0||0||0.000000||0.000000||N","Min margin level % (martin trade) (O - disable limit)",0,0,0,0,0,0,0,0,0,0,0]
["UseCustomCommission=0||0||0.000000||0.000000||N","Custom commission (in account currency per lot) (O disable)",0,0,0,0,0,0,0,0,0,0,0]
["ManageManual=false||false||0||true||N","Manage manual trades",false,false,false,false,false,false,false,false,false,false,false]
["; Lot properties","Lot properties"]
["Lot_Properties====================================================================================","Lot properties:"]
["Lot_Type=0||0||0||4||N","Lot type","Risk per trade ","Risk per trade ","Risk per trade ","Risk per trade ","Risk per trade ","Risk per trade ","Risk per trade ","Risk per trade ","Risk per trade ","Risk per trade ","Risk per trade "]
["Lot_Per_1000=0.01||0.01||0.001000||0.100000||N","Lot size (fixed/per IDDD)"]
["Lot_Risk=0||0||0.000000||0.000000||N","Lot risk %",0,0,0,0,0,0,0,0,0,0,0]
["Lot_Max=0||0||0.000000||0.000000||N","Max lot (O - disable limit)",0,0,0,0,0,0,0,0,0,0,0]
["Lot_MaxPer1000=0||0||0.000000||0.000000||N","Max lot per 1000 (O disable limit)",0,0,0,0,0,0,0,0,0,0,0]
["; Hedge properties","Hedge prope rties "]
["Hedge_Properties====================================================================================","Hedge properties: "]
["AllowHedge=false||false||0||true||N","Allow hedge ",false,false,false,false,false,false,false,false,false,false,false]
["IncreaseHedge_After=0||0||1||10||N","Increase hedge lot after order # (O disable) ",0,0,0,0,0,0,0,0,0,0,0]
["IncreaseHedge_Coefficient=0||2.5||0.250000||25.000000||N","ncrease lot coefficient ",0,0,0,0,0,0,0,0,0,0,0]
["IncreaseHedge_Mode=0||0||0||2||N","Apply coefficient to ","First ooposite lat ","First ooposite lat ","First ooposite lat ","First ooposite lat ","First ooposite lat ","First ooposite lat ","First ooposite lat ","First ooposite lat ","First ooposite lat ","First ooposite lat ","First ooposite lat "]
["AutoHedge_AfterOrder=0||0||1||10||N","Auto-hedge after order (O - disable) ",0,0,0,0,0,0,0,0,0,0,0]
["AutoHedge_MaxOrders=1||1||1||10||N","Max auto-hedge orders number ",0,0,0,0,0,0,0,0,0,0,0]
["AutoHedge_OnDrawDown=0||0||0.000000||0.000000||N","Auto-hedge on DrawDown % (O - disable) ",0,0,0,0,0,0,0,0,0,0,0]
["; Global Account properties","Global Account properties "]
["GlobalAccount_Properties====================================================================================","Global Account properties: "]
["GlobalAccountStopLoss_ccy=0||0||0.000000||0.000000||N","GA StopLoss (account currency) (O disable) ",0,0,0,0,0,0,0,0,0,0,0]
["GlobalAccountStopLoss_perc=0||0||0.000000||0.000000||N","GA StopLoss from balance) (O - disable) ",0,0,0,0,0,0,0,0,0,0,0]
["GlobalAccountTrailingStop_ccy=0||0||0.000000||0.000000||N","GA TrailingStop (account currency) (O disable) ",0,0,0,0,0,0,0,0,0,0,0]
["GlobalAccountTrailingStop_perc=0||0||0.000000||0.000000||N","GA TrailingStop (%) (O - disable) ",0,0,0,0,0,0,0,0,0,0,0]
["GlobalAccountTakeProfit_ccy=0||0||0.000000||0.000000||N","GA TakeProfit (account currency) (O disable) ",0,0,0,0,0,0,0,0,0,0,0]
["GlobalAccountTakeProfit_perc=0||0||0.000000||0.000000||N","GA TakeProfit from balance) (O - disable) ",0,0,0,0,0,0,0,0,0,0,0]
["GlobalAccountTargetProfit_ccy=0||0||0.000000||0.000000||N","GA TargetProfit (account currency) (O disable) ",0,0,0,0,0,0,0,0,0,0,0]
["GlobalAccountTargetProfit_perc=0||0||0.000000||0.000000||N","GA TargetProfit (%) (O - disable) ",0,0,0,0,0,0,0,0,0,0,0]
["GlobalAccountStopTillTomorrow=false||false||0||true||N","Stop Till Tomorrow After Close ",false,false,false,false,false,false,false,false,false,false,false]
["; Period Limits","Period Limits "]
["DL_Properties====================================================================================","Daily limits: "]
["DL_MaxTrades_CurSymbol=0||0||1||10||N","Max trades per day (current symbol) ",0,0,0,0,0,0,0,0,0,0,0]
["DL_MaxTrades_AllSymbols=0||0||1||10||N","Max trades per day (all symbols) ",0,0,0,0,0,0,0,0,0,0,0]
["DL_MaxDrawDown=0||0||0.000000||0.000000||N","Max DrawDown per day (%) ",0,0,0,0,0,0,0,0,0,0,0]
["DL_MaxDrawDown_ccy=0||0||0.000000||0.000000||N","Max DrawDown per day (account currency) ",0,0,0,0,0,0,0,0,0,0,0]
["DL_MaxProfit=0||0||0.000000||0.000000||N","Max Profit per day (%) ",0,0,0,0,0,0,0,0,0,0,0]
["DL_MaxProfit_ccy=0||0||0.000000||0.000000||N","Max Profit per day (account currency) ",0,0,0,0,0,0,0,0,0,0,0]
["WL_Properties====================================================================================","Weekly limits: "]
["WL_MaxDrawDown=0||0||0.000000||0.000000||N","Max DrawDown per week (%) ",0,0,0,0,0,0,0,0,0,0,0]
["WL_MaxDrawDown_ccy=0||0||0.000000||0.000000||N","Max DrawDown per week (account currency) ",0,0,0,0,0,0,0,0,0,0,0]
["WL_MaxProfit=0||0||0.000000||0.000000||N","Max Profit per week (%) ",0,0,0,0,0,0,0,0,0,0,0]
["WL_MaxProfit_ccy=0||0||0.000000||0.000000||N","Max Profit per week (account currency) ",0,0,0,0,0,0,0,0,0,0,0]
["ML_Properties====================================================================================","Monthly limits: "]
["ML_MaxDrawDown=0||0||0.000000||0.000000||N","Max DrawDown per month (%) ",0,0,0,0,0,0,0,0,0,0,0]
["ML_MaxDrawDown_ccy=0||0||0.000000||0.000000||N","Max DrawDown per month (account currency) ",0,0,0,0,0,0,0,0,0,0,0]
["ML_MaxProfit=0||0||0.000000||0.000000||N","Max Profit per month (%) ",0,0,0,0,0,0,0,0,0,0,0]
["ML_MaxProfit_ccy=0||0||0.000000||0.000000||N","Max Profit per month (account currency) ",0,0,0,0,0,0,0,0,0,0,0]
["CL_Properties====================================================================================","Common limits properties: "]
["CL_WeekStart_Day=1||0||0||6||N","Week start day ","Tuesday ","Tuesday ","Tuesday ","Tuesday ","Tuesday ","Tuesday ","Tuesday ","Tuesday ","Tuesday ","Tuesday ","Tuesday "]
["CL_DayStartHour=0||-1||0||23||N","Day start hour ","00","00","00","00","00","00","00","00","00","00","00"]
["CL_CloseOnProfitAndDD=true||false||0||true||N","Close open trades on profit/DD ",false,false,false,false,false,false,false,false,false,false,false]
["; Volatility for all parameters nominated in points","Volatility for all parameters nominated in points "]
["VolPV_Properties====================================================================================","Volatility for all parameters nominated in points: "]
["VolPV_Type=1||0||0||5||N","Volatility Indicator ","Disable ","Disable ","Disable ","Disable ","Disable ","Disable ","Disable ","Disable ","Disable ","Disable ","Disable "]
["VolPV_TF=16408||0||0||49153||N","TimeFrame ","2 Minutes ","2 Minutes ","2 Minutes ","2 Minutes ","2 Minutes ","2 Minutes ","2 Minutes ","2 Minutes ","2 Minutes ","2 Minutes ","2 Minutes "]
["VolPV_Period=20||20||1||200||N","Indicator Period "]
["VolPV_MinSize=0||0||0.000000||0.000000||N","Min volatility to use (points) ",0,0,0,0,0,0,0,0,0,0,0]
["VolPV_MaxSize=0||0||0.000000||0.000000||N","Max volatility to use (points) ",0,0,0,0,0,0,0,0,0,0,0]
["; Pending entry properties","Pending entry properties "]
["Pending_Properties====================================================================================","Pending entry properties: "]
["Pending_Type=0||0||0||2||N","Pending entry type ","Ent with LIMIT crdet ","Ent with LIMIT crdet ","Ent with LIMIT crdet ","Ent with LIMIT crdet ","Ent with LIMIT crdet ","Ent with LIMIT crdet ","Ent with LIMIT crdet ","Ent with LIMIT crdet ","Ent with LIMIT crdet ","Ent with LIMIT crdet ","Ent with LIMIT crdet "]
["Pending_Distance=0||10||1.000000||100.000000||N","Distance to order ",0,0,0,0,0,0,0,0,0,0,0]
["Pending_Bar=0||2||1||20||N","Extremum bars (O use current price) ",0,0,0,0,0,0,0,0,0,0,0]
["Pending_TrailMode=0||0||0||2||N","Trail pendings mode ","Trail alwa ","Trail alwa ","Trail alwa ","Trail alwa ","Trail alwa ","Trail alwa ","Trail alwa ","Trail alwa ","Trail alwa ","Trail alwa ","Trail alwa "]
["Pending_CancelOnOpposite=false||false||0||true||N","Cancel on opposite signal ",false,false,false,false,false,false,false,false,false,false,false]
["Pending_CancelDistance=0||0||0.000000||0.000000||N","Cancel after distance (O - disable) ",0,0,0,0,0,0,0,0,0,0,0]
["Pending_CancelBar=0||0||1||10||N","Cancel after bars (O disable) ",0,0,0,0,0,0,0,0,0,0,0]
["Pending_Distance_ModeP=0||0||0||1||N","Distance calc mode ","In points","In points","In points","In points","In points","In points","In points","In points","In points","In points","In points"]
["Pending_DisableForOpposite=false||false||0||true||N","Enter by market if opposite trade is open ",false,false,false,false,false,false,false,false,false,false,false]
["Pending_DeleteIfOpposite=false||false||0||true||N","Delete if opposite trade is open ",false,false,false,false,false,false,false,false,false,false,false]
["; StopLoss properties","Stop Loss properties "]
["StopLoss_Properties====================================================================================","StopLoss properties: "]
["StopLoss=0||250||25.000000||2500.000000||N","StopLoss size (O disable) ",0,0,0,0,0,0,0,0,0,0,0]
["StopLoss_Mode=0||0||0||2||N","StopLoss mode ","Frcm lastc en rice ","Frcm lastc en rice ","Frcm lastc en rice ","Frcm lastc en rice ","Frcm lastc en rice ","Frcm lastc en rice ","Frcm lastc en rice ","Frcm lastc en rice ","Frcm lastc en rice ","Frcm lastc en rice ","Frcm lastc en rice "]
["StopLoss_ModeP=0||0||0||1||N","StopLoss calc mode ","In points","In points","In points","In points","In points","In points","In points","In points","In points","In points","In points"]
["StopLoss_Global========","Sum StopLoss (buy + sell) "]
["GlobalStopLoss_ccy=0||0||0.000000||0.000000||N","Sum StopLoss (account currency) (O disable) ",0,0,0,0,0,0,0,0,0,0,0]
["GlobalStopLoss=0||0||0.000000||0.000000||N","Sum StopLoss from balance) (O - disable) ",0,0,0,0,0,0,0,0,0,0,0]
["StopLoss_Pause========","Pause after loss "]
["PauseAfterLoss=0||0||1||10||N","Pause after loss (in bars of Signal TF) (O - disable) ",0,0,0,0,0,0,0,0,0,0,0]
["UseVirtualSL=false||false||0||true||N","Use virtual StopLoss ",false,false,false,false,false,false,false,false,false,false,false]
["; TakeProfit properties","Take Profit properties "]
["TakeProfit_Properties====================================================================================","TakeProfit properties: "]
["TakeProfit=0||11||1||13||N","TakeProfit size (O - disable) ",0,0,0,0,0,0,0,0,0,0,0]
["TakeProfitMode=0||0||0||1||N","TakeProfit mode ","Frcm lastc en rice ","Frcm lastc en rice ","Frcm lastc en rice ","Frcm lastc en rice ","Frcm lastc en rice ","Frcm lastc en rice ","Frcm lastc en rice ","Frcm lastc en rice ","Frcm lastc en rice ","Frcm lastc en rice ","Frcm lastc en rice "]
["TakeProfit_ModeP=0||0||0||1||N","TakeProfit calc mode ","In points","In points","In points","In points","In points","In points","In points","In points","In points","In points","In points"]
["TakeProfit_ReduceAfter========","Reduce TP after minutes "]
["TakeProfit_ReduceAfter_mins=0||0||1||10||N","Reduce after minutes (O - disable) ",0,0,0,0,0,0,0,0,0,0,0]
["TakeProfit_ReduceAfter_coeff=0||0.1||0.010000||1.000000||N","Reduce coefficient ",0,0,0,0,0,0,0,0,0,0,0]
["TakeProfit_ReduceSeries========","Reduce TP for every order "]
["TakeProfit_ReduceSize=0||0||0.000000||0.000000||N","Reduce size ",0,0,0,0,0,0,0,0,0,0,0]
["TakeProfit_ReduceCoeff=0||1||0.100000||10.000000||N","Reduce coefficient ",0,0,0,0,0,0,0,0,0,0,0]
["TakeProfit_MinSize=0||0||0.000000||0.000000||N","Min TakeProfit size (points) ",0,0,0,0,0,0,0,0,0,0,0]
["TakeProfit_Global========","Sum TakeProfit (buy + sell) "]
["GlobalTakeProfit_ccy=0||0||0.000000||0.000000||N","Sum TakeProfit (account currency) (O disable) ",0,0,0,0,0,0,0,0,0,0,0]
["GlobalTakeProfit=0||0||0.000000||0.000000||N","Sum TakeProfit from balance) (O - disable) ",0,0,0,0,0,0,0,0,0,0,0]
["GlobalTakeProfit_OnlyLock=false||false||0||true||N","Sum TakeProfit works if both buy and sell are open ",false,false,false,false,false,false,false,false,false,false,false]
["MinProfitToClose_Properties========","Min profit to close on signal "]
["MinProfitToClose=0||-5||5||10||N","Min profit to close on signal ",0,0,0,0,0,0,0,0,0,0,0]
["MinProfitToClose_ModeP=0||0||0||1||N","Min profit calc mode ","In points","In points","In points","In points","In points","In points","In points","In points","In points","In points","In points"]
["UseVirtualTP=false||false||0||true||N","Use virtual TakeProfit ",false,false,false,false,false,false,false,false,false,false,false]
["; TrailingStop properties","TrailingStop p rope rties "]
["TrailingStop_Properties====================================================================================","TrailingStop properties: "]
["TrailingStop=0||5||20||100||N","TrailingStop size (O - disable) ",0,0,0,0,0,0,0,0,0,0,0]
["TrailingStep=0||5||20||100||N","Trailing Step ",0,0,0,0,0,0,0,0,0,0,0]
["TrailingStopAfter=0||5||20||100||N","Start trailing after (O - start from zero profit) ",0,0,0,0,0,0,0,0,0,0,0]
["TrailingIncreaseEvery=0||0||0.000000||0.000000||N","Increase trailing every (O disable) ",0,0,0,0,0,0,0,0,0,0,0]
["TrailingIncreaseSize=0||0||0.000000||0.000000||N","Increase size ",0,0,0,0,0,0,0,0,0,0,0]
["TrailingDecreaseEveryMinutes=0||0||1||10||N","Decrease trailing every minutes (O disable) ",0,0,0,0,0,0,0,0,0,0,0]
["TrailingDecreaseCoeff=0||0.9||0.090000||9.000000||N","Decrease coefficient ",0,0,0,0,0,0,0,0,0,0,0]
["TrailingDecreaseStartAfter=0||0||1||10||N","Decrease start after minutes ",0,0,0,0,0,0,0,0,0,0,0]
["TrailingMinSize=0||0||0.000000||0.000000||N","TrailingStop min size ",0,0,0,0,0,0,0,0,0,0,0]
["TrailingMaxSize=0||0||0.000000||0.000000||N","TrailingStop max size ",0,0,0,0,0,0,0,0,0,0,0]
["TrailingStopMode=0||0||0||1||N","TrailingStop mode ","Frcm lastc en rice ","Frcm lastc en rice ","Frcm lastc en rice ","Frcm lastc en rice ","Frcm lastc en rice ","Frcm lastc en rice ","Frcm lastc en rice ","Frcm lastc en rice ","Frcm lastc en rice ","Frcm lastc en rice ","Frcm lastc en rice "]
["TrailingStop_ModeP=0||0||0||1||N","TrailingStop calc mode ","In points","In points","In points","In points","In points","In points","In points","In points","In points","In points","In points"]
["; Martingale properties","Martingale properties "]
["Martingale_Properties====================================================================================","Martingale properties: "]
["MartingailType=0||0||0||3||N","Martingale type ","Enabled","Enabled","Enabled","Enabled","Enabled","Enabled","Enabled","Enabled","Enabled","Enabled","Enabled"]
["MaxTrades=0||5||1||50||N","Max trades in one direction ",0,0,0,0,0,0,0,0,0,0,0]
["MartingailOnTheBarEnd=false||false||0||true||N","New deal on the end of the bar only ",false,false,false,false,false,false,false,false,false,false,false]
["MinPause_Bars=0||0||1||1||N","Min pause between trades (in bars of Signal TF) ",0,0,0,0,0,0,0,0,0,0,0]
["UseOnlyOpenedTrades=true||false||0||true||N","Use only opened trades for time filters ",false,false,false,false,false,false,false,false,false,false,false]
["MartingailLotMode=2||0||0||2||N","Lot increasing mode ","Martin: revicus Ict cceff [I-2-4-8-16-...] ","Martin: revicus Ict cceff [I-2-4-8-16-...] ","Martin: revicus Ict cceff [I-2-4-8-16-...] ","Martin: revicus Ict cceff [I-2-4-8-16-...] ","Martin: revicus Ict cceff [I-2-4-8-16-...] ","Martin: revicus Ict cceff [I-2-4-8-16-...] ","Martin: revicus Ict cceff [I-2-4-8-16-...] ","Martin: revicus Ict cceff [I-2-4-8-16-...] ","Martin: revicus Ict cceff [I-2-4-8-16-...] ","Martin: revicus Ict cceff [I-2-4-8-16-...] ","Martin: revicus Ict cceff [I-2-4-8-16-...] "]
["LotExponent=1||1.2||0.1||1.7||Y","Lot coefficient / adding / xo ",0,0,0,0,0,0,0,0,0,0,0]
["CutomCoefficients=1","Custom lot coefficients "]
["PipStep=1||13||2||50||Y","Step size ",0,0,0,0,0,0,0,0,0,0,0]
["Martingail_ModeP=0||0||0||1||N","Step size calc mode ","In points","In points","In points","In points","In points","In points","In points","In points","In points","In points","In points"]
["StepCoeff=1||1||0.1||1.1||N","Step increase coefficient ",0,0,0,0,0,0,0,0,0,0,0]
["ChangeStep_AfterOrder=0||0||1||10||N","Change step after order # (O disable) ",0,0,0,0,0,0,0,0,0,0,0]
["ChangeStep_Coeff=1||2||0.200000||20.000000||N","Change step by coefficient ",0,0,0,0,0,0,0,0,0,0,0]
["CustomStepCoefficients=","Custom step coefficients "]
["MinStepSize=0||0||0.000000||0.000000||N","Min step size (points) ",0,0,0,0,0,0,0,0,0,0,0]
["MaxStepSize=0||0||0.000000||0.000000||N","Max step size (points) (O disable limit) ",0,0,0,0,0,0,0,0,0,0,0]
["BreakEven_AfterOrder=0||0||5||5||N","Close on 8reakEven after order # (O - disable) ",0,0,0,0,0,0,0,0,0,0,0]
["BreakEven_MinProfit=0||0||0.000000||0.000000||N","8reakEven min profit (points) ",0,0,0,0,0,0,0,0,0,0,0]
["BE_Alert_After=0||3||1||30||N","8reakEven Alert after order # (O - disable) ",0,0,0,0,0,0,0,0,0,0,0]
["GlobalMartingail_Properties========","Apply martin to the new deals "]
["ApplyAfterClosedLoss=false||false||0||true||N","Apply martin after closed loss ",false,false,false,false,false,false,false,false,false,false,false]
["; Anti-Martingale properties","Anti -Martingale properties "]
["AntiMartingale_Properties====================================================================================","Anti-Martingale properties: "]
["AntiMartingailType=0||0||0||3||N","Anti-Martingale type ","Enabled","Enabled","Enabled","Enabled","Enabled","Enabled","Enabled","Enabled","Enabled","Enabled","Enabled"]
["AntiMaxTrades=10||10||1||100||N","Max trades ",0,0,0,0,0,0,0,0,0,0,0]
["AntiMartingailLotMode=2||0||0||2||N","Lot increasing mode ","Martin: revicus Ict cceff [I-2-4-8-16-...] ","Martin: revicus Ict cceff [I-2-4-8-16-...] ","Martin: revicus Ict cceff [I-2-4-8-16-...] ","Martin: revicus Ict cceff [I-2-4-8-16-...] ","Martin: revicus Ict cceff [I-2-4-8-16-...] ","Martin: revicus Ict cceff [I-2-4-8-16-...] ","Martin: revicus Ict cceff [I-2-4-8-16-...] ","Martin: revicus Ict cceff [I-2-4-8-16-...] ","Martin: revicus Ict cceff [I-2-4-8-16-...] ","Martin: revicus Ict cceff [I-2-4-8-16-...] ","Martin: revicus Ict cceff [I-2-4-8-16-...] "]
["AntiLotExponent=0.9||0.9||0.090000||9.000000||N","Lot coefficient / adding / xo ",0,0,0,0,0,0,0,0,0,0,0]
["AntiCutomCoefficients=0.95,0.77,0.53","Custom lot coefficients "]
["AntiPipStep=15||15||1.500000||150.000000||N","Step size ",0,0,0,0,0,0,0,0,0,0,0]
["AntiMartingail_ModeP=0||0||0||1||N","Step size calc mode ","In points","In points","In points","In points","In points","In points","In points","In points","In points","In points","In points"]
["AntiStepCoeff=0.9||0.9||0.090000||9.000000||N","Step increase coefficient ",0,0,0,0,0,0,0,0,0,0,0]
["AntiMinStepSize=0||0||0.000000||0.000000||N","Min step size (points) ",0,0,0,0,0,0,0,0,0,0,0]
["AntiMaxStepSize=0||0||0.000000||0.000000||N","Max step size (points) (O - disable limit) ",0,0,0,0,0,0,0,0,0,0,0]
["AntiStopLoss=10||10||1.000000||100.000000||N","Anti-StopLoss size (O disable) ",0,0,0,0,0,0,0,0,0,0,0]
["AntiStopLoss_ReduceSize=0||0||0.000000||0.000000||N","Anti-StopLoss reduce size ",0,0,0,0,0,0,0,0,0,0,0]
["AntiStopLoss_ReduceCoeff=1||1||0.100000||10.000000||N","Anti-StopLoss reduce coefficient ",0,0,0,0,0,0,0,0,0,0,0]
["AntiStopLoss_MinSize=5||5||0.500000||50.000000||N","Anti-StopLoss min size (points) ",0,0,0,0,0,0,0,0,0,0,0]
["AntiStopLoss_Mode=1||0||0||1||N","Anti-StopLoss mode ","Frcm lastc en rice ","Frcm lastc en rice ","Frcm lastc en rice ","Frcm lastc en rice ","Frcm lastc en rice ","Frcm lastc en rice ","Frcm lastc en rice ","Frcm lastc en rice ","Frcm lastc en rice ","Frcm lastc en rice ","Frcm lastc en rice "]
["AntiStopLoss_ModeP=0||0||0||1||N","Anti-StopLoss calc mode ","In points","In points","In points","In points","In points","In points","In points","In points","In points","In points","In points"]
["AntiMartingail_AllowTP=false||false||0||true||N","Allow TakeProfit for anti-martin trades ",false,false,false,false,false,false,false,false,false,false,false]
["AllowBoth_Properties========","Allow both Martin and Anti-martin "]
["AllowBothMartinAndAntiMartin=false||false||0||true||N","Allow both Martin and Anti-martin ",false,false,false,false,false,false,false,false,false,false,false]
["; Partial close properties","Partial close properties "]
["PartialClose_Properties====================================================================================","Partial close properties: "]
["PartialClose_After=0||2||1||6||N","Close partial after order # (O - disable) ",0,0,0,0,0,0,0,0,0,0,0]
["PartialClose_MinProfit=0||4||1||6||N","Min profit to close (account currency) ",0,0,0,0,0,0,0,0,0,0,0]
["PartialClose_MinProfit_Perc=0||0||0.000000||0.000000||N","Min profit to close from balance) (O - disable) ",0,0,0,0,0,0,0,0,0,0,0]
["PartialClose_MinPercent=100||100||10.000000||1000.000000||N","Min part of losing order to close (%) ",0,0,0,0,0,0,0,0,0,0,0]
["PartialClose_AnyToAny=false||false||0||true||N","Close any with any ",false,false,false,false,false,false,false,false,false,false,false]
["PartialClose_CloseProfitItself=false||false||0||true||N","Close profit itself ",false,false,false,false,false,false,false,false,false,false,false]
["PartialCloseHedge_After=0||0||1||10||N","Hedge: Close partial after order # (O - disable) ",0,0,0,0,0,0,0,0,0,0,0]
["PartialCloseHedge_MainToMain=false||false||0||true||N","Hedge: Close main series by opposite main series ",false,false,false,false,false,false,false,false,false,false,false]
["PartialCloseHedge_BothWays=false||false||0||true||N","Hedge: Allow close both ways (long series can close short ser ",false,false,false,false,false,false,false,false,false,false,false]
["PartialCloseHedge_MaxPrOrders=0||0||1||10||N","Hedge: Max profitable orders to close at the same time (O d ",0,0,0,0,0,0,0,0,0,0,0]
["PartialCloseHedge_MinProfit=0||0||0.000000||0.000000||N","Hedge: Min profit to close (account currency) ",0,0,0,0,0,0,0,0,0,0,0]
["PartialCloseHedge_MinProfit_Perc=0||0||0.000000||0.000000||N","Hedge: Min profit to close from balance) (O disable) ",0,0,0,0,0,0,0,0,0,0,0]
["PartialCloseHedge_MinProfit_OppL=0||0||0.000000||0.000000||N","Hedge: Min profit to close from opposite loss) (O - disabl ",0,0,0,0,0,0,0,0,0,0,0]
["PartialCloseHedge_MinPercent=100||100||10.000000||1000.000000||N","Hedge: Min part of losing order to close (%) ",0,0,0,0,0,0,0,0,0,0,0]
["; Directional change properties","Directional change properties "]
["DirChange_Properties====================================================================================","Directional change properties: "]
["DirChange_Type=0||0||0||1||N","Directional change filter type ","Enabled","Enabled","Enabled","Enabled","Enabled","Enabled","Enabled","Enabled","Enabled","Enabled","Enabled"]
["DirChange_OpenOn=0||0||0||3||N","Open on ","Disabled ","Disabled ","Disabled ","Disabled ","Disabled ","Disabled ","Disabled ","Disabled ","Disabled ","Disabled ","Disabled "]
["; Big candle properties","Big candle properties "]
["BigCandle_Properties====================================================================================","Big candle properties: "]
["BigCandle_Type=0||0||0||3||N","Big candle filter type ","Enabled","Enabled","Enabled","Enabled","Enabled","Enabled","Enabled","Enabled","Enabled","Enabled","Enabled"]
["BigCandle_MinSize=100||100||10.000000||1000.000000||N","Big candle min size ",0,0,0,0,0,0,0,0,0,0,0]
["BigCandle_MaxSize=0||0||0.000000||0.000000||N","Big candle max size (O - disable limit) ",0,0,0,0,0,0,0,0,0,0,0]
["BigCandle_TF=0||0||0||49153||N","Big candle TimeFrame ","2 Minutes ","2 Minutes ","2 Minutes ","2 Minutes ","2 Minutes ","2 Minutes ","2 Minutes ","2 Minutes ","2 Minutes ","2 Minutes ","2 Minutes "]
["BigCandle_CurrentBar=true||false||0||true||N","Analyze current bar ",false,false,false,false,false,false,false,false,false,false,false]
["BigCandle_OpenOn=0||0||0||3||N","Open on ","Open on Individual signal ","Open on Individual signal ","Open on Individual signal ","Open on Individual signal ","Open on Individual signal ","Open on Individual signal ","Open on Individual signal ","Open on Individual signal ","Open on Individual signal ","Open on Individual signal ","Open on Individual signal "]
["BigCandle_MartinOn=0||0||0||3||N","Open martin on ","Open on Individual signal ","Open on Individual signal ","Open on Individual signal ","Open on Individual signal ","Open on Individual signal ","Open on Individual signal ","Open on Individual signal ","Open on Individual signal ","Open on Individual signal ","Open on Individual signal ","Open on Individual signal "]
["BigCandle_HedgeOn=0||0||0||3||N","Open hedge on ","Open on Individual signal ","Open on Individual signal ","Open on Individual signal ","Open on Individual signal ","Open on Individual signal ","Open on Individual signal ","Open on Individual signal ","Open on Individual signal ","Open on Individual signal ","Open on Individual signal ","Open on Individual signal "]
["BigCandle_CloseOn=0||0||0||4||N","Close on ","Close on Individual signal, in profit only ","Close on Individual signal, in profit only ","Close on Individual signal, in profit only ","Close on Individual signal, in profit only ","Close on Individual signal, in profit only ","Close on Individual signal, in profit only ","Close on Individual signal, in profit only ","Close on Individual signal, in profit only ","Close on Individual signal, in profit only ","Close on Individual signal, in profit only ","Close on Individual signal, in profit only "]
["BigCandle_PartialCloseOn=0||0||0||3||N","Partial close on ","Partial close on Individual signal ","Partial close on Individual signal ","Partial close on Individual signal ","Partial close on Individual signal ","Partial close on Individual signal ","Partial close on Individual signal ","Partial close on Individual signal ","Partial close on Individual signal ","Partial close on Individual signal ","Partial close on Individual signal ","Partial close on Individual signal "]
["; Oscillator #1 properties","Oscillator #1 properties "]
["Oscillators_Properties====================================================================================","Oscillator properties: "]
["Oscillators_Type=0||0||0||4||N","Filter Type ","Inside zone ","Inside zone ","Inside zone ","Inside zone ","Inside zone ","Inside zone ","Inside zone ","Inside zone ","Inside zone ","Inside zone ","Inside zone "]
["Oscillators_Indicator=3||0||0||4||N","Indicator ","WPR ","WPR ","WPR ","WPR ","WPR ","WPR ","WPR ","WPR ","WPR ","WPR ","WPR "]
["Oscillators_TF=0||0||0||49153||N","Time Frame ","2 Minutes ","2 Minutes ","2 Minutes ","2 Minutes ","2 Minutes ","2 Minutes ","2 Minutes ","2 Minutes ","2 Minutes ","2 Minutes ","2 Minutes "]
["Oscillators_Period=9||9||1||90||N","Main Period ",0,0,0,0,0,0,0,0,0,0,0]
["Oscillators_Price=1||1||0||7||N","Applied price ","Open price ","L price ","Open price ","Open price ","Open price ","Open price ","Open price ","Open price ","Open price ","Open price ","Open price "]
["Oscillators_MA_Period=3||3||1||30||N","MA Period (for Cross MA mode) ",0,0,0,0,0,0,0,0,0,0,0]
["Oscillators_MA_Method=0||0||0||3||N","MA Method ","Exponential ","Exponential ","Exponential ","Exponential ","Exponential ","Exponential ","Exponential ","Exponential ","Exponential ","Exponential ","Exponential "]
["Oscillators_Slowing=3||3||1||30||N","Stochastic Slowing period ",0,0,0,0,0,0,0,0,0,0,0]
["Oscillators_STO_Price=0||0||0||1||N","Stochastic Price ","CIcse/CIcse ","CIcse/CIcse ","CIcse/CIcse ","CIcse/CIcse ","CIcse/CIcse ","CIcse/CIcse ","CIcse/CIcse ","CIcse/CIcse ","CIcse/CIcse ","CIcse/CIcse ","CIcse/CIcse "]
["Oscillators_Level_UP_Min=90||90||9.000000||900.000000||N","Level UP ",0,0,0,0,0,0,0,0,0,0,0]
["Oscillators_Level_DN_Min=-999||-999||-99.900000||-9990.000000||N","Level DN - calc automatically) ",0,0,0,0,0,0,0,0,0,0,0]
["Oscillators_ContrTrend=false||false||0||true||N","Reverse mode ",false,false,false,false,false,false,false,false,false,false,false]
["Oscillators_UseClosedBars=true||false||0||true||N","Use only closed bars ",false,false,false,false,false,false,false,false,false,false,false]
["Oscillators_OpenOn=2||0||0||3||N","Open on ","Ocn't use fcrc en ","Ocn't use fcrc en ","Ocn't use fcrc en ","Ocn't use fcrc en ","Ocn't use fcrc en ","Ocn't use fcrc en ","Ocn't use fcrc en ","Ocn't use fcrc en ","Ocn't use fcrc en ","Ocn't use fcrc en ","Ocn't use fcrc en "]
["Oscillators_MartinOn=0||0||0||3||N","Open martin on ","Open on Individual signal ","Open on Individual signal ","Open on Individual signal ","Open on Individual signal ","Open on Individual signal ","Open on Individual signal ","Open on Individual signal ","Open on Individual signal ","Open on Individual signal ","Open on Individual signal ","Open on Individual signal "]
["Oscillators_HedgeOn=0||0||0||3||N","Open hedge on ","Open on Individual signal ","Open on Individual signal ","Open on Individual signal ","Open on Individual signal ","Open on Individual signal ","Open on Individual signal ","Open on Individual signal ","Open on Individual signal ","Open on Individual signal ","Open on Individual signal ","Open on Individual signal "]
["Oscillators_CloseOn=2||0||0||4||N","Close on ","Close on Individual signal, in profit only ","Close on Individual signal, in profit only ","Close on Individual signal, in profit only ","Close on Individual signal, in profit only ","Close on Individual signal, in profit only ","Close on Individual signal, in profit only ","Close on Individual signal, in profit only ","Close on Individual signal, in profit only ","Close on Individual signal, in profit only ","Close on Individual signal, in profit only ","Close on Individual signal, in profit only "]
["Oscillators_PartialCloseOn=0||0||0||3||N","Partial close on ","Partial close on Individual signal ","Partial close on Individual signal ","Partial close on Individual signal ","Partial close on Individual signal ","Partial close on Individual signal ","Partial close on Individual signal ","Partial close on Individual signal ","Partial close on Individual signal ","Partial close on Individual signal ","Partial close on Individual signal ","Partial close on Individual signal "]
["; Oscillator #2 properties","Oscillator #2 properties "]
["Oscillator2_Properties====================================================================================","Oscillator properties: "]
["Oscillator2_Type=0||0||0||4||N","Filter type ","Inside zone ","Inside zone ","Inside zone ","Inside zone ","Inside zone ","Inside zone ","Inside zone ","Inside zone ","Inside zone ","Inside zone ","Inside zone "]
["Oscillator2_Indicator=2||0||0||4||N","Indicator ","WPR ","WPR ","WPR ","WPR ","WPR ","WPR ","WPR ","WPR ","WPR ","WPR ","WPR "]
["Oscillator2_TF=16408||0||0||49153||N","Time Frame ","2 Minutes ","2 Minutes ","2 Minutes ","2 Minutes ","2 Minutes ","2 Minutes ","2 Minutes ","2 Minutes ","2 Minutes ","2 Minutes ","2 Minutes "]
["Oscillator2_Period=14||14||1||140||N","Main Period ",0,0,0,0,0,0,0,0,0,0,0]
["Oscillator2_Price=1||1||0||7||N","Applied price ","Open price ","Open price ","Open price ","Open price ","Open price ","Open price ","Open price ","Open price ","Open price ","Open price ","Open price "]
["Oscillator2_MA_Period=3||3||1||30||N","MA Period (for Cross MA mode) ",0,0,0,0,0,0,0,0,0,0,0]
["Oscillator2_MA_Method=0||0||0||3||N","MA Method ","Exponential ","Exponential ","Exponential ","Exponential ","Exponential ","Exponential ","Exponential ","Exponential ","Exponential ","Exponential ","Exponential "]
["Oscillator2_Slowing=3||3||1||30||N","Stochastic Slowing period ",0,0,0,0,0,0,0,0,0,0,0]
["Oscillator2_STO_Price=0||0||0||1||N","Stochastic Price ","CIcse/CIcse ","CIcse/CIcse ","CIcse/CIcse ","CIcse/CIcse ","CIcse/CIcse ","CIcse/CIcse ","CIcse/CIcse ","CIcse/CIcse ","CIcse/CIcse ","CIcse/CIcse ","CIcse/CIcse "]
["Oscillator2_Level_UP_Min=80||80||8.000000||800.000000||N","Level UP ",0,0,0,0,0,0,0,0,0,0,0]
["Oscillator2_Level_DN_Min=-999||-999||-99.900000||-9990.000000||N","Level DN - calc automatically) ",0,0,0,0,0,0,0,0,0,0,0]
["Oscillator2_ContrTrend=false||false||0||true||N","Reverse mode ",false,false,false,false,false,false,false,false,false,false,false]
["Oscillator2_UseClosedBars=true||false||0||true||N","Use only closed bars ",false,false,false,false,false,false,false,false,false,false,false]
["Oscillator2_OpenOn=0||0||0||3||N","Open on ","Ocn't use fcrc en ","Ocn't use fcrc en ","Ocn't use fcrc en ","Ocn't use fcrc en ","Ocn't use fcrc en ","Ocn't use fcrc en ","Ocn't use fcrc en ","Ocn't use fcrc en ","Ocn't use fcrc en ","Ocn't use fcrc en ","Ocn't use fcrc en "]
["Oscillator2_MartinOn=0||0||0||3||N","Open martin on ","Open on Individual signal ","Open on Individual signal ","Open on Individual signal ","Open on Individual signal ","Open on Individual signal ","Open on Individual signal ","Open on Individual signal ","Open on Individual signal ","Open on Individual signal ","Open on Individual signal ","Open on Individual signal "]
["Oscillator2_HedgeOn=0||0||0||3||N","Open hedge on ","Open on Individual signal ","Open on Individual signal ","Open on Individual signal ","Open on Individual signal ","Open on Individual signal ","Open on Individual signal ","Open on Individual signal ","Open on Individual signal ","Open on Individual signal ","Open on Individual signal ","Open on Individual signal "]
["Oscillator2_CloseOn=0||0||0||4||N","Close on ","Close on Individual signal, in profit only ","Close on Individual signal, in profit only ","Close on Individual signal, in profit only ","Close on Individual signal, in profit only ","Close on Individual signal, in profit only ","Close on Individual signal, in profit only ","Close on Individual signal, in profit only ","Close on Individual signal, in profit only ","Close on Individual signal, in profit only ","Close on Individual signal, in profit only ","Close on Individual signal, in profit only "]
["Oscillator2_PartialCloseOn=0||0||0||3||N","Partial close on ","Partial close on Individual signal ","Partial close on Individual signal ","Partial close on Individual signal ","Partial close on Individual signal ","Partial close on Individual signal ","Partial close on Individual signal ","Partial close on Individual signal ","Partial close on Individual signal ","Partial close on Individual signal ","Partial close on Individual signal ","Partial close on Individual signal "]
["; Oscillator #3 properties","Oscillator #3 properties "]
["Oscillator3_Properties====================================================================================","Oscillator properties: "]
["Oscillator3_Type=0||0||0||4||N","Filter type ","Inside zone ","Inside zone ","Inside zone ","Inside zone ","Inside zone ","Inside zone ","Inside zone ","Inside zone ","Inside zone ","Inside zone ","Inside zone "]
["Oscillator3_Indicator=2||0||0||4||N","Indicator ","WPR ","WPR ","WPR ","WPR ","WPR ","WPR ","WPR ","WPR ","WPR ","WPR ","WPR "]
["Oscillator3_TF=16408||0||0||49153||N","Time Frame ","2 Minutes ","2 Minutes ","2 Minutes ","2 Minutes ","2 Minutes ","2 Minutes ","2 Minutes ","2 Minutes ","2 Minutes ","2 Minutes ","2 Minutes "]
["Oscillator3_Period=14||14||1||140||N","Main Period ",0,0,0,0,0,0,0,0,0,0,0]
["Oscillator3_Price=1||1||0||7||N","Applied price ","Open price ","Open price ","Open price ","Open price ","Open price ","Open price ","Open price ","Open price ","Open price ","Open price ","Open price "]
["Oscillator3_MA_Period=3||3||1||30||N","MA Period (for Cross MA mode) ",0,0,0,0,0,0,0,0,0,0,0]
["Oscillator3_MA_Method=0||0||0||3||N","MA Method ","Exponential ","Exponential ","Exponential ","Exponential ","Exponential ","Exponential ","Exponential ","Exponential ","Exponential ","Exponential ","Exponential "]
["Oscillator3_Slowing=3||3||1||30||N","Stochastic Slowing period ",0,0,0,0,0,0,0,0,0,0,0]
["Oscillator3_STO_Price=0||0||0||1||N","Stochastic Price ","CIcse/CIcse ","CIcse/CIcse ","CIcse/CIcse ","CIcse/CIcse ","CIcse/CIcse ","CIcse/CIcse ","CIcse/CIcse ","CIcse/CIcse ","CIcse/CIcse ","CIcse/CIcse ","CIcse/CIcse "]
["Oscillator3_Level_UP_Min=80||80||8.000000||800.000000||N","Level UP ",0,0,0,0,0,0,0,0,0,0,0]
["Oscillator3_Level_DN_Min=-999||-999||-99.900000||-9990.000000||N","Level DN - calc automatically) ",0,0,0,0,0,0,0,0,0,0,0]
["Oscillator3_ContrTrend=false||false||0||true||N","Reverse mode ",false,false,false,false,false,false,false,false,false,false,false]
["Oscillator3_UseClosedBars=true||false||0||true||N","Use only closed bars ",false,false,false,false,false,false,false,false,false,false,false]
["Oscillator3_OpenOn=0||0||0||3||N","Open on ","Ocn't use fcrc en ","Ocn't use fcrc en ","Ocn't use fcrc en ","Ocn't use fcrc en ","Ocn't use fcrc en ","Ocn't use fcrc en ","Ocn't use fcrc en ","Ocn't use fcrc en ","Ocn't use fcrc en ","Ocn't use fcrc en ","Ocn't use fcrc en "]
["Oscillator3_MartinOn=0||0||0||3||N","Open martin on ","Open on Individual signal ","Open on Individual signal ","Open on Individual signal ","Open on Individual signal ","Open on Individual signal ","Open on Individual signal ","Open on Individual signal ","Open on Individual signal ","Open on Individual signal ","Open on Individual signal ","Open on Individual signal "]
["Oscillator3_HedgeOn=0||0||0||3||N","Open hedge on ","Open on Individual signal ","Open on Individual signal ","Open on Individual signal ","Open on Individual signal ","Open on Individual signal ","Open on Individual signal ","Open on Individual signal ","Open on Individual signal ","Open on Individual signal ","Open on Individual signal ","Open on Individual signal "]
["Oscillator3_CloseOn=0||0||0||4||N","Close on ","Close on Individual signal, in profit only ","Close on Individual signal, in profit only ","Close on Individual signal, in profit only ","Close on Individual signal, in profit only ","Close on Individual signal, in profit only ","Close on Individual signal, in profit only ","Close on Individual signal, in profit only ","Close on Individual signal, in profit only ","Close on Individual signal, in profit only ","Close on Individual signal, in profit only ","Close on Individual signal, in profit only "]
["Oscillator3_PartialCloseOn=0||0||0||3||N","Partial close on ","Partial close on Individual signal ","Partial close on Individual signal ","Partial close on Individual signal ","Partial close on Individual signal ","Partial close on Individual signal ","Partial close on Individual signal ","Partial close on Individual signal ","Partial close on Individual signal ","Partial close on Individual signal ","Partial close on Individual signal ","Partial close on Individual signal "]
["; IdentifyTrend properties","IdentifyTrend p rope rties "]
["IdentifyTrend_Properties====================================================================================","IdentifyTrend properties: "]
["IdentifyTrend_Enable=false||false||0||true||N","Enable IdentifyTrend filter ",false,false,false,false,false,false,false,false,false,false,false]
["IdentifyTrend_TF=16408||0||0||49153||N","IdentifyTrend TimeFrame ","2 Minutes ","2 Minutes ","2 Minutes ","2 Minutes ","2 Minutes ","2 Minutes ","2 Minutes ","2 Minutes ","2 Minutes ","2 Minutes ","2 Minutes "]
["IdentifyTrend_AppliedPrice=5||1||0||7||N","IdentifyTrend Price ","Close price ","Median rice ","Close price ","Close price ","Close price ","Close price ","Close price ","Close price ","Close price ","Close price ","Close price "]
["IdentifyTrend_MainPeriod=3||3||1||30||N","IdentifyTrend Period ",0,0,0,0,0,0,0,0,0,0,0]
["IdentifyTrend_Reverse=false||false||0||true||N","IdentifyTrend Reverse mode ",false,false,false,false,false,false,false,false,false,false,false]
["IdentifyTrend_UseClosedBars=false||false||0||true||N","IdentifyTrend use closed bars only ",false,false,false,false,false,false,false,false,false,false,false]
["IdentifyTrend_OpenOn=2||0||0||3||N","Open on ","Ocn't use fcrc en ","Ocn't use fcrc en ","Ocn't use fcrc en ","Ocn't use fcrc en ","Ocn't use fcrc en ","Ocn't use fcrc en ","Ocn't use fcrc en ","Ocn't use fcrc en ","Ocn't use fcrc en ","Ocn't use fcrc en ","Ocn't use fcrc en "]
["IdentifyTrend_MartinOn=0||0||0||3||N","Open martin on ","Open on Individual signal ","Open on Individual signal ","Open on Individual signal ","Open on Individual signal ","Open on Individual signal ","Open on Individual signal ","Open on Individual signal ","Open on Individual signal ","Open on Individual signal ","Open on Individual signal ","Open on Individual signal "]
["IdentifyTrend_HedgeOn=0||0||0||3||N","Open hedge on ","Open on Individual signal ","Open on Individual signal ","Open on Individual signal ","Open on Individual signal ","Open on Individual signal ","Open on Individual signal ","Open on Individual signal ","Open on Individual signal ","Open on Individual signal ","Open on Individual signal ","Open on Individual signal "]
["IdentifyTrend_CloseOn=0||0||0||4||N","Close on ","Close on Individual signal, in profit only ","Close on Individual signal, in profit only ","Close on Individual signal, in profit only ","Close on Individual signal, in profit only ","Close on Individual signal, in profit only ","Close on Individual signal, in profit only ","Close on Individual signal, in profit only ","Close on Individual signal, in profit only ","Close on Individual signal, in profit only ","Close on Individual signal, in profit only ","Close on Individual signal, in profit only "]
["IdentifyTrend_PartialCloseOn=0||0||0||3||N","Partial close on ","Partial close on Individual signal ","Partial close on Individual signal ","Partial close on Individual signal ","Partial close on Individual signal ","Partial close on Individual signal ","Partial close on Individual signal ","Partial close on Individual signal ","Partial close on Individual signal ","Partial close on Individual signal ","Partial close on Individual signal ","Partial close on Individual signal "]
["; TDI properties","T DI properties "]
["TDI_Properties====================================================================================","TDI properties: "]
["TDI_Mode=0||0||0||1||N","TDI filter mode ","Market Base Line  Si nal Level ","Market Base Line  Si nal Level ","Market Base Line  Si nal Level ","Market Base Line  Si nal Level ","Market Base Line  Si nal Level ","Market Base Line  Si nal Level ","Market Base Line  Si nal Level ","Market Base Line  Si nal Level ","Market Base Line  Si nal Level ","Market Base Line  Si nal Level ","Market Base Line  Si nal Level "]
["TDI_TF=16385||0||0||49153||N","Time Frame ","2 Minutes ","2 Minutes ","2 Minutes ","2 Minutes ","2 Minutes ","2 Minutes ","2 Minutes ","2 Minutes ","2 Minutes ","2 Minutes ","2 Minutes "]
["TDI_SignalLevel=50||50||5.000000||500.000000||N","Signal level ",0,0,0,0,0,0,0,0,0,0,0]
["TDI_PeriodRSI=21||21||1||210||N","RSI period ",0,0,0,0,0,0,0,0,0,0,0]
["TDI_AppliedPriceRSI=1||1||0||7||N","RSI price ","Close price ","Close price ","Close price ","Close price ","Close price ","Close price ","Close price ","Close price ","Close price ","Close price ","Close price "]
["TDI_PeriodSmRSI=2||2||1||20||N","RSI smoothing period ",0,0,0,0,0,0,0,0,0,0,0]
["TDI_MethodSmRSI=0||0||0||3||N","RSI smoothing method ","Exponential ","Exponential ","Exponential ","Exponential ","Exponential ","Exponential ","Exponential ","Exponential ","Exponential ","Exponential ","Exponential "]
["TDI_PeriodSmSig=7||7||1||70||N","Signal smoothing period ",0,0,0,0,0,0,0,0,0,0,0]
["TDI_MethodSmSig=0||0||0||3||N","Signal smoothing method ","Exponential ","Exponential ","Exponential ","Exponential ","Exponential ","Exponential ","Exponential ","Exponential ","Exponential ","Exponential ","Exponential "]
["TDI_PeriodVolBand=34||34||1||340||N","Volatility bands period ",0,0,0,0,0,0,0,0,0,0,0]
["TDI_StdDev=1.6185||1.6185||0.161850||16.185000||N","Standard Deviations ",0,0,0,0,0,0,0,0,0,0,0]
["TDI_Reverse=false||false||0||true||N","Reverse mode ",false,false,false,false,false,false,false,false,false,false,false]
["TDI_UseClosedBars=true||false||0||true||N","Use closed bars only ",false,false,false,false,false,false,false,false,false,false,false]
["TDI_OpenOn=2||0||0||3||N","Open on ","Ocn't use fcrc en ","Ocn't use fcrc en ","Ocn't use fcrc en ","Ocn't use fcrc en ","Ocn't use fcrc en ","Ocn't use fcrc en ","Ocn't use fcrc en ","Ocn't use fcrc en ","Ocn't use fcrc en ","Ocn't use fcrc en ","Ocn't use fcrc en "]
["TDI_MartinOn=0||0||0||3||N","Open martin on ","Open on Individual signal ","Open on Individual signal ","Open on Individual signal ","Open on Individual signal ","Open on Individual signal ","Open on Individual signal ","Open on Individual signal ","Open on Individual signal ","Open on Individual signal ","Open on Individual signal ","Open on Individual signal "]
["TDI_HedgeOn=0||0||0||3||N","Open hedge on ","Open on Individual signal ","Open on Individual signal ","Open on Individual signal ","Open on Individual signal ","Open on Individual signal ","Open on Individual signal ","Open on Individual signal ","Open on Individual signal ","Open on Individual signal ","Open on Individual signal ","Open on Individual signal "]
["TDI_CloseOn=0||0||0||4||N","Close on ","Close on Individual signal, in profit only ","Close on Individual signal, in profit only ","Close on Individual signal, in profit only ","Close on Individual signal, in profit only ","Close on Individual signal, in profit only ","Close on Individual signal, in profit only ","Close on Individual signal, in profit only ","Close on Individual signal, in profit only ","Close on Individual signal, in profit only ","Close on Individual signal, in profit only ","Close on Individual signal, in profit only "]
["TDI_PartialCloseOn=0||0||0||3||N","Partial close on ","Partial close on Individual signal ","Partial close on Individual signal ","Partial close on Individual signal ","Partial close on Individual signal ","Partial close on Individual signal ","Partial close on Individual signal ","Partial close on Individual signal ","Partial close on Individual signal ","Partial close on Individual signal ","Partial close on Individual signal ","Partial close on Individual signal "]
["; MACD #1 properties","MACD #1 properties "]
["MACD_Properties====================================================================================","MACD properties: "]
["MACD_Type=0||0||0||3||N","* Type ","Buy on 2 growing bars / Sell on 2 reducing ba ","Buy on 2 growing bars / Sell on 2 reducing ba ","Buy on 2 growing bars / Sell on 2 reducing ba ","Buy on 2 growing bars / Sell on 2 reducing ba ","Buy on 2 growing bars / Sell on 2 reducing ba ","Buy on 2 growing bars / Sell on 2 reducing ba ","Buy on 2 growing bars / Sell on 2 reducing ba ","Buy on 2 growing bars / Sell on 2 reducing ba ","Buy on 2 growing bars / Sell on 2 reducing ba ","Buy on 2 growing bars / Sell on 2 reducing ba ","Buy on 2 growing bars / Sell on 2 reducing ba "]
["MACD_TF=0||0||0||49153||N","Time Frame ","2 Minutes ","2 Minutes ","2 Minutes ","2 Minutes ","2 Minutes ","2 Minutes ","2 Minutes ","2 Minutes ","2 Minutes ","2 Minutes ","2 Minutes "]
["MACD_PeriodFast=12||12||1||120||N","Fast period ",0,0,0,0,0,0,0,0,0,0,0]
["MACD_FastMA_Method=1||0||0||9||N","Fast MA method ","Ex cnential ","Jurik MA ","Ex cnential ","Ex cnential ","Ex cnential ","Ex cnential ","Ex cnential ","Ex cnential ","Ex cnential ","Ex cnential ","Ex cnential "]
["MACD_PeriodSlow=27||27||1||270||N","Slow period ",0,0,0,0,0,0,0,0,0,0,0]
["MACD_SlowMA_Method=1||0||0||9||N","Slow MA method ","Ex cnential ","HMA","Ex cnential ","Ex cnential ","Ex cnential ","Ex cnential ","Ex cnential ","Ex cnential ","Ex cnential ","Ex cnential ","Ex cnential "]
["MACD_PeriodSignal=9||9||1||90||N","Signal period ",0,0,0,0,0,0,0,0,0,0,0]
["MACD_SignalMA_Method=0||0||0||3||N","Signal MA method ","Exponential ","Exponential ","Exponential ","Exponential ","Exponential ","Exponential ","Exponential ","Exponential ","Exponential ","Exponential ","Exponential "]
["MACD_Price=1||1||0||7||N","Applied price ","Close price ","Close price ","Close price ","Close price ","Close price ","Close price ","Close price ","Close price ","Close price ","Close price ","Close price "]
["MACD_JMA_Phase=0||0||1||10||N","JMA Phase ",0,0,0,0,0,0,0,0,0,0,0]
["MACD_Reverse=false||false||0||true||N","Reverse mode ",false,false,false,false,false,false,false,false,false,false,false]
["MACD_UseClosedBars=true||false||0||true||N","Use closed bars only ",false,false,false,false,false,false,false,false,false,false,false]
["MACD_OpenOn=0||0||0||3||N","Open on ","Ocn't use fcrc en ","Ocn't use fcrc en ","Ocn't use fcrc en ","Ocn't use fcrc en ","Ocn't use fcrc en ","Ocn't use fcrc en ","Ocn't use fcrc en ","Ocn't use fcrc en ","Ocn't use fcrc en ","Ocn't use fcrc en ","Ocn't use fcrc en "]
["MACD_MartinOn=0||0||0||3||N","Open martin on ","Open on Individual signal ","Open on Individual signal ","Open on Individual signal ","Open on Individual signal ","Open on Individual signal ","Open on Individual signal ","Open on Individual signal ","Open on Individual signal ","Open on Individual signal ","Open on Individual signal ","Open on Individual signal "]
["MACD_HedgeOn=0||0||0||3||N","Open hedge on ","Open on Individual signal ","Open on Individual signal ","Open on Individual signal ","Open on Individual signal ","Open on Individual signal ","Open on Individual signal ","Open on Individual signal ","Open on Individual signal ","Open on Individual signal ","Open on Individual signal ","Open on Individual signal "]
["MACD_CloseOn=0||0||0||4||N","Close on ","Close on Individual signal, in profit only ","Close on Individual signal, in profit only ","Close on Individual signal, in profit only ","Close on Individual signal, in profit only ","Close on Individual signal, in profit only ","Close on Individual signal, in profit only ","Close on Individual signal, in profit only ","Close on Individual signal, in profit only ","Close on Individual signal, in profit only ","Close on Individual signal, in profit only ","Close on Individual signal, in profit only "]
["MACD_PartialCloseOn=0||0||0||3||N","Partial close on ","Partial close on Individual signal ","Partial close on Individual signal ","Partial close on Individual signal ","Partial close on Individual signal ","Partial close on Individual signal ","Partial close on Individual signal ","Partial close on Individual signal ","Partial close on Individual signal ","Partial close on Individual signal ","Partial close on Individual signal ","Partial close on Individual signal "]
["; MACD #2 properties","MACD #2 properties "]
["MACD2_Properties====================================================================================","MACD properties: "]
["MACD2_Type=0||0||0||8||N","Type ","Buy on 2 growing bars / Sell on 2 reducing ba ","Buy on 2 growing bars / Sell on 2 reducing ba ","Buy on 2 growing bars / Sell on 2 reducing ba ","Buy on 2 growing bars / Sell on 2 reducing ba ","Buy on 2 growing bars / Sell on 2 reducing ba ","Buy on 2 growing bars / Sell on 2 reducing ba ","Buy on 2 growing bars / Sell on 2 reducing ba ","Buy on 2 growing bars / Sell on 2 reducing ba ","Buy on 2 growing bars / Sell on 2 reducing ba ","Buy on 2 growing bars / Sell on 2 reducing ba ","Buy on 2 growing bars / Sell on 2 reducing ba "]
["MACD2_TF=0||0||0||49153||N","TimeFrame ","2 Minutes ","2 Minutes ","2 Minutes ","2 Minutes ","2 Minutes ","2 Minutes ","2 Minutes ","2 Minutes ","2 Minutes ","2 Minutes ","2 Minutes "]
["MACD2_PeriodFast=12||12||1||120||N","Fast period ",0,0,0,0,0,0,0,0,0,0,0]
["MACD2_FastMA_Method=1||0||0||9||N","Fast MA method ","Ex cnential ","Ex cnential ","Ex cnential ","Ex cnential ","Ex cnential ","Ex cnential ","Ex cnential ","Ex cnential ","Ex cnential ","Ex cnential ","Ex cnential "]
["MACD2_PeriodSlow=27||27||1||270||N","Slow period ",0,0,0,0,0,0,0,0,0,0,0]
["MACD2_SlowMA_Method=1||0||0||9||N","Slow MA method ","Ex cnential ","Ex cnential ","Ex cnential ","Ex cnential ","Ex cnential ","Ex cnential ","Ex cnential ","Ex cnential ","Ex cnential ","Ex cnential ","Ex cnential "]
["MACD2_PeriodSignal=9||9||1||90||N","Signal period ",0,0,0,0,0,0,0,0,0,0,0]
["MACD2_SignalMA_Method=0||0||0||3||N","Signal MA method ","Exponential ","Exponential ","Exponential ","Exponential ","Exponential ","Exponential ","Exponential ","Exponential ","Exponential ","Exponential ","Exponential "]
["MACD2_Price=1||1||0||7||N","Applied price ","Close price ","Close price ","Close price ","Close price ","Close price ","Close price ","Close price ","Close price ","Close price ","Close price ","Close price "]
["MACD2_JMA_Phase=0||0||1||10||N","JMA Phase ",0,0,0,0,0,0,0,0,0,0,0]
["MACD2_Reverse=false||false||0||true||N","Reverse mode ",false,false,false,false,false,false,false,false,false,false,false]
["MACD2_UseClosedBars=true||false||0||true||N","Use closed bars only ",false,false,false,false,false,false,false,false,false,false,false]
["MACD2_OpenOn=0||0||0||3||N","Open on ","Ocn't use fcrc en ","Ocn't use fcrc en ","Ocn't use fcrc en ","Ocn't use fcrc en ","Ocn't use fcrc en ","Ocn't use fcrc en ","Ocn't use fcrc en ","Ocn't use fcrc en ","Ocn't use fcrc en ","Ocn't use fcrc en ","Ocn't use fcrc en "]
["MACD2_MartinOn=0||0||0||3||N","Open martin on ","Open on Individual signal ","Open on Individual signal ","Open on Individual signal ","Open on Individual signal ","Open on Individual signal ","Open on Individual signal ","Open on Individual signal ","Open on Individual signal ","Open on Individual signal ","Open on Individual signal ","Open on Individual signal "]
["MACD2_HedgeOn=0||0||0||3||N","Open hedge on ","Open on Individual signal ","Open on Individual signal ","Open on Individual signal ","Open on Individual signal ","Open on Individual signal ","Open on Individual signal ","Open on Individual signal ","Open on Individual signal ","Open on Individual signal ","Open on Individual signal ","Open on Individual signal "]
["MACD2_CloseOn=0||0||0||4||N","Close on ","Close on Individual signal, in profit only ","Close on Individual signal, in profit only ","Close on Individual signal, in profit only ","Close on Individual signal, in profit only ","Close on Individual signal, in profit only ","Close on Individual signal, in profit only ","Close on Individual signal, in profit only ","Close on Individual signal, in profit only ","Close on Individual signal, in profit only ","Close on Individual signal, in profit only ","Close on Individual signal, in profit only "]
["MACD2_PartialCloseOn=0||0||0||3||N","Partial close on ","Partial close on Individual signal ","Partial close on Individual signal ","Partial close on Individual signal ","Partial close on Individual signal ","Partial close on Individual signal ","Partial close on Individual signal ","Partial close on Individual signal ","Partial close on Individual signal ","Partial close on Individual signal ","Partial close on Individual signal ","Partial close on Individual signal "]
["; ADX properties","ADX properties "]
["ADX_Properties====================================================================================","ADX properties: "]
["ADX_Type=0||0||0||2||N","* Type ","Buy cn +01 level / Sell cn -DI level ","Buy cn +01 level / Sell cn -DI level ","Buy cn +01 level / Sell cn -DI level ","Buy cn +01 level / Sell cn -DI level ","Buy cn +01 level / Sell cn -DI level ","Buy cn +01 level / Sell cn -DI level ","Buy cn +01 level / Sell cn -DI level ","Buy cn +01 level / Sell cn -DI level ","Buy cn +01 level / Sell cn -DI level ","Buy cn +01 level / Sell cn -DI level ","Buy cn +01 level / Sell cn -DI level "]
["ADX_TF=0||0||0||49153||N","Time Frame ","2 Minutes ","2 Minutes ","2 Minutes ","2 Minutes ","2 Minutes ","2 Minutes ","2 Minutes ","2 Minutes ","2 Minutes ","2 Minutes ","2 Minutes "]
["ADX_Period=14||14||1||140||N","ADX period ",0,0,0,0,0,0,0,0,0,0,0]
["ADX_Level=10||10||1.000000||100.000000||N","Signal level ",0,0,0,0,0,0,0,0,0,0,0]
["ADX_Reverse=false||false||0||true||N","Reverse mode ",false,false,false,false,false,false,false,false,false,false,false]
["ADX_UseClosedBars=true||false||0||true||N","Use closed bars only ",false,false,false,false,false,false,false,false,false,false,false]
["ADX_OpenOn=0||0||0||3||N","Open on ","Ocn't use fcrc en ","Ocn't use fcrc en ","Ocn't use fcrc en ","Ocn't use fcrc en ","Ocn't use fcrc en ","Ocn't use fcrc en ","Ocn't use fcrc en ","Ocn't use fcrc en ","Ocn't use fcrc en ","Ocn't use fcrc en ","Ocn't use fcrc en "]
["ADX_MartinOn=0||0||0||3||N","Open martin on ","Open on Individual signal ","Open on Individual signal ","Open on Individual signal ","Open on Individual signal ","Open on Individual signal ","Open on Individual signal ","Open on Individual signal ","Open on Individual signal ","Open on Individual signal ","Open on Individual signal ","Open on Individual signal "]
["ADX_HedgeOn=0||0||0||3||N","Open hedge on ","Open on Individual signal ","Open on Individual signal ","Open on Individual signal ","Open on Individual signal ","Open on Individual signal ","Open on Individual signal ","Open on Individual signal ","Open on Individual signal ","Open on Individual signal ","Open on Individual signal ","Open on Individual signal "]
["ADX_CloseOn=0||0||0||4||N","Close on ","Close on Individual signal, in profit only ","Close on Individual signal, in profit only ","Close on Individual signal, in profit only ","Close on Individual signal, in profit only ","Close on Individual signal, in profit only ","Close on Individual signal, in profit only ","Close on Individual signal, in profit only ","Close on Individual signal, in profit only ","Close on Individual signal, in profit only ","Close on Individual signal, in profit only ","Close on Individual signal, in profit only "]
["ADX_PartialCloseOn=0||0||0||3||N","Partial close on ","Partial close on Individual signal ","Partial close on Individual signal ","Partial close on Individual signal ","Partial close on Individual signal ","Partial close on Individual signal ","Partial close on Individual signal ","Partial close on Individual signal ","Partial close on Individual signal ","Partial close on Individual signal ","Partial close on Individual signal ","Partial close on Individual signal "]
["; DTrend properties","DTrend p rope rties "]
["DTrend_Properties====================================================================================","DTrend properties: "]
["DTrend_Type=0||0||0||3||N","Type ","Buy > level/ Sell -level ","Buy > level/ Sell -level ","Buy > level/ Sell -level ","Buy > level/ Sell -level ","Buy > level/ Sell -level ","Buy > level/ Sell -level ","Buy > level/ Sell -level ","Buy > level/ Sell -level ","Buy > level/ Sell -level ","Buy > level/ Sell -level ","Buy > level/ Sell -level "]
["DTrend_TF=0||0||0||49153||N","TimeFrame ","2 Minutes ","2 Minutes ","2 Minutes ","2 Minutes ","2 Minutes ","2 Minutes ","2 Minutes ","2 Minutes ","2 Minutes ","2 Minutes ","2 Minutes "]
["DTrend_PeriodMA1=5||5||1||50||N","MAI period ",0,0,0,0,0,0,0,0,0,0,0]
["DTrend_PeriodMA2=9||9||1||90||N","MA2 period ",0,0,0,0,0,0,0,0,0,0,0]
["DTrend_PeriodD=5||5||1||50||N","D period ",0,0,0,0,0,0,0,0,0,0,0]
["DTrend_Scalar=1000000||1000000||100000.000000||10000000.000000||N","Scalar ",0,0,0,0,0,0,0,0,0,0,0]
["DTrend_Level=30||30||3.000000||300.000000||N","Signal level ",0,0,0,0,0,0,0,0,0,0,0]
["DTrend_Reverse=false||false||0||true||N","Reverse mode ",false,false,false,false,false,false,false,false,false,false,false]
["DTrend_UseClosedBars=false||false||0||true||N","Use closed bars only ",false,false,false,false,false,false,false,false,false,false,false]
["DTrend_OpenOn=0||0||0||3||N","Open on ","Ocn't use fcrc en ","Ocn't use fcrc en ","Ocn't use fcrc en ","Ocn't use fcrc en ","Ocn't use fcrc en ","Ocn't use fcrc en ","Ocn't use fcrc en ","Ocn't use fcrc en ","Ocn't use fcrc en ","Ocn't use fcrc en ","Ocn't use fcrc en "]
["DTrend_MartinOn=0||0||0||3||N","Open martin on ","Open on Individual signal ","Open on Individual signal ","Open on Individual signal ","Open on Individual signal ","Open on Individual signal ","Open on Individual signal ","Open on Individual signal ","Open on Individual signal ","Open on Individual signal ","Open on Individual signal ","Open on Individual signal "]
["DTrend_HedgeOn=0||0||0||3||N","Open hedge on ","Open on Individual signal ","Open on Individual signal ","Open on Individual signal ","Open on Individual signal ","Open on Individual signal ","Open on Individual signal ","Open on Individual signal ","Open on Individual signal ","Open on Individual signal ","Open on Individual signal ","Open on Individual signal "]
["DTrend_CloseOn=0||0||0||4||N","Close on ","Close on Individual signal, in profit only ","Close on Individual signal, in profit only ","Close on Individual signal, in profit only ","Close on Individual signal, in profit only ","Close on Individual signal, in profit only ","Close on Individual signal, in profit only ","Close on Individual signal, in profit only ","Close on Individual signal, in profit only ","Close on Individual signal, in profit only ","Close on Individual signal, in profit only ","Close on Individual signal, in profit only "]
["DTrend_PartialCloseOn=0||0||0||3||N","Partial close on ","Partial close on Individual signal ","Partial close on Individual signal ","Partial close on Individual signal ","Partial close on Individual signal ","Partial close on Individual signal ","Partial close on Individual signal ","Partial close on Individual signal ","Partial close on Individual signal ","Partial close on Individual signal ","Partial close on Individual signal ","Partial close on Individual signal "]
["; Parabolic SAR properties","Parabolic SAR properties "]
["PSar_Properties====================================================================================","Parabolic SAR properties: "]
["PSar_Type=0||0||0||2||N","Signal Type ","Si nal ","Si nal ","Si nal ","Si nal ","Si nal ","Si nal ","Si nal ","Si nal ","Si nal ","Si nal ","Si nal "]
["PSar_TF=0||0||0||49153||N","TimeFrame ","2 Minutes ","2 Minutes ","2 Minutes ","2 Minutes ","2 Minutes ","2 Minutes ","2 Minutes ","2 Minutes ","2 Minutes ","2 Minutes ","2 Minutes "]
["PSar_Step=0.02||0.02||0.002000||0.200000||N","Step ",0,0,0,0,0,0,0,0,0,0,0]
["PSar_Maximum=0.2||0.2||0.020000||2.000000||N","Maximum ",0,0,0,0,0,0,0,0,0,0,0]
["PSar_Reverse=false||false||0||true||N","Reverse mode ",false,false,false,false,false,false,false,false,false,false,false]
["PSar_OpenOn=0||0||0||3||N","Open on ","Ocn't use fcrc en ","Ocn't use fcrc en ","Ocn't use fcrc en ","Ocn't use fcrc en ","Ocn't use fcrc en ","Ocn't use fcrc en ","Ocn't use fcrc en ","Ocn't use fcrc en ","Ocn't use fcrc en ","Ocn't use fcrc en ","Ocn't use fcrc en "]
["PSar_MartinOn=0||0||0||3||N","Open martin on ","Open on Individual signal ","Open on Individual signal ","Open on Individual signal ","Open on Individual signal ","Open on Individual signal ","Open on Individual signal ","Open on Individual signal ","Open on Individual signal ","Open on Individual signal ","Open on Individual signal ","Open on Individual signal "]
["PSar_HedgeOn=0||0||0||3||N","Open hedge on ","Open on Individual signal ","Open on Individual signal ","Open on Individual signal ","Open on Individual signal ","Open on Individual signal ","Open on Individual signal ","Open on Individual signal ","Open on Individual signal ","Open on Individual signal ","Open on Individual signal ","Open on Individual signal "]
["PSar_CloseOn=0||0||0||4||N","Close on ","Close on Individual signal, in profit only ","Close on Individual signal, in profit only ","Close on Individual signal, in profit only ","Close on Individual signal, in profit only ","Close on Individual signal, in profit only ","Close on Individual signal, in profit only ","Close on Individual signal, in profit only ","Close on Individual signal, in profit only ","Close on Individual signal, in profit only ","Close on Individual signal, in profit only ","Close on Individual signal, in profit only "]
["PSar_PartialCloseOn=0||0||0||3||N","Partial close on ","Partial close on Individual signal ","Partial close on Individual signal ","Partial close on Individual signal ","Partial close on Individual signal ","Partial close on Individual signal ","Partial close on Individual signal ","Partial close on Individual signal ","Partial close on Individual signal ","Partial close on Individual signal ","Partial close on Individual signal ","Partial close on Individual signal "]
["; MA Filter #1 properties","MA Filter #1 properties "]
["MA_Filter_1_Properties====================================================================================","MA Filter properties: "]
["MA_Filter_1_Type=0||0||0||4||N","Type ","8u below MA/ Sell above MA ","8u below MA/ Sell above MA ","8u below MA/ Sell above MA ","8u below MA/ Sell above MA ","8u below MA/ Sell above MA ","8u below MA/ Sell above MA ","8u below MA/ Sell above MA ","8u below MA/ Sell above MA ","8u below MA/ Sell above MA ","8u below MA/ Sell above MA ","8u below MA/ Sell above MA "]
["MA_Filter_1_TF=0||0||0||49153||N","TimeFrame ","2 Minutes ","2 Minutes ","2 Minutes ","2 Minutes ","2 Minutes ","2 Minutes ","2 Minutes ","2 Minutes ","2 Minutes ","2 Minutes ","2 Minutes "]
["MA_Filter_1_Period=50||50||1||500||N","MA Period ",0,0,0,0,0,0,0,0,0,0,0]
["MA_Filter_1_Method=1||0||0||3||N","MA Method ","Linear weighted ","Linear weighted ","Linear weighted ","Linear weighted ","Linear weighted ","Linear weighted ","Linear weighted ","Linear weighted ","Linear weighted ","Linear weighted ","Linear weighted "]
["MA_Filter_1_Price=1||1||0||7||N","Applied price ","High price ","High price ","High price ","High price ","High price ","High price ","High price ","High price ","High price ","High price ","High price "]
["MA_Filter_1_DistType=0||0||0||1||N","Distance type ","Volatili  Coefficient ","Volatili  Coefficient ","Volatili  Coefficient ","Volatili  Coefficient ","Volatili  Coefficient ","Volatili  Coefficient ","Volatili  Coefficient ","Volatili  Coefficient ","Volatili  Coefficient ","Volatili  Coefficient ","Volatili  Coefficient "]
["MA_Filter_1_DistCoef=0||0||0.000000||0.000000||N","Points / Coefficient ",0,0,0,0,0,0,0,0,0,0,0]
["MA_Filter_1_OpenOn=0||0||0||3||N","Open on ","Ocn't use fcrc en ","Ocn't use fcrc en ","Ocn't use fcrc en ","Ocn't use fcrc en ","Ocn't use fcrc en ","Ocn't use fcrc en ","Ocn't use fcrc en ","Ocn't use fcrc en ","Ocn't use fcrc en ","Ocn't use fcrc en ","Ocn't use fcrc en "]
["MA_Filter_1_MartinOn=0||0||0||3||N","Open martin on ","Open on Individual signal ","Open on Individual signal ","Open on Individual signal ","Open on Individual signal ","Open on Individual signal ","Open on Individual signal ","Open on Individual signal ","Open on Individual signal ","Open on Individual signal ","Open on Individual signal ","Open on Individual signal "]
["MA_Filter_1_HedgeOn=0||0||0||3||N","Open hedge on ","Open on Individual signal ","Open on Individual signal ","Open on Individual signal ","Open on Individual signal ","Open on Individual signal ","Open on Individual signal ","Open on Individual signal ","Open on Individual signal ","Open on Individual signal ","Open on Individual signal ","Open on Individual signal "]
["MA_Filter_1_CloseOn=0||0||0||4||N","Close on ","Close on Individual signal, in profit only ","Close on Individual signal, in profit only ","Close on Individual signal, in profit only ","Close on Individual signal, in profit only ","Close on Individual signal, in profit only ","Close on Individual signal, in profit only ","Close on Individual signal, in profit only ","Close on Individual signal, in profit only ","Close on Individual signal, in profit only ","Close on Individual signal, in profit only ","Close on Individual signal, in profit only "]
["MA_Filter_1_PartialCloseOn=0||0||0||3||N","Partial close on ","Partial close on Individual signal ","Partial close on Individual signal ","Partial close on Individual signal ","Partial close on Individual signal ","Partial close on Individual signal ","Partial close on Individual signal ","Partial close on Individual signal ","Partial close on Individual signal ","Partial close on Individual signal ","Partial close on Individual signal ","Partial close on Individual signal "]
["; MA Filter #2 properties","MA Filter #2 properties "]
["MA_Filter_2_Properties====================================================================================","MA Filter properties: "]
["MA_Filter_2_Type=0||0||0||4||N","Type ","8u below MA/ Sell above MA ","8u below MA/ Sell above MA ","8u below MA/ Sell above MA ","8u below MA/ Sell above MA ","8u below MA/ Sell above MA ","8u below MA/ Sell above MA ","8u below MA/ Sell above MA ","8u below MA/ Sell above MA ","8u below MA/ Sell above MA ","8u below MA/ Sell above MA ","8u below MA/ Sell above MA "]
["MA_Filter_2_TF=0||0||0||49153||N","TimeFrame ","2 Minutes ","2 Minutes ","2 Minutes ","2 Minutes ","2 Minutes ","2 Minutes ","2 Minutes ","2 Minutes ","2 Minutes ","2 Minutes ","2 Minutes "]
["MA_Filter_2_Period=50||50||1||500||N","MA Period ",0,0,0,0,0,0,0,0,0,0,0]
["MA_Filter_2_Method=1||0||0||3||N","MA Method ","Linear weighted ","Linear weighted ","Linear weighted ","Linear weighted ","Linear weighted ","Linear weighted ","Linear weighted ","Linear weighted ","Linear weighted ","Linear weighted ","Linear weighted "]
["MA_Filter_2_Price=1||1||0||7||N","Applied price ","High price ","High price ","High price ","High price ","High price ","High price ","High price ","High price ","High price ","High price ","High price "]
["MA_Filter_2_DistType=0||0||0||1||N","Distance type ","Volatili  Coefficient ","Volatili  Coefficient ","Volatili  Coefficient ","Volatili  Coefficient ","Volatili  Coefficient ","Volatili  Coefficient ","Volatili  Coefficient ","Volatili  Coefficient ","Volatili  Coefficient ","Volatili  Coefficient ","Volatili  Coefficient "]
["MA_Filter_2_DistCoef=0||0||0.000000||0.000000||N","Points / Coefficient ",0,0,0,0,0,0,0,0,0,0,0]
["MA_Filter_2_OpenOn=0||0||0||3||N","Open on ","Ocn't use fcrc en ","Ocn't use fcrc en ","Ocn't use fcrc en ","Ocn't use fcrc en ","Ocn't use fcrc en ","Ocn't use fcrc en ","Ocn't use fcrc en ","Ocn't use fcrc en ","Ocn't use fcrc en ","Ocn't use fcrc en ","Ocn't use fcrc en "]
["MA_Filter_2_MartinOn=0||0||0||3||N","Open martin on ","Open on Individual signal ","Open on Individual signal ","Open on Individual signal ","Open on Individual signal ","Open on Individual signal ","Open on Individual signal ","Open on Individual signal ","Open on Individual signal ","Open on Individual signal ","Open on Individual signal ","Open on Individual signal "]
["MA_Filter_2_HedgeOn=0||0||0||3||N","Open hedge on ","Open on Individual signal ","Open on Individual signal ","Open on Individual signal ","Open on Individual signal ","Open on Individual signal ","Open on Individual signal ","Open on Individual signal ","Open on Individual signal ","Open on Individual signal ","Open on Individual signal ","Open on Individual signal "]
["MA_Filter_2_CloseOn=0||0||0||4||N","Close on ","Close on Individual signal, in profit only ","Close on Individual signal, in profit only ","Close on Individual signal, in profit only ","Close on Individual signal, in profit only ","Close on Individual signal, in profit only ","Close on Individual signal, in profit only ","Close on Individual signal, in profit only ","Close on Individual signal, in profit only ","Close on Individual signal, in profit only ","Close on Individual signal, in profit only ","Close on Individual signal, in profit only "]
["MA_Filter_2_PartialCloseOn=0||0||0||3||N","Partial close on ","Partial close on Individual signal ","Partial close on Individual signal ","Partial close on Individual signal ","Partial close on Individual signal ","Partial close on Individual signal ","Partial close on Individual signal ","Partial close on Individual signal ","Partial close on Individual signal ","Partial close on Individual signal ","Partial close on Individual signal ","Partial close on Individual signal "]
["; MA Filter #3 properties","MA Filter #3 properties "]
["MA_Filter_3_Properties====================================================================================","MA Filter properties: "]
["MA_Filter_3_Type=0||0||0||4||N","Type ","8u below MA/ Sell above MA ","8u below MA/ Sell above MA ","8u below MA/ Sell above MA ","8u below MA/ Sell above MA ","8u below MA/ Sell above MA ","8u below MA/ Sell above MA ","8u below MA/ Sell above MA ","8u below MA/ Sell above MA ","8u below MA/ Sell above MA ","8u below MA/ Sell above MA ","8u below MA/ Sell above MA "]
["MA_Filter_3_TF=0||0||0||49153||N","TimeFrame ","2 Minutes ","2 Minutes ","2 Minutes ","2 Minutes ","2 Minutes ","2 Minutes ","2 Minutes ","2 Minutes ","2 Minutes ","2 Minutes ","2 Minutes "]
["MA_Filter_3_Period=50||50||1||500||N","MA Period ",0,0,0,0,0,0,0,0,0,0,0]
["MA_Filter_3_Method=1||0||0||3||N","MA Method ","Linear weighted ","Linear weighted ","Linear weighted ","Linear weighted ","Linear weighted ","Linear weighted ","Linear weighted ","Linear weighted ","Linear weighted ","Linear weighted ","Linear weighted "]
["MA_Filter_3_Price=1||1||0||7||N","Applied price ","High price ","High price ","High price ","High price ","High price ","High price ","High price ","High price ","High price ","High price ","High price "]
["MA_Filter_3_DistType=0||0||0||1||N","Distance type ","Volatili  Coefficient ","Volatili  Coefficient ","Volatili  Coefficient ","Volatili  Coefficient ","Volatili  Coefficient ","Volatili  Coefficient ","Volatili  Coefficient ","Volatili  Coefficient ","Volatili  Coefficient ","Volatili  Coefficient ","Volatili  Coefficient "]
["MA_Filter_3_DistCoef=0||0||0.000000||0.000000||N","Points / Coefficient ",0,0,0,0,0,0,0,0,0,0,0]
["MA_Filter_3_OpenOn=0||0||0||3||N","Open on ","Ocn't use fcrc en ","Ocn't use fcrc en ","Ocn't use fcrc en ","Ocn't use fcrc en ","Ocn't use fcrc en ","Ocn't use fcrc en ","Ocn't use fcrc en ","Ocn't use fcrc en ","Ocn't use fcrc en ","Ocn't use fcrc en ","Ocn't use fcrc en "]
["MA_Filter_3_MartinOn=0||0||0||3||N","Open martin on ","Open on Individual signal ","Open on Individual signal ","Open on Individual signal ","Open on Individual signal ","Open on Individual signal ","Open on Individual signal ","Open on Individual signal ","Open on Individual signal ","Open on Individual signal ","Open on Individual signal ","Open on Individual signal "]
["MA_Filter_3_HedgeOn=0||0||0||3||N","Open hedge on ","Open on Individual signal ","Open on Individual signal ","Open on Individual signal ","Open on Individual signal ","Open on Individual signal ","Open on Individual signal ","Open on Individual signal ","Open on Individual signal ","Open on Individual signal ","Open on Individual signal ","Open on Individual signal "]
["MA_Filter_3_CloseOn=0||0||0||4||N","Close on ","Close on Individual signal, in profit only ","Close on Individual signal, in profit only ","Close on Individual signal, in profit only ","Close on Individual signal, in profit only ","Close on Individual signal, in profit only ","Close on Individual signal, in profit only ","Close on Individual signal, in profit only ","Close on Individual signal, in profit only ","Close on Individual signal, in profit only ","Close on Individual signal, in profit only ","Close on Individual signal, in profit only "]
["MA_Filter_3_PartialCloseOn=0||0||0||3||N","Partial close on ","Partial close on Individual signal ","Partial close on Individual signal ","Partial close on Individual signal ","Partial close on Individual signal ","Partial close on Individual signal ","Partial close on Individual signal ","Partial close on Individual signal ","Partial close on Individual signal ","Partial close on Individual signal ","Partial close on Individual signal ","Partial close on Individual signal "]
["; ZZ properties","ZZ properties "]
["ZZ_Properties====================================================================================","ZZ propefties: "]
["ZZ_Type=0||0||0||4||N","* ZZ filter type ","Extremum break ","Extremum break ","Extremum break ","Extremum break ","Extremum break ","Extremum break ","Extremum break ","Extremum break ","Extremum break ","Extremum break ","Extremum break "]
["ZZ_TF=0||0||0||49153||N","TimeFrame ","2 Minutes ","2 Minutes ","2 Minutes ","2 Minutes ","2 Minutes ","2 Minutes ","2 Minutes ","2 Minutes ","2 Minutes ","2 Minutes ","2 Minutes "]
["ZZ_Period=12||2||1||20||Y","* Penod ",0,0,0,0,0,0,0,0,0,0,0]
["ZZ_MinAmplitude=10||10||1||100||N","• Min Amplitude ",0,0,0,0,0,0,0,0,0,0,0]
["ZZ_MinMotion=0||0||1||10||N","Min Motion ",0,0,0,0,0,0,0,0,0,0,0]
["ZZ_DistanceType=0||0||0||2||N","Distance type ","Volatility coefficient ","Volatility coefficient ","Volatility coefficient ","Volatility coefficient ","Volatility coefficient ","Volatility coefficient ","Volatility coefficient ","Volatility coefficient ","Volatility coefficient ","Volatility coefficient ","Volatility coefficient "]
["ZZ_SignalDistCoeff=0||0||0.000000||0.000000||N","Points / Coefficient ",0,0,0,0,0,0,0,0,0,0,0]
["ZZ_UsePrevExtremums=false||false||0||true||N","Use previous unbroken artremums ",false,false,false,false,false,false,false,false,false,false,false]
["ZZ_Reverse=false||false||0||true||N","Reverse mode ",false,false,false,false,false,false,false,false,false,false,false]
["ZZ_UseClosedBars=false||false||0||true||N","• Use closed bars only ",false,false,false,false,false,false,false,false,false,false,false]
["ZZ_OpenOn=0||0||0||3||N","Open on ","Ocn't use fcrc en ","Ocn't use fcrc en ","Ocn't use fcrc en ","Ocn't use fcrc en ","Ocn't use fcrc en ","Ocn't use fcrc en ","Ocn't use fcrc en ","Ocn't use fcrc en ","Ocn't use fcrc en ","Ocn't use fcrc en ","Ocn't use fcrc en "]
["ZZ_MartinOn=0||0||0||3||N","* Open martin on ","Open on Individual signal ","Open on Individual signal ","Open on Individual signal ","Open on Individual signal ","Open on Individual signal ","Open on Individual signal ","Open on Individual signal ","Open on Individual signal ","Open on Individual signal ","Open on Individual signal ","Open on Individual signal "]
["ZZ_HedgeOn=0||0||0||3||N","• Open hedge on ","Open on Individual signal ","Open on Individual signal ","Open on Individual signal ","Open on Individual signal ","Open on Individual signal ","Open on Individual signal ","Open on Individual signal ","Open on Individual signal ","Open on Individual signal ","Open on Individual signal ","Open on Individual signal "]
["ZZ_CloseOn=0||0||0||4||N","Close on ","Close on Individual signal, in profit only ","Close on Individual signal, in profit only ","Close on Individual signal, in profit only ","Close on Individual signal, in profit only ","Close on Individual signal, in profit only ","Close on Individual signal, in profit only ","Close on Individual signal, in profit only ","Close on Individual signal, in profit only ","Close on Individual signal, in profit only ","Close on Individual signal, in profit only ","Close on Individual signal, in profit only "]
["ZZ_PartialCloseOn=0||0||0||3||N","• Partial close on ","Partial close on Individual signal ","Partial close on Individual signal ","Partial close on Individual signal ","Partial close on Individual signal ","Partial close on Individual signal ","Partial close on Individual signal ","Partial close on Individual signal ","Partial close on Individual signal ","Partial close on Individual signal ","Partial close on Individual signal ","Partial close on Individual signal "]
["ZZ_Visualization=---Visualization---","Visualization properties: "]
["ZZ_VisualizeLevels=true||false||0||true||N","• Visualize levels ",false,false,false,false,false,false,false,false,false,false,false]
["ZZ_FillRectangle=false||false||0||true||N","Fill rectangle ",false,false,false,false,false,false,false,false,false,false,false]
["ZZ_ColorUP=11186720","D • color UP ","LightSeaGreen","LightSeaGreen","LightSeaGreen","LightSeaGreen","LightSeaGreen","LightSeaGreen","LightSeaGreen","LightSeaGreen","LightSeaGreen","LightSeaGreen","LightSeaGreen"]
["ZZ_ColorDN=17919","color DN ","OrangeRed","OrangeRed","OrangeRed","OrangeRed","OrangeRed","OrangeRed","OrangeRed","OrangeRed","OrangeRed","OrangeRed","OrangeRed"]
["; Volatility for MA and ZZ Filters distance","Volatility for MA and ZZ Filters distance "]
["VolMA_Properties====================================================================================","Volatility for MA and ZZ Filters distance: "]
["VolMA_Type=0||0||0||4||N","Volatility Indicator ","ATR ","ATR ","ATR ","ATR ","ATR ","ATR ","ATR ","ATR ","ATR ","ATR ","ATR "]
["VolMA_TF=0||0||0||49153||N","TimeFrame ","2 Minutes ","2 Minutes ","2 Minutes ","2 Minutes ","2 Minutes ","2 Minutes ","2 Minutes ","2 Minutes ","2 Minutes ","2 Minutes ","2 Minutes "]
["VolMA_Period=20||20||1||200||N","Indicator Period ",0,0,0,0,0,0,0,0,0,0,0]
["; Volatility Filter properties","Volatility Filter properties "]
["VolFilter_Properties====================================================================================","Volatility Filter properties: "]
["VolFilter_Type=0||0||0||4||N","Volatility Filter Indicator ","ATR ","ATR ","ATR ","ATR ","ATR ","ATR ","ATR ","ATR ","ATR ","ATR ","ATR "]
["VolFilter_TF=0||0||0||49153||N","TimeFrame ","2 Minutes ","2 Minutes ","2 Minutes ","2 Minutes ","2 Minutes ","2 Minutes ","2 Minutes ","2 Minutes ","2 Minutes ","2 Minutes ","2 Minutes "]
["VolFilter_Period=20||20||1||200||N","Indicator Period ",0,0,0,0,0,0,0,0,0,0,0]
["VolFilter_Min=0||0||0.000000||0.000000||N","Min Volatility (O - disable limit) ",0,0,0,0,0,0,0,0,0,0,0]
["VolFilter_Max=0||0||0.000000||0.000000||N","Max Volatility (O disable limit) ",0,0,0,0,0,0,0,0,0,0,0]
["VolFilter_Smoothing_Mode=0||0||0||2||N","Smoothing Filter ","Allow trade cn growth (Volatility MA) ","Allow trade cn growth (Volatility MA) ","Allow trade cn growth (Volatility MA) ","Allow trade cn growth (Volatility MA) ","Allow trade cn growth (Volatility MA) ","Allow trade cn growth (Volatility MA) ","Allow trade cn growth (Volatility MA) ","Allow trade cn growth (Volatility MA) ","Allow trade cn growth (Volatility MA) ","Allow trade cn growth (Volatility MA) ","Allow trade cn growth (Volatility MA) "]
["VolFilter_Smoothing_Period=20||20||1||200||N","Smoothing Period ",0,0,0,0,0,0,0,0,0,0,0]
["VolFilter_OpenOn=0||0||0||3||N","Open on ","Ocn't use fcrc en ","Ocn't use fcrc en ","Ocn't use fcrc en ","Ocn't use fcrc en ","Ocn't use fcrc en ","Ocn't use fcrc en ","Ocn't use fcrc en ","Ocn't use fcrc en ","Ocn't use fcrc en ","Ocn't use fcrc en ","Ocn't use fcrc en "]
["VolFilter_MartinOn=0||0||0||3||N","Open martin on ","Open on Individual signal ","Open on Individual signal ","Open on Individual signal ","Open on Individual signal ","Open on Individual signal ","Open on Individual signal ","Open on Individual signal ","Open on Individual signal ","Open on Individual signal ","Open on Individual signal ","Open on Individual signal "]
["VolFilter_HedgeOn=0||0||0||3||N","Open hedge on ","Open on Individual signal ","Open on Individual signal ","Open on Individual signal ","Open on Individual signal ","Open on Individual signal ","Open on Individual signal ","Open on Individual signal ","Open on Individual signal ","Open on Individual signal ","Open on Individual signal ","Open on Individual signal "]
["VolFilter_CloseOn=0||0||0||4||N","Close on ","Close on Individual signal, in profit only ","Close on Individual signal, in profit only ","Close on Individual signal, in profit only ","Close on Individual signal, in profit only ","Close on Individual signal, in profit only ","Close on Individual signal, in profit only ","Close on Individual signal, in profit only ","Close on Individual signal, in profit only ","Close on Individual signal, in profit only ","Close on Individual signal, in profit only ","Close on Individual signal, in profit only "]
["VolFilter_PartialCloseOn=0||0||0||3||N","Partial close on ","Partial close on Individual signal ","Partial close on Individual signal ","Partial close on Individual signal ","Partial close on Individual signal ","Partial close on Individual signal ","Partial close on Individual signal ","Partial close on Individual signal ","Partial close on Individual signal ","Partial close on Individual signal ","Partial close on Individual signal ","Partial close on Individual signal "]
["; FIBO #1 properties","FIBO #1 properties "]
["FIBO_Properties====================================================================================","F180#I properties: "]
["FIBO_Type=0||0||0||1||N","Type ","On retracement + opposite direction ","On retracement + opposite direction ","On retracement + opposite direction ","On retracement + opposite direction ","On retracement + opposite direction ","On retracement + opposite direction ","On retracement + opposite direction ","On retracement + opposite direction ","On retracement + opposite direction ","On retracement + opposite direction ","On retracement + opposite direction "]
["FIBO_TF=16385||0||0||49153||N","TimeFrame ","2 Minutes ","2 Minutes ","2 Minutes ","2 Minutes ","2 Minutes ","2 Minutes ","2 Minutes ","2 Minutes ","2 Minutes ","2 Minutes ","2 Minutes "]
["FIBO_CheckInterval=1||0||0||10||N","Check Interval ","Eve tick ","Eve tick ","Eve tick ","Eve tick ","Eve tick ","Eve tick ","Eve tick ","Eve tick ","Eve tick ","Eve tick ","Eve tick "]
["FIBO_Bars=120||120||1||1200||N","Bars for range calculation ",0,0,0,0,0,0,0,0,0,0,0]
["FIBO_Level=61.8||61.8||6.180000||618.000000||N","Fibo level ",0,0,0,0,0,0,0,0,0,0,0]
["FIBO_UseClosedBars=true||false||0||true||N","Use closed bars only ",false,false,false,false,false,false,false,false,false,false,false]
["FIBO_OpenOn=0||0||0||3||N","Open on ","Ocn't use fcrc en ","Ocn't use fcrc en ","Ocn't use fcrc en ","Ocn't use fcrc en ","Ocn't use fcrc en ","Ocn't use fcrc en ","Ocn't use fcrc en ","Ocn't use fcrc en ","Ocn't use fcrc en ","Ocn't use fcrc en ","Ocn't use fcrc en "]
["FIBO_MartinOn=0||0||0||3||N","Open martin on ","Open on Individual signal ","Open on Individual signal ","Open on Individual signal ","Open on Individual signal ","Open on Individual signal ","Open on Individual signal ","Open on Individual signal ","Open on Individual signal ","Open on Individual signal ","Open on Individual signal ","Open on Individual signal "]
["FIBO_HedgeOn=0||0||0||3||N","Open hedge on ","Open on Individual signal ","Open on Individual signal ","Open on Individual signal ","Open on Individual signal ","Open on Individual signal ","Open on Individual signal ","Open on Individual signal ","Open on Individual signal ","Open on Individual signal ","Open on Individual signal ","Open on Individual signal "]
["FIBO_CloseOn=0||0||0||4||N","Close on ","Close on Individual signal, in profit only ","Close on Individual signal, in profit only ","Close on Individual signal, in profit only ","Close on Individual signal, in profit only ","Close on Individual signal, in profit only ","Close on Individual signal, in profit only ","Close on Individual signal, in profit only ","Close on Individual signal, in profit only ","Close on Individual signal, in profit only ","Close on Individual signal, in profit only ","Close on Individual signal, in profit only "]
["FIBO_PartialCloseOn=0||0||0||3||N","Partial close on ","Partial close on Individual signal ","Partial close on Individual signal ","Partial close on Individual signal ","Partial close on Individual signal ","Partial close on Individual signal ","Partial close on Individual signal ","Partial close on Individual signal ","Partial close on Individual signal ","Partial close on Individual signal ","Partial close on Individual signal ","Partial close on Individual signal "]
["; FIBO #2 properties","FIBO #2 properties "]
["FIB2_Properties====================================================================================","FIBO properties: "]
["FIB2_Type=0||0||0||2||N","Type ","On retracement + opposite direction ","On retracement + opposite direction ","On retracement + opposite direction ","On retracement + opposite direction ","On retracement + opposite direction ","On retracement + opposite direction ","On retracement + opposite direction ","On retracement + opposite direction ","On retracement + opposite direction ","On retracement + opposite direction ","On retracement + opposite direction "]
["FIB2_TF=16385||0||0||49153||N","TimeFrame ","2 Minutes ","2 Minutes ","2 Minutes ","2 Minutes ","2 Minutes ","2 Minutes ","2 Minutes ","2 Minutes ","2 Minutes ","2 Minutes ","2 Minutes "]
["FIB2_CheckInterval=1||0||0||10||N","Check Interval ","Eve tick ","Eve tick ","Eve tick ","Eve tick ","Eve tick ","Eve tick ","Eve tick ","Eve tick ","Eve tick ","Eve tick ","Eve tick "]
["FIB2_Bars=120||120||1||1200||N","Bars for range calculation ",0,0,0,0,0,0,0,0,0,0,0]
["FIB2_Level=61.8||61.8||6.180000||618.000000||N","Fibo level ",0,0,0,0,0,0,0,0,0,0,0]
["FIB2_UseClosedBars=true||false||0||true||N","Use closed bars only ",false,false,false,false,false,false,false,false,false,false,false]
["FIB2_OpenOn=0||0||0||3||N","Open on ","Ocn't use fcrc en ","Ocn't use fcrc en ","Ocn't use fcrc en ","Ocn't use fcrc en ","Ocn't use fcrc en ","Ocn't use fcrc en ","Ocn't use fcrc en ","Ocn't use fcrc en ","Ocn't use fcrc en ","Ocn't use fcrc en ","Ocn't use fcrc en "]
["FIB2_MartinOn=0||0||0||3||N","Open martin on ","Open on Individual signal ","Open on Individual signal ","Open on Individual signal ","Open on Individual signal ","Open on Individual signal ","Open on Individual signal ","Open on Individual signal ","Open on Individual signal ","Open on Individual signal ","Open on Individual signal ","Open on Individual signal "]
["FIB2_HedgeOn=0||0||0||3||N","Open hedge on ","Open on Individual signal ","Open on Individual signal ","Open on Individual signal ","Open on Individual signal ","Open on Individual signal ","Open on Individual signal ","Open on Individual signal ","Open on Individual signal ","Open on Individual signal ","Open on Individual signal ","Open on Individual signal "]
["FIB2_CloseOn=0||0||0||4||N","Close on ","Close on Individual signal, in profit only ","Close on Individual signal, in profit only ","Close on Individual signal, in profit only ","Close on Individual signal, in profit only ","Close on Individual signal, in profit only ","Close on Individual signal, in profit only ","Close on Individual signal, in profit only ","Close on Individual signal, in profit only ","Close on Individual signal, in profit only ","Close on Individual signal, in profit only ","Close on Individual signal, in profit only "]
["FIB2_PartialCloseOn=0||0||0||3||N","Partial close on ","Partial close on Individual signal ","Partial close on Individual signal ","Partial close on Individual signal ","Partial close on Individual signal ","Partial close on Individual signal ","Partial close on Individual signal ","Partial close on Individual signal ","Partial close on Individual signal ","Partial close on Individual signal ","Partial close on Individual signal ","Partial close on Individual signal "]
["; Spread settings","Spread settings "]
["Spread_Settings====================================================================================","Spread settings: "]
["Spread_MaxCurrent=0||0||0.000000||0.000000||N","Max current spread (O disable limit) ",0,0,0,0,0,0,0,0,0,0,0]
["Spread_MaxAverage=0||0||0.000000||0.000000||N","Max average spread (O - disable limit) ",0,0,0,0,0,0,0,0,0,0,0]
["Spread_SecondsToAnalyze=30||30||1||300||N","Seconds for averaging ",0,0,0,0,0,0,0,0,0,0,0]
["; Time settings","Time settings "]
["Time_Settings====================================================================================","Time settings: "]
["Time_ApplyTo=1||0||0||3||N","Apply schedule to ","Apply to all trade operations ","Apply to all trade operations ","Apply to all trade operations ","Apply to all trade operations ","Apply to all trade operations ","Apply to all trade operations ","Apply to all trade operations ","Apply to all trade operations ","Apply to all trade operations ","Apply to all trade operations ","Apply to all trade operations "]
["Time_DST_Mode=2||0||0||4||N","DST mode ","DST Eurc e (last Sunda / last Sundi ","DST Eurc e (last Sunda / last Sundi ","DST Eurc e (last Sunda / last Sundi ","DST Eurc e (last Sunda / last Sundi ","DST Eurc e (last Sunda / last Sundi ","DST Eurc e (last Sunda / last Sundi ","DST Eurc e (last Sunda / last Sundi ","DST Eurc e (last Sunda / last Sundi ","DST Eurc e (last Sunda / last Sundi ","DST Eurc e (last Sunda / last Sundi ","DST Eurc e (last Sunda / last Sundi "]
["Time_Manual_GMT_Offset=2||2||1||20||N","GMT offset for StrategyTester ",0,0,0,0,0,0,0,0,0,0,0]
["; Every Day","Every Day "]
["EveryDay_Properties===== Every Day ====","Every Day. "]
["EveryDay_StartHour=-1||-1||0||23||N","EveryDay start hour ","00","Disabled","00","00","00","00","00","00","00","00","00"]
["EveryDay_StartMinute=0||0||0||55||N","EveryDay start minute ","00","00","00","00","00","00","00","00","00","00","00"]
["EveryDay_EndHour=-1||-1||0||23||N","EveryDay end hour ","00","00","00","00","00","00","00","00","00","00","00"]
["EveryDay_EndMinute=0||0||0||59||N","EveryDay end minute ","00","00","00","00","00","00","00","00","00","00","00"]
["EveryDay_CloseHour=-1||-1||0||23||N","EveryDay close hour ","00","00","00","00","00","00","00","00","00","00","00"]
["EveryDay_CloseMinute=0||0||0||55||N","EveryDay close minute ","00","00","00","00","00","00","00","00","00","00","00"]
["; Friday and Monday","Friday and Monday "]
["FridayMonday_Properties===== Friday and Monday ====","Friday and Monday. "]
["FridayStop_Hour=-1||-1||0||23||N","Friday stop hour ","00","00","00","00","00","00","00","00","00","00","00"]
["FridayStop_Minute=0||0||0||55||N","Friday stop minute ","00","00","00","00","00","00","00","00","00","00","00"]
["FridayClose_Hour=-1||-1||0||23||N","Friday close hour ","00","00","00","00","00","00","00","00","00","00","00"]
["FridayClose_Minute=0||0||0||55||N","Friday close minute ","00","00","00","00","00","00","00","00","00","00","00"]
["MondayStart_Hour=-1||-1||0||23||N","Monday start hour ","00","00","00","00","00","00","00","00","00","00","00"]
["MondayStart_Minute=0||0||0||55||N","Monday start minute ","00","00","00","00","00","00","00","00","00","00","00"]
["; Custom Schedule","Custom Schedule "]
["Custom_Schedule_Properties===== Custom Schedule ====","Custom Schedule: "]
["Custom_Schedule_On=false||false||0||true||N","Enable Custom Schedule ",false,false,false,false,false,false,false,false,false,false,false]
["Monday_StartHour=-1||-1||0||23||N","Monday start hour ","00","00","00","00","00","00","00","00","00","00","00"]
["Monday_StartMinute=0||0||0||55||N","Monday start minute ","00","00","00","00","00","00","00","00","00","00","00"]
["Monday_EndHour=-1||-1||0||23||N","Monday end hour ","00","00","00","00","00","00","00","00","00","00","00"]
["Monday_EndMinute=0||0||0||55||N","Monday end minute ","00","00","00","00","00","00","00","00","00","00","00"]
["Tuesday_StartHour=-1||-1||0||23||N","Tuesday start hour ","00","00","00","00","00","00","00","00","00","00","00"]
["Tuesday_StartMinute=0||0||0||55||N","Tuesday start minute ","00","00","00","00","00","00","00","00","00","00","00"]
["Tuesday_EndHour=-1||-1||0||23||N","Tuesday end hour ","00","00","00","00","00","00","00","00","00","00","00"]
["Tuesday_EndMinute=0||0||0||55||N","Tuesday end minute ","00","00","00","00","00","00","00","00","00","00","00"]
["Wednesday_StartHour=-1||-1||0||23||N","Wednesday start hour ","00","00","00","00","00","00","00","00","00","00","00"]
["Wednesday_StartMinute=0||0||0||55||N","Wednesday start minute ","00","00","00","00","00","00","00","00","00","00","00"]
["Wednesday_EndHour=-1||-1||0||23||N","Wednesday end hour ","00","00","00","00","00","00","00","00","00","00","00"]
["Wednesday_EndMinute=0||0||0||55||N","Wednesday end minute ","00","00","00","00","00","00","00","00","00","00","00"]
["Thursday_StartHour=-1||-1||0||23||N","Thursday start hour ","00","00","00","00","00","00","00","00","00","00","00"]
["Thursday_StartMinute=0||0||0||55||N","Thursday start minute ","00","00","00","00","00","00","00","00","00","00","00"]
["Thursday_EndHour=-1||-1||0||23||N","Thursday end hour ","00","00","00","00","00","00","00","00","00","00","00"]
["Thursday_EndMinute=0||0||0||55||N","Thursday end minute ","00","00","00","00","00","00","00","00","00","00","00"]
["Friday_StartHour=-1||-1||0||23||N","Friday start hour ","00","00","00","00","00","00","00","00","00","00","00"]
["Friday_StartMinute=0||0||0||55||N","Friday start minute ","00","00","00","00","00","00","00","00","00","00","00"]
["Friday_EndHour=-1||-1||0||23||N","Friday end hour ","00","00","00","00","00","00","00","00","00","00","00"]
["Friday_EndMinute=0||0||0||55||N","Friday end minute ","00","00","00","00","00","00","00","00","00","00","00"]
["; New Year Holidays","New Year Holidays "]
["NewYear_Properties===== New Year Holidays ====","New Year Holidays: "]
["LastDecemberDay=0||0||1||10||N","Last December day to trade (O - disable) ",0,0,0,0,0,0,0,0,0,0,0]
["FirstJanuaryDay=0||0||1||10||N","First January day to trade (O disable) ",0,0,0,0,0,0,0,0,0,0,0]
["; News settings","News settings "]
["News_Properties====================================================================================","News properties: "]
["News_Mode=0||0||0||2||N","News filter mode ","News Disabled","News Disabled","News Disabled","News Disabled","News Disabled","News Disabled","News Disabled","News Disabled","News Disabled","News Disabled","News Disabled"]
["News_Currencies=auto","Currencies "]
["News_Impact_H=true||false||0||true||N","High-impact ",false,false,false,false,false,false,false,false,false,false,false]
["News_Impact_M=true||false||0||true||N","Medium impact ",false,false,false,false,false,false,false,false,false,false,false]
["News_Impact_L=false||false||0||true||N","Low-impact ",false,false,false,false,false,false,false,false,false,false,false]
["News_Impact_N=false||false||0||true||N","Holidays ",false,false,false,false,false,false,false,false,false,false,false]
["News_FilterInclude=","Include key-words (comma separated) "]
["News_MinutesBefore=15||15||1||150||N","Minutes before ",0,0,0,0,0,0,0,0,0,0,0]
["News_MinutesAfter=15||15||1||150||N","Minutes after ",0,0,0,0,0,0,0,0,0,0,0]
["News_OpenOn=0||0||0||3||N","Open on ","Ocn't use fcrc en ","Ocn't use fcrc en ","Ocn't use fcrc en ","Ocn't use fcrc en ","Ocn't use fcrc en ","Ocn't use fcrc en ","Ocn't use fcrc en ","Ocn't use fcrc en ","Ocn't use fcrc en ","Ocn't use fcrc en ","Ocn't use fcrc en "]
["News_MartinOn=0||0||0||3||N","Open martin on ","Open on Individual signal ","Open on Individual signal ","Open on Individual signal ","Open on Individual signal ","Open on Individual signal ","Open on Individual signal ","Open on Individual signal ","Open on Individual signal ","Open on Individual signal ","Open on Individual signal ","Open on Individual signal "]
["News_HedgeOn=0||0||0||3||N","Open hedge on ","Open on Individual signal ","Open on Individual signal ","Open on Individual signal ","Open on Individual signal ","Open on Individual signal ","Open on Individual signal ","Open on Individual signal ","Open on Individual signal ","Open on Individual signal ","Open on Individual signal ","Open on Individual signal "]
["News_CloseOn=0||0||0||4||N","Close on ","Close on Individual signal, in profit only ","Close on Individual signal, in profit only ","Close on Individual signal, in profit only ","Close on Individual signal, in profit only ","Close on Individual signal, in profit only ","Close on Individual signal, in profit only ","Close on Individual signal, in profit only ","Close on Individual signal, in profit only ","Close on Individual signal, in profit only ","Close on Individual signal, in profit only ","Close on Individual signal, in profit only "]
["News_PartialCloseOn=0||0||0||3||N","Partial close on ","Partial close on Individual signal ","Partial close on Individual signal ","Partial close on Individual signal ","Partial close on Individual signal ","Partial close on Individual signal ","Partial close on Individual signal ","Partial close on Individual signal ","Partial close on Individual signal ","Partial close on Individual signal ","Partial close on Individual signal ","Partial close on Individual signal "]
["News_Draw_Properties===== Visualization ====","Visualization properties: "]
["News_ShowOnChart=true","Show on chart ",false,false,false,false,false,false,false,false,false,false,false]
["News_Style_History=0","Previous events line style ","Dash","Dash","Dash","Dash","Dash","Dash","Dash","Dash","Dash","Dash","Dash"]
["News_Style_Future=3","Future events line style ","Dash","Dash","Dash","Dash","Dash","Dash","Dash","Dash","Dash","Dash","Dash"]
["News_Color_ImpactH=255","High impact color ","Red","Red","Red","Red","Red","Red","Red","Red","Red","Red","Red"]
["News_Color_ImpactM=65535","Medium impact color ","Yellow","Yellow","Yellow","Yellow","Yellow","Yellow","Yellow","Yellow","Yellow","Yellow","Yellow"]
["News_Color_ImpactL=32768","Low impact color ","Green","Green","Green","Green","Green","Green","Green","Green","Green","Green","Green"]
["News_Color_ImpactN=12632256","No impact (holidays) color ","Silver","Silver","Silver","Silver","Silver","Silver","Silver","Silver","Silver","Silver","Silver"]
["; Lines settings","Lines settings "]
["Lines_Settings====================================================================================","Lines settings: "]
["NextOrder_Width=1","NextOrder width (O - don't draw) ",0,0,0,0,0,0,0,0,0,0,0]
["NextOrder_Style=2","NextOrder style ","Dash","Dash","Dash","Dash","Dash","Dash","Dash","Dash","Dash","Dash","Dash"]
["NextOrder_ColorB=65280","NextOrder color BUY ","Lime","Lime","Lime","Lime","Lime","Lime","Lime","Lime","Lime","Lime","Lime"]
["NextOrder_ColorS=255","NextOrder color SELL ","Red","Red","Red","Red","Red","Red","Red","Red","Red","Red","Red"]
["StopLoss_Width=1","StopLoss width (O - don't draw) ",0,0,0,0,0,0,0,0,0,0,0]
["StopLoss_Style=1","StopLoss style ","Dash","Dash","Dash","Dash","Dash","Dash","Dash","Dash","Dash","Dash","Dash"]
["StopLoss_ColorB=16711935","StopLoss color BUY ","Magenta","Magenta","Magenta","Magenta","Magenta","Magenta","Magenta","Magenta","Magenta","Magenta","Magenta"]
["StopLoss_ColorS=16711935","StopLoss color SELL ","Magenta","Magenta","Magenta","Magenta","Magenta","Magenta","Magenta","Magenta","Magenta","Magenta","Magenta"]
["BreakEven_Width=1","8reakEven width (O - don't draw) ",0,0,0,0,0,0,0,0,0,0,0]
["BreakEven_Style=0","8reakEven style ","Dash","Dash","Dash","Dash","Dash","Dash","Dash","Dash","Dash","Dash","Dash"]
["BreakEven_ColorB=65471","8reakEven color BUY ","191,255,0","191,255,0","191,255,0","191,255,0","191,255,0","191,255,0","191,255,0","191,255,0","191,255,0","191,255,0","191,255,0"]
["BreakEven_ColorS=33023","8reakEven color SELL ","255,128,0","255,128,0","255,128,0","255,128,0","255,128,0","255,128,0","255,128,0","255,128,0","255,128,0","255,128,0","255,128,0"]
["TakeProfit_Width=1","TakeProfit width (O - don't draw) ",0,0,0,0,0,0,0,0,0,0,0]
["TakeProfit_Style=4","TakeProfit style ","Dash","Dash","Dash","Dash","Dash","Dash","Dash","Dash","Dash","Dash","Dash"]
["TakeProfit_ColorB=65280","TakeProfit color BUY ","Lime","Lime","Lime","Lime","Lime","Lime","Lime","Lime","Lime","Lime","Lime"]
["TakeProfit_ColorS=255","TakeProfit color SELL ","Red","Red","Red","Red","Red","Red","Red","Red","Red","Red","Red"]
["; GUI settings","GU I settings "]
["GUI_Settings====================================================================================","GUI settings: "]
["GUI_Enabled=true","Enable panel ",false,false,false,false,false,false,false,false,false,false,false]
["GUI_FontName=Segoe UI","Font name ","Segoe UI","Segoe UI","Segoe UI","Segoe UI","Segoe UI","Segoe UI","Segoe UI","Segoe UI","Segoe UI","Segoe UI","Segoe UI"]
["GUI_Color_Text=0","Buttons text color ","Black","Black","Black","Black","Black","Black","Black","Black","Black","Black","Black"]
["GUI_Window_Alpha=255","Window transparency (0 255) ","255","255","255","255","255","255","255","255","255","255","255"]
["GUI_ShowSignals=true","Show signals ",false,false,false,false,false,false,false,false,false,false,false]
["GUI_Color_Signal=13350833","Signals background color ","177,183,203","177,183,203","177,183,203","177,183,203","177,183,203","177,183,203","177,183,203","177,183,203","177,183,203","177,183,203","177,183,203"]
["GUI_Color_SignalText=0","Signals text color ","Black","Black","Black","Black","Black","Black","Black","Black","Black","Black","Black"]
["GUI_Color_B_Back=16777184","Buy background color ","LightCyan","LightCyan","LightCyan","LightCyan","LightCyan","LightCyan","LightCyan","LightCyan","LightCyan","LightCyan","LightCyan"]
["GUI_Color_B_Button=15130800","Buy buttons color ","PowderBlue","PowderBlue","PowderBlue","PowderBlue","PowderBlue","PowderBlue","PowderBlue","PowderBlue","PowderBlue","PowderBlue","PowderBlue"]
["GUI_Color_B_ButtonP=16748574","Buy pressed buttons color ","DodgerBlue","DodgerBlue","DodgerBlue","DodgerBlue","DodgerBlue","DodgerBlue","DodgerBlue","DodgerBlue","DodgerBlue","DodgerBlue","DodgerBlue"]
["GUI_Color_B_Border=15570276","Buy buttons borders color ","CornflowerBlue","CornflowerBlue","CornflowerBlue","CornflowerBlue","CornflowerBlue","CornflowerBlue","CornflowerBlue","CornflowerBlue","CornflowerBlue","CornflowerBlue","CornflowerBlue"]
["GUI_Color_B_Text=0","Buy text color ","Black","Black","Black","Black","Black","Black","Black","Black","Black","Black","Black"]
["GUI_Color_S_Back=16118015","Sell background color ","LavenderBlush","LavenderBlush","LavenderBlush","LavenderBlush","LavenderBlush","LavenderBlush","LavenderBlush","LavenderBlush","LavenderBlush","LavenderBlush","LavenderBlush"]
["GUI_Color_S_Button=12695295","Sell buttons color ","LightPink","LightPink","LightPink","LightPink","LightPink","LightPink","LightPink","LightPink","LightPink","LightPink","LightPink"]
["GUI_Color_S_ButtonP=17919","Sell pressed buttons color ","OrangeRed","OrangeRed","OrangeRed","OrangeRed","OrangeRed","OrangeRed","OrangeRed","OrangeRed","OrangeRed","OrangeRed","OrangeRed"]
["GUI_Color_S_Border=8421616","Sell buttons borders color ","LightCoral","LightCoral","LightCoral","LightCoral","LightCoral","LightCoral","LightCoral","LightCoral","LightCoral","LightCoral","LightCoral"]
["GUI_Color_S_Text=0","Sell text color ","Black","Black","Black","Black","Black","Black","Black","Black","Black","Black","Black"]
["; Show orders","Show orders "]
["ShowOrders_Settings====================================================================================","Show Orders settings: "]
["Show_Opened=0||0||0||3||N","Show OPENED deals ","Trend lines frcmc en tc current rice ","Trend lines frcmc en tc current rice ","Trend lines frcmc en tc current rice ","Trend lines frcmc en tc current rice ","Trend lines frcmc en tc current rice ","Trend lines frcmc en tc current rice ","Trend lines frcmc en tc current rice ","Trend lines frcmc en tc current rice ","Trend lines frcmc en tc current rice ","Trend lines frcmc en tc current rice ","Trend lines frcmc en tc current rice "]
["Show_Closed=false||false||0||true||N","Show CLOSED deals ",false,false,false,false,false,false,false,false,false,false,false]
["Show_Pending=false||false||0||true||N","Show PENDING orders ",false,false,false,false,false,false,false,false,false,false,false]
["MaxHistoryDeals=500||500||1||5000||N","Max history deals (O - disable limit) ",0,0,0,0,0,0,0,0,0,0,0]
["Color_Properties=","Main Color properties: "]
["Color_B_Open=16748574","BUYS open arrows ","DodgerBlue","DodgerBlue","DodgerBlue","DodgerBlue","DodgerBlue","DodgerBlue","DodgerBlue","DodgerBlue","DodgerBlue","DodgerBlue","DodgerBlue"]
["Color_B=16748574","Profitable BUYS ","DodgerBlue","DodgerBlue","DodgerBlue","DodgerBlue","DodgerBlue","DodgerBlue","DodgerBlue","DodgerBlue","DodgerBlue","DodgerBlue","DodgerBlue"]
["Color_B_Loss=15130800","Losing BUYS ","PowderBlue","PowderBlue","PowderBlue","PowderBlue","PowderBlue","PowderBlue","PowderBlue","PowderBlue","PowderBlue","PowderBlue","PowderBlue"]
["Color_S_Open=17919","SELLs open arrcws ","OrangeRed","OrangeRed","OrangeRed","OrangeRed","OrangeRed","OrangeRed","OrangeRed","OrangeRed","OrangeRed","OrangeRed","OrangeRed"]
["Color_S=17919","Profitable SELLs ","OrangeRed","OrangeRed","OrangeRed","OrangeRed","OrangeRed","OrangeRed","OrangeRed","OrangeRed","OrangeRed","OrangeRed","OrangeRed"]
["Color_S_Loss=12695295","Losing SELLs ","LightPink","LightPink","LightPink","LightPink","LightPink","LightPink","LightPink","LightPink","LightPink","LightPink","LightPink"]
["Profit_Properties=","Profit properties: "]
["Profit_ShowInMoney=false||false||0||true||N","Show profit in money ",false,false,false,false,false,false,false,false,false,false,false]
["Profit_ShowInPoints=false||false||0||true||N","Show profit in points ",false,false,false,false,false,false,false,false,false,false,false]
["Profit_ShowInPercents=false||false||0||true||N","Show profit in percents ",false,false,false,false,false,false,false,false,false,false,false]
["Profit_Aggregate=false||false||0||true||N","Aggregate profit for opened positions ",false,false,false,false,false,false,false,false,false,false,false]
["ProfitDigitsToShow=1||1||1||10||N","Number of digits to show ",0,0,0,0,0,0,0,0,0,0,0]
["Font=Arial","Font ","Arial","Arial","Arial","Arial","Arial","Arial","Arial","Arial","Arial","Arial","Arial"]
["FontSize=9||9||1||90||N","Font size ",0,0,0,0,0,0,0,0,0,0,0]
["Style_Properties=","Style properties: "]
["Open_Close_Line_Width=1||1||1||10||N","Open- Close lines width (O don't draw) ",0,0,0,0,0,0,0,0,0,0,0]
["Open_Close_Line_Style=2||0||0||4||N","Open-Close lines style ","Dash","Dash","Dash","Dash","Dash","Dash","Dash","Dash","Dash","Dash","Dash"]
["Open_PriceLabel_Width=0||0||1||10||N","Open price labels width (O don't draw) ",0,0,0,0,0,0,0,0,0,0,0]
["Close_PriceLabel_Width=0||0||1||10||N","Close price labels width (O - don't draw) ",0,0,0,0,0,0,0,0,0,0,0]
["SL_TP_Dashes_Show=false||false||0||true||N","Show SL and TP dashes ",false,false,false,false,false,false,false,false,false,false,false]
["SL_TP_Lines_Width=0||0||1||10||N","SL and TP vertical lines width (O - don't draw) ",0,0,0,0,0,0,0,0,0,0,0]
["SL_TP_Lines_Style=2||0||0||4||N","SL and TP vertical lines style ",0,0,0,0,0,0,0,0,0,0,0]
["Expiration_Width=0||0||1||10||N","Expiration lines width (O - don't draw) ","Dash","Dash","Dash","Dash","Dash","Dash","Dash","Dash","Dash","Dash","Dash"]
["Expiration_Style=2||0||0||4||N","Expiration lines style ",0,0,0,0,0,0,0,0,0,0,0]
["; Notifications settings","Notifications settings "]
["Notifications_Settings====================================================================================","Notifications settings: "]
["MessagesToGrammy=false||false||0||true||N","Enable messages to Grammy ",false,false,false,false,false,false,false,false,false,false,false]
["Alerts_Enabled=false","Enable alert on first signal ",false,false,false,false,false,false,false,false,false,false,false]
["Sounds_Enabled=false","Enable sounds ",false,false,false,false,false,false,false,false,false,false,false]
["Sounds_OpenFirst=expert.wav","First signal sound name ","expert.wav","expert.wav","expert.wav","expert.wav","expert.wav","expert.wav","expert.wav","expert.wav","expert.wav","expert.wav","expert.wav"]
["Sounds_OpenMartin=alert2.wav","Martin opening sound name ","alert2.wav","alert2.wav","alert2.wav","alert2.wav","alert2.wav","alert2.wav","alert2.wav","alert2.wav","alert2.wav","alert2.wav","alert2.wav"]
["Sounds_OpenAntiMartin=alert2.wav","Anti-martin opening sound name ","alert2.wav","alert2.wav","alert2.wav","alert2.wav","alert2.wav","alert2.wav","alert2.wav","alert2.wav","alert2.wav","alert2.wav","alert2.wav"]
["Sounds_Close=alert.wav","Closing sound name ","alert.wav","alert.wav","alert.wav","alert.wav","alert.wav","alert.wav","alert.wav","alert.wav","alert.wav","alert.wav","alert.wav"]
["; Tester and Optimization settings","Tester and Optimization settings "]
["Optimization_Settings====================================================================================","Tester and Optimization settings: "]
["TesterWithdrawal_Header===== Tester withdrawal ====","Tester withdrawal: "]
["TesterWithdrawal_Type=0||0||0||2||N","Withdrawal type ","Withdraw percent of profit ","Withdraw percent of profit ","Withdraw percent of profit ","Withdraw percent of profit ","Withdraw percent of profit ","Withdraw percent of profit ","Withdraw percent of profit ","Withdraw percent of profit ","Withdraw percent of profit ","Withdraw percent of profit ","Withdraw percent of profit "]
["TesterWithdrawal_Frequency=2||0||0||4||N","Withdrawal frequency ","Withdraw ","Withdraw ","Withdraw ","Withdraw ","Withdraw ","Withdraw ","Withdraw ","Withdraw ","Withdraw ","Withdraw ","Withdraw "]
["TesterWithdrawal_Size=50||50||5.000000||500.000000||N","Withdrawal size or amount) ",0,0,0,0,0,0,0,0,0,0,0]
["InpEquityRecorder===== Optimization criterion ====","Optimization criterion: "]
["InpEquityRecorderType=1","Custom optimization criterion ","Rh2 one u ","Rh2 one u ","Rh2 one u ","Rh2 one u ","Rh2 one u ","Rh2 one u ","Rh2 one u ","Rh2 one u ","Rh2 one u ","Rh2 one u ","Rh2 one u "]
["InpEquityRecorderCorr=0","Correlation type ","S earman ","S earman ","S earman ","S earman ","S earman ","S earman ","S earman ","S earman ","S earman ","S earman ","S earman "]

{"sheet":"Binary_Input","index":2,"n_rows":659,"n_cols":26,"rows_kept":659,"cut":false,"hidden":true,"merged":[]}
[]
[]
[]
[]
[null,null,null,"Set Name","Fibo"]
[null,null,null,"Set Version","Default Setting","Version 1","Version 2","Version 3","Version 4","Version 5","Version 6","Version 7","Version 8","Version 9","Version 10","Default SET","V1 SET","V2 SET","V3 SET","V4 SET","V5 SET","V6 SET","V7 SET","V8 SET","V9 SET","V10 SET"]
["; Binance properties",null,null,"Binance properties",null,null,null,null,null,null,null,null,null,null,null,{"$f":"$A7","v":"; Binance properties"},{"$f":"$A7","v":"; Binance properties"},{"$f":"$A7","v":"; Binance properties"},{"$f":"$A7","v":"; Binance properties"},{"$f":"$A7","v":"; Binance properties"},{"$f":"$A7","v":"; Binance properties"},{"$f":"$A7","v":"; Binance properties"},{"$f":"$A7","v":"; Binance properties"},{"$f":"$A7","v":"; Binance properties"},{"$f":"$A7","v":"; Binance properties"},{"$f":"$A7","v":"; Binance properties"}]
["BinanceTradeConnector_Settings====================================================================================",null,null,"8inanceTradeConnector settings:",null,null,null,null,null,null,null,null,null,null,null,{"$f":"$A8","v":"BinanceTradeConnector_Settings===================================================================================="},"BinanceTradeConnector_Settings====================================================================================","BinanceTradeConnector_Settings====================================================================================","BinanceTradeConnector_Settings====================================================================================","BinanceTradeConnector_Settings====================================================================================","BinanceTradeConnector_Settings====================================================================================","BinanceTradeConnector_Settings====================================================================================","BinanceTradeConnector_Settings====================================================================================","BinanceTradeConnector_Settings====================================================================================","BinanceTradeConnector_Settings====================================================================================","BinanceTradeConnector_Settings===================================================================================="]
["CustomStartBalance=0||0||0.000000||0.000000||N",{"$f":"_xlfn.CONCAT(LEFT(TRIM(A9),FIND(\"=\",TRIM(A9))-1),\"=\")","v":"CustomStartBalance="},{"$f":"_xlfn.CONCAT(\"|\",RIGHT(TRIM(A9),LEN(TRIM(A9))-SEARCH(\"|\",TRIM(A9))))","v":"||0||0.000000||0.000000||N"},"Custom account balance (O use real 8inance balance)",{"$f":"Input!C9","v":0},{"$f":"Input!D9","v":0},{"$f":"Input!E9","v":0},{"$f":"Input!F9","v":0},{"$f":"Input!G9","v":0},{"$f":"Input!H9","v":0},{"$f":"Input!I9","v":0},{"$f":"Input!J9","v":0},{"$f":"Input!K9","v":0},{"$f":"Input!L9","v":0},{"$f":"Input!M9","v":0},{"$f":"_xlfn.CONCAT($B9,E9,$C9)","v":"CustomStartBalance=0||0||0.000000||0.000000||N"},{"$f":"_xlfn.CONCAT($B9,F9,$C9)","v":"CustomStartBalance=0||0||0.000000||0.000000||N"},{"$f":"_xlfn.CONCAT($B9,G9,$C9)","v":"CustomStartBalance=0||0||0.000000||0.000000||N"},{"$f":"_xlfn.CONCAT($B9,H9,$C9)","v":"CustomStartBalance=0||0||0.000000||0.000000||N"},{"$f":"_xlfn.CONCAT($B9,I9,$C9)","v":"CustomStartBalance=0||0||0.000000||0.000000||N"},{"$f":"_xlfn.CONCAT($B9,J9,$C9)","v":"CustomStartBalance=0||0||0.000000||0.000000||N"},{"$f":"_xlfn.CONCAT($B9,K9,$C9)","v":"CustomStartBalance=0||0||0.000000||0.000000||N"},{"$f":"_xlfn.CONCAT($B9,L9,$C9)","v":"CustomStartBalance=0||0||0.000000||0.000000||N"},{"$f":"_xlfn.CONCAT($B9,M9,$C9)","v":"CustomStartBalance=0||0||0.000000||0.000000||N"},{"$f":"_xlfn.CONCAT($B9,N9,$C9)","v":"CustomStartBalance=0||0||0.000000||0.000000||N"},{"$f":"_xlfn.CONCAT($B9,O9,$C9)","v":"CustomStartBalance=0||0||0.000000||0.000000||N"}]
["ShowVirtualInfoOnChart=false||false||0||true||N",{"$f":"_xlfn.CONCAT(LEFT(TRIM(A10),FIND(\"=\",TRIM(A10))-1),\"=\")","v":"ShowVirtualInfoOnChart="},"||false||0||true||N","Show virtual info on the chart",{"$f":"VLOOKUP(Input!C10,Start!$G$2:$H$3,2,0)","v":false},{"$f":"VLOOKUP(Input!D10,Start!$G$2:$H$3,2,0)","v":false},{"$f":"VLOOKUP(Input!E10,Start!$G$2:$H$3,2,0)","v":false},{"$f":"VLOOKUP(Input!F10,Start!$G$2:$H$3,2,0)","v":false},{"$f":"VLOOKUP(Input!G10,Start!$G$2:$H$3,2,0)","v":false},{"$f":"VLOOKUP(Input!H10,Start!$G$2:$H$3,2,0)","v":false},{"$f":"VLOOKUP(Input!I10,Start!$G$2:$H$3,2,0)","v":false},{"$f":"VLOOKUP(Input!J10,Start!$G$2:$H$3,2,0)","v":false},{"$f":"VLOOKUP(Input!K10,Start!$G$2:$H$3,2,0)","v":false},{"$f":"VLOOKUP(Input!L10,Start!$G$2:$H$3,2,0)","v":false},{"$f":"VLOOKUP(Input!M10,Start!$G$2:$H$3,2,0)","v":false},{"$f":"_xlfn.CONCAT($B10,E10,$C10)","v":"ShowVirtualInfoOnChart=FALSE||false||0||true||N"},"ShowVirtualInfoOnChart=FALSE||false||0||true||N","ShowVirtualInfoOnChart=FALSE||false||0||true||N","ShowVirtualInfoOnChart=FALSE||false||0||true||N","ShowVirtualInfoOnChart=FALSE||false||0||true||N","ShowVirtualInfoOnChart=FALSE||false||0||true||N","ShowVirtualInfoOnChart=FALSE||false||0||true||N","ShowVirtualInfoOnChart=FALSE||false||0||true||N","ShowVirtualInfoOnChart=FALSE||false||0||true||N","ShowVirtualInfoOnChart=FALSE||false||0||true||N","ShowVirtualInfoOnChart=FALSE||false||0||true||N"]
["SaveVirtualStateOnEveryChange=true||false||0||true||N","SaveVirtualStateOnEveryChange=","||false||0||true||N","Save virtual state on every change",{"$f":"VLOOKUP(Input!C11,Start!$G$2:$H$3,2,0)","v":true},{"$f":"VLOOKUP(Input!D11,Start!$G$2:$H$3,2,0)","v":true},{"$f":"VLOOKUP(Input!E11,Start!$G$2:$H$3,2,0)","v":true},{"$f":"VLOOKUP(Input!F11,Start!$G$2:$H$3,2,0)","v":true},{"$f":"VLOOKUP(Input!G11,Start!$G$2:$H$3,2,0)","v":true},{"$f":"VLOOKUP(Input!H11,Start!$G$2:$H$3,2,0)","v":true},{"$f":"VLOOKUP(Input!I11,Start!$G$2:$H$3,2,0)","v":true},{"$f":"VLOOKUP(Input!J11,Start!$G$2:$H$3,2,0)","v":true},{"$f":"VLOOKUP(Input!K11,Start!$G$2:$H$3,2,0)","v":true},{"$f":"VLOOKUP(Input!L11,Start!$G$2:$H$3,2,0)","v":true},{"$f":"VLOOKUP(Input!M11,Start!$G$2:$H$3,2,0)","v":true},"SaveVirtualStateOnEveryChange=TRUE||false||0||true||N","SaveVirtualStateOnEveryChange=TRUE||false||0||true||N","SaveVirtualStateOnEveryChange=TRUE||false||0||true||N","SaveVirtualStateOnEveryChange=TRUE||false||0||true||N","SaveVirtualStateOnEveryChange=TRUE||false||0||true||N","SaveVirtualStateOnEveryChange=TRUE||false||0||true||N","SaveVirtualStateOnEveryChange=TRUE||false||0||true||N","SaveVirtualStateOnEveryChange=TRUE||false||0||true||N","SaveVirtualStateOnEveryChange=TRUE||false||0||true||N","SaveVirtualStateOnEveryChange=TRUE||false||0||true||N","SaveVirtualStateOnEveryChange=TRUE||false||0||true||N"]
["SendAlertsToGrammy=true||false||0||true||N","SendAlertsToGrammy=",{"$f":"_xlfn.CONCAT(\"|\",RIGHT(TRIM(A12),LEN(TRIM(A12))-SEARCH(\"|\",TRIM(A12))))","v":"||false||0||true||N"},"Send alerts to Grammy",{"$f":"VLOOKUP(Input!C12,Start!$G$2:$H$3,2,0)","v":true},{"$f":"VLOOKUP(Input!D12,Start!$G$2:$H$3,2,0)","v":true},{"$f":"VLOOKUP(Input!E12,Start!$G$2:$H$3,2,0)","v":true},{"$f":"VLOOKUP(Input!F12,Start!$G$2:$H$3,2,0)","v":true},{"$f":"VLOOKUP(Input!G12,Start!$G$2:$H$3,2,0)","v":true},{"$f":"VLOOKUP(Input!H12,Start!$G$2:$H$3,2,0)","v":true},{"$f":"VLOOKUP(Input!I12,Start!$G$2:$H$3,2,0)","v":true},{"$f":"VLOOKUP(Input!J12,Start!$G$2:$H$3,2,0)","v":true},{"$f":"VLOOKUP(Input!K12,Start!$G$2:$H$3,2,0)","v":true},{"$f":"VLOOKUP(Input!L12,Start!$G$2:$H$3,2,0)","v":true},{"$f":"VLOOKUP(Input!M12,Start!$G$2:$H$3,2,0)","v":true},"SendAlertsToGrammy=TRUE||false||0||true||N","SendAlertsToGrammy=TRUE||false||0||true||N","SendAlertsToGrammy=TRUE||false||0||true||N","SendAlertsToGrammy=TRUE||false||0||true||N","SendAlertsToGrammy=TRUE||false||0||true||N","SendAlertsToGrammy=TRUE||false||0||true||N","SendAlertsToGrammy=TRUE||false||0||true||N","SendAlertsToGrammy=TRUE||false||0||true||N","SendAlertsToGrammy=TRUE||false||0||true||N","SendAlertsToGrammy=TRUE||false||0||true||N","SendAlertsToGrammy=TRUE||false||0||true||N"]
["; Expert properties","; Expert properties","; Expert properties","Expert properties",null,null,null,null,null,null,null,null,null,null,null,{"$f":"$A13","v":"; Expert properties"},"; Expert properties","; Expert properties","; Expert properties","; Expert properties","; Expert properties","; Expert properties","; Expert properties","; Expert properties","; Expert properties","; Expert properties"]
["Expert_Properties====================================================================================","Expert_Properties====================================================================================","Expert_Properties====================================================================================","Expert properties:",null,null,null,null,null,null,null,null,null,null,null,"Expert_Properties====================================================================================","Expert_Properties====================================================================================","Expert_Properties====================================================================================","Expert_Properties====================================================================================","Expert_Properties====================================================================================","Expert_Properties====================================================================================","Expert_Properties====================================================================================","Expert_Properties====================================================================================","Expert_Properties====================================================================================","Expert_Properties====================================================================================","Expert_Properties===================================================================================="]
["Expert_Id=3040||3040||1||30400||N","Expert_Id=3040||3040||1||30400||N","Expert_Id=3040||3040||1||30400||N","Expert Id",null,null,null,null,null,null,null,null,null,null,null,"Expert_Id=3040||3040||1||30400||N","Expert_Id=3040||3040||1||30400||N","Expert_Id=3040||3040||1||30400||N","Expert_Id=3040||3040||1||30400||N","Expert_Id=3040||3040||1||30400||N","Expert_Id=3040||3040||1||30400||N","Expert_Id=3040||3040||1||30400||N","Expert_Id=3040||3040||1||30400||N","Expert_Id=3040||3040||1||30400||N","Expert_Id=3040||3040||1||30400||N","Expert_Id=3040||3040||1||30400||N"]
["Expert_Comment=CP","Expert_Comment=CP","Expert_Comment=CP","Expert Comment",null,null,null,null,null,null,null,null,null,null,null,"Expert_Comment=CP","Expert_Comment=CP","Expert_Comment=CP","Expert_Comment=CP","Expert_Comment=CP","Expert_Comment=CP","Expert_Comment=CP","Expert_Comment=CP","Expert_Comment=CP","Expert_Comment=CP","Expert_Comment=CP"]
["SetDescription=","SetDescription=",null,"Set description (write your notes here)",null,null,null,null,null,null,null,null,null,null,null,{"$f":"_xlfn.CONCAT($B17,E17,$C17)","v":"SetDescription="},{"$f":"_xlfn.CONCAT($B17,F17,$C17)","v":"SetDescription="},{"$f":"_xlfn.CONCAT($B17,G17,$C17)","v":"SetDescription="},{"$f":"_xlfn.CONCAT($B17,H17,$C17)","v":"SetDescription="},{"$f":"_xlfn.CONCAT($B17,I17,$C17)","v":"SetDescription="},{"$f":"_xlfn.CONCAT($B17,J17,$C17)","v":"SetDescription="},{"$f":"_xlfn.CONCAT($B17,K17,$C17)","v":"SetDescription="},{"$f":"_xlfn.CONCAT($B17,L17,$C17)","v":"SetDescription="},{"$f":"_xlfn.CONCAT($B17,M17,$C17)","v":"SetDescription="},{"$f":"_xlfn.CONCAT($B17,N17,$C17)","v":"SetDescription="},{"$f":"_xlfn.CONCAT($B17,O17,$C17)","v":"SetDescription="}]
["TradeDirection=0||-1||0||1||N",{"$f":"_xlfn.CONCAT(LEFT(TRIM(A18),FIND(\"=\",TRIM(A18))-1),\"=\")","v":"TradeDirection="},{"$f":"_xlfn.CONCAT(\"|\",RIGHT(TRIM(A18),LEN(TRIM(A18))-SEARCH(\"|\",TRIM(A18))))","v":"||-1||0||1||N"},"Trade direction",{"$f":"VLOOKUP(Input!C18,Start!$I$2:$J$4,2,0)","v":1},{"$f":"VLOOKUP(Input!D18,Start!$I$2:$J$4,2,0)","v":1},{"$f":"VLOOKUP(Input!E18,Start!$I$2:$J$4,2,0)","v":1},{"$f":"VLOOKUP(Input!F18,Start!$I$2:$J$4,2,0)","v":1},{"$f":"VLOOKUP(Input!G18,Start!$I$2:$J$4,2,0)","v":1},{"$f":"VLOOKUP(Input!H18,Start!$I$2:$J$4,2,0)","v":1},{"$f":"VLOOKUP(Input!I18,Start!$I$2:$J$4,2,0)","v":1},{"$f":"VLOOKUP(Input!J18,Start!$I$2:$J$4,2,0)","v":1},{"$f":"VLOOKUP(Input!K18,Start!$I$2:$J$4,2,0)","v":1},{"$f":"VLOOKUP(Input!L18,Start!$I$2:$J$4,2,0)","v":1},{"$f":"VLOOKUP(Input!M18,Start!$I$2:$J$4,2,0)","v":1},{"$f":"_xlfn.CONCAT($B18,E18,$C18)","v":"TradeDirection=1||-1||0||1||N"},"TradeDirection=1||-1||0||1||N","TradeDirection=1||-1||0||1||N","TradeDirection=1||-1||0||1||N","TradeDirection=1||-1||0||1||N","TradeDirection=1||-1||0||1||N","TradeDirection=1||-1||0||1||N","TradeDirection=1||-1||0||1||N","TradeDirection=1||-1||0||1||N","TradeDirection=1||-1||0||1||N","TradeDirection=1||-1||0||1||N"]
["Signal_TimeFrame=0||0||0||1||N","Signal_TimeFrame=","||0||0||1||N","Signal TimeFrame",{"$f":"VLOOKUP(Input!C19,Start!$K$2:$L$22,2,0)","v":2},{"$f":"VLOOKUP(Input!D19,Start!$K$2:$L$22,2,0)","v":2},{"$f":"VLOOKUP(Input!E19,Start!$K$2:$L$22,2,0)","v":2},{"$f":"VLOOKUP(Input!F19,Start!$K$2:$L$22,2,0)","v":2},{"$f":"VLOOKUP(Input!G19,Start!$K$2:$L$22,2,0)","v":2},{"$f":"VLOOKUP(Input!H19,Start!$K$2:$L$22,2,0)","v":2},{"$f":"VLOOKUP(Input!I19,Start!$K$2:$L$22,2,0)","v":2},{"$f":"VLOOKUP(Input!J19,Start!$K$2:$L$22,2,0)","v":2},{"$f":"VLOOKUP(Input!K19,Start!$K$2:$L$22,2,0)","v":2},{"$f":"VLOOKUP(Input!L19,Start!$K$2:$L$22,2,0)","v":2},{"$f":"VLOOKUP(Input!M19,Start!$K$2:$L$22,2,0)","v":2},"Signal_TimeFrame=2||0||0||1||N","Signal_TimeFrame=2||0||0||1||N","Signal_TimeFrame=2||0||0||1||N","Signal_TimeFrame=2||0||0||1||N","Signal_TimeFrame=2||0||0||1||N","Signal_TimeFrame=2||0||0||1||N","Signal_TimeFrame=2||0||0||1||N","Signal_TimeFrame=2||0||0||1||N","Signal_TimeFrame=2||0||0||1||N","Signal_TimeFrame=2||0||0||1||N","Signal_TimeFrame=2||0||0||1||N"]
["NewDealOnNewBar=false||false||0||true||N","NewDealOnNewBar=","||false||0||true||N","New deal on the new bar",{"$f":"VLOOKUP(Input!C20,Start!$G$2:$H$3,2,0)","v":false},{"$f":"VLOOKUP(Input!D20,Start!$G$2:$H$3,2,0)","v":false},{"$f":"VLOOKUP(Input!E20,Start!$G$2:$H$3,2,0)","v":false},{"$f":"VLOOKUP(Input!F20,Start!$G$2:$H$3,2,0)","v":false},{"$f":"VLOOKUP(Input!G20,Start!$G$2:$H$3,2,0)","v":false},{"$f":"VLOOKUP(Input!H20,Start!$G$2:$H$3,2,0)","v":false},{"$f":"VLOOKUP(Input!I20,Start!$G$2:$H$3,2,0)","v":false},{"$f":"VLOOKUP(Input!J20,Start!$G$2:$H$3,2,0)","v":false},{"$f":"VLOOKUP(Input!K20,Start!$G$2:$H$3,2,0)","v":false},{"$f":"VLOOKUP(Input!L20,Start!$G$2:$H$3,2,0)","v":false},{"$f":"VLOOKUP(Input!M20,Start!$G$2:$H$3,2,0)","v":false},"NewDealOnNewBar=FALSE||false||0||true||N","NewDealOnNewBar=FALSE||false||0||true||N","NewDealOnNewBar=FALSE||false||0||true||N","NewDealOnNewBar=FALSE||false||0||true||N","NewDealOnNewBar=FALSE||false||0||true||N","NewDealOnNewBar=FALSE||false||0||true||N","NewDealOnNewBar=FALSE||false||0||true||N","NewDealOnNewBar=FALSE||false||0||true||N","NewDealOnNewBar=FALSE||false||0||true||N","NewDealOnNewBar=FALSE||false||0||true||N","NewDealOnNewBar=FALSE||false||0||true||N"]
["MaxFloatingLoss1=0||0||0.000000||0.000000||N","MaxFloatingLoss1=","||0||0.000000||0.000000||N","Max floating loss (1st trade) (account currency) (O disable",{"$f":"Input!C21","v":0},{"$f":"Input!D21","v":0},{"$f":"Input!E21","v":0},{"$f":"Input!F21","v":0},{"$f":"Input!G21","v":0},{"$f":"Input!H21","v":0},{"$f":"Input!I21","v":0},{"$f":"Input!J21","v":0},{"$f":"Input!K21","v":0},{"$f":"Input!L21","v":0},{"$f":"Input!M21","v":0},"MaxFloatingLoss1=0||0||0.000000||0.000000||N","MaxFloatingLoss1=0||0||0.000000||0.000000||N","MaxFloatingLoss1=0||0||0.000000||0.000000||N","MaxFloatingLoss1=0||0||0.000000||0.000000||N","MaxFloatingLoss1=0||0||0.000000||0.000000||N","MaxFloatingLoss1=0||0||0.000000||0.000000||N","MaxFloatingLoss1=0||0||0.000000||0.000000||N","MaxFloatingLoss1=0||0||0.000000||0.000000||N","MaxFloatingLoss1=0||0||0.000000||0.000000||N","MaxFloatingLoss1=0||0||0.000000||0.000000||N","MaxFloatingLoss1=0||0||0.000000||0.000000||N"]
["MaxFloatingLoss=0||0||0.000000||0.000000||N","MaxFloatingLoss=","||0||0.000000||0.000000||N","Max floating loss (martin trade) (account currency) (O - disa",{"$f":"Input!C22","v":0},{"$f":"Input!D22","v":0},{"$f":"Input!E22","v":0},{"$f":"Input!F22","v":0},{"$f":"Input!G22","v":0},{"$f":"Input!H22","v":0},{"$f":"Input!I22","v":0},{"$f":"Input!J22","v":0},{"$f":"Input!K22","v":0},{"$f":"Input!L22","v":0},{"$f":"Input!M22","v":0},"MaxFloatingLoss=0||0||0.000000||0.000000||N","MaxFloatingLoss=0||0||0.000000||0.000000||N","MaxFloatingLoss=0||0||0.000000||0.000000||N","MaxFloatingLoss=0||0||0.000000||0.000000||N","MaxFloatingLoss=0||0||0.000000||0.000000||N","MaxFloatingLoss=0||0||0.000000||0.000000||N","MaxFloatingLoss=0||0||0.000000||0.000000||N","MaxFloatingLoss=0||0||0.000000||0.000000||N","MaxFloatingLoss=0||0||0.000000||0.000000||N","MaxFloatingLoss=0||0||0.000000||0.000000||N","MaxFloatingLoss=0||0||0.000000||0.000000||N"]
["MinMarginLevel1=0||0||0.000000||0.000000||N","MinMarginLevel1=","||0||0.000000||0.000000||N","Min margin level % (1st trade) (O disable limit)",{"$f":"Input!C23","v":0},{"$f":"Input!D23","v":0},{"$f":"Input!E23","v":0},{"$f":"Input!F23","v":0},{"$f":"Input!G23","v":0},{"$f":"Input!H23","v":0},{"$f":"Input!I23","v":0},{"$f":"Input!J23","v":0},{"$f":"Input!K23","v":0},{"$f":"Input!L23","v":0},{"$f":"Input!M23","v":0},"MinMarginLevel1=0||0||0.000000||0.000000||N","MinMarginLevel1=0||0||0.000000||0.000000||N","MinMarginLevel1=0||0||0.000000||0.000000||N","MinMarginLevel1=0||0||0.000000||0.000000||N","MinMarginLevel1=0||0||0.000000||0.000000||N","MinMarginLevel1=0||0||0.000000||0.000000||N","MinMarginLevel1=0||0||0.000000||0.000000||N","MinMarginLevel1=0||0||0.000000||0.000000||N","MinMarginLevel1=0||0||0.000000||0.000000||N","MinMarginLevel1=0||0||0.000000||0.000000||N","MinMarginLevel1=0||0||0.000000||0.000000||N"]
["MinMarginLevel=0||0||0.000000||0.000000||N","MinMarginLevel=","||0||0.000000||0.000000||N","Min margin level % (martin trade) (O - disable limit)",{"$f":"Input!C24","v":0},{"$f":"Input!D24","v":0},{"$f":"Input!E24","v":0},{"$f":"Input!F24","v":0},{"$f":"Input!G24","v":0},{"$f":"Input!H24","v":0},{"$f":"Input!I24","v":0},{"$f":"Input!J24","v":0},{"$f":"Input!K24","v":0},{"$f":"Input!L24","v":0},{"$f":"Input!M24","v":0},"MinMarginLevel=0||0||0.000000||0.000000||N","MinMarginLevel=0||0||0.000000||0.000000||N","MinMarginLevel=0||0||0.000000||0.000000||N","MinMarginLevel=0||0||0.000000||0.000000||N","MinMarginLevel=0||0||0.000000||0.000000||N","MinMarginLevel=0||0||0.000000||0.000000||N","MinMarginLevel=0||0||0.000000||0.000000||N","MinMarginLevel=0||0||0.000000||0.000000||N","MinMarginLevel=0||0||0.000000||0.000000||N","MinMarginLevel=0||0||0.000000||0.000000||N","MinMarginLevel=0||0||0.000000||0.000000||N"]
["UseCustomCommission=0||0||0.000000||0.000000||N","UseCustomCommission=","||0||0.000000||0.000000||N","Custom commission (in account currency per lot) (O disable)",{"$f":"Input!C25","v":0},{"$f":"Input!D25","v":0},{"$f":"Input!E25","v":0},{"$f":"Input!F25","v":0},{"$f":"Input!G25","v":0},{"$f":"Input!H25","v":0},{"$f":"Input!I25","v":0},{"$f":"Input!J25","v":0},{"$f":"Input!K25","v":0},{"$f":"Input!L25","v":0},{"$f":"Input!M25","v":0},"UseCustomCommission=0||0||0.000000||0.000000||N","UseCustomCommission=0||0||0.000000||0.000000||N","UseCustomCommission=0||0||0.000000||0.000000||N","UseCustomCommission=0||0||0.000000||0.000000||N","UseCustomCommission=0||0||0.000000||0.000000||N","UseCustomCommission=0||0||0.000000||0.000000||N","UseCustomCommission=0||0||0.000000||0.000000||N","UseCustomCommission=0||0||0.000000||0.000000||N","UseCustomCommission=0||0||0.000000||0.000000||N","UseCustomCommission=0||0||0.000000||0.000000||N","UseCustomCommission=0||0||0.000000||0.000000||N"]
["ManageManual=false||false||0||true||N","ManageManual=","||false||0||true||N","Manage manual trades",{"$f":"VLOOKUP(Input!C26,Start!$G$2:$H$3,2,0)","v":false},{"$f":"VLOOKUP(Input!D26,Start!$G$2:$H$3,2,0)","v":false},{"$f":"VLOOKUP(Input!E26,Start!$G$2:$H$3,2,0)","v":false},{"$f":"VLOOKUP(Input!F26,Start!$G$2:$H$3,2,0)","v":false},{"$f":"VLOOKUP(Input!G26,Start!$G$2:$H$3,2,0)","v":false},{"$f":"VLOOKUP(Input!H26,Start!$G$2:$H$3,2,0)","v":false},{"$f":"VLOOKUP(Input!I26,Start!$G$2:$H$3,2,0)","v":false},{"$f":"VLOOKUP(Input!J26,Start!$G$2:$H$3,2,0)","v":false},{"$f":"VLOOKUP(Input!K26,Start!$G$2:$H$3,2,0)","v":false},{"$f":"VLOOKUP(Input!L26,Start!$G$2:$H$3,2,0)","v":false},{"$f":"VLOOKUP(Input!M26,Start!$G$2:$H$3,2,0)","v":false},"ManageManual=FALSE||false||0||true||N","ManageManual=FALSE||false||0||true||N","ManageManual=FALSE||false||0||true||N","ManageManual=FALSE||false||0||true||N","ManageManual=FALSE||false||0||true||N","ManageManual=FALSE||false||0||true||N","ManageManual=FALSE||false||0||true||N","ManageManual=FALSE||false||0||true||N","ManageManual=FALSE||false||0||true||N","ManageManual=FALSE||false||0||true||N","ManageManual=FALSE||false||0||true||N"]
["; Lot properties","; Lot properties","; Lot properties","Lot properties",null,null,null,null,null,null,null,null,null,null,null,{"$f":"$A27","v":"; Lot properties"},"; Lot properties","; Lot properties","; Lot properties","; Lot properties","; Lot properties","; Lot properties","; Lot properties","; Lot properties","; Lot properties","; Lot properties"]
["Lot_Properties====================================================================================","Lot_Properties====================================================================================","Lot_Properties====================================================================================","Lot properties:",null,null,null,null,null,null,null,null,null,null,null,"Lot_Properties====================================================================================","Lot_Properties====================================================================================","Lot_Properties====================================================================================","Lot_Properties====================================================================================","Lot_Properties====================================================================================","Lot_Properties====================================================================================","Lot_Properties====================================================================================","Lot_Properties====================================================================================","Lot_Properties====================================================================================","Lot_Properties====================================================================================","Lot_Properties===================================================================================="]
["Lot_Type=0||0||0||4||N",{"$f":"_xlfn.CONCAT(LEFT(TRIM(A29),FIND(\"=\",TRIM(A29))-1),\"=\")","v":"Lot_Type="},{"$f":"_xlfn.CONCAT(\"|\",RIGHT(TRIM(A29),LEN(TRIM(A29))-SEARCH(\"|\",TRIM(A29))))","v":"||0||0||4||N"},"Lot type",{"$f":"VLOOKUP(Input!C29,Start!$M$2:$N$9,2,0)","v":1},{"$f":"VLOOKUP(Input!D29,Start!$M$2:$N$9,2,0)","v":1},{"$f":"VLOOKUP(Input!E29,Start!$M$2:$N$9,2,0)","v":1},{"$f":"VLOOKUP(Input!F29,Start!$M$2:$N$9,2,0)","v":1},{"$f":"VLOOKUP(Input!G29,Start!$M$2:$N$9,2,0)","v":1},{"$f":"VLOOKUP(Input!H29,Start!$M$2:$N$9,2,0)","v":1},{"$f":"VLOOKUP(Input!I29,Start!$M$2:$N$9,2,0)","v":1},{"$f":"VLOOKUP(Input!J29,Start!$M$2:$N$9,2,0)","v":1},{"$f":"VLOOKUP(Input!K29,Start!$M$2:$N$9,2,0)","v":1},{"$f":"VLOOKUP(Input!L29,Start!$M$2:$N$9,2,0)","v":1},{"$f":"VLOOKUP(Input!M29,Start!$M$2:$N$9,2,0)","v":1},{"$f":"_xlfn.CONCAT($B29,E29,$C29)","v":"Lot_Type=1||0||0||4||N"},"Lot_Type=1||0||0||4||N","Lot_Type=1||0||0||4||N","Lot_Type=1||0||0||4||N","Lot_Type=1||0||0||4||N","Lot_Type=1||0||0||4||N","Lot_Type=1||0||0||4||N","Lot_Type=1||0||0||4||N","Lot_Type=1||0||0||4||N","Lot_Type=1||0||0||4||N","Lot_Type=1||0||0||4||N"]
["Lot_Per_1000=0.01||0.01||0.001000||0.100000||N","Lot_Per_1000=","||0.01||0.001000||0.100000||N","Lot size (fixed/per IDDD)",{"$f":"Input!C30","v":0},{"$f":"Input!D30","v":0},{"$f":"Input!E30","v":0},{"$f":"Input!F30","v":0},{"$f":"Input!G30","v":0},{"$f":"Input!H30","v":0},{"$f":"Input!I30","v":0},{"$f":"Input!J30","v":0},{"$f":"Input!K30","v":0},{"$f":"Input!L30","v":0},{"$f":"Input!M30","v":0},"Lot_Per_1000=0||0.01||0.001000||0.100000||N","Lot_Per_1000=0||0.01||0.001000||0.100000||N","Lot_Per_1000=0||0.01||0.001000||0.100000||N","Lot_Per_1000=0||0.01||0.001000||0.100000||N","Lot_Per_1000=0||0.01||0.001000||0.100000||N","Lot_Per_1000=0||0.01||0.001000||0.100000||N","Lot_Per_1000=0||0.01||0.001000||0.100000||N","Lot_Per_1000=0||0.01||0.001000||0.100000||N","Lot_Per_1000=0||0.01||0.001000||0.100000||N","Lot_Per_1000=0||0.01||0.001000||0.100000||N","Lot_Per_1000=0||0.01||0.001000||0.100000||N"]
["Lot_Risk=0||0||0.000000||0.000000||N","Lot_Risk=","||0||0.000000||0.000000||N","Lot risk %",{"$f":"Input!C31","v":0},{"$f":"Input!D31","v":0},{"$f":"Input!E31","v":0},{"$f":"Input!F31","v":0},{"$f":"Input!G31","v":0},{"$f":"Input!H31","v":0},{"$f":"Input!I31","v":0},{"$f":"Input!J31","v":0},{"$f":"Input!K31","v":0},{"$f":"Input!L31","v":0},{"$f":"Input!M31","v":0},"Lot_Risk=0||0||0.000000||0.000000||N","Lot_Risk=0||0||0.000000||0.000000||N","Lot_Risk=0||0||0.000000||0.000000||N","Lot_Risk=0||0||0.000000||0.000000||N","Lot_Risk=0||0||0.000000||0.000000||N","Lot_Risk=0||0||0.000000||0.000000||N","Lot_Risk=0||0||0.000000||0.000000||N","Lot_Risk=0||0||0.000000||0.000000||N","Lot_Risk=0||0||0.000000||0.000000||N","Lot_Risk=0||0||0.000000||0.000000||N","Lot_Risk=0||0||0.000000||0.000000||N"]
["Lot_Max=0||0||0.000000||0.000000||N","Lot_Max=","||0||0.000000||0.000000||N","Max lot (O - disable limit)",{"$f":"Input!C32","v":0},{"$f":"Input!D32","v":0},{"$f":"Input!E32","v":0},{"$f":"Input!F32","v":0},{"$f":"Input!G32","v":0},{"$f":"Input!H32","v":0},{"$f":"Input!I32","v":0},{"$f":"Input!J32","v":0},{"$f":"Input!K32","v":0},{"$f":"Input!L32","v":0},{"$f":"Input!M32","v":0},"Lot_Max=0||0||0.000000||0.000000||N","Lot_Max=0||0||0.000000||0.000000||N","Lot_Max=0||0||0.000000||0.000000||N","Lot_Max=0||0||0.000000||0.000000||N","Lot_Max=0||0||0.000000||0.000000||N","Lot_Max=0||0||0.000000||0.000000||N","Lot_Max=0||0||0.000000||0.000000||N","Lot_Max=0||0||0.000000||0.000000||N","Lot_Max=0||0||0.000000||0.000000||N","Lot_Max=0||0||0.000000||0.000000||N","Lot_Max=0||0||0.000000||0.000000||N"]
["Lot_MaxPer1000=0||0||0.000000||0.000000||N","Lot_MaxPer1000=","||0||0.000000||0.000000||N","Max lot per 1000 (O disable limit)",{"$f":"Input!C33","v":0},{"$f":"Input!D33","v":0},{"$f":"Input!E33","v":0},{"$f":"Input!F33","v":0},{"$f":"Input!G33","v":0},{"$f":"Input!H33","v":0},{"$f":"Input!I33","v":0},{"$f":"Input!J33","v":0},{"$f":"Input!K33","v":0},{"$f":"Input!L33","v":0},{"$f":"Input!M33","v":0},"Lot_MaxPer1000=0||0||0.000000||0.000000||N","Lot_MaxPer1000=0||0||0.000000||0.000000||N","Lot_MaxPer1000=0||0||0.000000||0.000000||N","Lot_MaxPer1000=0||0||0.000000||0.000000||N","Lot_MaxPer1000=0||0||0.000000||0.000000||N","Lot_MaxPer1000=0||0||0.000000||0.000000||N","Lot_MaxPer1000=0||0||0.000000||0.000000||N","Lot_MaxPer1000=0||0||0.000000||0.000000||N","Lot_MaxPer1000=0||0||0.000000||0.000000||N","Lot_MaxPer1000=0||0||0.000000||0.000000||N","Lot_MaxPer1000=0||0||0.000000||0.000000||N"]
["; Hedge properties","; Hedge properties","; Hedge properties","Hedge prope rties ",null,null,null,null,null,null,null,null,null,null,null,{"$f":"$A34","v":"; Hedge properties"},"; Hedge properties","; Hedge properties","; Hedge properties","; Hedge properties","; Hedge properties","; Hedge properties","; Hedge properties","; Hedge properties","; Hedge properties","; Hedge properties"]
["Hedge_Properties====================================================================================","Hedge_Properties====================================================================================","Hedge_Properties====================================================================================","Hedge properties: ",null,null,null,null,null,null,null,null,null,null,null,"Hedge_Properties====================================================================================","Hedge_Properties====================================================================================","Hedge_Properties====================================================================================","Hedge_Properties====================================================================================","Hedge_Properties====================================================================================","Hedge_Properties====================================================================================","Hedge_Properties====================================================================================","Hedge_Properties====================================================================================","Hedge_Properties====================================================================================","Hedge_Properties====================================================================================","Hedge_Properties===================================================================================="]
["AllowHedge=false||false||0||true||N",{"$f":"_xlfn.CONCAT(LEFT(TRIM(A36),FIND(\"=\",TRIM(A36))-1),\"=\")","v":"AllowHedge="},{"$f":"_xlfn.CONCAT(\"|\",RIGHT(TRIM(A36),LEN(TRIM(A36))-SEARCH(\"|\",TRIM(A36))))","v":"||false||0||true||N"},"Allow hedge ",{"$f":"VLOOKUP(Input!C36,Start!$G$2:$H$3,2,0)","v":false},{"$f":"VLOOKUP(Input!D36,Start!$G$2:$H$3,2,0)","v":false},{"$f":"VLOOKUP(Input!E36,Start!$G$2:$H$3,2,0)","v":false},{"$f":"VLOOKUP(Input!F36,Start!$G$2:$H$3,2,0)","v":false},{"$f":"VLOOKUP(Input!G36,Start!$G$2:$H$3,2,0)","v":false},{"$f":"VLOOKUP(Input!H36,Start!$G$2:$H$3,2,0)","v":false},{"$f":"VLOOKUP(Input!I36,Start!$G$2:$H$3,2,0)","v":false},{"$f":"VLOOKUP(Input!J36,Start!$G$2:$H$3,2,0)","v":false},{"$f":"VLOOKUP(Input!K36,Start!$G$2:$H$3,2,0)","v":false},{"$f":"VLOOKUP(Input!L36,Start!$G$2:$H$3,2,0)","v":false},{"$f":"VLOOKUP(Input!M36,Start!$G$2:$H$3,2,0)","v":false},{"$f":"_xlfn.CONCAT($B36,E36,$C36)","v":"AllowHedge=FALSE||false||0||true||N"},"AllowHedge=FALSE||false||0||true||N","AllowHedge=FALSE||false||0||true||N","AllowHedge=FALSE||false||0||true||N","AllowHedge=FALSE||false||0||true||N","AllowHedge=FALSE||false||0||true||N","AllowHedge=FALSE||false||0||true||N","AllowHedge=FALSE||false||0||true||N","AllowHedge=FALSE||false||0||true||N","AllowHedge=FALSE||false||0||true||N","AllowHedge=FALSE||false||0||true||N"]
["IncreaseHedge_After=0||0||1||10||N","IncreaseHedge_After=","||0||1||10||N","Increase hedge lot after order # (O disable) ",{"$f":"Input!C37","v":0},{"$f":"Input!D37","v":0},{"$f":"Input!E37","v":0},{"$f":"Input!F37","v":0},{"$f":"Input!G37","v":0},{"$f":"Input!H37","v":0},{"$f":"Input!I37","v":0},{"$f":"Input!J37","v":0},{"$f":"Input!K37","v":0},{"$f":"Input!L37","v":0},{"$f":"Input!M37","v":0},"IncreaseHedge_After=0||0||1||10||N","IncreaseHedge_After=0||0||1||10||N","IncreaseHedge_After=0||0||1||10||N","IncreaseHedge_After=0||0||1||10||N","IncreaseHedge_After=0||0||1||10||N","IncreaseHedge_After=0||0||1||10||N","IncreaseHedge_After=0||0||1||10||N","IncreaseHedge_After=0||0||1||10||N","IncreaseHedge_After=0||0||1||10||N","IncreaseHedge_After=0||0||1||10||N","IncreaseHedge_After=0||0||1||10||N"]
["IncreaseHedge_Coefficient=0||2.5||0.250000||25.000000||N","IncreaseHedge_Coefficient=","||2.5||0.250000||25.000000||N","ncrease lot coefficient ",{"$f":"Input!C38","v":0},{"$f":"Input!D38","v":0},{"$f":"Input!E38","v":0},{"$f":"Input!F38","v":0},{"$f":"Input!G38","v":0},{"$f":"Input!H38","v":0},{"$f":"Input!I38","v":0},{"$f":"Input!J38","v":0},{"$f":"Input!K38","v":0},{"$f":"Input!L38","v":0},{"$f":"Input!M38","v":0},"IncreaseHedge_Coefficient=0||2.5||0.250000||25.000000||N","IncreaseHedge_Coefficient=0||2.5||0.250000||25.000000||N","IncreaseHedge_Coefficient=0||2.5||0.250000||25.000000||N","IncreaseHedge_Coefficient=0||2.5||0.250000||25.000000||N","IncreaseHedge_Coefficient=0||2.5||0.250000||25.000000||N","IncreaseHedge_Coefficient=0||2.5||0.250000||25.000000||N","IncreaseHedge_Coefficient=0||2.5||0.250000||25.000000||N","IncreaseHedge_Coefficient=0||2.5||0.250000||25.000000||N","IncreaseHedge_Coefficient=0||2.5||0.250000||25.000000||N","IncreaseHedge_Coefficient=0||2.5||0.250000||25.000000||N","IncreaseHedge_Coefficient=0||2.5||0.250000||25.000000||N"]
["IncreaseHedge_Mode=0||0||0||2||N","IncreaseHedge_Mode=","||0||0||2||N","Apply coefficient to ",{"$f":"VLOOKUP(Input!C39,Start!$O$2:$P$4,2,0)","v":0},{"$f":"VLOOKUP(Input!D39,Start!$O$2:$P$4,2,0)","v":0},{"$f":"VLOOKUP(Input!E39,Start!$O$2:$P$4,2,0)","v":0},{"$f":"VLOOKUP(Input!F39,Start!$O$2:$P$4,2,0)","v":0},{"$f":"VLOOKUP(Input!G39,Start!$O$2:$P$4,2,0)","v":0},{"$f":"VLOOKUP(Input!H39,Start!$O$2:$P$4,2,0)","v":0},{"$f":"VLOOKUP(Input!I39,Start!$O$2:$P$4,2,0)","v":0},{"$f":"VLOOKUP(Input!J39,Start!$O$2:$P$4,2,0)","v":0},{"$f":"VLOOKUP(Input!K39,Start!$O$2:$P$4,2,0)","v":0},{"$f":"VLOOKUP(Input!L39,Start!$O$2:$P$4,2,0)","v":0},{"$f":"VLOOKUP(Input!M39,Start!$O$2:$P$4,2,0)","v":0},"IncreaseHedge_Mode=0||0||0||2||N","IncreaseHedge_Mode=0||0||0||2||N","IncreaseHedge_Mode=0||0||0||2||N","IncreaseHedge_Mode=0||0||0||2||N","IncreaseHedge_Mode=0||0||0||2||N","IncreaseHedge_Mode=0||0||0||2||N","IncreaseHedge_Mode=0||0||0||2||N","IncreaseHedge_Mode=0||0||0||2||N","IncreaseHedge_Mode=0||0||0||2||N","IncreaseHedge_Mode=0||0||0||2||N","IncreaseHedge_Mode=0||0||0||2||N"]
["AutoHedge_AfterOrder=0||0||1||10||N","AutoHedge_AfterOrder=","||0||1||10||N","Auto-hedge after order (O - disable) ",{"$f":"Input!C40","v":0},{"$f":"Input!D40","v":0},{"$f":"Input!E40","v":0},{"$f":"Input!F40","v":0},{"$f":"Input!G40","v":0},{"$f":"Input!H40","v":0},{"$f":"Input!I40","v":0},{"$f":"Input!J40","v":0},{"$f":"Input!K40","v":0},{"$f":"Input!L40","v":0},{"$f":"Input!M40","v":0},"AutoHedge_AfterOrder=0||0||1||10||N","AutoHedge_AfterOrder=0||0||1||10||N","AutoHedge_AfterOrder=0||0||1||10||N","AutoHedge_AfterOrder=0||0||1||10||N","AutoHedge_AfterOrder=0||0||1||10||N","AutoHedge_AfterOrder=0||0||1||10||N","AutoHedge_AfterOrder=0||0||1||10||N","AutoHedge_AfterOrder=0||0||1||10||N","AutoHedge_AfterOrder=0||0||1||10||N","AutoHedge_AfterOrder=0||0||1||10||N","AutoHedge_AfterOrder=0||0||1||10||N"]
["AutoHedge_MaxOrders=1||1||1||10||N","AutoHedge_MaxOrders=","||1||1||10||N","Max auto-hedge orders number ",{"$f":"Input!C41","v":0},{"$f":"Input!D41","v":0},{"$f":"Input!E41","v":0},{"$f":"Input!F41","v":0},{"$f":"Input!G41","v":0},{"$f":"Input!H41","v":0},{"$f":"Input!I41","v":0},{"$f":"Input!J41","v":0},{"$f":"Input!K41","v":0},{"$f":"Input!L41","v":0},{"$f":"Input!M41","v":0},"AutoHedge_MaxOrders=0||1||1||10||N","AutoHedge_MaxOrders=0||1||1||10||N","AutoHedge_MaxOrders=0||1||1||10||N","AutoHedge_MaxOrders=0||1||1||10||N","AutoHedge_MaxOrders=0||1||1||10||N","AutoHedge_MaxOrders=0||1||1||10||N","AutoHedge_MaxOrders=0||1||1||10||N","AutoHedge_MaxOrders=0||1||1||10||N","AutoHedge_MaxOrders=0||1||1||10||N","AutoHedge_MaxOrders=0||1||1||10||N","AutoHedge_MaxOrders=0||1||1||10||N"]
["AutoHedge_OnDrawDown=0||0||0.000000||0.000000||N","AutoHedge_OnDrawDown=","||0||0.000000||0.000000||N","Auto-hedge on DrawDown % (O - disable) ",{"$f":"Input!C42","v":0},{"$f":"Input!D42","v":0},{"$f":"Input!E42","v":0},{"$f":"Input!F42","v":0},{"$f":"Input!G42","v":0},{"$f":"Input!H42","v":0},{"$f":"Input!I42","v":0},{"$f":"Input!J42","v":0},{"$f":"Input!K42","v":0},{"$f":"Input!L42","v":0},{"$f":"Input!M42","v":0},"AutoHedge_OnDrawDown=0||0||0.000000||0.000000||N","AutoHedge_OnDrawDown=0||0||0.000000||0.000000||N","AutoHedge_OnDrawDown=0||0||0.000000||0.000000||N","AutoHedge_OnDrawDown=0||0||0.000000||0.000000||N","AutoHedge_OnDrawDown=0||0||0.000000||0.000000||N","AutoHedge_OnDrawDown=0||0||0.000000||0.000000||N","AutoHedge_OnDrawDown=0||0||0.000000||0.000000||N","AutoHedge_OnDrawDown=0||0||0.000000||0.000000||N","AutoHedge_OnDrawDown=0||0||0.000000||0.000000||N","AutoHedge_OnDrawDown=0||0||0.000000||0.000000||N","AutoHedge_OnDrawDown=0||0||0.000000||0.000000||N"]
["; Global Account properties","; Global Account properties","; Global Account properties","Global Account properties ",null,null,null,null,null,null,null,null,null,null,null,{"$f":"$A43","v":"; Global Account properties"},"; Global Account properties","; Global Account properties","; Global Account properties","; Global Account properties","; Global Account properties","; Global Account properties","; Global Account properties","; Global Account properties","; Global Account properties","; Global Account properties"]
["GlobalAccount_Properties====================================================================================","GlobalAccount_Properties====================================================================================","GlobalAccount_Properties====================================================================================","Global Account properties: ",null,null,null,null,null,null,null,null,null,null,null,"GlobalAccount_Properties====================================================================================","GlobalAccount_Properties====================================================================================","GlobalAccount_Properties====================================================================================","GlobalAccount_Properties====================================================================================","GlobalAccount_Properties====================================================================================","GlobalAccount_Properties====================================================================================","GlobalAccount_Properties====================================================================================","GlobalAccount_Properties====================================================================================","GlobalAccount_Properties====================================================================================","GlobalAccount_Properties====================================================================================","GlobalAccount_Properties===================================================================================="]
["GlobalAccountStopLoss_ccy=0||0||0.000000||0.000000||N",{"$f":"_xlfn.CONCAT(LEFT(TRIM(A45),FIND(\"=\",TRIM(A45))-1),\"=\")","v":"GlobalAccountStopLoss_ccy="},{"$f":"_xlfn.CONCAT(\"|\",RIGHT(TRIM(A45),LEN(TRIM(A45))-SEARCH(\"|\",TRIM(A45))))","v":"||0||0.000000||0.000000||N"},"GA StopLoss (account currency) (O disable) ",{"$f":"Input!C45","v":0},{"$f":"Input!D45","v":0},{"$f":"Input!E45","v":0},{"$f":"Input!F45","v":0},{"$f":"Input!G45","v":0},{"$f":"Input!H45","v":0},{"$f":"Input!I45","v":0},{"$f":"Input!J45","v":0},{"$f":"Input!K45","v":0},{"$f":"Input!L45","v":0},{"$f":"Input!M45","v":0},{"$f":"_xlfn.CONCAT($B45,E45,$C45)","v":"GlobalAccountStopLoss_ccy=0||0||0.000000||0.000000||N"},"GlobalAccountStopLoss_ccy=0||0||0.000000||0.000000||N","GlobalAccountStopLoss_ccy=0||0||0.000000||0.000000||N","GlobalAccountStopLoss_ccy=0||0||0.000000||0.000000||N","GlobalAccountStopLoss_ccy=0||0||0.000000||0.000000||N","GlobalAccountStopLoss_ccy=0||0||0.000000||0.000000||N","GlobalAccountStopLoss_ccy=0||0||0.000000||0.000000||N","GlobalAccountStopLoss_ccy=0||0||0.000000||0.000000||N","GlobalAccountStopLoss_ccy=0||0||0.000000||0.000000||N","GlobalAccountStopLoss_ccy=0||0||0.000000||0.000000||N","GlobalAccountStopLoss_ccy=0||0||0.000000||0.000000||N"]
["GlobalAccountStopLoss_perc=0||0||0.000000||0.000000||N","GlobalAccountStopLoss_perc=","||0||0.000000||0.000000||N","GA StopLoss from balance) (O - disable) ",{"$f":"Input!C46","v":0},{"$f":"Input!D46","v":0},{"$f":"Input!E46","v":0},{"$f":"Input!F46","v":0},{"$f":"Input!G46","v":0},{"$f":"Input!H46","v":0},{"$f":"Input!I46","v":0},{"$f":"Input!J46","v":0},{"$f":"Input!K46","v":0},{"$f":"Input!L46","v":0},{"$f":"Input!M46","v":0},"GlobalAccountStopLoss_perc=0||0||0.000000||0.000000||N","GlobalAccountStopLoss_perc=0||0||0.000000||0.000000||N","GlobalAccountStopLoss_perc=0||0||0.000000||0.000000||N","GlobalAccountStopLoss_perc=0||0||0.000000||0.000000||N","GlobalAccountStopLoss_perc=0||0||0.000000||0.000000||N","GlobalAccountStopLoss_perc=0||0||0.000000||0.000000||N","GlobalAccountStopLoss_perc=0||0||0.000000||0.000000||N","GlobalAccountStopLoss_perc=0||0||0.000000||0.000000||N","GlobalAccountStopLoss_perc=0||0||0.000000||0.000000||N","GlobalAccountStopLoss_perc=0||0||0.000000||0.000000||N","GlobalAccountStopLoss_perc=0||0||0.000000||0.000000||N"]
["GlobalAccountTrailingStop_ccy=0||0||0.000000||0.000000||N","GlobalAccountTrailingStop_ccy=","||0||0.000000||0.000000||N","GA TrailingStop (account currency) (O disable) ",{"$f":"Input!C47","v":0},{"$f":"Input!D47","v":0},{"$f":"Input!E47","v":0},{"$f":"Input!F47","v":0},{"$f":"Input!G47","v":0},{"$f":"Input!H47","v":0},{"$f":"Input!I47","v":0},{"$f":"Input!J47","v":0},{"$f":"Input!K47","v":0},{"$f":"Input!L47","v":0},{"$f":"Input!M47","v":0},"GlobalAccountTrailingStop_ccy=0||0||0.000000||0.000000||N","GlobalAccountTrailingStop_ccy=0||0||0.000000||0.000000||N","GlobalAccountTrailingStop_ccy=0||0||0.000000||0.000000||N","GlobalAccountTrailingStop_ccy=0||0||0.000000||0.000000||N","GlobalAccountTrailingStop_ccy=0||0||0.000000||0.000000||N","GlobalAccountTrailingStop_ccy=0||0||0.000000||0.000000||N","GlobalAccountTrailingStop_ccy=0||0||0.000000||0.000000||N","GlobalAccountTrailingStop_ccy=0||0||0.000000||0.000000||N","GlobalAccountTrailingStop_ccy=0||0||0.000000||0.000000||N","GlobalAccountTrailingStop_ccy=0||0||0.000000||0.000000||N","GlobalAccountTrailingStop_ccy=0||0||0.000000||0.000000||N"]
["GlobalAccountTrailingStop_perc=0||0||0.000000||0.000000||N","GlobalAccountTrailingStop_perc=","||0||0.000000||0.000000||N","GA TrailingStop (%) (O - disable) ",{"$f":"Input!C48","v":0},{"$f":"Input!D48","v":0},{"$f":"Input!E48","v":0},{"$f":"Input!F48","v":0},{"$f":"Input!G48","v":0},{"$f":"Input!H48","v":0},{"$f":"Input!I48","v":0},{"$f":"Input!J48","v":0},{"$f":"Input!K48","v":0},{"$f":"Input!L48","v":0},{"$f":"Input!M48","v":0},"GlobalAccountTrailingStop_perc=0||0||0.000000||0.000000||N","GlobalAccountTrailingStop_perc=0||0||0.000000||0.000000||N","GlobalAccountTrailingStop_perc=0||0||0.000000||0.000000||N","GlobalAccountTrailingStop_perc=0||0||0.000000||0.000000||N","GlobalAccountTrailingStop_perc=0||0||0.000000||0.000000||N","GlobalAccountTrailingStop_perc=0||0||0.000000||0.000000||N","GlobalAccountTrailingStop_perc=0||0||0.000000||0.000000||N","GlobalAccountTrailingStop_perc=0||0||0.000000||0.000000||N","GlobalAccountTrailingStop_perc=0||0||0.000000||0.000000||N","GlobalAccountTrailingStop_perc=0||0||0.000000||0.000000||N","GlobalAccountTrailingStop_perc=0||0||0.000000||0.000000||N"]
["GlobalAccountTakeProfit_ccy=0||0||0.000000||0.000000||N","GlobalAccountTakeProfit_ccy=","||0||0.000000||0.000000||N","GA TakeProfit (account currency) (O disable) ",{"$f":"Input!C49","v":0},{"$f":"Input!D49","v":0},{"$f":"Input!E49","v":0},{"$f":"Input!F49","v":0},{"$f":"Input!G49","v":0},{"$f":"Input!H49","v":0},{"$f":"Input!I49","v":0},{"$f":"Input!J49","v":0},{"$f":"Input!K49","v":0},{"$f":"Input!L49","v":0},{"$f":"Input!M49","v":0},"GlobalAccountTakeProfit_ccy=0||0||0.000000||0.000000||N","GlobalAccountTakeProfit_ccy=0||0||0.000000||0.000000||N","GlobalAccountTakeProfit_ccy=0||0||0.000000||0.000000||N","GlobalAccountTakeProfit_ccy=0||0||0.000000||0.000000||N","GlobalAccountTakeProfit_ccy=0||0||0.000000||0.000000||N","GlobalAccountTakeProfit_ccy=0||0||0.000000||0.000000||N","GlobalAccountTakeProfit_ccy=0||0||0.000000||0.000000||N","GlobalAccountTakeProfit_ccy=0||0||0.000000||0.000000||N","GlobalAccountTakeProfit_ccy=0||0||0.000000||0.000000||N","GlobalAccountTakeProfit_ccy=0||0||0.000000||0.000000||N","GlobalAccountTakeProfit_ccy=0||0||0.000000||0.000000||N"]
["GlobalAccountTakeProfit_perc=0||0||0.000000||0.000000||N","GlobalAccountTakeProfit_perc=","||0||0.000000||0.000000||N","GA TakeProfit from balance) (O - disable) ",{"$f":"Input!C50","v":0},{"$f":"Input!D50","v":0},{"$f":"Input!E50","v":0},{"$f":"Input!F50","v":0},{"$f":"Input!G50","v":0},{"$f":"Input!H50","v":0},{"$f":"Input!I50","v":0},{"$f":"Input!J50","v":0},{"$f":"Input!K50","v":0},{"$f":"Input!L50","v":0},{"$f":"Input!M50","v":0},"GlobalAccountTakeProfit_perc=0||0||0.000000||0.000000||N","GlobalAccountTakeProfit_perc=0||0||0.000000||0.000000||N","GlobalAccountTakeProfit_perc=0||0||0.000000||0.000000||N","GlobalAccountTakeProfit_perc=0||0||0.000000||0.000000||N","GlobalAccountTakeProfit_perc=0||0||0.000000||0.000000||N","GlobalAccountTakeProfit_perc=0||0||0.000000||0.000000||N","GlobalAccountTakeProfit_perc=0||0||0.000000||0.000000||N","GlobalAccountTakeProfit_perc=0||0||0.000000||0.000000||N","GlobalAccountTakeProfit_perc=0||0||0.000000||0.000000||N","GlobalAccountTakeProfit_perc=0||0||0.000000||0.000000||N","GlobalAccountTakeProfit_perc=0||0||0.000000||0.000000||N"]
["GlobalAccountTargetProfit_ccy=0||0||0.000000||0.000000||N","GlobalAccountTargetProfit_ccy=","||0||0.000000||0.000000||N","GA TargetProfit (account currency) (O disable) ",{"$f":"Input!C51","v":0},{"$f":"Input!D51","v":0},{"$f":"Input!E51","v":0},{"$f":"Input!F51","v":0},{"$f":"Input!G51","v":0},{"$f":"Input!H51","v":0},{"$f":"Input!I51","v":0},{"$f":"Input!J51","v":0},{"$f":"Input!K51","v":0},{"$f":"Input!L51","v":0},{"$f":"Input!M51","v":0},"GlobalAccountTargetProfit_ccy=0||0||0.000000||0.000000||N","GlobalAccountTargetProfit_ccy=0||0||0.000000||0.000000||N","GlobalAccountTargetProfit_ccy=0||0||0.000000||0.000000||N","GlobalAccountTargetProfit_ccy=0||0||0.000000||0.000000||N","GlobalAccountTargetProfit_ccy=0||0||0.000000||0.000000||N","GlobalAccountTargetProfit_ccy=0||0||0.000000||0.000000||N","GlobalAccountTargetProfit_ccy=0||0||0.000000||0.000000||N","GlobalAccountTargetProfit_ccy=0||0||0.000000||0.000000||N","GlobalAccountTargetProfit_ccy=0||0||0.000000||0.000000||N","GlobalAccountTargetProfit_ccy=0||0||0.000000||0.000000||N","GlobalAccountTargetProfit_ccy=0||0||0.000000||0.000000||N"]
["GlobalAccountTargetProfit_perc=0||0||0.000000||0.000000||N","GlobalAccountTargetProfit_perc=","||0||0.000000||0.000000||N","GA TargetProfit (%) (O - disable) ",{"$f":"Input!C52","v":0},{"$f":"Input!D52","v":0},{"$f":"Input!E52","v":0},{"$f":"Input!F52","v":0},{"$f":"Input!G52","v":0},{"$f":"Input!H52","v":0},{"$f":"Input!I52","v":0},{"$f":"Input!J52","v":0},{"$f":"Input!K52","v":0},{"$f":"Input!L52","v":0},{"$f":"Input!M52","v":0},"GlobalAccountTargetProfit_perc=0||0||0.000000||0.000000||N","GlobalAccountTargetProfit_perc=0||0||0.000000||0.000000||N","GlobalAccountTargetProfit_perc=0||0||0.000000||0.000000||N","GlobalAccountTargetProfit_perc=0||0||0.000000||0.000000||N","GlobalAccountTargetProfit_perc=0||0||0.000000||0.000000||N","GlobalAccountTargetProfit_perc=0||0||0.000000||0.000000||N","GlobalAccountTargetProfit_perc=0||0||0.000000||0.000000||N","GlobalAccountTargetProfit_perc=0||0||0.000000||0.000000||N","GlobalAccountTargetProfit_perc=0||0||0.000000||0.000000||N","GlobalAccountTargetProfit_perc=0||0||0.000000||0.000000||N","GlobalAccountTargetProfit_perc=0||0||0.000000||0.000000||N"]
["GlobalAccountStopTillTomorrow=false||false||0||true||N","GlobalAccountStopTillTomorrow=","||false||0||true||N","Stop Till Tomorrow After Close ",{"$f":"VLOOKUP(Input!C53,Start!$G$2:$H$3,2,0)","v":false},{"$f":"VLOOKUP(Input!D53,Start!$G$2:$H$3,2,0)","v":false},{"$f":"VLOOKUP(Input!E53,Start!$G$2:$H$3,2,0)","v":false},{"$f":"VLOOKUP(Input!F53,Start!$G$2:$H$3,2,0)","v":false},{"$f":"VLOOKUP(Input!G53,Start!$G$2:$H$3,2,0)","v":false},{"$f":"VLOOKUP(Input!H53,Start!$G$2:$H$3,2,0)","v":false},{"$f":"VLOOKUP(Input!I53,Start!$G$2:$H$3,2,0)","v":false},{"$f":"VLOOKUP(Input!J53,Start!$G$2:$H$3,2,0)","v":false},{"$f":"VLOOKUP(Input!K53,Start!$G$2:$H$3,2,0)","v":false},{"$f":"VLOOKUP(Input!L53,Start!$G$2:$H$3,2,0)","v":false},{"$f":"VLOOKUP(Input!M53,Start!$G$2:$H$3,2,0)","v":false},"GlobalAccountStopTillTomorrow=FALSE||false||0||true||N","GlobalAccountStopTillTomorrow=FALSE||false||0||true||N","GlobalAccountStopTillTomorrow=FALSE||false||0||true||N","GlobalAccountStopTillTomorrow=FALSE||false||0||true||N","GlobalAccountStopTillTomorrow=FALSE||false||0||true||N","GlobalAccountStopTillTomorrow=FALSE||false||0||true||N","GlobalAccountStopTillTomorrow=FALSE||false||0||true||N","GlobalAccountStopTillTomorrow=FALSE||false||0||true||N","GlobalAccountStopTillTomorrow=FALSE||false||0||true||N","GlobalAccountStopTillTomorrow=FALSE||false||0||true||N","GlobalAccountStopTillTomorrow=FALSE||false||0||true||N"]
["; Period Limits","; Period Limits","; Period Limits","Period Limits ",null,null,null,null,null,null,null,null,null,null,null,{"$f":"$A54","v":"; Period Limits"},"; Period Limits","; Period Limits","; Period Limits","; Period Limits","; Period Limits","; Period Limits","; Period Limits","; Period Limits","; Period Limits","; Period Limits"]
["DL_Properties====================================================================================","DL_Properties====================================================================================","DL_Properties====================================================================================","Daily limits: ",null,null,null,null,null,null,null,null,null,null,null,"DL_Properties====================================================================================","DL_Properties====================================================================================","DL_Properties====================================================================================","DL_Properties====================================================================================","DL_Properties====================================================================================","DL_Properties====================================================================================","DL_Properties====================================================================================","DL_Properties====================================================================================","DL_Properties====================================================================================","DL_Properties====================================================================================","DL_Properties===================================================================================="]
["DL_MaxTrades_CurSymbol=0||0||1||10||N",{"$f":"_xlfn.CONCAT(LEFT(TRIM(A56),FIND(\"=\",TRIM(A56))-1),\"=\")","v":"DL_MaxTrades_CurSymbol="},{"$f":"_xlfn.CONCAT(\"|\",RIGHT(TRIM(A56),LEN(TRIM(A56))-SEARCH(\"|\",TRIM(A56))))","v":"||0||1||10||N"},"Max trades per day (current symbol) ",{"$f":"Input!C56","v":0},{"$f":"Input!D56","v":0},{"$f":"Input!E56","v":0},{"$f":"Input!F56","v":0},{"$f":"Input!G56","v":0},{"$f":"Input!H56","v":0},{"$f":"Input!I56","v":0},{"$f":"Input!J56","v":0},{"$f":"Input!K56","v":0},{"$f":"Input!L56","v":0},{"$f":"Input!M56","v":0},{"$f":"_xlfn.CONCAT($B56,E56,$C56)","v":"DL_MaxTrades_CurSymbol=0||0||1||10||N"},"DL_MaxTrades_CurSymbol=0||0||1||10||N","DL_MaxTrades_CurSymbol=0||0||1||10||N","DL_MaxTrades_CurSymbol=0||0||1||10||N","DL_MaxTrades_CurSymbol=0||0||1||10||N","DL_MaxTrades_CurSymbol=0||0||1||10||N","DL_MaxTrades_CurSymbol=0||0||1||10||N","DL_MaxTrades_CurSymbol=0||0||1||10||N","DL_MaxTrades_CurSymbol=0||0||1||10||N","DL_MaxTrades_CurSymbol=0||0||1||10||N","DL_MaxTrades_CurSymbol=0||0||1||10||N"]
["DL_MaxTrades_AllSymbols=0||0||1||10||N","DL_MaxTrades_AllSymbols=","||0||1||10||N","Max trades per day (all symbols) ",{"$f":"Input!C57","v":0},{"$f":"Input!D57","v":0},{"$f":"Input!E57","v":0},{"$f":"Input!F57","v":0},{"$f":"Input!G57","v":0},{"$f":"Input!H57","v":0},{"$f":"Input!I57","v":0},{"$f":"Input!J57","v":0},{"$f":"Input!K57","v":0},{"$f":"Input!L57","v":0},{"$f":"Input!M57","v":0},"DL_MaxTrades_AllSymbols=0||0||1||10||N","DL_MaxTrades_AllSymbols=0||0||1||10||N","DL_MaxTrades_AllSymbols=0||0||1||10||N","DL_MaxTrades_AllSymbols=0||0||1||10||N","DL_MaxTrades_AllSymbols=0||0||1||10||N","DL_MaxTrades_AllSymbols=0||0||1||10||N","DL_MaxTrades_AllSymbols=0||0||1||10||N","DL_MaxTrades_AllSymbols=0||0||1||10||N","DL_MaxTrades_AllSymbols=0||0||1||10||N","DL_MaxTrades_AllSymbols=0||0||1||10||N","DL_MaxTrades_AllSymbols=0||0||1||10||N"]
["DL_MaxDrawDown=0||0||0.000000||0.000000||N","DL_MaxDrawDown=","||0||0.000000||0.000000||N","Max DrawDown per day (%) ",{"$f":"Input!C58","v":0},{"$f":"Input!D58","v":0},{"$f":"Input!E58","v":0},{"$f":"Input!F58","v":0},{"$f":"Input!G58","v":0},{"$f":"Input!H58","v":0},{"$f":"Input!I58","v":0},{"$f":"Input!J58","v":0},{"$f":"Input!K58","v":0},{"$f":"Input!L58","v":0},{"$f":"Input!M58","v":0},"DL_MaxDrawDown=0||0||0.000000||0.000000||N","DL_MaxDrawDown=0||0||0.000000||0.000000||N","DL_MaxDrawDown=0||0||0.000000||0.000000||N","DL_MaxDrawDown=0||0||0.000000||0.000000||N","DL_MaxDrawDown=0||0||0.000000||0.000000||N","DL_MaxDrawDown=0||0||0.000000||0.000000||N","DL_MaxDrawDown=0||0||0.000000||0.000000||N","DL_MaxDrawDown=0||0||0.000000||0.000000||N","DL_MaxDrawDown=0||0||0.000000||0.000000||N","DL_MaxDrawDown=0||0||0.000000||0.000000||N","DL_MaxDrawDown=0||0||0.000000||0.000000||N"]
["DL_MaxDrawDown_ccy=0||0||0.000000||0.000000||N","DL_MaxDrawDown_ccy=","||0||0.000000||0.000000||N","Max DrawDown per day (account currency) ",{"$f":"Input!C59","v":0},{"$f":"Input!D59","v":0},{"$f":"Input!E59","v":0},{"$f":"Input!F59","v":0},{"$f":"Input!G59","v":0},{"$f":"Input!H59","v":0},{"$f":"Input!I59","v":0},{"$f":"Input!J59","v":0},{"$f":"Input!K59","v":0},{"$f":"Input!L59","v":0},{"$f":"Input!M59","v":0},"DL_MaxDrawDown_ccy=0||0||0.000000||0.000000||N","DL_MaxDrawDown_ccy=0||0||0.000000||0.000000||N","DL_MaxDrawDown_ccy=0||0||0.000000||0.000000||N","DL_MaxDrawDown_ccy=0||0||0.000000||0.000000||N","DL_MaxDrawDown_ccy=0||0||0.000000||0.000000||N","DL_MaxDrawDown_ccy=0||0||0.000000||0.000000||N","DL_MaxDrawDown_ccy=0||0||0.000000||0.000000||N","DL_MaxDrawDown_ccy=0||0||0.000000||0.000000||N","DL_MaxDrawDown_ccy=0||0||0.000000||0.000000||N","DL_MaxDrawDown_ccy=0||0||0.000000||0.000000||N","DL_MaxDrawDown_ccy=0||0||0.000000||0.000000||N"]
["DL_MaxProfit=0||0||0.000000||0.000000||N","DL_MaxProfit=","||0||0.000000||0.000000||N","Max Profit per day (%) ",{"$f":"Input!C60","v":0},{"$f":"Input!D60","v":0},{"$f":"Input!E60","v":0},{"$f":"Input!F60","v":0},{"$f":"Input!G60","v":0},{"$f":"Input!H60","v":0},{"$f":"Input!I60","v":0},{"$f":"Input!J60","v":0},{"$f":"Input!K60","v":0},{"$f":"Input!L60","v":0},{"$f":"Input!M60","v":0},"DL_MaxProfit=0||0||0.000000||0.000000||N","DL_MaxProfit=0||0||0.000000||0.000000||N","DL_MaxProfit=0||0||0.000000||0.000000||N","DL_MaxProfit=0||0||0.000000||0.000000||N","DL_MaxProfit=0||0||0.000000||0.000000||N","DL_MaxProfit=0||0||0.000000||0.000000||N","DL_MaxProfit=0||0||0.000000||0.000000||N","DL_MaxProfit=0||0||0.000000||0.000000||N","DL_MaxProfit=0||0||0.000000||0.000000||N","DL_MaxProfit=0||0||0.000000||0.000000||N","DL_MaxProfit=0||0||0.000000||0.000000||N"]
["DL_MaxProfit_ccy=0||0||0.000000||0.000000||N","DL_MaxProfit_ccy=","||0||0.000000||0.000000||N","Max Profit per day (account currency) ",{"$f":"Input!C61","v":0},{"$f":"Input!D61","v":0},{"$f":"Input!E61","v":0},{"$f":"Input!F61","v":0},{"$f":"Input!G61","v":0},{"$f":"Input!H61","v":0},{"$f":"Input!I61","v":0},{"$f":"Input!J61","v":0},{"$f":"Input!K61","v":0},{"$f":"Input!L61","v":0},{"$f":"Input!M61","v":0},"DL_MaxProfit_ccy=0||0||0.000000||0.000000||N","DL_MaxProfit_ccy=0||0||0.000000||0.000000||N","DL_MaxProfit_ccy=0||0||0.000000||0.000000||N","DL_MaxProfit_ccy=0||0||0.000000||0.000000||N","DL_MaxProfit_ccy=0||0||0.000000||0.000000||N","DL_MaxProfit_ccy=0||0||0.000000||0.000000||N","DL_MaxProfit_ccy=0||0||0.000000||0.000000||N","DL_MaxProfit_ccy=0||0||0.000000||0.000000||N","DL_MaxProfit_ccy=0||0||0.000000||0.000000||N","DL_MaxProfit_ccy=0||0||0.000000||0.000000||N","DL_MaxProfit_ccy=0||0||0.000000||0.000000||N"]
["WL_Properties====================================================================================","WL_Properties====================================================================================","WL_Properties====================================================================================","Weekly limits: ",null,null,null,null,null,null,null,null,null,null,null,{"$f":"$A62","v":"WL_Properties===================================================================================="},{"$f":"$A62","v":"WL_Properties===================================================================================="},{"$f":"$A62","v":"WL_Properties===================================================================================="},{"$f":"$A62","v":"WL_Properties===================================================================================="},{"$f":"$A62","v":"WL_Properties===================================================================================="},{"$f":"$A62","v":"WL_Properties===================================================================================="},{"$f":"$A62","v":"WL_Properties===================================================================================="},{"$f":"$A62","v":"WL_Properties===================================================================================="},{"$f":"$A62","v":"WL_Properties===================================================================================="},{"$f":"$A62","v":"WL_Properties===================================================================================="},{"$f":"$A62","v":"WL_Properties===================================================================================="}]
["WL_MaxDrawDown=0||0||0.000000||0.000000||N",{"$f":"_xlfn.CONCAT(LEFT(TRIM(A63),FIND(\"=\",TRIM(A63))-1),\"=\")","v":"WL_MaxDrawDown="},{"$f":"_xlfn.CONCAT(\"|\",RIGHT(TRIM(A63),LEN(TRIM(A63))-SEARCH(\"|\",TRIM(A63))))","v":"||0||0.000000||0.000000||N"},"Max DrawDown per week (%) ",{"$f":"Input!C63","v":0},{"$f":"Input!D63","v":0},{"$f":"Input!E63","v":0},{"$f":"Input!F63","v":0},{"$f":"Input!G63","v":0},{"$f":"Input!H63","v":0},{"$f":"Input!I63","v":0},{"$f":"Input!J63","v":0},{"$f":"Input!K63","v":0},{"$f":"Input!L63","v":0},{"$f":"Input!M63","v":0},{"$f":"_xlfn.CONCAT($B63,E63,$C63)","v":"WL_MaxDrawDown=0||0||0.000000||0.000000||N"},"WL_MaxDrawDown=0||0||0.000000||0.000000||N","WL_MaxDrawDown=0||0||0.000000||0.000000||N","WL_MaxDrawDown=0||0||0.000000||0.000000||N","WL_MaxDrawDown=0||0||0.000000||0.000000||N","WL_MaxDrawDown=0||0||0.000000||0.000000||N","WL_MaxDrawDown=0||0||0.000000||0.000000||N","WL_MaxDrawDown=0||0||0.000000||0.000000||N","WL_MaxDrawDown=0||0||0.000000||0.000000||N","WL_MaxDrawDown=0||0||0.000000||0.000000||N","WL_MaxDrawDown=0||0||0.000000||0.000000||N"]
["WL_MaxDrawDown_ccy=0||0||0.000000||0.000000||N","WL_MaxDrawDown_ccy=","||0||0.000000||0.000000||N","Max DrawDown per week (account currency) ",{"$f":"Input!C64","v":0},{"$f":"Input!D64","v":0},{"$f":"Input!E64","v":0},{"$f":"Input!F64","v":0},{"$f":"Input!G64","v":0},{"$f":"Input!H64","v":0},{"$f":"Input!I64","v":0},{"$f":"Input!J64","v":0},{"$f":"Input!K64","v":0},{"$f":"Input!L64","v":0},{"$f":"Input!M64","v":0},"WL_MaxDrawDown_ccy=0||0||0.000000||0.000000||N","WL_MaxDrawDown_ccy=0||0||0.000000||0.000000||N","WL_MaxDrawDown_ccy=0||0||0.000000||0.000000||N","WL_MaxDrawDown_ccy=0||0||0.000000||0.000000||N","WL_MaxDrawDown_ccy=0||0||0.000000||0.000000||N","WL_MaxDrawDown_ccy=0||0||0.000000||0.000000||N","WL_MaxDrawDown_ccy=0||0||0.000000||0.000000||N","WL_MaxDrawDown_ccy=0||0||0.000000||0.000000||N","WL_MaxDrawDown_ccy=0||0||0.000000||0.000000||N","WL_MaxDrawDown_ccy=0||0||0.000000||0.000000||N","WL_MaxDrawDown_ccy=0||0||0.000000||0.000000||N"]
["WL_MaxProfit=0||0||0.000000||0.000000||N","WL_MaxProfit=","||0||0.000000||0.000000||N","Max Profit per week (%) ",{"$f":"Input!C65","v":0},{"$f":"Input!D65","v":0},{"$f":"Input!E65","v":0},{"$f":"Input!F65","v":0},{"$f":"Input!G65","v":0},{"$f":"Input!H65","v":0},{"$f":"Input!I65","v":0},{"$f":"Input!J65","v":0},{"$f":"Input!K65","v":0},{"$f":"Input!L65","v":0},{"$f":"Input!M65","v":0},"WL_MaxProfit=0||0||0.000000||0.000000||N","WL_MaxProfit=0||0||0.000000||0.000000||N","WL_MaxProfit=0||0||0.000000||0.000000||N","WL_MaxProfit=0||0||0.000000||0.000000||N","WL_MaxProfit=0||0||0.000000||0.000000||N","WL_MaxProfit=0||0||0.000000||0.000000||N","WL_MaxProfit=0||0||0.000000||0.000000||N","WL_MaxProfit=0||0||0.000000||0.000000||N","WL_MaxProfit=0||0||0.000000||0.000000||N","WL_MaxProfit=0||0||0.000000||0.000000||N","WL_MaxProfit=0||0||0.000000||0.000000||N"]
["WL_MaxProfit_ccy=0||0||0.000000||0.000000||N","WL_MaxProfit_ccy=","||0||0.000000||0.000000||N","Max Profit per week (account currency) ",{"$f":"Input!C66","v":0},{"$f":"Input!D66","v":0},{"$f":"Input!E66","v":0},{"$f":"Input!F66","v":0},{"$f":"Input!G66","v":0},{"$f":"Input!H66","v":0},{"$f":"Input!I66","v":0},{"$f":"Input!J66","v":0},{"$f":"Input!K66","v":0},{"$f":"Input!L66","v":0},{"$f":"Input!M66","v":0},"WL_MaxProfit_ccy=0||0||0.000000||0.000000||N","WL_MaxProfit_ccy=0||0||0.000000||0.000000||N","WL_MaxProfit_ccy=0||0||0.000000||0.000000||N","WL_MaxProfit_ccy=0||0||0.000000||0.000000||N","WL_MaxProfit_ccy=0||0||0.000000||0.000000||N","WL_MaxProfit_ccy=0||0||0.000000||0.000000||N","WL_MaxProfit_ccy=0||0||0.000000||0.000000||N","WL_MaxProfit_ccy=0||0||0.000000||0.000000||N","WL_MaxProfit_ccy=0||0||0.000000||0.000000||N","WL_MaxProfit_ccy=0||0||0.000000||0.000000||N","WL_MaxProfit_ccy=0||0||0.000000||0.000000||N"]
["ML_Properties====================================================================================","ML_Properties====================================================================================","ML_Properties====================================================================================","Monthly limits: ",null,null,null,null,null,null,null,null,null,null,null,{"$f":"$A67","v":"ML_Properties===================================================================================="},{"$f":"$A67","v":"ML_Properties===================================================================================="},{"$f":"$A67","v":"ML_Properties===================================================================================="},{"$f":"$A67","v":"ML_Properties===================================================================================="},{"$f":"$A67","v":"ML_Properties===================================================================================="},{"$f":"$A67","v":"ML_Properties===================================================================================="},{"$f":"$A67","v":"ML_Properties===================================================================================="},{"$f":"$A67","v":"ML_Properties===================================================================================="},{"$f":"$A67","v":"ML_Properties===================================================================================="},{"$f":"$A67","v":"ML_Properties===================================================================================="},{"$f":"$A67","v":"ML_Properties===================================================================================="}]
["ML_MaxDrawDown=0||0||0.000000||0.000000||N",{"$f":"_xlfn.CONCAT(LEFT(TRIM(A68),FIND(\"=\",TRIM(A68))-1),\"=\")","v":"ML_MaxDrawDown="},{"$f":"_xlfn.CONCAT(\"|\",RIGHT(TRIM(A68),LEN(TRIM(A68))-SEARCH(\"|\",TRIM(A68))))","v":"||0||0.000000||0.000000||N"},"Max DrawDown per month (%) ",{"$f":"Input!C68","v":0},{"$f":"Input!D68","v":0},{"$f":"Input!E68","v":0},{"$f":"Input!F68","v":0},{"$f":"Input!G68","v":0},{"$f":"Input!H68","v":0},{"$f":"Input!I68","v":0},{"$f":"Input!J68","v":0},{"$f":"Input!K68","v":0},{"$f":"Input!L68","v":0},{"$f":"Input!M68","v":0},{"$f":"_xlfn.CONCAT($B68,E68,$C68)","v":"ML_MaxDrawDown=0||0||0.000000||0.000000||N"},"ML_MaxDrawDown=0||0||0.000000||0.000000||N","ML_MaxDrawDown=0||0||0.000000||0.000000||N","ML_MaxDrawDown=0||0||0.000000||0.000000||N","ML_MaxDrawDown=0||0||0.000000||0.000000||N","ML_MaxDrawDown=0||0||0.000000||0.000000||N","ML_MaxDrawDown=0||0||0.000000||0.000000||N","ML_MaxDrawDown=0||0||0.000000||0.000000||N","ML_MaxDrawDown=0||0||0.000000||0.000000||N","ML_MaxDrawDown=0||0||0.000000||0.000000||N","ML_MaxDrawDown=0||0||0.000000||0.000000||N"]
["ML_MaxDrawDown_ccy=0||0||0.000000||0.000000||N","ML_MaxDrawDown_ccy=","||0||0.000000||0.000000||N","Max DrawDown per month (account currency) ",{"$f":"Input!C69","v":0},{"$f":"Input!D69","v":0},{"$f":"Input!E69","v":0},{"$f":"Input!F69","v":0},{"$f":"Input!G69","v":0},{"$f":"Input!H69","v":0},{"$f":"Input!I69","v":0},{"$f":"Input!J69","v":0},{"$f":"Input!K69","v":0},{"$f":"Input!L69","v":0},{"$f":"Input!M69","v":0},"ML_MaxDrawDown_ccy=0||0||0.000000||0.000000||N","ML_MaxDrawDown_ccy=0||0||0.000000||0.000000||N","ML_MaxDrawDown_ccy=0||0||0.000000||0.000000||N","ML_MaxDrawDown_ccy=0||0||0.000000||0.000000||N","ML_MaxDrawDown_ccy=0||0||0.000000||0.000000||N","ML_MaxDrawDown_ccy=0||0||0.000000||0.000000||N","ML_MaxDrawDown_ccy=0||0||0.000000||0.000000||N","ML_MaxDrawDown_ccy=0||0||0.000000||0.000000||N","ML_MaxDrawDown_ccy=0||0||0.000000||0.000000||N","ML_MaxDrawDown_ccy=0||0||0.000000||0.000000||N","ML_MaxDrawDown_ccy=0||0||0.000000||0.000000||N"]
["ML_MaxProfit=0||0||0.000000||0.000000||N","ML_MaxProfit=","||0||0.000000||0.000000||N","Max Profit per month (%) ",{"$f":"Input!C70","v":0},{"$f":"Input!D70","v":0},{"$f":"Input!E70","v":0},{"$f":"Input!F70","v":0},{"$f":"Input!G70","v":0},{"$f":"Input!H70","v":0},{"$f":"Input!I70","v":0},{"$f":"Input!J70","v":0},{"$f":"Input!K70","v":0},{"$f":"Input!L70","v":0},{"$f":"Input!M70","v":0},"ML_MaxProfit=0||0||0.000000||0.000000||N","ML_MaxProfit=0||0||0.000000||0.000000||N","ML_MaxProfit=0||0||0.000000||0.000000||N","ML_MaxProfit=0||0||0.000000||0.000000||N","ML_MaxProfit=0||0||0.000000||0.000000||N","ML_MaxProfit=0||0||0.000000||0.000000||N","ML_MaxProfit=0||0||0.000000||0.000000||N","ML_MaxProfit=0||0||0.000000||0.000000||N","ML_MaxProfit=0||0||0.000000||0.000000||N","ML_MaxProfit=0||0||0.000000||0.000000||N","ML_MaxProfit=0||0||0.000000||0.000000||N"]
["ML_MaxProfit_ccy=0||0||0.000000||0.000000||N","ML_MaxProfit_ccy=","||0||0.000000||0.000000||N","Max Profit per month (account currency) ",{"$f":"Input!C71","v":0},{"$f":"Input!D71","v":0},{"$f":"Input!E71","v":0},{"$f":"Input!F71","v":0},{"$f":"Input!G71","v":0},{"$f":"Input!H71","v":0},{"$f":"Input!I71","v":0},{"$f":"Input!J71","v":0},{"$f":"Input!K71","v":0},{"$f":"Input!L71","v":0},{"$f":"Input!M71","v":0},"ML_MaxProfit_ccy=0||0||0.000000||0.000000||N","ML_MaxProfit_ccy=0||0||0.000000||0.000000||N","ML_MaxProfit_ccy=0||0||0.000000||0.000000||N","ML_MaxProfit_ccy=0||0||0.000000||0.000000||N","ML_MaxProfit_ccy=0||0||0.000000||0.000000||N","ML_MaxProfit_ccy=0||0||0.000000||0.000000||N","ML_MaxProfit_ccy=0||0||0.000000||0.000000||N","ML_MaxProfit_ccy=0||0||0.000000||0.000000||N","ML_MaxProfit_ccy=0||0||0.000000||0.000000||N","ML_MaxProfit_ccy=0||0||0.000000||0.000000||N","ML_MaxProfit_ccy=0||0||0.000000||0.000000||N"]
["CL_Properties====================================================================================","CL_Properties====================================================================================","CL_Properties====================================================================================","Common limits properties: ",null,null,null,null,null,null,null,null,null,null,null,{"$f":"$A72","v":"CL_Properties===================================================================================="},{"$f":"$A72","v":"CL_Properties===================================================================================="},{"$f":"$A72","v":"CL_Properties===================================================================================="},{"$f":"$A72","v":"CL_Properties===================================================================================="},{"$f":"$A72","v":"CL_Properties===================================================================================="},{"$f":"$A72","v":"CL_Properties===================================================================================="},{"$f":"$A72","v":"CL_Properties===================================================================================="},{"$f":"$A72","v":"CL_Properties===================================================================================="},{"$f":"$A72","v":"CL_Properties===================================================================================="},{"$f":"$A72","v":"CL_Properties===================================================================================="},{"$f":"$A72","v":"CL_Properties===================================================================================="}]
["CL_WeekStart_Day=1||0||0||6||N",{"$f":"_xlfn.CONCAT(LEFT(TRIM(A73),FIND(\"=\",TRIM(A73))-1),\"=\")","v":"CL_WeekStart_Day="},{"$f":"_xlfn.CONCAT(\"|\",RIGHT(TRIM(A73),LEN(TRIM(A73))-SEARCH(\"|\",TRIM(A73))))","v":"||0||0||6||N"},"Week start day ",{"$f":"VLOOKUP(Input!C73,Start!$Q$2:$R$8,2,0)","v":2},{"$f":"VLOOKUP(Input!D73,Start!$Q$2:$R$8,2,0)","v":2},{"$f":"VLOOKUP(Input!E73,Start!$Q$2:$R$8,2,0)","v":2},{"$f":"VLOOKUP(Input!F73,Start!$Q$2:$R$8,2,0)","v":2},{"$f":"VLOOKUP(Input!G73,Start!$Q$2:$R$8,2,0)","v":2},{"$f":"VLOOKUP(Input!H73,Start!$Q$2:$R$8,2,0)","v":2},{"$f":"VLOOKUP(Input!I73,Start!$Q$2:$R$8,2,0)","v":2},{"$f":"VLOOKUP(Input!J73,Start!$Q$2:$R$8,2,0)","v":2},{"$f":"VLOOKUP(Input!K73,Start!$Q$2:$R$8,2,0)","v":2},{"$f":"VLOOKUP(Input!L73,Start!$Q$2:$R$8,2,0)","v":2},{"$f":"VLOOKUP(Input!M73,Start!$Q$2:$R$8,2,0)","v":2},{"$f":"_xlfn.CONCAT($B73,E73,$C73)","v":"CL_WeekStart_Day=2||0||0||6||N"},"CL_WeekStart_Day=2||0||0||6||N","CL_WeekStart_Day=2||0||0||6||N","CL_WeekStart_Day=2||0||0||6||N","CL_WeekStart_Day=2||0||0||6||N","CL_WeekStart_Day=2||0||0||6||N","CL_WeekStart_Day=2||0||0||6||N","CL_WeekStart_Day=2||0||0||6||N","CL_WeekStart_Day=2||0||0||6||N","CL_WeekStart_Day=2||0||0||6||N","CL_WeekStart_Day=2||0||0||6||N"]
["CL_DayStartHour=0||-1||0||23||N","CL_DayStartHour=","||-1||0||23||N","Day start hour ",{"$f":"VLOOKUP(Input!C74,Start!$S$2:$T$26,2,0)","v":1},{"$f":"VLOOKUP(Input!D74,Start!$S$2:$T$26,2,0)","v":1},{"$f":"VLOOKUP(Input!E74,Start!$S$2:$T$26,2,0)","v":1},{"$f":"VLOOKUP(Input!F74,Start!$S$2:$T$26,2,0)","v":1},{"$f":"VLOOKUP(Input!G74,Start!$S$2:$T$26,2,0)","v":1},{"$f":"VLOOKUP(Input!H74,Start!$S$2:$T$26,2,0)","v":1},{"$f":"VLOOKUP(Input!I74,Start!$S$2:$T$26,2,0)","v":1},{"$f":"VLOOKUP(Input!J74,Start!$S$2:$T$26,2,0)","v":1},{"$f":"VLOOKUP(Input!K74,Start!$S$2:$T$26,2,0)","v":1},{"$f":"VLOOKUP(Input!L74,Start!$S$2:$T$26,2,0)","v":1},{"$f":"VLOOKUP(Input!M74,Start!$S$2:$T$26,2,0)","v":1},"CL_DayStartHour=1||-1||0||23||N","CL_DayStartHour=1||-1||0||23||N","CL_DayStartHour=1||-1||0||23||N","CL_DayStartHour=1||-1||0||23||N","CL_DayStartHour=1||-1||0||23||N","CL_DayStartHour=1||-1||0||23||N","CL_DayStartHour=1||-1||0||23||N","CL_DayStartHour=1||-1||0||23||N","CL_DayStartHour=1||-1||0||23||N","CL_DayStartHour=1||-1||0||23||N","CL_DayStartHour=1||-1||0||23||N"]
["CL_CloseOnProfitAndDD=true||false||0||true||N","CL_CloseOnProfitAndDD=","||false||0||true||N","Close open trades on profit/DD ",{"$f":"VLOOKUP(Input!C75,Start!$G$2:$H$3,2,0)","v":false},{"$f":"VLOOKUP(Input!D75,Start!$G$2:$H$3,2,0)","v":false},{"$f":"VLOOKUP(Input!E75,Start!$G$2:$H$3,2,0)","v":false},{"$f":"VLOOKUP(Input!F75,Start!$G$2:$H$3,2,0)","v":false},{"$f":"VLOOKUP(Input!G75,Start!$G$2:$H$3,2,0)","v":false},{"$f":"VLOOKUP(Input!H75,Start!$G$2:$H$3,2,0)","v":false},{"$f":"VLOOKUP(Input!I75,Start!$G$2:$H$3,2,0)","v":false},{"$f":"VLOOKUP(Input!J75,Start!$G$2:$H$3,2,0)","v":false},{"$f":"VLOOKUP(Input!K75,Start!$G$2:$H$3,2,0)","v":false},{"$f":"VLOOKUP(Input!L75,Start!$G$2:$H$3,2,0)","v":false},{"$f":"VLOOKUP(Input!M75,Start!$G$2:$H$3,2,0)","v":false},"CL_CloseOnProfitAndDD=FALSE||false||0||true||N","CL_CloseOnProfitAndDD=FALSE||false||0||true||N","CL_CloseOnProfitAndDD=FALSE||false||0||true||N","CL_CloseOnProfitAndDD=FALSE||false||0||true||N","CL_CloseOnProfitAndDD=FALSE||false||0||true||N","CL_CloseOnProfitAndDD=FALSE||false||0||true||N","CL_CloseOnProfitAndDD=FALSE||false||0||true||N","CL_CloseOnProfitAndDD=FALSE||false||0||true||N","CL_CloseOnProfitAndDD=FALSE||false||0||true||N","CL_CloseOnProfitAndDD=FALSE||false||0||true||N","CL_CloseOnProfitAndDD=FALSE||false||0||true||N"]
["; Volatility for all parameters nominated in points","; Volatility for all parameters nominated in points","; Volatility for all parameters nominated in points","Volatility for all parameters nominated in points ",null,null,null,null,null,null,null,null,null,null,null,{"$f":"$A76","v":"; Volatility for all parameters nominated in points"},"; Volatility for all parameters nominated in points","; Volatility for all parameters nominated in points","; Volatility for all parameters nominated in points","; Volatility for all parameters nominated in points","; Volatility for all parameters nominated in points","; Volatility for all parameters nominated in points","; Volatility for all parameters nominated in points","; Volatility for all parameters nominated in points","; Volatility for all parameters nominated in points","; Volatility for all parameters nominated in points"]
["VolPV_Properties====================================================================================","VolPV_Properties====================================================================================","VolPV_Properties====================================================================================","Volatility for all parameters nominated in points: ",null,null,null,null,null,null,null,null,null,null,null,"VolPV_Properties====================================================================================","VolPV_Properties====================================================================================","VolPV_Properties====================================================================================","VolPV_Properties====================================================================================","VolPV_Properties====================================================================================","VolPV_Properties====================================================================================","VolPV_Properties====================================================================================","VolPV_Properties====================================================================================","VolPV_Properties====================================================================================","VolPV_Properties====================================================================================","VolPV_Properties===================================================================================="]
["VolPV_Type=1||0||0||5||N",{"$f":"_xlfn.CONCAT(LEFT(TRIM(A78),FIND(\"=\",TRIM(A78))-1),\"=\")","v":"VolPV_Type="},{"$f":"_xlfn.CONCAT(\"|\",RIGHT(TRIM(A78),LEN(TRIM(A78))-SEARCH(\"|\",TRIM(A78))))","v":"||0||0||5||N"},"Volatility Indicator ",{"$f":"VLOOKUP(Input!C78,Start!$U$2:$V$6,2,0)","v":0},{"$f":"VLOOKUP(Input!D78,Start!$U$2:$V$6,2,0)","v":0},{"$f":"VLOOKUP(Input!E78,Start!$U$2:$V$6,2,0)","v":0},{"$f":"VLOOKUP(Input!F78,Start!$U$2:$V$6,2,0)","v":0},{"$f":"VLOOKUP(Input!G78,Start!$U$2:$V$6,2,0)","v":0},{"$f":"VLOOKUP(Input!H78,Start!$U$2:$V$6,2,0)","v":0},{"$f":"VLOOKUP(Input!I78,Start!$U$2:$V$6,2,0)","v":0},{"$f":"VLOOKUP(Input!J78,Start!$U$2:$V$6,2,0)","v":0},{"$f":"VLOOKUP(Input!K78,Start!$U$2:$V$6,2,0)","v":0},{"$f":"VLOOKUP(Input!L78,Start!$U$2:$V$6,2,0)","v":0},{"$f":"VLOOKUP(Input!M78,Start!$U$2:$V$6,2,0)","v":0},{"$f":"_xlfn.CONCAT($B78,E78,$C78)","v":"VolPV_Type=0||0||0||5||N"},"VolPV_Type=0||0||0||5||N","VolPV_Type=0||0||0||5||N","VolPV_Type=0||0||0||5||N","VolPV_Type=0||0||0||5||N","VolPV_Type=0||0||0||5||N","VolPV_Type=0||0||0||5||N","VolPV_Type=0||0||0||5||N","VolPV_Type=0||0||0||5||N","VolPV_Type=0||0||0||5||N","VolPV_Type=0||0||0||5||N"]
["VolPV_TF=16408||0||0||49153||N","VolPV_TF=","||0||0||49153||N","TimeFrame ",{"$f":"VLOOKUP(Input!C79,Start!$K$2:$L$22,2,0)","v":2},{"$f":"VLOOKUP(Input!D79,Start!$K$2:$L$22,2,0)","v":2},{"$f":"VLOOKUP(Input!E79,Start!$K$2:$L$22,2,0)","v":2},{"$f":"VLOOKUP(Input!F79,Start!$K$2:$L$22,2,0)","v":2},{"$f":"VLOOKUP(Input!G79,Start!$K$2:$L$22,2,0)","v":2},{"$f":"VLOOKUP(Input!H79,Start!$K$2:$L$22,2,0)","v":2},{"$f":"VLOOKUP(Input!I79,Start!$K$2:$L$22,2,0)","v":2},{"$f":"VLOOKUP(Input!J79,Start!$K$2:$L$22,2,0)","v":2},{"$f":"VLOOKUP(Input!K79,Start!$K$2:$L$22,2,0)","v":2},{"$f":"VLOOKUP(Input!L79,Start!$K$2:$L$22,2,0)","v":2},{"$f":"VLOOKUP(Input!M79,Start!$K$2:$L$22,2,0)","v":2},"VolPV_TF=2||0||0||49153||N","VolPV_TF=2||0||0||49153||N","VolPV_TF=2||0||0||49153||N","VolPV_TF=2||0||0||49153||N","VolPV_TF=2||0||0||49153||N","VolPV_TF=2||0||0||49153||N","VolPV_TF=2||0||0||49153||N","VolPV_TF=2||0||0||49153||N","VolPV_TF=2||0||0||49153||N","VolPV_TF=2||0||0||49153||N","VolPV_TF=2||0||0||49153||N"]
["VolPV_Period=20||20||1||200||N","VolPV_Period=","||20||1||200||N","Indicator Period ",{"$f":"Input!C80","v":0},{"$f":"Input!D80","v":0},{"$f":"Input!E80","v":0},{"$f":"Input!F80","v":0},{"$f":"Input!G80","v":0},{"$f":"Input!H80","v":0},{"$f":"Input!I80","v":0},{"$f":"Input!J80","v":0},{"$f":"Input!K80","v":0},{"$f":"Input!L80","v":0},{"$f":"Input!M80","v":0},"VolPV_Period=0||20||1||200||N","VolPV_Period=0||20||1||200||N","VolPV_Period=0||20||1||200||N","VolPV_Period=0||20||1||200||N","VolPV_Period=0||20||1||200||N","VolPV_Period=0||20||1||200||N","VolPV_Period=0||20||1||200||N","VolPV_Period=0||20||1||200||N","VolPV_Period=0||20||1||200||N","VolPV_Period=0||20||1||200||N","VolPV_Period=0||20||1||200||N"]
["VolPV_MinSize=0||0||0.000000||0.000000||N","VolPV_MinSize=","||0||0.000000||0.000000||N","Min volatility to use (points) ",{"$f":"Input!C81","v":0},{"$f":"Input!D81","v":0},{"$f":"Input!E81","v":0},{"$f":"Input!F81","v":0},{"$f":"Input!G81","v":0},{"$f":"Input!H81","v":0},{"$f":"Input!I81","v":0},{"$f":"Input!J81","v":0},{"$f":"Input!K81","v":0},{"$f":"Input!L81","v":0},{"$f":"Input!M81","v":0},"VolPV_MinSize=0||0||0.000000||0.000000||N","VolPV_MinSize=0||0||0.000000||0.000000||N","VolPV_MinSize=0||0||0.000000||0.000000||N","VolPV_MinSize=0||0||0.000000||0.000000||N","VolPV_MinSize=0||0||0.000000||0.000000||N","VolPV_MinSize=0||0||0.000000||0.000000||N","VolPV_MinSize=0||0||0.000000||0.000000||N","VolPV_MinSize=0||0||0.000000||0.000000||N","VolPV_MinSize=0||0||0.000000||0.000000||N","VolPV_MinSize=0||0||0.000000||0.000000||N","VolPV_MinSize=0||0||0.000000||0.000000||N"]
["VolPV_MaxSize=0||0||0.000000||0.000000||N","VolPV_MaxSize=","||0||0.000000||0.000000||N","Max volatility to use (points) ",{"$f":"Input!C82","v":0},{"$f":"Input!D82","v":0},{"$f":"Input!E82","v":0},{"$f":"Input!F82","v":0},{"$f":"Input!G82","v":0},{"$f":"Input!H82","v":0},{"$f":"Input!I82","v":0},{"$f":"Input!J82","v":0},{"$f":"Input!K82","v":0},{"$f":"Input!L82","v":0},{"$f":"Input!M82","v":0},"VolPV_MaxSize=0||0||0.000000||0.000000||N","VolPV_MaxSize=0||0||0.000000||0.000000||N","VolPV_MaxSize=0||0||0.000000||0.000000||N","VolPV_MaxSize=0||0||0.000000||0.000000||N","VolPV_MaxSize=0||0||0.000000||0.000000||N","VolPV_MaxSize=0||0||0.000000||0.000000||N","VolPV_MaxSize=0||0||0.000000||0.000000||N","VolPV_MaxSize=0||0||0.000000||0.000000||N","VolPV_MaxSize=0||0||0.000000||0.000000||N","VolPV_MaxSize=0||0||0.000000||0.000000||N","VolPV_MaxSize=0||0||0.000000||0.000000||N"]
["; Pending entry properties","; Pending entry properties","; Pending entry properties","Pending entry properties ",null,null,null,null,null,null,null,null,null,null,null,{"$f":"$A83","v":"; Pending entry properties"},"; Pending entry properties","; Pending entry properties","; Pending entry properties","; Pending entry properties","; Pending entry properties","; Pending entry properties","; Pending entry properties","; Pending entry properties","; Pending entry properties","; Pending entry properties"]
["Pending_Properties====================================================================================","Pending_Properties====================================================================================","Pending_Properties====================================================================================","Pending entry properties: ",null,null,null,null,null,null,null,null,null,null,null,"Pending_Properties====================================================================================","Pending_Properties====================================================================================","Pending_Properties====================================================================================","Pending_Properties====================================================================================","Pending_Properties====================================================================================","Pending_Properties====================================================================================","Pending_Properties====================================================================================","Pending_Properties====================================================================================","Pending_Properties====================================================================================","Pending_Properties====================================================================================","Pending_Properties===================================================================================="]
["Pending_Type=0||0||0||2||N",{"$f":"_xlfn.CONCAT(LEFT(TRIM(A85),FIND(\"=\",TRIM(A85))-1),\"=\")","v":"Pending_Type="},{"$f":"_xlfn.CONCAT(\"|\",RIGHT(TRIM(A85),LEN(TRIM(A85))-SEARCH(\"|\",TRIM(A85))))","v":"||0||0||2||N"},"Pending entry type ",{"$f":"VLOOKUP(Input!C85,Start!$W$2:$X$4,2,0)","v":2},{"$f":"VLOOKUP(Input!D85,Start!$W$2:$X$4,2,0)","v":2},{"$f":"VLOOKUP(Input!E85,Start!$W$2:$X$4,2,0)","v":2},{"$f":"VLOOKUP(Input!F85,Start!$W$2:$X$4,2,0)","v":2},{"$f":"VLOOKUP(Input!G85,Start!$W$2:$X$4,2,0)","v":2},{"$f":"VLOOKUP(Input!H85,Start!$W$2:$X$4,2,0)","v":2},{"$f":"VLOOKUP(Input!I85,Start!$W$2:$X$4,2,0)","v":2},{"$f":"VLOOKUP(Input!J85,Start!$W$2:$X$4,2,0)","v":2},{"$f":"VLOOKUP(Input!K85,Start!$W$2:$X$4,2,0)","v":2},{"$f":"VLOOKUP(Input!L85,Start!$W$2:$X$4,2,0)","v":2},{"$f":"VLOOKUP(Input!M85,Start!$W$2:$X$4,2,0)","v":2},{"$f":"_xlfn.CONCAT($B85,E85,$C85)","v":"Pending_Type=2||0||0||2||N"},"Pending_Type=2||0||0||2||N","Pending_Type=2||0||0||2||N","Pending_Type=2||0||0||2||N","Pending_Type=2||0||0||2||N","Pending_Type=2||0||0||2||N","Pending_Type=2||0||0||2||N","Pending_Type=2||0||0||2||N","Pending_Type=2||0||0||2||N","Pending_Type=2||0||0||2||N","Pending_Type=2||0||0||2||N"]
["Pending_Distance=0||10||1.000000||100.000000||N","Pending_Distance=","||10||1.000000||100.000000||N","Distance to order ",{"$f":"Input!C86","v":0},{"$f":"Input!D86","v":0},{"$f":"Input!E86","v":0},{"$f":"Input!F86","v":0},{"$f":"Input!G86","v":0},{"$f":"Input!H86","v":0},{"$f":"Input!I86","v":0},{"$f":"Input!J86","v":0},{"$f":"Input!K86","v":0},{"$f":"Input!L86","v":0},{"$f":"Input!M86","v":0},"Pending_Distance=0||10||1.000000||100.000000||N","Pending_Distance=0||10||1.000000||100.000000||N","Pending_Distance=0||10||1.000000||100.000000||N","Pending_Distance=0||10||1.000000||100.000000||N","Pending_Distance=0||10||1.000000||100.000000||N","Pending_Distance=0||10||1.000000||100.000000||N","Pending_Distance=0||10||1.000000||100.000000||N","Pending_Distance=0||10||1.000000||100.000000||N","Pending_Distance=0||10||1.000000||100.000000||N","Pending_Distance=0||10||1.000000||100.000000||N","Pending_Distance=0||10||1.000000||100.000000||N"]
["Pending_Bar=0||2||1||20||N","Pending_Bar=","||2||1||20||N","Extremum bars (O use current price) ",{"$f":"Input!C87","v":0},{"$f":"Input!D87","v":0},{"$f":"Input!E87","v":0},{"$f":"Input!F87","v":0},{"$f":"Input!G87","v":0},{"$f":"Input!H87","v":0},{"$f":"Input!I87","v":0},{"$f":"Input!J87","v":0},{"$f":"Input!K87","v":0},{"$f":"Input!L87","v":0},{"$f":"Input!M87","v":0},"Pending_Bar=0||2||1||20||N","Pending_Bar=0||2||1||20||N","Pending_Bar=0||2||1||20||N","Pending_Bar=0||2||1||20||N","Pending_Bar=0||2||1||20||N","Pending_Bar=0||2||1||20||N","Pending_Bar=0||2||1||20||N","Pending_Bar=0||2||1||20||N","Pending_Bar=0||2||1||20||N","Pending_Bar=0||2||1||20||N","Pending_Bar=0||2||1||20||N"]
["Pending_TrailMode=0||0||0||2||N","Pending_TrailMode=","||0||0||2||N","Trail pendings mode ",{"$f":"VLOOKUP(Input!C88,Start!$Y$2:$Z$4,2,0)","v":2},{"$f":"VLOOKUP(Input!D88,Start!$Y$2:$Z$4,2,0)","v":2},{"$f":"VLOOKUP(Input!E88,Start!$Y$2:$Z$4,2,0)","v":2},{"$f":"VLOOKUP(Input!F88,Start!$Y$2:$Z$4,2,0)","v":2},{"$f":"VLOOKUP(Input!G88,Start!$Y$2:$Z$4,2,0)","v":2},{"$f":"VLOOKUP(Input!H88,Start!$Y$2:$Z$4,2,0)","v":2},{"$f":"VLOOKUP(Input!I88,Start!$Y$2:$Z$4,2,0)","v":2},{"$f":"VLOOKUP(Input!J88,Start!$Y$2:$Z$4,2,0)","v":2},{"$f":"VLOOKUP(Input!K88,Start!$Y$2:$Z$4,2,0)","v":2},{"$f":"VLOOKUP(Input!L88,Start!$Y$2:$Z$4,2,0)","v":2},{"$f":"VLOOKUP(Input!M88,Start!$Y$2:$Z$4,2,0)","v":2},"Pending_TrailMode=2||0||0||2||N","Pending_TrailMode=2||0||0||2||N","Pending_TrailMode=2||0||0||2||N","Pending_TrailMode=2||0||0||2||N","Pending_TrailMode=2||0||0||2||N","Pending_TrailMode=2||0||0||2||N","Pending_TrailMode=2||0||0||2||N","Pending_TrailMode=2||0||0||2||N","Pending_TrailMode=2||0||0||2||N","Pending_TrailMode=2||0||0||2||N","Pending_TrailMode=2||0||0||2||N"]
["Pending_CancelOnOpposite=false||false||0||true||N","Pending_CancelOnOpposite=","||false||0||true||N","Cancel on opposite signal ",{"$f":"VLOOKUP(Input!C89,Start!$G$2:$H$3,2,0)","v":false},{"$f":"VLOOKUP(Input!D89,Start!$G$2:$H$3,2,0)","v":false},{"$f":"VLOOKUP(Input!E89,Start!$G$2:$H$3,2,0)","v":false},{"$f":"VLOOKUP(Input!F89,Start!$G$2:$H$3,2,0)","v":false},{"$f":"VLOOKUP(Input!G89,Start!$G$2:$H$3,2,0)","v":false},{"$f":"VLOOKUP(Input!H89,Start!$G$2:$H$3,2,0)","v":false},{"$f":"VLOOKUP(Input!I89,Start!$G$2:$H$3,2,0)","v":false},{"$f":"VLOOKUP(Input!J89,Start!$G$2:$H$3,2,0)","v":false},{"$f":"VLOOKUP(Input!K89,Start!$G$2:$H$3,2,0)","v":false},{"$f":"VLOOKUP(Input!L89,Start!$G$2:$H$3,2,0)","v":false},{"$f":"VLOOKUP(Input!M89,Start!$G$2:$H$3,2,0)","v":false},"Pending_CancelOnOpposite=FALSE||false||0||true||N","Pending_CancelOnOpposite=FALSE||false||0||true||N","Pending_CancelOnOpposite=FALSE||false||0||true||N","Pending_CancelOnOpposite=FALSE||false||0||true||N","Pending_CancelOnOpposite=FALSE||false||0||true||N","Pending_CancelOnOpposite=FALSE||false||0||true||N","Pending_CancelOnOpposite=FALSE||false||0||true||N","Pending_CancelOnOpposite=FALSE||false||0||true||N","Pending_CancelOnOpposite=FALSE||false||0||true||N","Pending_CancelOnOpposite=FALSE||false||0||true||N","Pending_CancelOnOpposite=FALSE||false||0||true||N"]
["Pending_CancelDistance=0||0||0.000000||0.000000||N","Pending_CancelDistance=","||0||0.000000||0.000000||N","Cancel after distance (O - disable) ",{"$f":"Input!C90","v":0},{"$f":"Input!D90","v":0},{"$f":"Input!E90","v":0},{"$f":"Input!F90","v":0},{"$f":"Input!G90","v":0},{"$f":"Input!H90","v":0},{"$f":"Input!I90","v":0},{"$f":"Input!J90","v":0},{"$f":"Input!K90","v":0},{"$f":"Input!L90","v":0},{"$f":"Input!M90","v":0},"Pending_CancelDistance=0||0||0.000000||0.000000||N","Pending_CancelDistance=0||0||0.000000||0.000000||N","Pending_CancelDistance=0||0||0.000000||0.000000||N","Pending_CancelDistance=0||0||0.000000||0.000000||N","Pending_CancelDistance=0||0||0.000000||0.000000||N","Pending_CancelDistance=0||0||0.000000||0.000000||N","Pending_CancelDistance=0||0||0.000000||0.000000||N","Pending_CancelDistance=0||0||0.000000||0.000000||N","Pending_CancelDistance=0||0||0.000000||0.000000||N","Pending_CancelDistance=0||0||0.000000||0.000000||N","Pending_CancelDistance=0||0||0.000000||0.000000||N"]
["Pending_CancelBar=0||0||1||10||N","Pending_CancelBar=","||0||1||10||N","Cancel after bars (O disable) ",{"$f":"Input!C91","v":0},{"$f":"Input!D91","v":0},{"$f":"Input!E91","v":0},{"$f":"Input!F91","v":0},{"$f":"Input!G91","v":0},{"$f":"Input!H91","v":0},{"$f":"Input!I91","v":0},{"$f":"Input!J91","v":0},{"$f":"Input!K91","v":0},{"$f":"Input!L91","v":0},{"$f":"Input!M91","v":0},"Pending_CancelBar=0||0||1||10||N","Pending_CancelBar=0||0||1||10||N","Pending_CancelBar=0||0||1||10||N","Pending_CancelBar=0||0||1||10||N","Pending_CancelBar=0||0||1||10||N","Pending_CancelBar=0||0||1||10||N","Pending_CancelBar=0||0||1||10||N","Pending_CancelBar=0||0||1||10||N","Pending_CancelBar=0||0||1||10||N","Pending_CancelBar=0||0||1||10||N","Pending_CancelBar=0||0||1||10||N"]
["Pending_Distance_ModeP=0||0||0||1||N","Pending_Distance_ModeP=","||0||0||1||N","Distance calc mode ",{"$f":"VLOOKUP(Input!C92,Start!$AA$2:$AB$3,2,0)","v":0},{"$f":"VLOOKUP(Input!D92,Start!$AA$2:$AB$3,2,0)","v":0},{"$f":"VLOOKUP(Input!E92,Start!$AA$2:$AB$3,2,0)","v":0},{"$f":"VLOOKUP(Input!F92,Start!$AA$2:$AB$3,2,0)","v":0},{"$f":"VLOOKUP(Input!G92,Start!$AA$2:$AB$3,2,0)","v":0},{"$f":"VLOOKUP(Input!H92,Start!$AA$2:$AB$3,2,0)","v":0},{"$f":"VLOOKUP(Input!I92,Start!$AA$2:$AB$3,2,0)","v":0},{"$f":"VLOOKUP(Input!J92,Start!$AA$2:$AB$3,2,0)","v":0},{"$f":"VLOOKUP(Input!K92,Start!$AA$2:$AB$3,2,0)","v":0},{"$f":"VLOOKUP(Input!L92,Start!$AA$2:$AB$3,2,0)","v":0},{"$f":"VLOOKUP(Input!M92,Start!$AA$2:$AB$3,2,0)","v":0},"Pending_Distance_ModeP=0||0||0||1||N","Pending_Distance_ModeP=0||0||0||1||N","Pending_Distance_ModeP=0||0||0||1||N","Pending_Distance_ModeP=0||0||0||1||N","Pending_Distance_ModeP=0||0||0||1||N","Pending_Distance_ModeP=0||0||0||1||N","Pending_Distance_ModeP=0||0||0||1||N","Pending_Distance_ModeP=0||0||0||1||N","Pending_Distance_ModeP=0||0||0||1||N","Pending_Distance_ModeP=0||0||0||1||N","Pending_Distance_ModeP=0||0||0||1||N"]
["Pending_DisableForOpposite=false||false||0||true||N","Pending_DisableForOpposite=","||false||0||true||N","Enter by market if opposite trade is open ",{"$f":"VLOOKUP(Input!C93,Start!$G$2:$H$3,2,0)","v":false},{"$f":"VLOOKUP(Input!D93,Start!$G$2:$H$3,2,0)","v":false},{"$f":"VLOOKUP(Input!E93,Start!$G$2:$H$3,2,0)","v":false},{"$f":"VLOOKUP(Input!F93,Start!$G$2:$H$3,2,0)","v":false},{"$f":"VLOOKUP(Input!G93,Start!$G$2:$H$3,2,0)","v":false},{"$f":"VLOOKUP(Input!H93,Start!$G$2:$H$3,2,0)","v":false},{"$f":"VLOOKUP(Input!I93,Start!$G$2:$H$3,2,0)","v":false},{"$f":"VLOOKUP(Input!J93,Start!$G$2:$H$3,2,0)","v":false},{"$f":"VLOOKUP(Input!K93,Start!$G$2:$H$3,2,0)","v":false},{"$f":"VLOOKUP(Input!L93,Start!$G$2:$H$3,2,0)","v":false},{"$f":"VLOOKUP(Input!M93,Start!$G$2:$H$3,2,0)","v":false},"Pending_DisableForOpposite=FALSE||false||0||true||N","Pending_DisableForOpposite=FALSE||false||0||true||N","Pending_DisableForOpposite=FALSE||false||0||true||N","Pending_DisableForOpposite=FALSE||false||0||true||N","Pending_DisableForOpposite=FALSE||false||0||true||N","Pending_DisableForOpposite=FALSE||false||0||true||N","Pending_DisableForOpposite=FALSE||false||0||true||N","Pending_DisableForOpposite=FALSE||false||0||true||N","Pending_DisableForOpposite=FALSE||false||0||true||N","Pending_DisableForOpposite=FALSE||false||0||true||N","Pending_DisableForOpposite=FALSE||false||0||true||N"]
["Pending_DeleteIfOpposite=false||false||0||true||N","Pending_DeleteIfOpposite=","||false||0||true||N","Delete if opposite trade is open ",{"$f":"VLOOKUP(Input!C94,Start!$G$2:$H$3,2,0)","v":false},{"$f":"VLOOKUP(Input!D94,Start!$G$2:$H$3,2,0)","v":false},{"$f":"VLOOKUP(Input!E94,Start!$G$2:$H$3,2,0)","v":false},{"$f":"VLOOKUP(Input!F94,Start!$G$2:$H$3,2,0)","v":false},{"$f":"VLOOKUP(Input!G94,Start!$G$2:$H$3,2,0)","v":false},{"$f":"VLOOKUP(Input!H94,Start!$G$2:$H$3,2,0)","v":false},{"$f":"VLOOKUP(Input!I94,Start!$G$2:$H$3,2,0)","v":false},{"$f":"VLOOKUP(Input!J94,Start!$G$2:$H$3,2,0)","v":false},{"$f":"VLOOKUP(Input!K94,Start!$G$2:$H$3,2,0)","v":false},{"$f":"VLOOKUP(Input!L94,Start!$G$2:$H$3,2,0)","v":false},{"$f":"VLOOKUP(Input!M94,Start!$G$2:$H$3,2,0)","v":false},"Pending_DeleteIfOpposite=FALSE||false||0||true||N","Pending_DeleteIfOpposite=FALSE||false||0||true||N","Pending_DeleteIfOpposite=FALSE||false||0||true||N","Pending_DeleteIfOpposite=FALSE||false||0||true||N","Pending_DeleteIfOpposite=FALSE||false||0||true||N","Pending_DeleteIfOpposite=FALSE||false||0||true||N","Pending_DeleteIfOpposite=FALSE||false||0||true||N","Pending_DeleteIfOpposite=FALSE||false||0||true||N","Pending_DeleteIfOpposite=FALSE||false||0||true||N","Pending_DeleteIfOpposite=FALSE||false||0||true||N","Pending_DeleteIfOpposite=FALSE||false||0||true||N"]
["; StopLoss properties","; StopLoss properties","; StopLoss properties","Stop Loss properties ",null,null,null,null,null,null,null,null,null,null,null,{"$f":"$A95","v":"; StopLoss properties"},"; StopLoss properties","; StopLoss properties","; StopLoss properties","; StopLoss properties","; StopLoss properties","; StopLoss properties","; StopLoss properties","; StopLoss properties","; StopLoss properties","; StopLoss properties"]
["StopLoss_Properties====================================================================================","StopLoss_Properties====================================================================================","StopLoss_Properties====================================================================================","StopLoss properties: ",null,null,null,null,null,null,null,null,null,null,null,"StopLoss_Properties====================================================================================","StopLoss_Properties====================================================================================","StopLoss_Properties====================================================================================","StopLoss_Properties====================================================================================","StopLoss_Properties====================================================================================","StopLoss_Properties====================================================================================","StopLoss_Properties====================================================================================","StopLoss_Properties====================================================================================","StopLoss_Properties====================================================================================","StopLoss_Properties====================================================================================","StopLoss_Properties===================================================================================="]
["StopLoss=0||250||25.000000||2500.000000||N",{"$f":"_xlfn.CONCAT(LEFT(TRIM(A97),FIND(\"=\",TRIM(A97))-1),\"=\")","v":"StopLoss="},{"$f":"_xlfn.CONCAT(\"|\",RIGHT(TRIM(A97),LEN(TRIM(A97))-SEARCH(\"|\",TRIM(A97))))","v":"||250||25.000000||2500.000000||N"},"StopLoss size (O disable) ",{"$f":"Input!C97","v":0},{"$f":"Input!D97","v":0},{"$f":"Input!E97","v":0},{"$f":"Input!F97","v":0},{"$f":"Input!G97","v":0},{"$f":"Input!H97","v":0},{"$f":"Input!I97","v":0},{"$f":"Input!J97","v":0},{"$f":"Input!K97","v":0},{"$f":"Input!L97","v":0},{"$f":"Input!M97","v":0},{"$f":"_xlfn.CONCAT($B97,E97,$C97)","v":"StopLoss=0||250||25.000000||2500.000000||N"},"StopLoss=0||250||25.000000||2500.000000||N","StopLoss=0||250||25.000000||2500.000000||N","StopLoss=0||250||25.000000||2500.000000||N","StopLoss=0||250||25.000000||2500.000000||N","StopLoss=0||250||25.000000||2500.000000||N","StopLoss=0||250||25.000000||2500.000000||N","StopLoss=0||250||25.000000||2500.000000||N","StopLoss=0||250||25.000000||2500.000000||N","StopLoss=0||250||25.000000||2500.000000||N","StopLoss=0||250||25.000000||2500.000000||N"]
["StopLoss_Mode=0||0||0||2||N","StopLoss_Mode=","||0||0||2||N","StopLoss mode ",{"$f":"VLOOKUP(Input!C98,Start!$AC$2:$AD$4,2,0)","v":1},{"$f":"VLOOKUP(Input!D98,Start!$AC$2:$AD$4,2,0)","v":1},{"$f":"VLOOKUP(Input!E98,Start!$AC$2:$AD$4,2,0)","v":1},{"$f":"VLOOKUP(Input!F98,Start!$AC$2:$AD$4,2,0)","v":1},{"$f":"VLOOKUP(Input!G98,Start!$AC$2:$AD$4,2,0)","v":1},{"$f":"VLOOKUP(Input!H98,Start!$AC$2:$AD$4,2,0)","v":1},{"$f":"VLOOKUP(Input!I98,Start!$AC$2:$AD$4,2,0)","v":1},{"$f":"VLOOKUP(Input!J98,Start!$AC$2:$AD$4,2,0)","v":1},{"$f":"VLOOKUP(Input!K98,Start!$AC$2:$AD$4,2,0)","v":1},{"$f":"VLOOKUP(Input!L98,Start!$AC$2:$AD$4,2,0)","v":1},{"$f":"VLOOKUP(Input!M98,Start!$AC$2:$AD$4,2,0)","v":1},"StopLoss_Mode=1||0||0||2||N","StopLoss_Mode=1||0||0||2||N","StopLoss_Mode=1||0||0||2||N","StopLoss_Mode=1||0||0||2||N","StopLoss_Mode=1||0||0||2||N","StopLoss_Mode=1||0||0||2||N","StopLoss_Mode=1||0||0||2||N","StopLoss_Mode=1||0||0||2||N","StopLoss_Mode=1||0||0||2||N","StopLoss_Mode=1||0||0||2||N","StopLoss_Mode=1||0||0||2||N"]
["StopLoss_ModeP=0||0||0||1||N","StopLoss_ModeP=","||0||0||1||N","StopLoss calc mode ",{"$f":"VLOOKUP(Input!C99,Start!$AA$2:$AB$3,2,0)","v":0},{"$f":"VLOOKUP(Input!D99,Start!$AA$2:$AB$3,2,0)","v":0},{"$f":"VLOOKUP(Input!E99,Start!$AA$2:$AB$3,2,0)","v":0},{"$f":"VLOOKUP(Input!F99,Start!$AA$2:$AB$3,2,0)","v":0},{"$f":"VLOOKUP(Input!G99,Start!$AA$2:$AB$3,2,0)","v":0},{"$f":"VLOOKUP(Input!H99,Start!$AA$2:$AB$3,2,0)","v":0},{"$f":"VLOOKUP(Input!I99,Start!$AA$2:$AB$3,2,0)","v":0},{"$f":"VLOOKUP(Input!J99,Start!$AA$2:$AB$3,2,0)","v":0},{"$f":"VLOOKUP(Input!K99,Start!$AA$2:$AB$3,2,0)","v":0},{"$f":"VLOOKUP(Input!L99,Start!$AA$2:$AB$3,2,0)","v":0},{"$f":"VLOOKUP(Input!M99,Start!$AA$2:$AB$3,2,0)","v":0},"StopLoss_ModeP=0||0||0||1||N","StopLoss_ModeP=0||0||0||1||N","StopLoss_ModeP=0||0||0||1||N","StopLoss_ModeP=0||0||0||1||N","StopLoss_ModeP=0||0||0||1||N","StopLoss_ModeP=0||0||0||1||N","StopLoss_ModeP=0||0||0||1||N","StopLoss_ModeP=0||0||0||1||N","StopLoss_ModeP=0||0||0||1||N","StopLoss_ModeP=0||0||0||1||N","StopLoss_ModeP=0||0||0||1||N"]
["StopLoss_Global========","StopLoss_Global========","StopLoss_Global========","Sum StopLoss (buy + sell) ",null,null,null,null,null,null,null,null,null,null,null,{"$f":"$A100","v":"StopLoss_Global========"},{"$f":"$A100","v":"StopLoss_Global========"},{"$f":"$A100","v":"StopLoss_Global========"},{"$f":"$A100","v":"StopLoss_Global========"},{"$f":"$A100","v":"StopLoss_Global========"},{"$f":"$A100","v":"StopLoss_Global========"},{"$f":"$A100","v":"StopLoss_Global========"},{"$f":"$A100","v":"StopLoss_Global========"},{"$f":"$A100","v":"StopLoss_Global========"},{"$f":"$A100","v":"StopLoss_Global========"},{"$f":"$A100","v":"StopLoss_Global========"}]
["GlobalStopLoss_ccy=0||0||0.000000||0.000000||N",{"$f":"_xlfn.CONCAT(LEFT(TRIM(A101),FIND(\"=\",TRIM(A101))-1),\"=\")","v":"GlobalStopLoss_ccy="},{"$f":"_xlfn.CONCAT(\"|\",RIGHT(TRIM(A101),LEN(TRIM(A101))-SEARCH(\"|\",TRIM(A101))))","v":"||0||0.000000||0.000000||N"},"Sum StopLoss (account currency) (O disable) ",{"$f":"Input!C101","v":0},{"$f":"Input!D101","v":0},{"$f":"Input!E101","v":0},{"$f":"Input!F101","v":0},{"$f":"Input!G101","v":0},{"$f":"Input!H101","v":0},{"$f":"Input!I101","v":0},{"$f":"Input!J101","v":0},{"$f":"Input!K101","v":0},{"$f":"Input!L101","v":0},{"$f":"Input!M101","v":0},{"$f":"_xlfn.CONCAT($B101,E101,$C101)","v":"GlobalStopLoss_ccy=0||0||0.000000||0.000000||N"},"GlobalStopLoss_ccy=0||0||0.000000||0.000000||N","GlobalStopLoss_ccy=0||0||0.000000||0.000000||N","GlobalStopLoss_ccy=0||0||0.000000||0.000000||N","GlobalStopLoss_ccy=0||0||0.000000||0.000000||N","GlobalStopLoss_ccy=0||0||0.000000||0.000000||N","GlobalStopLoss_ccy=0||0||0.000000||0.000000||N","GlobalStopLoss_ccy=0||0||0.000000||0.000000||N","GlobalStopLoss_ccy=0||0||0.000000||0.000000||N","GlobalStopLoss_ccy=0||0||0.000000||0.000000||N","GlobalStopLoss_ccy=0||0||0.000000||0.000000||N"]
["GlobalStopLoss=0||0||0.000000||0.000000||N","GlobalStopLoss=","||0||0.000000||0.000000||N","Sum StopLoss from balance) (O - disable) ",{"$f":"Input!C102","v":0},{"$f":"Input!D102","v":0},{"$f":"Input!E102","v":0},{"$f":"Input!F102","v":0},{"$f":"Input!G102","v":0},{"$f":"Input!H102","v":0},{"$f":"Input!I102","v":0},{"$f":"Input!J102","v":0},{"$f":"Input!K102","v":0},{"$f":"Input!L102","v":0},{"$f":"Input!M102","v":0},"GlobalStopLoss=0||0||0.000000||0.000000||N","GlobalStopLoss=0||0||0.000000||0.000000||N","GlobalStopLoss=0||0||0.000000||0.000000||N","GlobalStopLoss=0||0||0.000000||0.000000||N","GlobalStopLoss=0||0||0.000000||0.000000||N","GlobalStopLoss=0||0||0.000000||0.000000||N","GlobalStopLoss=0||0||0.000000||0.000000||N","GlobalStopLoss=0||0||0.000000||0.000000||N","GlobalStopLoss=0||0||0.000000||0.000000||N","GlobalStopLoss=0||0||0.000000||0.000000||N","GlobalStopLoss=0||0||0.000000||0.000000||N"]
["StopLoss_Pause========","StopLoss_Pause========","StopLoss_Pause========","Pause after loss ",null,null,null,null,null,null,null,null,null,null,null,{"$f":"$A103","v":"StopLoss_Pause========"},{"$f":"$A103","v":"StopLoss_Pause========"},{"$f":"$A103","v":"StopLoss_Pause========"},{"$f":"$A103","v":"StopLoss_Pause========"},{"$f":"$A103","v":"StopLoss_Pause========"},{"$f":"$A103","v":"StopLoss_Pause========"},{"$f":"$A103","v":"StopLoss_Pause========"},{"$f":"$A103","v":"StopLoss_Pause========"},{"$f":"$A103","v":"StopLoss_Pause========"},{"$f":"$A103","v":"StopLoss_Pause========"},{"$f":"$A103","v":"StopLoss_Pause========"}]
["PauseAfterLoss=0||0||1||10||N",{"$f":"_xlfn.CONCAT(LEFT(TRIM(A104),FIND(\"=\",TRIM(A104))-1),\"=\")","v":"PauseAfterLoss="},{"$f":"_xlfn.CONCAT(\"|\",RIGHT(TRIM(A104),LEN(TRIM(A104))-SEARCH(\"|\",TRIM(A104))))","v":"||0||1||10||N"},"Pause after loss (in bars of Signal TF) (O - disable) ",{"$f":"Input!C104","v":0},{"$f":"Input!D104","v":0},{"$f":"Input!E104","v":0},{"$f":"Input!F104","v":0},{"$f":"Input!G104","v":0},{"$f":"Input!H104","v":0},{"$f":"Input!I104","v":0},{"$f":"Input!J104","v":0},{"$f":"Input!K104","v":0},{"$f":"Input!L104","v":0},{"$f":"Input!M104","v":0},{"$f":"_xlfn.CONCAT($B104,E104,$C104)","v":"PauseAfterLoss=0||0||1||10||N"},"PauseAfterLoss=0||0||1||10||N","PauseAfterLoss=0||0||1||10||N","PauseAfterLoss=0||0||1||10||N","PauseAfterLoss=0||0||1||10||N","PauseAfterLoss=0||0||1||10||N","PauseAfterLoss=0||0||1||10||N","PauseAfterLoss=0||0||1||10||N","PauseAfterLoss=0||0||1||10||N","PauseAfterLoss=0||0||1||10||N","PauseAfterLoss=0||0||1||10||N"]
["UseVirtualSL=false||false||0||true||N","UseVirtualSL=","||false||0||true||N","Use virtual StopLoss ",{"$f":"VLOOKUP(Input!C105,Start!$G$2:$H$3,2,0)","v":false},{"$f":"VLOOKUP(Input!D105,Start!$G$2:$H$3,2,0)","v":false},{"$f":"VLOOKUP(Input!E105,Start!$G$2:$H$3,2,0)","v":false},{"$f":"VLOOKUP(Input!F105,Start!$G$2:$H$3,2,0)","v":false},{"$f":"VLOOKUP(Input!G105,Start!$G$2:$H$3,2,0)","v":false},{"$f":"VLOOKUP(Input!H105,Start!$G$2:$H$3,2,0)","v":false},{"$f":"VLOOKUP(Input!I105,Start!$G$2:$H$3,2,0)","v":false},{"$f":"VLOOKUP(Input!J105,Start!$G$2:$H$3,2,0)","v":false},{"$f":"VLOOKUP(Input!K105,Start!$G$2:$H$3,2,0)","v":false},{"$f":"VLOOKUP(Input!L105,Start!$G$2:$H$3,2,0)","v":false},{"$f":"VLOOKUP(Input!M105,Start!$G$2:$H$3,2,0)","v":false},"UseVirtualSL=FALSE||false||0||true||N","UseVirtualSL=FALSE||false||0||true||N","UseVirtualSL=FALSE||false||0||true||N","UseVirtualSL=FALSE||false||0||true||N","UseVirtualSL=FALSE||false||0||true||N","UseVirtualSL=FALSE||false||0||true||N","UseVirtualSL=FALSE||false||0||true||N","UseVirtualSL=FALSE||false||0||true||N","UseVirtualSL=FALSE||false||0||true||N","UseVirtualSL=FALSE||false||0||true||N","UseVirtualSL=FALSE||false||0||true||N"]
["; TakeProfit properties","; TakeProfit properties","; TakeProfit properties","Take Profit properties ",null,null,null,null,null,null,null,null,null,null,null,{"$f":"$A106","v":"; TakeProfit properties"},"; TakeProfit properties","; TakeProfit properties","; TakeProfit properties","; TakeProfit properties","; TakeProfit properties","; TakeProfit properties","; TakeProfit properties","; TakeProfit properties","; TakeProfit properties","; TakeProfit properties"]
["TakeProfit_Properties====================================================================================","TakeProfit_Properties====================================================================================","TakeProfit_Properties====================================================================================","TakeProfit properties: ",null,null,null,null,null,null,null,null,null,null,null,"TakeProfit_Properties====================================================================================","TakeProfit_Properties====================================================================================","TakeProfit_Properties====================================================================================","TakeProfit_Properties====================================================================================","TakeProfit_Properties====================================================================================","TakeProfit_Properties====================================================================================","TakeProfit_Properties====================================================================================","TakeProfit_Properties====================================================================================","TakeProfit_Properties====================================================================================","TakeProfit_Properties====================================================================================","TakeProfit_Properties===================================================================================="]
["TakeProfit=0||11||1||13||N",{"$f":"_xlfn.CONCAT(LEFT(TRIM(A108),FIND(\"=\",TRIM(A108))-1),\"=\")","v":"TakeProfit="},{"$f":"_xlfn.CONCAT(\"|\",RIGHT(TRIM(A108),LEN(TRIM(A108))-SEARCH(\"|\",TRIM(A108))))","v":"||11||1||13||N"},"TakeProfit size (O - disable) ",{"$f":"Input!C108","v":0},{"$f":"Input!D108","v":0},{"$f":"Input!E108","v":0},{"$f":"Input!F108","v":0},{"$f":"Input!G108","v":0},{"$f":"Input!H108","v":0},{"$f":"Input!I108","v":0},{"$f":"Input!J108","v":0},{"$f":"Input!K108","v":0},{"$f":"Input!L108","v":0},{"$f":"Input!M108","v":0},{"$f":"_xlfn.CONCAT($B108,E108,$C108)","v":"TakeProfit=0||11||1||13||N"},{"$f":"_xlfn.CONCAT($B108,F108,$C108)","v":"TakeProfit=0||11||1||13||N"},{"$f":"_xlfn.CONCAT($B108,G108,$C108)","v":"TakeProfit=0||11||1||13||N"},{"$f":"_xlfn.CONCAT($B108,H108,$C108)","v":"TakeProfit=0||11||1||13||N"},{"$f":"_xlfn.CONCAT($B108,I108,$C108)","v":"TakeProfit=0||11||1||13||N"},{"$f":"_xlfn.CONCAT($B108,J108,$C108)","v":"TakeProfit=0||11||1||13||N"},{"$f":"_xlfn.CONCAT($B108,K108,$C108)","v":"TakeProfit=0||11||1||13||N"},{"$f":"_xlfn.CONCAT($B108,L108,$C108)","v":"TakeProfit=0||11||1||13||N"},{"$f":"_xlfn.CONCAT($B108,M108,$C108)","v":"TakeProfit=0||11||1||13||N"},{"$f":"_xlfn.CONCAT($B108,N108,$C108)","v":"TakeProfit=0||11||1||13||N"},{"$f":"_xlfn.CONCAT($B108,O108,$C108)","v":"TakeProfit=0||11||1||13||N"}]
["TakeProfitMode=0||0||0||1||N","TakeProfitMode=","||0||0||1||N","TakeProfit mode ",null,null,null,null,null,null,null,null,null,null,null,{"$f":"_xlfn.CONCAT(B109,E109,C109)","v":"TakeProfitMode=||0||0||1||N"},"||0||0||1||NTakeProfit mode ","TakeProfit mode ","","","","","","","",""]
["TakeProfit_ModeP=0||0||0||1||N","TakeProfit_ModeP=","||0||0||1||N","TakeProfit calc mode ",{"$f":"VLOOKUP(Input!C110,Start!$AA$2:$AB$3,2,0)","v":0},{"$f":"VLOOKUP(Input!D110,Start!$AA$2:$AB$3,2,0)","v":0},{"$f":"VLOOKUP(Input!E110,Start!$AA$2:$AB$3,2,0)","v":0},{"$f":"VLOOKUP(Input!F110,Start!$AA$2:$AB$3,2,0)","v":0},{"$f":"VLOOKUP(Input!G110,Start!$AA$2:$AB$3,2,0)","v":0},{"$f":"VLOOKUP(Input!H110,Start!$AA$2:$AB$3,2,0)","v":0},{"$f":"VLOOKUP(Input!I110,Start!$AA$2:$AB$3,2,0)","v":0},{"$f":"VLOOKUP(Input!J110,Start!$AA$2:$AB$3,2,0)","v":0},{"$f":"VLOOKUP(Input!K110,Start!$AA$2:$AB$3,2,0)","v":0},{"$f":"VLOOKUP(Input!L110,Start!$AA$2:$AB$3,2,0)","v":0},{"$f":"VLOOKUP(Input!M110,Start!$AA$2:$AB$3,2,0)","v":0},{"$f":"_xlfn.CONCAT($B110,E110,$C110)","v":"TakeProfit_ModeP=0||0||0||1||N"},{"$f":"_xlfn.CONCAT($B110,F110,$C110)","v":"TakeProfit_ModeP=0||0||0||1||N"},{"$f":"_xlfn.CONCAT($B110,G110,$C110)","v":"TakeProfit_ModeP=0||0||0||1||N"},{"$f":"_xlfn.CONCAT($B110,H110,$C110)","v":"TakeProfit_ModeP=0||0||0||1||N"},{"$f":"_xlfn.CONCAT($B110,I110,$C110)","v":"TakeProfit_ModeP=0||0||0||1||N"},{"$f":"_xlfn.CONCAT($B110,J110,$C110)","v":"TakeProfit_ModeP=0||0||0||1||N"},{"$f":"_xlfn.CONCAT($B110,K110,$C110)","v":"TakeProfit_ModeP=0||0||0||1||N"},{"$f":"_xlfn.CONCAT($B110,L110,$C110)","v":"TakeProfit_ModeP=0||0||0||1||N"},{"$f":"_xlfn.CONCAT($B110,M110,$C110)","v":"TakeProfit_ModeP=0||0||0||1||N"},{"$f":"_xlfn.CONCAT($B110,N110,$C110)","v":"TakeProfit_ModeP=0||0||0||1||N"},{"$f":"_xlfn.CONCAT($B110,O110,$C110)","v":"TakeProfit_ModeP=0||0||0||1||N"}]
["TakeProfit_ReduceAfter========","TakeProfit_ReduceAfter========","TakeProfit_ReduceAfter========","Reduce TP after minutes ",null,null,null,null,null,null,null,null,null,null,null,{"$f":"$A111","v":"TakeProfit_ReduceAfter========"},{"$f":"$A111","v":"TakeProfit_ReduceAfter========"},{"$f":"$A111","v":"TakeProfit_ReduceAfter========"},{"$f":"$A111","v":"TakeProfit_ReduceAfter========"},{"$f":"$A111","v":"TakeProfit_ReduceAfter========"},{"$f":"$A111","v":"TakeProfit_ReduceAfter========"},{"$f":"$A111","v":"TakeProfit_ReduceAfter========"},{"$f":"$A111","v":"TakeProfit_ReduceAfter========"},{"$f":"$A111","v":"TakeProfit_ReduceAfter========"},{"$f":"$A111","v":"TakeProfit_ReduceAfter========"},{"$f":"$A111","v":"TakeProfit_ReduceAfter========"}]
["TakeProfit_ReduceAfter_mins=0||0||1||10||N",{"$f":"_xlfn.CONCAT(LEFT(TRIM(A112),FIND(\"=\",TRIM(A112))-1),\"=\")","v":"TakeProfit_ReduceAfter_mins="},{"$f":"_xlfn.CONCAT(\"|\",RIGHT(TRIM(A112),LEN(TRIM(A112))-SEARCH(\"|\",TRIM(A112))))","v":"||0||1||10||N"},"Reduce after minutes (O - disable) ",{"$f":"Input!C112","v":0},{"$f":"Input!D112","v":0},{"$f":"Input!E112","v":0},{"$f":"Input!F112","v":0},{"$f":"Input!G112","v":0},{"$f":"Input!H112","v":0},{"$f":"Input!I112","v":0},{"$f":"Input!J112","v":0},{"$f":"Input!K112","v":0},{"$f":"Input!L112","v":0},{"$f":"Input!M112","v":0},{"$f":"_xlfn.CONCAT($B112,E112,$C112)","v":"TakeProfit_ReduceAfter_mins=0||0||1||10||N"},"TakeProfit_ReduceAfter_mins=0||0||1||10||N","TakeProfit_ReduceAfter_mins=0||0||1||10||N","TakeProfit_ReduceAfter_mins=0||0||1||10||N","TakeProfit_ReduceAfter_mins=0||0||1||10||N","TakeProfit_ReduceAfter_mins=0||0||1||10||N","TakeProfit_ReduceAfter_mins=0||0||1||10||N","TakeProfit_ReduceAfter_mins=0||0||1||10||N","TakeProfit_ReduceAfter_mins=0||0||1||10||N","TakeProfit_ReduceAfter_mins=0||0||1||10||N","TakeProfit_ReduceAfter_mins=0||0||1||10||N"]
["TakeProfit_ReduceAfter_coeff=0||0.1||0.010000||1.000000||N","TakeProfit_ReduceAfter_coeff=","||0.1||0.010000||1.000000||N","Reduce coefficient ",{"$f":"Input!C113","v":0},{"$f":"Input!D113","v":0},{"$f":"Input!E113","v":0},{"$f":"Input!F113","v":0},{"$f":"Input!G113","v":0},{"$f":"Input!H113","v":0},{"$f":"Input!I113","v":0},{"$f":"Input!J113","v":0},{"$f":"Input!K113","v":0},{"$f":"Input!L113","v":0},{"$f":"Input!M113","v":0},"TakeProfit_ReduceAfter_coeff=0||0.1||0.010000||1.000000||N","TakeProfit_ReduceAfter_coeff=0||0.1||0.010000||1.000000||N","TakeProfit_ReduceAfter_coeff=0||0.1||0.010000||1.000000||N","TakeProfit_ReduceAfter_coeff=0||0.1||0.010000||1.000000||N","TakeProfit_ReduceAfter_coeff=0||0.1||0.010000||1.000000||N","TakeProfit_ReduceAfter_coeff=0||0.1||0.010000||1.000000||N","TakeProfit_ReduceAfter_coeff=0||0.1||0.010000||1.000000||N","TakeProfit_ReduceAfter_coeff=0||0.1||0.010000||1.000000||N","TakeProfit_ReduceAfter_coeff=0||0.1||0.010000||1.000000||N","TakeProfit_ReduceAfter_coeff=0||0.1||0.010000||1.000000||N","TakeProfit_ReduceAfter_coeff=0||0.1||0.010000||1.000000||N"]
["TakeProfit_ReduceSeries========","TakeProfit_ReduceSeries========","TakeProfit_ReduceSeries========","Reduce TP for every order ",null,null,null,null,null,null,null,null,null,null,null,{"$f":"$A114","v":"TakeProfit_ReduceSeries========"},{"$f":"$A114","v":"TakeProfit_ReduceSeries========"},{"$f":"$A114","v":"TakeProfit_ReduceSeries========"},{"$f":"$A114","v":"TakeProfit_ReduceSeries========"},{"$f":"$A114","v":"TakeProfit_ReduceSeries========"},{"$f":"$A114","v":"TakeProfit_ReduceSeries========"},{"$f":"$A114","v":"TakeProfit_ReduceSeries========"},{"$f":"$A114","v":"TakeProfit_ReduceSeries========"},{"$f":"$A114","v":"TakeProfit_ReduceSeries========"},{"$f":"$A114","v":"TakeProfit_ReduceSeries========"},{"$f":"$A114","v":"TakeProfit_ReduceSeries========"}]
["TakeProfit_ReduceSize=0||0||0.000000||0.000000||N",{"$f":"_xlfn.CONCAT(LEFT(TRIM(A115),FIND(\"=\",TRIM(A115))-1),\"=\")","v":"TakeProfit_ReduceSize="},{"$f":"_xlfn.CONCAT(\"|\",RIGHT(TRIM(A115),LEN(TRIM(A115))-SEARCH(\"|\",TRIM(A115))))","v":"||0||0.000000||0.000000||N"},"Reduce size ",{"$f":"Input!C115","v":0},{"$f":"Input!D115","v":0},{"$f":"Input!E115","v":0},{"$f":"Input!F115","v":0},{"$f":"Input!G115","v":0},{"$f":"Input!H115","v":0},{"$f":"Input!I115","v":0},{"$f":"Input!J115","v":0},{"$f":"Input!K115","v":0},{"$f":"Input!L115","v":0},{"$f":"Input!M115","v":0},{"$f":"_xlfn.CONCAT($B115,E115,$C115)","v":"TakeProfit_ReduceSize=0||0||0.000000||0.000000||N"},"TakeProfit_ReduceSize=0||0||0.000000||0.000000||N","TakeProfit_ReduceSize=0||0||0.000000||0.000000||N","TakeProfit_ReduceSize=0||0||0.000000||0.000000||N","TakeProfit_ReduceSize=0||0||0.000000||0.000000||N","TakeProfit_ReduceSize=0||0||0.000000||0.000000||N","TakeProfit_ReduceSize=0||0||0.000000||0.000000||N","TakeProfit_ReduceSize=0||0||0.000000||0.000000||N","TakeProfit_ReduceSize=0||0||0.000000||0.000000||N","TakeProfit_ReduceSize=0||0||0.000000||0.000000||N","TakeProfit_ReduceSize=0||0||0.000000||0.000000||N"]
["TakeProfit_ReduceCoeff=0||1||0.100000||10.000000||N","TakeProfit_ReduceCoeff=","||1||0.100000||10.000000||N","Reduce coefficient ",{"$f":"Input!C116","v":0},{"$f":"Input!D116","v":0},{"$f":"Input!E116","v":0},{"$f":"Input!F116","v":0},{"$f":"Input!G116","v":0},{"$f":"Input!H116","v":0},{"$f":"Input!I116","v":0},{"$f":"Input!J116","v":0},{"$f":"Input!K116","v":0},{"$f":"Input!L116","v":0},{"$f":"Input!M116","v":0},"TakeProfit_ReduceCoeff=0||1||0.100000||10.000000||N","TakeProfit_ReduceCoeff=0||1||0.100000||10.000000||N","TakeProfit_ReduceCoeff=0||1||0.100000||10.000000||N","TakeProfit_ReduceCoeff=0||1||0.100000||10.000000||N","TakeProfit_ReduceCoeff=0||1||0.100000||10.000000||N","TakeProfit_ReduceCoeff=0||1||0.100000||10.000000||N","TakeProfit_ReduceCoeff=0||1||0.100000||10.000000||N","TakeProfit_ReduceCoeff=0||1||0.100000||10.000000||N","TakeProfit_ReduceCoeff=0||1||0.100000||10.000000||N","TakeProfit_ReduceCoeff=0||1||0.100000||10.000000||N","TakeProfit_ReduceCoeff=0||1||0.100000||10.000000||N"]
["TakeProfit_MinSize=0||0||0.000000||0.000000||N","TakeProfit_MinSize=","||0||0.000000||0.000000||N","Min TakeProfit size (points) ",{"$f":"Input!C117","v":0},{"$f":"Input!D117","v":0},{"$f":"Input!E117","v":0},{"$f":"Input!F117","v":0},{"$f":"Input!G117","v":0},{"$f":"Input!H117","v":0},{"$f":"Input!I117","v":0},{"$f":"Input!J117","v":0},{"$f":"Input!K117","v":0},{"$f":"Input!L117","v":0},{"$f":"Input!M117","v":0},"TakeProfit_MinSize=0||0||0.000000||0.000000||N","TakeProfit_MinSize=0||0||0.000000||0.000000||N","TakeProfit_MinSize=0||0||0.000000||0.000000||N","TakeProfit_MinSize=0||0||0.000000||0.000000||N","TakeProfit_MinSize=0||0||0.000000||0.000000||N","TakeProfit_MinSize=0||0||0.000000||0.000000||N","TakeProfit_MinSize=0||0||0.000000||0.000000||N","TakeProfit_MinSize=0||0||0.000000||0.000000||N","TakeProfit_MinSize=0||0||0.000000||0.000000||N","TakeProfit_MinSize=0||0||0.000000||0.000000||N","TakeProfit_MinSize=0||0||0.000000||0.000000||N"]
["TakeProfit_Global========","TakeProfit_Global========","TakeProfit_Global========","Sum TakeProfit (buy + sell) ",null,null,null,null,null,null,null,null,null,null,null,{"$f":"$A118","v":"TakeProfit_Global========"},{"$f":"$A118","v":"TakeProfit_Global========"},{"$f":"$A118","v":"TakeProfit_Global========"},{"$f":"$A118","v":"TakeProfit_Global========"},{"$f":"$A118","v":"TakeProfit_Global========"},{"$f":"$A118","v":"TakeProfit_Global========"},{"$f":"$A118","v":"TakeProfit_Global========"},{"$f":"$A118","v":"TakeProfit_Global========"},{"$f":"$A118","v":"TakeProfit_Global========"},{"$f":"$A118","v":"TakeProfit_Global========"},{"$f":"$A118","v":"TakeProfit_Global========"}]
["GlobalTakeProfit_ccy=0||0||0.000000||0.000000||N",{"$f":"_xlfn.CONCAT(LEFT(TRIM(A119),FIND(\"=\",TRIM(A119))-1),\"=\")","v":"GlobalTakeProfit_ccy="},{"$f":"_xlfn.CONCAT(\"|\",RIGHT(TRIM(A119),LEN(TRIM(A119))-SEARCH(\"|\",TRIM(A119))))","v":"||0||0.000000||0.000000||N"},"Sum TakeProfit (account currency) (O disable) ",{"$f":"Input!C119","v":0},{"$f":"Input!D119","v":0},{"$f":"Input!E119","v":0},{"$f":"Input!F119","v":0},{"$f":"Input!G119","v":0},{"$f":"Input!H119","v":0},{"$f":"Input!I119","v":0},{"$f":"Input!J119","v":0},{"$f":"Input!K119","v":0},{"$f":"Input!L119","v":0},{"$f":"Input!M119","v":0},{"$f":"_xlfn.CONCAT($B119,E119,$C119)","v":"GlobalTakeProfit_ccy=0||0||0.000000||0.000000||N"},"GlobalTakeProfit_ccy=0||0||0.000000||0.000000||N","GlobalTakeProfit_ccy=0||0||0.000000||0.000000||N","GlobalTakeProfit_ccy=0||0||0.000000||0.000000||N","GlobalTakeProfit_ccy=0||0||0.000000||0.000000||N","GlobalTakeProfit_ccy=0||0||0.000000||0.000000||N","GlobalTakeProfit_ccy=0||0||0.000000||0.000000||N","GlobalTakeProfit_ccy=0||0||0.000000||0.000000||N","GlobalTakeProfit_ccy=0||0||0.000000||0.000000||N","GlobalTakeProfit_ccy=0||0||0.000000||0.000000||N","GlobalTakeProfit_ccy=0||0||0.000000||0.000000||N"]
["GlobalTakeProfit=0||0||0.000000||0.000000||N","GlobalTakeProfit=","||0||0.000000||0.000000||N","Sum TakeProfit from balance) (O - disable) ",{"$f":"Input!C120","v":0},{"$f":"Input!D120","v":0},{"$f":"Input!E120","v":0},{"$f":"Input!F120","v":0},{"$f":"Input!G120","v":0},{"$f":"Input!H120","v":0},{"$f":"Input!I120","v":0},{"$f":"Input!J120","v":0},{"$f":"Input!K120","v":0},{"$f":"Input!L120","v":0},{"$f":"Input!M120","v":0},"GlobalTakeProfit=0||0||0.000000||0.000000||N","GlobalTakeProfit=0||0||0.000000||0.000000||N","GlobalTakeProfit=0||0||0.000000||0.000000||N","GlobalTakeProfit=0||0||0.000000||0.000000||N","GlobalTakeProfit=0||0||0.000000||0.000000||N","GlobalTakeProfit=0||0||0.000000||0.000000||N","GlobalTakeProfit=0||0||0.000000||0.000000||N","GlobalTakeProfit=0||0||0.000000||0.000000||N","GlobalTakeProfit=0||0||0.000000||0.000000||N","GlobalTakeProfit=0||0||0.000000||0.000000||N","GlobalTakeProfit=0||0||0.000000||0.000000||N"]
["GlobalTakeProfit_OnlyLock=false||false||0||true||N","GlobalTakeProfit_OnlyLock=","||false||0||true||N","Sum TakeProfit works if both buy and sell are open ",{"$f":"VLOOKUP(Input!C121,Start!$G$2:$H$3,2,0)","v":false},{"$f":"VLOOKUP(Input!D121,Start!$G$2:$H$3,2,0)","v":false},{"$f":"VLOOKUP(Input!E121,Start!$G$2:$H$3,2,0)","v":false},{"$f":"VLOOKUP(Input!F121,Start!$G$2:$H$3,2,0)","v":false},{"$f":"VLOOKUP(Input!G121,Start!$G$2:$H$3,2,0)","v":false},{"$f":"VLOOKUP(Input!H121,Start!$G$2:$H$3,2,0)","v":false},{"$f":"VLOOKUP(Input!I121,Start!$G$2:$H$3,2,0)","v":false},{"$f":"VLOOKUP(Input!J121,Start!$G$2:$H$3,2,0)","v":false},{"$f":"VLOOKUP(Input!K121,Start!$G$2:$H$3,2,0)","v":false},{"$f":"VLOOKUP(Input!L121,Start!$G$2:$H$3,2,0)","v":false},{"$f":"VLOOKUP(Input!M121,Start!$G$2:$H$3,2,0)","v":false},"GlobalTakeProfit_OnlyLock=FALSE||false||0||true||N","GlobalTakeProfit_OnlyLock=FALSE||false||0||true||N","GlobalTakeProfit_OnlyLock=FALSE||false||0||true||N","GlobalTakeProfit_OnlyLock=FALSE||false||0||true||N","GlobalTakeProfit_OnlyLock=FALSE||false||0||true||N","GlobalTakeProfit_OnlyLock=FALSE||false||0||true||N","GlobalTakeProfit_OnlyLock=FALSE||false||0||true||N","GlobalTakeProfit_OnlyLock=FALSE||false||0||true||N","GlobalTakeProfit_OnlyLock=FALSE||false||0||true||N","GlobalTakeProfit_OnlyLock=FALSE||false||0||true||N","GlobalTakeProfit_OnlyLock=FALSE||false||0||true||N"]
["MinProfitToClose_Properties========","MinProfitToClose_Properties========","MinProfitToClose_Properties========","Min profit to close on signal ",null,null,null,null,null,null,null,null,null,null,null,{"$f":"$A122","v":"MinProfitToClose_Properties========"},{"$f":"$A122","v":"MinProfitToClose_Properties========"},{"$f":"$A122","v":"MinProfitToClose_Properties========"},{"$f":"$A122","v":"MinProfitToClose_Properties========"},{"$f":"$A122","v":"MinProfitToClose_Properties========"},{"$f":"$A122","v":"MinProfitToClose_Properties========"},{"$f":"$A122","v":"MinProfitToClose_Properties========"},{"$f":"$A122","v":"MinProfitToClose_Properties========"},{"$f":"$A122","v":"MinProfitToClose_Properties========"},{"$f":"$A122","v":"MinProfitToClose_Properties========"},{"$f":"$A122","v":"MinProfitToClose_Properties========"}]
["MinProfitToClose=0||-5||5||10||N",{"$f":"_xlfn.CONCAT(LEFT(TRIM(A123),FIND(\"=\",TRIM(A123))-1),\"=\")","v":"MinProfitToClose="},{"$f":"_xlfn.CONCAT(\"|\",RIGHT(TRIM(A123),LEN(TRIM(A123))-SEARCH(\"|\",TRIM(A123))))","v":"||-5||5||10||N"},"Min profit to close on signal ",{"$f":"Input!C123","v":0},{"$f":"Input!D123","v":0},{"$f":"Input!E123","v":0},{"$f":"Input!F123","v":0},{"$f":"Input!G123","v":0},{"$f":"Input!H123","v":0},{"$f":"Input!I123","v":0},{"$f":"Input!J123","v":0},{"$f":"Input!K123","v":0},{"$f":"Input!L123","v":0},{"$f":"Input!M123","v":0},{"$f":"_xlfn.CONCAT($B123,E123,$C123)","v":"MinProfitToClose=0||-5||5||10||N"},"MinProfitToClose=0||-5||5||10||N","MinProfitToClose=0||-5||5||10||N","MinProfitToClose=0||-5||5||10||N","MinProfitToClose=0||-5||5||10||N","MinProfitToClose=0||-5||5||10||N","MinProfitToClose=0||-5||5||10||N","MinProfitToClose=0||-5||5||10||N","MinProfitToClose=0||-5||5||10||N","MinProfitToClose=0||-5||5||10||N","MinProfitToClose=0||-5||5||10||N"]
["MinProfitToClose_ModeP=0||0||0||1||N","MinProfitToClose_ModeP=","||0||0||1||N","Min profit calc mode ",{"$f":"VLOOKUP(Input!C124,Start!$AA$2:$AB$3,2,0)","v":0},{"$f":"VLOOKUP(Input!D124,Start!$AA$2:$AB$3,2,0)","v":0},{"$f":"VLOOKUP(Input!E124,Start!$AA$2:$AB$3,2,0)","v":0},{"$f":"VLOOKUP(Input!F124,Start!$AA$2:$AB$3,2,0)","v":0},{"$f":"VLOOKUP(Input!G124,Start!$AA$2:$AB$3,2,0)","v":0},{"$f":"VLOOKUP(Input!H124,Start!$AA$2:$AB$3,2,0)","v":0},{"$f":"VLOOKUP(Input!I124,Start!$AA$2:$AB$3,2,0)","v":0},{"$f":"VLOOKUP(Input!J124,Start!$AA$2:$AB$3,2,0)","v":0},{"$f":"VLOOKUP(Input!K124,Start!$AA$2:$AB$3,2,0)","v":0},{"$f":"VLOOKUP(Input!L124,Start!$AA$2:$AB$3,2,0)","v":0},{"$f":"VLOOKUP(Input!M124,Start!$AA$2:$AB$3,2,0)","v":0},"MinProfitToClose_ModeP=0||0||0||1||N","MinProfitToClose_ModeP=0||0||0||1||N","MinProfitToClose_ModeP=0||0||0||1||N","MinProfitToClose_ModeP=0||0||0||1||N","MinProfitToClose_ModeP=0||0||0||1||N","MinProfitToClose_ModeP=0||0||0||1||N","MinProfitToClose_ModeP=0||0||0||1||N","MinProfitToClose_ModeP=0||0||0||1||N","MinProfitToClose_ModeP=0||0||0||1||N","MinProfitToClose_ModeP=0||0||0||1||N","MinProfitToClose_ModeP=0||0||0||1||N"]
["UseVirtualTP=false||false||0||true||N","UseVirtualTP=","||false||0||true||N","Use virtual TakeProfit ",{"$f":"VLOOKUP(Input!C125,Start!$G$2:$H$3,2,0)","v":false},{"$f":"VLOOKUP(Input!D125,Start!$G$2:$H$3,2,0)","v":false},{"$f":"VLOOKUP(Input!E125,Start!$G$2:$H$3,2,0)","v":false},{"$f":"VLOOKUP(Input!F125,Start!$G$2:$H$3,2,0)","v":false},{"$f":"VLOOKUP(Input!G125,Start!$G$2:$H$3,2,0)","v":false},{"$f":"VLOOKUP(Input!H125,Start!$G$2:$H$3,2,0)","v":false},{"$f":"VLOOKUP(Input!I125,Start!$G$2:$H$3,2,0)","v":false},{"$f":"VLOOKUP(Input!J125,Start!$G$2:$H$3,2,0)","v":false},{"$f":"VLOOKUP(Input!K125,Start!$G$2:$H$3,2,0)","v":false},{"$f":"VLOOKUP(Input!L125,Start!$G$2:$H$3,2,0)","v":false},{"$f":"VLOOKUP(Input!M125,Start!$G$2:$H$3,2,0)","v":false},"UseVirtualTP=FALSE||false||0||true||N","UseVirtualTP=FALSE||false||0||true||N","UseVirtualTP=FALSE||false||0||true||N","UseVirtualTP=FALSE||false||0||true||N","UseVirtualTP=FALSE||false||0||true||N","UseVirtualTP=FALSE||false||0||true||N","UseVirtualTP=FALSE||false||0||true||N","UseVirtualTP=FALSE||false||0||true||N","UseVirtualTP=FALSE||false||0||true||N","UseVirtualTP=FALSE||false||0||true||N","UseVirtualTP=FALSE||false||0||true||N"]
["; TrailingStop properties","; TrailingStop properties","; TrailingStop properties","TrailingStop p rope rties ",null,null,null,null,null,null,null,null,null,null,null,{"$f":"$A126","v":"; TrailingStop properties"},"; TrailingStop properties","; TrailingStop properties","; TrailingStop properties","; TrailingStop properties","; TrailingStop properties","; TrailingStop properties","; TrailingStop properties","; TrailingStop properties","; TrailingStop properties","; TrailingStop properties"]
["TrailingStop_Properties====================================================================================","TrailingStop_Properties====================================================================================","TrailingStop_Properties====================================================================================","TrailingStop properties: ",null,null,null,null,null,null,null,null,null,null,null,"TrailingStop_Properties====================================================================================","TrailingStop_Properties====================================================================================","TrailingStop_Properties====================================================================================","TrailingStop_Properties====================================================================================","TrailingStop_Properties====================================================================================","TrailingStop_Properties====================================================================================","TrailingStop_Properties====================================================================================","TrailingStop_Properties====================================================================================","TrailingStop_Properties====================================================================================","TrailingStop_Properties====================================================================================","TrailingStop_Properties===================================================================================="]
["TrailingStop=0||5||20||100||N",{"$f":"_xlfn.CONCAT(LEFT(TRIM(A128),FIND(\"=\",TRIM(A128))-1),\"=\")","v":"TrailingStop="},{"$f":"_xlfn.CONCAT(\"|\",RIGHT(TRIM(A128),LEN(TRIM(A128))-SEARCH(\"|\",TRIM(A128))))","v":"||5||20||100||N"},"TrailingStop size (O - disable) ",{"$f":"Input!C128","v":0},{"$f":"Input!D128","v":0},{"$f":"Input!E128","v":0},{"$f":"Input!F128","v":0},{"$f":"Input!G128","v":0},{"$f":"Input!H128","v":0},{"$f":"Input!I128","v":0},{"$f":"Input!J128","v":0},{"$f":"Input!K128","v":0},{"$f":"Input!L128","v":0},{"$f":"Input!M128","v":0},{"$f":"_xlfn.CONCAT($B128,E128,$C128)","v":"TrailingStop=0||5||20||100||N"},"TrailingStop=0||5||20||100||N","TrailingStop=0||5||20||100||N","TrailingStop=0||5||20||100||N","TrailingStop=0||5||20||100||N","TrailingStop=0||5||20||100||N","TrailingStop=0||5||20||100||N","TrailingStop=0||5||20||100||N","TrailingStop=0||5||20||100||N","TrailingStop=0||5||20||100||N","TrailingStop=0||5||20||100||N"]
["TrailingStep=0||5||20||100||N","TrailingStep=","||5||20||100||N","Trailing Step ",{"$f":"Input!C129","v":0},{"$f":"Input!D129","v":0},{"$f":"Input!E129","v":0},{"$f":"Input!F129","v":0},{"$f":"Input!G129","v":0},{"$f":"Input!H129","v":0},{"$f":"Input!I129","v":0},{"$f":"Input!J129","v":0},{"$f":"Input!K129","v":0},{"$f":"Input!L129","v":0},{"$f":"Input!M129","v":0},"TrailingStep=0||5||20||100||N","TrailingStep=0||5||20||100||N","TrailingStep=0||5||20||100||N","TrailingStep=0||5||20||100||N","TrailingStep=0||5||20||100||N","TrailingStep=0||5||20||100||N","TrailingStep=0||5||20||100||N","TrailingStep=0||5||20||100||N","TrailingStep=0||5||20||100||N","TrailingStep=0||5||20||100||N","TrailingStep=0||5||20||100||N"]
["TrailingStopAfter=0||5||20||100||N","TrailingStopAfter=","||5||20||100||N","Start trailing after (O - start from zero profit) ",{"$f":"Input!C130","v":0},{"$f":"Input!D130","v":0},{"$f":"Input!E130","v":0},{"$f":"Input!F130","v":0},{"$f":"Input!G130","v":0},{"$f":"Input!H130","v":0},{"$f":"Input!I130","v":0},{"$f":"Input!J130","v":0},{"$f":"Input!K130","v":0},{"$f":"Input!L130","v":0},{"$f":"Input!M130","v":0},"TrailingStopAfter=0||5||20||100||N","TrailingStopAfter=0||5||20||100||N","TrailingStopAfter=0||5||20||100||N","TrailingStopAfter=0||5||20||100||N","TrailingStopAfter=0||5||20||100||N","TrailingStopAfter=0||5||20||100||N","TrailingStopAfter=0||5||20||100||N","TrailingStopAfter=0||5||20||100||N","TrailingStopAfter=0||5||20||100||N","TrailingStopAfter=0||5||20||100||N","TrailingStopAfter=0||5||20||100||N"]
["TrailingIncreaseEvery=0||0||0.000000||0.000000||N","TrailingIncreaseEvery=","||0||0.000000||0.000000||N","Increase trailing every (O disable) ",{"$f":"Input!C131","v":0},{"$f":"Input!D131","v":0},{"$f":"Input!E131","v":0},{"$f":"Input!F131","v":0},{"$f":"Input!G131","v":0},{"$f":"Input!H131","v":0},{"$f":"Input!I131","v":0},{"$f":"Input!J131","v":0},{"$f":"Input!K131","v":0},{"$f":"Input!L131","v":0},{"$f":"Input!M131","v":0},"TrailingIncreaseEvery=0||0||0.000000||0.000000||N","TrailingIncreaseEvery=0||0||0.000000||0.000000||N","TrailingIncreaseEvery=0||0||0.000000||0.000000||N","TrailingIncreaseEvery=0||0||0.000000||0.000000||N","TrailingIncreaseEvery=0||0||0.000000||0.000000||N","TrailingIncreaseEvery=0||0||0.000000||0.000000||N","TrailingIncreaseEvery=0||0||0.000000||0.000000||N","TrailingIncreaseEvery=0||0||0.000000||0.000000||N","TrailingIncreaseEvery=0||0||0.000000||0.000000||N","TrailingIncreaseEvery=0||0||0.000000||0.000000||N","TrailingIncreaseEvery=0||0||0.000000||0.000000||N"]
["TrailingIncreaseSize=0||0||0.000000||0.000000||N","TrailingIncreaseSize=","||0||0.000000||0.000000||N","Increase size ",{"$f":"Input!C132","v":0},{"$f":"Input!D132","v":0},{"$f":"Input!E132","v":0},{"$f":"Input!F132","v":0},{"$f":"Input!G132","v":0},{"$f":"Input!H132","v":0},{"$f":"Input!I132","v":0},{"$f":"Input!J132","v":0},{"$f":"Input!K132","v":0},{"$f":"Input!L132","v":0},{"$f":"Input!M132","v":0},"TrailingIncreaseSize=0||0||0.000000||0.000000||N","TrailingIncreaseSize=0||0||0.000000||0.000000||N","TrailingIncreaseSize=0||0||0.000000||0.000000||N","TrailingIncreaseSize=0||0||0.000000||0.000000||N","TrailingIncreaseSize=0||0||0.000000||0.000000||N","TrailingIncreaseSize=0||0||0.000000||0.000000||N","TrailingIncreaseSize=0||0||0.000000||0.000000||N","TrailingIncreaseSize=0||0||0.000000||0.000000||N","TrailingIncreaseSize=0||0||0.000000||0.000000||N","TrailingIncreaseSize=0||0||0.000000||0.000000||N","TrailingIncreaseSize=0||0||0.000000||0.000000||N"]
["TrailingDecreaseEveryMinutes=0||0||1||10||N","TrailingDecreaseEveryMinutes=","||0||1||10||N","Decrease trailing every minutes (O disable) ",{"$f":"Input!C133","v":0},{"$f":"Input!D133","v":0},{"$f":"Input!E133","v":0},{"$f":"Input!F133","v":0},{"$f":"Input!G133","v":0},{"$f":"Input!H133","v":0},{"$f":"Input!I133","v":0},{"$f":"Input!J133","v":0},{"$f":"Input!K133","v":0},{"$f":"Input!L133","v":0},{"$f":"Input!M133","v":0},"TrailingDecreaseEveryMinutes=0||0||1||10||N","TrailingDecreaseEveryMinutes=0||0||1||10||N","TrailingDecreaseEveryMinutes=0||0||1||10||N","TrailingDecreaseEveryMinutes=0||0||1||10||N","TrailingDecreaseEveryMinutes=0||0||1||10||N","TrailingDecreaseEveryMinutes=0||0||1||10||N","TrailingDecreaseEveryMinutes=0||0||1||10||N","TrailingDecreaseEveryMinutes=0||0||1||10||N","TrailingDecreaseEveryMinutes=0||0||1||10||N","TrailingDecreaseEveryMinutes=0||0||1||10||N","TrailingDecreaseEveryMinutes=0||0||1||10||N"]
["TrailingDecreaseCoeff=0||0.9||0.090000||9.000000||N","TrailingDecreaseCoeff=","||0.9||0.090000||9.000000||N","Decrease coefficient ",{"$f":"Input!C134","v":0},{"$f":"Input!D134","v":0},{"$f":"Input!E134","v":0},{"$f":"Input!F134","v":0},{"$f":"Input!G134","v":0},{"$f":"Input!H134","v":0},{"$f":"Input!I134","v":0},{"$f":"Input!J134","v":0},{"$f":"Input!K134","v":0},{"$f":"Input!L134","v":0},{"$f":"Input!M134","v":0},"TrailingDecreaseCoeff=0||0.9||0.090000||9.000000||N","TrailingDecreaseCoeff=0||0.9||0.090000||9.000000||N","TrailingDecreaseCoeff=0||0.9||0.090000||9.000000||N","TrailingDecreaseCoeff=0||0.9||0.090000||9.000000||N","TrailingDecreaseCoeff=0||0.9||0.090000||9.000000||N","TrailingDecreaseCoeff=0||0.9||0.090000||9.000000||N","TrailingDecreaseCoeff=0||0.9||0.090000||9.000000||N","TrailingDecreaseCoeff=0||0.9||0.090000||9.000000||N","TrailingDecreaseCoeff=0||0.9||0.090000||9.000000||N","TrailingDecreaseCoeff=0||0.9||0.090000||9.000000||N","TrailingDecreaseCoeff=0||0.9||0.090000||9.000000||N"]
["TrailingDecreaseStartAfter=0||0||1||10||N","TrailingDecreaseStartAfter=","||0||1||10||N","Decrease start after minutes ",{"$f":"Input!C135","v":0},{"$f":"Input!D135","v":0},{"$f":"Input!E135","v":0},{"$f":"Input!F135","v":0},{"$f":"Input!G135","v":0},{"$f":"Input!H135","v":0},{"$f":"Input!I135","v":0},{"$f":"Input!J135","v":0},{"$f":"Input!K135","v":0},{"$f":"Input!L135","v":0},{"$f":"Input!M135","v":0},"TrailingDecreaseStartAfter=0||0||1||10||N","TrailingDecreaseStartAfter=0||0||1||10||N","TrailingDecreaseStartAfter=0||0||1||10||N","TrailingDecreaseStartAfter=0||0||1||10||N","TrailingDecreaseStartAfter=0||0||1||10||N","TrailingDecreaseStartAfter=0||0||1||10||N","TrailingDecreaseStartAfter=0||0||1||10||N","TrailingDecreaseStartAfter=0||0||1||10||N","TrailingDecreaseStartAfter=0||0||1||10||N","TrailingDecreaseStartAfter=0||0||1||10||N","TrailingDecreaseStartAfter=0||0||1||10||N"]
["TrailingMinSize=0||0||0.000000||0.000000||N","TrailingMinSize=","||0||0.000000||0.000000||N","TrailingStop min size ",{"$f":"Input!C136","v":0},{"$f":"Input!D136","v":0},{"$f":"Input!E136","v":0},{"$f":"Input!F136","v":0},{"$f":"Input!G136","v":0},{"$f":"Input!H136","v":0},{"$f":"Input!I136","v":0},{"$f":"Input!J136","v":0},{"$f":"Input!K136","v":0},{"$f":"Input!L136","v":0},{"$f":"Input!M136","v":0},"TrailingMinSize=0||0||0.000000||0.000000||N","TrailingMinSize=0||0||0.000000||0.000000||N","TrailingMinSize=0||0||0.000000||0.000000||N","TrailingMinSize=0||0||0.000000||0.000000||N","TrailingMinSize=0||0||0.000000||0.000000||N","TrailingMinSize=0||0||0.000000||0.000000||N","TrailingMinSize=0||0||0.000000||0.000000||N","TrailingMinSize=0||0||0.000000||0.000000||N","TrailingMinSize=0||0||0.000000||0.000000||N","TrailingMinSize=0||0||0.000000||0.000000||N","TrailingMinSize=0||0||0.000000||0.000000||N"]
["TrailingMaxSize=0||0||0.000000||0.000000||N","TrailingMaxSize=","||0||0.000000||0.000000||N","TrailingStop max size ",{"$f":"Input!C137","v":0},{"$f":"Input!D137","v":0},{"$f":"Input!E137","v":0},{"$f":"Input!F137","v":0},{"$f":"Input!G137","v":0},{"$f":"Input!H137","v":0},{"$f":"Input!I137","v":0},{"$f":"Input!J137","v":0},{"$f":"Input!K137","v":0},{"$f":"Input!L137","v":0},{"$f":"Input!M137","v":0},"TrailingMaxSize=0||0||0.000000||0.000000||N","TrailingMaxSize=0||0||0.000000||0.000000||N","TrailingMaxSize=0||0||0.000000||0.000000||N","TrailingMaxSize=0||0||0.000000||0.000000||N","TrailingMaxSize=0||0||0.000000||0.000000||N","TrailingMaxSize=0||0||0.000000||0.000000||N","TrailingMaxSize=0||0||0.000000||0.000000||N","TrailingMaxSize=0||0||0.000000||0.000000||N","TrailingMaxSize=0||0||0.000000||0.000000||N","TrailingMaxSize=0||0||0.000000||0.000000||N","TrailingMaxSize=0||0||0.000000||0.000000||N"]
["TrailingStopMode=0||0||0||1||N","TrailingStopMode=","||0||0||1||N","TrailingStop mode ",{"$f":"VLOOKUP(Input!C138,Start!$AC$2:$AD$4,2,0)","v":1},{"$f":"VLOOKUP(Input!D138,Start!$AC$2:$AD$4,2,0)","v":1},{"$f":"VLOOKUP(Input!E138,Start!$AC$2:$AD$4,2,0)","v":1},{"$f":"VLOOKUP(Input!F138,Start!$AC$2:$AD$4,2,0)","v":1},{"$f":"VLOOKUP(Input!G138,Start!$AC$2:$AD$4,2,0)","v":1},{"$f":"VLOOKUP(Input!H138,Start!$AC$2:$AD$4,2,0)","v":1},{"$f":"VLOOKUP(Input!I138,Start!$AC$2:$AD$4,2,0)","v":1},{"$f":"VLOOKUP(Input!J138,Start!$AC$2:$AD$4,2,0)","v":1},{"$f":"VLOOKUP(Input!K138,Start!$AC$2:$AD$4,2,0)","v":1},{"$f":"VLOOKUP(Input!L138,Start!$AC$2:$AD$4,2,0)","v":1},{"$f":"VLOOKUP(Input!M138,Start!$AC$2:$AD$4,2,0)","v":1},"TrailingStopMode=1||0||0||1||N","TrailingStopMode=1||0||0||1||N","TrailingStopMode=1||0||0||1||N","TrailingStopMode=1||0||0||1||N","TrailingStopMode=1||0||0||1||N","TrailingStopMode=1||0||0||1||N","TrailingStopMode=1||0||0||1||N","TrailingStopMode=1||0||0||1||N","TrailingStopMode=1||0||0||1||N","TrailingStopMode=1||0||0||1||N","TrailingStopMode=1||0||0||1||N"]
["TrailingStop_ModeP=0||0||0||1||N","TrailingStop_ModeP=","||0||0||1||N","TrailingStop calc mode ",{"$f":"VLOOKUP(Input!C139,Start!$AA$2:$AB$3,2,0)","v":0},{"$f":"VLOOKUP(Input!D139,Start!$AA$2:$AB$3,2,0)","v":0},{"$f":"VLOOKUP(Input!E139,Start!$AA$2:$AB$3,2,0)","v":0},{"$f":"VLOOKUP(Input!F139,Start!$AA$2:$AB$3,2,0)","v":0},{"$f":"VLOOKUP(Input!G139,Start!$AA$2:$AB$3,2,0)","v":0},{"$f":"VLOOKUP(Input!H139,Start!$AA$2:$AB$3,2,0)","v":0},{"$f":"VLOOKUP(Input!I139,Start!$AA$2:$AB$3,2,0)","v":0},{"$f":"VLOOKUP(Input!J139,Start!$AA$2:$AB$3,2,0)","v":0},{"$f":"VLOOKUP(Input!K139,Start!$AA$2:$AB$3,2,0)","v":0},{"$f":"VLOOKUP(Input!L139,Start!$AA$2:$AB$3,2,0)","v":0},{"$f":"VLOOKUP(Input!M139,Start!$AA$2:$AB$3,2,0)","v":0},"TrailingStop_ModeP=0||0||0||1||N","TrailingStop_ModeP=0||0||0||1||N","TrailingStop_ModeP=0||0||0||1||N","TrailingStop_ModeP=0||0||0||1||N","TrailingStop_ModeP=0||0||0||1||N","TrailingStop_ModeP=0||0||0||1||N","TrailingStop_ModeP=0||0||0||1||N","TrailingStop_ModeP=0||0||0||1||N","TrailingStop_ModeP=0||0||0||1||N","TrailingStop_ModeP=0||0||0||1||N","TrailingStop_ModeP=0||0||0||1||N"]
["; Martingale properties","; Martingale properties","; Martingale properties","Martingale properties ",null,null,null,null,null,null,null,null,null,null,null,{"$f":"$A140","v":"; Martingale properties"},"; Martingale properties","; Martingale properties","; Martingale properties","; Martingale properties","; Martingale properties","; Martingale properties","; Martingale properties","; Martingale properties","; Martingale properties","; Martingale properties"]
["Martingale_Properties====================================================================================","Martingale_Properties====================================================================================","Martingale_Properties====================================================================================","Martingale properties: ",null,null,null,null,null,null,null,null,null,null,null,"Martingale_Properties====================================================================================","Martingale_Properties====================================================================================","Martingale_Properties====================================================================================","Martingale_Properties====================================================================================","Martingale_Properties====================================================================================","Martingale_Properties====================================================================================","Martingale_Properties====================================================================================","Martingale_Properties====================================================================================","Martingale_Properties====================================================================================","Martingale_Properties====================================================================================","Martingale_Properties===================================================================================="]
["MartingailType=0||0||0||3||N",{"$f":"_xlfn.CONCAT(LEFT(TRIM(A142),FIND(\"=\",TRIM(A142))-1),\"=\")","v":"MartingailType="},{"$f":"_xlfn.CONCAT(\"|\",RIGHT(TRIM(A142),LEN(TRIM(A142))-SEARCH(\"|\",TRIM(A142))))","v":"||0||0||3||N"},"Martingale type ",{"$f":"VLOOKUP(Input!C142,Start!$AE$2:$AF$3,2,0)","v":1},{"$f":"VLOOKUP(Input!D142,Start!$AE$2:$AF$3,2,0)","v":1},{"$f":"VLOOKUP(Input!E142,Start!$AE$2:$AF$3,2,0)","v":1},{"$f":"VLOOKUP(Input!F142,Start!$AE$2:$AF$3,2,0)","v":1},{"$f":"VLOOKUP(Input!G142,Start!$AE$2:$AF$3,2,0)","v":1},{"$f":"VLOOKUP(Input!H142,Start!$AE$2:$AF$3,2,0)","v":1},{"$f":"VLOOKUP(Input!I142,Start!$AE$2:$AF$3,2,0)","v":1},{"$f":"VLOOKUP(Input!J142,Start!$AE$2:$AF$3,2,0)","v":1},{"$f":"VLOOKUP(Input!K142,Start!$AE$2:$AF$3,2,0)","v":1},{"$f":"VLOOKUP(Input!L142,Start!$AE$2:$AF$3,2,0)","v":1},{"$f":"VLOOKUP(Input!M142,Start!$AE$2:$AF$3,2,0)","v":1},{"$f":"_xlfn.CONCAT($B142,E142,$C142)","v":"MartingailType=1||0||0||3||N"},"MartingailType=1||0||0||3||N","MartingailType=1||0||0||3||N","MartingailType=1||0||0||3||N","MartingailType=1||0||0||3||N","MartingailType=1||0||0||3||N","MartingailType=1||0||0||3||N","MartingailType=1||0||0||3||N","MartingailType=1||0||0||3||N","MartingailType=1||0||0||3||N","MartingailType=1||0||0||3||N"]
["MaxTrades=0||5||1||50||N","MaxTrades=","||5||1||50||N","Max trades in one direction ",{"$f":"Input!C143","v":0},{"$f":"Input!D143","v":0},{"$f":"Input!E143","v":0},{"$f":"Input!F143","v":0},{"$f":"Input!G143","v":0},{"$f":"Input!H143","v":0},{"$f":"Input!I143","v":0},{"$f":"Input!J143","v":0},{"$f":"Input!K143","v":0},{"$f":"Input!L143","v":0},{"$f":"Input!M143","v":0},"MaxTrades=0||5||1||50||N","MaxTrades=0||5||1||50||N","MaxTrades=0||5||1||50||N","MaxTrades=0||5||1||50||N","MaxTrades=0||5||1||50||N","MaxTrades=0||5||1||50||N","MaxTrades=0||5||1||50||N","MaxTrades=0||5||1||50||N","MaxTrades=0||5||1||50||N","MaxTrades=0||5||1||50||N","MaxTrades=0||5||1||50||N"]
["MartingailOnTheBarEnd=false||false||0||true||N","MartingailOnTheBarEnd=","||false||0||true||N","New deal on the end of the bar only ",{"$f":"VLOOKUP(Input!C144,Start!$G$2:$H$3,2,0)","v":false},{"$f":"VLOOKUP(Input!D144,Start!$G$2:$H$3,2,0)","v":false},{"$f":"VLOOKUP(Input!E144,Start!$G$2:$H$3,2,0)","v":false},{"$f":"VLOOKUP(Input!F144,Start!$G$2:$H$3,2,0)","v":false},{"$f":"VLOOKUP(Input!G144,Start!$G$2:$H$3,2,0)","v":false},{"$f":"VLOOKUP(Input!H144,Start!$G$2:$H$3,2,0)","v":false},{"$f":"VLOOKUP(Input!I144,Start!$G$2:$H$3,2,0)","v":false},{"$f":"VLOOKUP(Input!J144,Start!$G$2:$H$3,2,0)","v":false},{"$f":"VLOOKUP(Input!K144,Start!$G$2:$H$3,2,0)","v":false},{"$f":"VLOOKUP(Input!L144,Start!$G$2:$H$3,2,0)","v":false},{"$f":"VLOOKUP(Input!M144,Start!$G$2:$H$3,2,0)","v":false},"MartingailOnTheBarEnd=FALSE||false||0||true||N","MartingailOnTheBarEnd=FALSE||false||0||true||N","MartingailOnTheBarEnd=FALSE||false||0||true||N","MartingailOnTheBarEnd=FALSE||false||0||true||N","MartingailOnTheBarEnd=FALSE||false||0||true||N","MartingailOnTheBarEnd=FALSE||false||0||true||N","MartingailOnTheBarEnd=FALSE||false||0||true||N","MartingailOnTheBarEnd=FALSE||false||0||true||N","MartingailOnTheBarEnd=FALSE||false||0||true||N","MartingailOnTheBarEnd=FALSE||false||0||true||N","MartingailOnTheBarEnd=FALSE||false||0||true||N"]
["MinPause_Bars=0||0||1||1||N","MinPause_Bars=","||0||1||1||N","Min pause between trades (in bars of Signal TF) ",{"$f":"Input!C145","v":0},{"$f":"Input!D145","v":0},{"$f":"Input!E145","v":0},{"$f":"Input!F145","v":0},{"$f":"Input!G145","v":0},{"$f":"Input!H145","v":0},{"$f":"Input!I145","v":0},{"$f":"Input!J145","v":0},{"$f":"Input!K145","v":0},{"$f":"Input!L145","v":0},{"$f":"Input!M145","v":0},"MinPause_Bars=0||0||1||1||N","MinPause_Bars=0||0||1||1||N","MinPause_Bars=0||0||1||1||N","MinPause_Bars=0||0||1||1||N","MinPause_Bars=0||0||1||1||N","MinPause_Bars=0||0||1||1||N","MinPause_Bars=0||0||1||1||N","MinPause_Bars=0||0||1||1||N","MinPause_Bars=0||0||1||1||N","MinPause_Bars=0||0||1||1||N","MinPause_Bars=0||0||1||1||N"]
["UseOnlyOpenedTrades=true||false||0||true||N","UseOnlyOpenedTrades=","||false||0||true||N","Use only opened trades for time filters ",{"$f":"VLOOKUP(Input!C146,Start!$G$2:$H$3,2,0)","v":false},{"$f":"VLOOKUP(Input!D146,Start!$G$2:$H$3,2,0)","v":false},{"$f":"VLOOKUP(Input!E146,Start!$G$2:$H$3,2,0)","v":false},{"$f":"VLOOKUP(Input!F146,Start!$G$2:$H$3,2,0)","v":false},{"$f":"VLOOKUP(Input!G146,Start!$G$2:$H$3,2,0)","v":false},{"$f":"VLOOKUP(Input!H146,Start!$G$2:$H$3,2,0)","v":false},{"$f":"VLOOKUP(Input!I146,Start!$G$2:$H$3,2,0)","v":false},{"$f":"VLOOKUP(Input!J146,Start!$G$2:$H$3,2,0)","v":false},{"$f":"VLOOKUP(Input!K146,Start!$G$2:$H$3,2,0)","v":false},{"$f":"VLOOKUP(Input!L146,Start!$G$2:$H$3,2,0)","v":false},{"$f":"VLOOKUP(Input!M146,Start!$G$2:$H$3,2,0)","v":false},"UseOnlyOpenedTrades=FALSE||false||0||true||N","UseOnlyOpenedTrades=FALSE||false||0||true||N","UseOnlyOpenedTrades=FALSE||false||0||true||N","UseOnlyOpenedTrades=FALSE||false||0||true||N","UseOnlyOpenedTrades=FALSE||false||0||true||N","UseOnlyOpenedTrades=FALSE||false||0||true||N","UseOnlyOpenedTrades=FALSE||false||0||true||N","UseOnlyOpenedTrades=FALSE||false||0||true||N","UseOnlyOpenedTrades=FALSE||false||0||true||N","UseOnlyOpenedTrades=FALSE||false||0||true||N","UseOnlyOpenedTrades=FALSE||false||0||true||N"]
["MartingailLotMode=2||0||0||2||N","MartingailLotMode=","||0||0||2||N","Lot increasing mode ",{"$f":"VLOOKUP(Input!C147,Start!$AG$2:$AH$9,2,0)","v":3},{"$f":"VLOOKUP(Input!D147,Start!$AG$2:$AH$9,2,0)","v":3},{"$f":"VLOOKUP(Input!E147,Start!$AG$2:$AH$9,2,0)","v":3},{"$f":"VLOOKUP(Input!F147,Start!$AG$2:$AH$9,2,0)","v":3},{"$f":"VLOOKUP(Input!G147,Start!$AG$2:$AH$9,2,0)","v":3},{"$f":"VLOOKUP(Input!H147,Start!$AG$2:$AH$9,2,0)","v":3},{"$f":"VLOOKUP(Input!I147,Start!$AG$2:$AH$9,2,0)","v":3},{"$f":"VLOOKUP(Input!J147,Start!$AG$2:$AH$9,2,0)","v":3},{"$f":"VLOOKUP(Input!K147,Start!$AG$2:$AH$9,2,0)","v":3},{"$f":"VLOOKUP(Input!L147,Start!$AG$2:$AH$9,2,0)","v":3},{"$f":"VLOOKUP(Input!M147,Start!$AG$2:$AH$9,2,0)","v":3},"MartingailLotMode=3||0||0||2||N","MartingailLotMode=3||0||0||2||N","MartingailLotMode=3||0||0||2||N","MartingailLotMode=3||0||0||2||N","MartingailLotMode=3||0||0||2||N","MartingailLotMode=3||0||0||2||N","MartingailLotMode=3||0||0||2||N","MartingailLotMode=3||0||0||2||N","MartingailLotMode=3||0||0||2||N","MartingailLotMode=3||0||0||2||N","MartingailLotMode=3||0||0||2||N"]
["LotExponent=1||1.2||0.1||1.7||Y","LotExponent=","||1.2||0.1||1.7||Y","Lot coefficient / adding / xo ",{"$f":"Input!C148","v":0},{"$f":"Input!D148","v":0},{"$f":"Input!E148","v":0},{"$f":"Input!F148","v":0},{"$f":"Input!G148","v":0},{"$f":"Input!H148","v":0},{"$f":"Input!I148","v":0},{"$f":"Input!J148","v":0},{"$f":"Input!K148","v":0},{"$f":"Input!L148","v":0},{"$f":"Input!M148","v":0},"LotExponent=0||1.2||0.1||1.7||Y","LotExponent=0||1.2||0.1||1.7||Y","LotExponent=0||1.2||0.1||1.7||Y","LotExponent=0||1.2||0.1||1.7||Y","LotExponent=0||1.2||0.1||1.7||Y","LotExponent=0||1.2||0.1||1.7||Y","LotExponent=0||1.2||0.1||1.7||Y","LotExponent=0||1.2||0.1||1.7||Y","LotExponent=0||1.2||0.1||1.7||Y","LotExponent=0||1.2||0.1||1.7||Y","LotExponent=0||1.2||0.1||1.7||Y"]
["CutomCoefficients=1","CutomCoefficients=1","CutomCoefficients=1","Custom lot coefficients ",null,null,null,null,null,null,null,null,null,null,null,{"$f":"$A149","v":"CutomCoefficients=1"},{"$f":"$A149","v":"CutomCoefficients=1"},{"$f":"$A149","v":"CutomCoefficients=1"},{"$f":"$A149","v":"CutomCoefficients=1"},{"$f":"$A149","v":"CutomCoefficients=1"},{"$f":"$A149","v":"CutomCoefficients=1"},{"$f":"$A149","v":"CutomCoefficients=1"},{"$f":"$A149","v":"CutomCoefficients=1"},{"$f":"$A149","v":"CutomCoefficients=1"},{"$f":"$A149","v":"CutomCoefficients=1"},{"$f":"$A149","v":"CutomCoefficients=1"}]
["PipStep=1||13||2||50||Y",{"$f":"_xlfn.CONCAT(LEFT(TRIM(A150),FIND(\"=\",TRIM(A150))-1),\"=\")","v":"PipStep="},{"$f":"_xlfn.CONCAT(\"|\",RIGHT(TRIM(A150),LEN(TRIM(A150))-SEARCH(\"|\",TRIM(A150))))","v":"||13||2||50||Y"},"Step size ",{"$f":"Input!C150","v":0},{"$f":"Input!D150","v":0},{"$f":"Input!E150","v":0},{"$f":"Input!F150","v":0},{"$f":"Input!G150","v":0},{"$f":"Input!H150","v":0},{"$f":"Input!I150","v":0},{"$f":"Input!J150","v":0},{"$f":"Input!K150","v":0},{"$f":"Input!L150","v":0},{"$f":"Input!M150","v":0},{"$f":"_xlfn.CONCAT($B150,E150,$C150)","v":"PipStep=0||13||2||50||Y"},"PipStep=0||13||2||50||Y","PipStep=0||13||2||50||Y","PipStep=0||13||2||50||Y","PipStep=0||13||2||50||Y","PipStep=0||13||2||50||Y","PipStep=0||13||2||50||Y","PipStep=0||13||2||50||Y","PipStep=0||13||2||50||Y","PipStep=0||13||2||50||Y","PipStep=0||13||2||50||Y"]
["Martingail_ModeP=0||0||0||1||N","Martingail_ModeP=","||0||0||1||N","Step size calc mode ",{"$f":"VLOOKUP(Input!C151,Start!$AA$2:$AB$3,2,0)","v":0},{"$f":"VLOOKUP(Input!D151,Start!$AA$2:$AB$3,2,0)","v":0},{"$f":"VLOOKUP(Input!E151,Start!$AA$2:$AB$3,2,0)","v":0},{"$f":"VLOOKUP(Input!F151,Start!$AA$2:$AB$3,2,0)","v":0},{"$f":"VLOOKUP(Input!G151,Start!$AA$2:$AB$3,2,0)","v":0},{"$f":"VLOOKUP(Input!H151,Start!$AA$2:$AB$3,2,0)","v":0},{"$f":"VLOOKUP(Input!I151,Start!$AA$2:$AB$3,2,0)","v":0},{"$f":"VLOOKUP(Input!J151,Start!$AA$2:$AB$3,2,0)","v":0},{"$f":"VLOOKUP(Input!K151,Start!$AA$2:$AB$3,2,0)","v":0},{"$f":"VLOOKUP(Input!L151,Start!$AA$2:$AB$3,2,0)","v":0},{"$f":"VLOOKUP(Input!M151,Start!$AA$2:$AB$3,2,0)","v":0},"Martingail_ModeP=0||0||0||1||N","Martingail_ModeP=0||0||0||1||N","Martingail_ModeP=0||0||0||1||N","Martingail_ModeP=0||0||0||1||N","Martingail_ModeP=0||0||0||1||N","Martingail_ModeP=0||0||0||1||N","Martingail_ModeP=0||0||0||1||N","Martingail_ModeP=0||0||0||1||N","Martingail_ModeP=0||0||0||1||N","Martingail_ModeP=0||0||0||1||N","Martingail_ModeP=0||0||0||1||N"]
["StepCoeff=1||1||0.1||1.1||N","StepCoeff=","||1||0.1||1.1||N","Step increase coefficient ",{"$f":"Input!C152","v":0},{"$f":"Input!D152","v":0},{"$f":"Input!E152","v":0},{"$f":"Input!F152","v":0},{"$f":"Input!G152","v":0},{"$f":"Input!H152","v":0},{"$f":"Input!I152","v":0},{"$f":"Input!J152","v":0},{"$f":"Input!K152","v":0},{"$f":"Input!L152","v":0},{"$f":"Input!M152","v":0},"StepCoeff=0||1||0.1||1.1||N","StepCoeff=0||1||0.1||1.1||N","StepCoeff=0||1||0.1||1.1||N","StepCoeff=0||1||0.1||1.1||N","StepCoeff=0||1||0.1||1.1||N","StepCoeff=0||1||0.1||1.1||N","StepCoeff=0||1||0.1||1.1||N","StepCoeff=0||1||0.1||1.1||N","StepCoeff=0||1||0.1||1.1||N","StepCoeff=0||1||0.1||1.1||N","StepCoeff=0||1||0.1||1.1||N"]
["ChangeStep_AfterOrder=0||0||1||10||N","ChangeStep_AfterOrder=","||0||1||10||N","Change step after order # (O disable) ",{"$f":"Input!C153","v":0},{"$f":"Input!D153","v":0},{"$f":"Input!E153","v":0},{"$f":"Input!F153","v":0},{"$f":"Input!G153","v":0},{"$f":"Input!H153","v":0},{"$f":"Input!I153","v":0},{"$f":"Input!J153","v":0},{"$f":"Input!K153","v":0},{"$f":"Input!L153","v":0},{"$f":"Input!M153","v":0},"ChangeStep_AfterOrder=0||0||1||10||N","ChangeStep_AfterOrder=0||0||1||10||N","ChangeStep_AfterOrder=0||0||1||10||N","ChangeStep_AfterOrder=0||0||1||10||N","ChangeStep_AfterOrder=0||0||1||10||N","ChangeStep_AfterOrder=0||0||1||10||N","ChangeStep_AfterOrder=0||0||1||10||N","ChangeStep_AfterOrder=0||0||1||10||N","ChangeStep_AfterOrder=0||0||1||10||N","ChangeStep_AfterOrder=0||0||1||10||N","ChangeStep_AfterOrder=0||0||1||10||N"]
["ChangeStep_Coeff=1||2||0.200000||20.000000||N","ChangeStep_Coeff=","||2||0.200000||20.000000||N","Change step by coefficient ",{"$f":"Input!C154","v":0},{"$f":"Input!D154","v":0},{"$f":"Input!E154","v":0},{"$f":"Input!F154","v":0},{"$f":"Input!G154","v":0},{"$f":"Input!H154","v":0},{"$f":"Input!I154","v":0},{"$f":"Input!J154","v":0},{"$f":"Input!K154","v":0},{"$f":"Input!L154","v":0},{"$f":"Input!M154","v":0},"ChangeStep_Coeff=0||2||0.200000||20.000000||N","ChangeStep_Coeff=0||2||0.200000||20.000000||N","ChangeStep_Coeff=0||2||0.200000||20.000000||N","ChangeStep_Coeff=0||2||0.200000||20.000000||N","ChangeStep_Coeff=0||2||0.200000||20.000000||N","ChangeStep_Coeff=0||2||0.200000||20.000000||N","ChangeStep_Coeff=0||2||0.200000||20.000000||N","ChangeStep_Coeff=0||2||0.200000||20.000000||N","ChangeStep_Coeff=0||2||0.200000||20.000000||N","ChangeStep_Coeff=0||2||0.200000||20.000000||N","ChangeStep_Coeff=0||2||0.200000||20.000000||N"]
["CustomStepCoefficients=","CustomStepCoefficients=","CustomStepCoefficients=","Custom step coefficients ",null,null,null,null,null,null,null,null,null,null,null,{"$f":"$A155","v":"CustomStepCoefficients="},{"$f":"$A155","v":"CustomStepCoefficients="},{"$f":"$A155","v":"CustomStepCoefficients="},{"$f":"$A155","v":"CustomStepCoefficients="},{"$f":"$A155","v":"CustomStepCoefficients="},{"$f":"$A155","v":"CustomStepCoefficients="},{"$f":"$A155","v":"CustomStepCoefficients="},{"$f":"$A155","v":"CustomStepCoefficients="},{"$f":"$A155","v":"CustomStepCoefficients="},{"$f":"$A155","v":"CustomStepCoefficients="},{"$f":"$A155","v":"CustomStepCoefficients="}]
["MinStepSize=0||0||0.000000||0.000000||N",{"$f":"_xlfn.CONCAT(LEFT(TRIM(A156),FIND(\"=\",TRIM(A156))-1),\"=\")","v":"MinStepSize="},{"$f":"_xlfn.CONCAT(\"|\",RIGHT(TRIM(A156),LEN(TRIM(A156))-SEARCH(\"|\",TRIM(A156))))","v":"||0||0.000000||0.000000||N"},"Min step size (points) ",{"$f":"Input!C156","v":0},{"$f":"Input!D156","v":0},{"$f":"Input!E156","v":0},{"$f":"Input!F156","v":0},{"$f":"Input!G156","v":0},{"$f":"Input!H156","v":0},{"$f":"Input!I156","v":0},{"$f":"Input!J156","v":0},{"$f":"Input!K156","v":0},{"$f":"Input!L156","v":0},{"$f":"Input!M156","v":0},{"$f":"_xlfn.CONCAT($B156,E156,$C156)","v":"MinStepSize=0||0||0.000000||0.000000||N"},"MinStepSize=0||0||0.000000||0.000000||N","MinStepSize=0||0||0.000000||0.000000||N","MinStepSize=0||0||0.000000||0.000000||N","MinStepSize=0||0||0.000000||0.000000||N","MinStepSize=0||0||0.000000||0.000000||N","MinStepSize=0||0||0.000000||0.000000||N","MinStepSize=0||0||0.000000||0.000000||N","MinStepSize=0||0||0.000000||0.000000||N","MinStepSize=0||0||0.000000||0.000000||N","MinStepSize=0||0||0.000000||0.000000||N"]
["MaxStepSize=0||0||0.000000||0.000000||N","MaxStepSize=","||0||0.000000||0.000000||N","Max step size (points) (O disable limit) ",{"$f":"Input!C157","v":0},{"$f":"Input!D157","v":0},{"$f":"Input!E157","v":0},{"$f":"Input!F157","v":0},{"$f":"Input!G157","v":0},{"$f":"Input!H157","v":0},{"$f":"Input!I157","v":0},{"$f":"Input!J157","v":0},{"$f":"Input!K157","v":0},{"$f":"Input!L157","v":0},{"$f":"Input!M157","v":0},"MaxStepSize=0||0||0.000000||0.000000||N","MaxStepSize=0||0||0.000000||0.000000||N","MaxStepSize=0||0||0.000000||0.000000||N","MaxStepSize=0||0||0.000000||0.000000||N","MaxStepSize=0||0||0.000000||0.000000||N","MaxStepSize=0||0||0.000000||0.000000||N","MaxStepSize=0||0||0.000000||0.000000||N","MaxStepSize=0||0||0.000000||0.000000||N","MaxStepSize=0||0||0.000000||0.000000||N","MaxStepSize=0||0||0.000000||0.000000||N","MaxStepSize=0||0||0.000000||0.000000||N"]
["BreakEven_AfterOrder=0||0||5||5||N","BreakEven_AfterOrder=","||0||5||5||N","Close on 8reakEven after order # (O - disable) ",{"$f":"Input!C158","v":0},{"$f":"Input!D158","v":0},{"$f":"Input!E158","v":0},{"$f":"Input!F158","v":0},{"$f":"Input!G158","v":0},{"$f":"Input!H158","v":0},{"$f":"Input!I158","v":0},{"$f":"Input!J158","v":0},{"$f":"Input!K158","v":0},{"$f":"Input!L158","v":0},{"$f":"Input!M158","v":0},"BreakEven_AfterOrder=0||0||5||5||N","BreakEven_AfterOrder=0||0||5||5||N","BreakEven_AfterOrder=0||0||5||5||N","BreakEven_AfterOrder=0||0||5||5||N","BreakEven_AfterOrder=0||0||5||5||N","BreakEven_AfterOrder=0||0||5||5||N","BreakEven_AfterOrder=0||0||5||5||N","BreakEven_AfterOrder=0||0||5||5||N","BreakEven_AfterOrder=0||0||5||5||N","BreakEven_AfterOrder=0||0||5||5||N","BreakEven_AfterOrder=0||0||5||5||N"]
["BreakEven_MinProfit=0||0||0.000000||0.000000||N","BreakEven_MinProfit=","||0||0.000000||0.000000||N","8reakEven min profit (points) ",{"$f":"Input!C159","v":0},{"$f":"Input!D159","v":0},{"$f":"Input!E159","v":0},{"$f":"Input!F159","v":0},{"$f":"Input!G159","v":0},{"$f":"Input!H159","v":0},{"$f":"Input!I159","v":0},{"$f":"Input!J159","v":0},{"$f":"Input!K159","v":0},{"$f":"Input!L159","v":0},{"$f":"Input!M159","v":0},"BreakEven_MinProfit=0||0||0.000000||0.000000||N","BreakEven_MinProfit=0||0||0.000000||0.000000||N","BreakEven_MinProfit=0||0||0.000000||0.000000||N","BreakEven_MinProfit=0||0||0.000000||0.000000||N","BreakEven_MinProfit=0||0||0.000000||0.000000||N","BreakEven_MinProfit=0||0||0.000000||0.000000||N","BreakEven_MinProfit=0||0||0.000000||0.000000||N","BreakEven_MinProfit=0||0||0.000000||0.000000||N","BreakEven_MinProfit=0||0||0.000000||0.000000||N","BreakEven_MinProfit=0||0||0.000000||0.000000||N","BreakEven_MinProfit=0||0||0.000000||0.000000||N"]
["BE_Alert_After=0||3||1||30||N","BE_Alert_After=","||3||1||30||N","8reakEven Alert after order # (O - disable) ",{"$f":"Input!C160","v":0},{"$f":"Input!D160","v":0},{"$f":"Input!E160","v":0},{"$f":"Input!F160","v":0},{"$f":"Input!G160","v":0},{"$f":"Input!H160","v":0},{"$f":"Input!I160","v":0},{"$f":"Input!J160","v":0},{"$f":"Input!K160","v":0},{"$f":"Input!L160","v":0},{"$f":"Input!M160","v":0},"BE_Alert_After=0||3||1||30||N","BE_Alert_After=0||3||1||30||N","BE_Alert_After=0||3||1||30||N","BE_Alert_After=0||3||1||30||N","BE_Alert_After=0||3||1||30||N","BE_Alert_After=0||3||1||30||N","BE_Alert_After=0||3||1||30||N","BE_Alert_After=0||3||1||30||N","BE_Alert_After=0||3||1||30||N","BE_Alert_After=0||3||1||30||N","BE_Alert_After=0||3||1||30||N"]
["GlobalMartingail_Properties========","GlobalMartingail_Properties========","GlobalMartingail_Properties========","Apply martin to the new deals ",null,null,null,null,null,null,null,null,null,null,null,{"$f":"$A161","v":"GlobalMartingail_Properties========"},{"$f":"$A161","v":"GlobalMartingail_Properties========"},{"$f":"$A161","v":"GlobalMartingail_Properties========"},{"$f":"$A161","v":"GlobalMartingail_Properties========"},{"$f":"$A161","v":"GlobalMartingail_Properties========"},{"$f":"$A161","v":"GlobalMartingail_Properties========"},{"$f":"$A161","v":"GlobalMartingail_Properties========"},{"$f":"$A161","v":"GlobalMartingail_Properties========"},{"$f":"$A161","v":"GlobalMartingail_Properties========"},{"$f":"$A161","v":"GlobalMartingail_Properties========"},{"$f":"$A161","v":"GlobalMartingail_Properties========"}]
["ApplyAfterClosedLoss=false||false||0||true||N",{"$f":"_xlfn.CONCAT(LEFT(TRIM(A162),FIND(\"=\",TRIM(A162))-1),\"=\")","v":"ApplyAfterClosedLoss="},{"$f":"_xlfn.CONCAT(\"|\",RIGHT(TRIM(A162),LEN(TRIM(A162))-SEARCH(\"|\",TRIM(A162))))","v":"||false||0||true||N"},"Apply martin after closed loss ",{"$f":"VLOOKUP(Input!C162,Start!$G$2:$H$3,2,0)","v":false},{"$f":"VLOOKUP(Input!D162,Start!$G$2:$H$3,2,0)","v":false},{"$f":"VLOOKUP(Input!E162,Start!$G$2:$H$3,2,0)","v":false},{"$f":"VLOOKUP(Input!F162,Start!$G$2:$H$3,2,0)","v":false},{"$f":"VLOOKUP(Input!G162,Start!$G$2:$H$3,2,0)","v":false},{"$f":"VLOOKUP(Input!H162,Start!$G$2:$H$3,2,0)","v":false},{"$f":"VLOOKUP(Input!I162,Start!$G$2:$H$3,2,0)","v":false},{"$f":"VLOOKUP(Input!J162,Start!$G$2:$H$3,2,0)","v":false},{"$f":"VLOOKUP(Input!K162,Start!$G$2:$H$3,2,0)","v":false},{"$f":"VLOOKUP(Input!L162,Start!$G$2:$H$3,2,0)","v":false},{"$f":"VLOOKUP(Input!M162,Start!$G$2:$H$3,2,0)","v":false},{"$f":"_xlfn.CONCAT($B162,E162,$C162)","v":"ApplyAfterClosedLoss=FALSE||false||0||true||N"},{"$f":"_xlfn.CONCAT($B162,F162,$C162)","v":"ApplyAfterClosedLoss=FALSE||false||0||true||N"},{"$f":"_xlfn.CONCAT($B162,G162,$C162)","v":"ApplyAfterClosedLoss=FALSE||false||0||true||N"},{"$f":"_xlfn.CONCAT($B162,H162,$C162)","v":"ApplyAfterClosedLoss=FALSE||false||0||true||N"},{"$f":"_xlfn.CONCAT($B162,I162,$C162)","v":"ApplyAfterClosedLoss=FALSE||false||0||true||N"},{"$f":"_xlfn.CONCAT($B162,J162,$C162)","v":"ApplyAfterClosedLoss=FALSE||false||0||true||N"},{"$f":"_xlfn.CONCAT($B162,K162,$C162)","v":"ApplyAfterClosedLoss=FALSE||false||0||true||N"},{"$f":"_xlfn.CONCAT($B162,L162,$C162)","v":"ApplyAfterClosedLoss=FALSE||false||0||true||N"},{"$f":"_xlfn.CONCAT($B162,M162,$C162)","v":"ApplyAfterClosedLoss=FALSE||false||0||true||N"},{"$f":"_xlfn.CONCAT($B162,N162,$C162)","v":"ApplyAfterClosedLoss=FALSE||false||0||true||N"},{"$f":"_xlfn.CONCAT($B162,O162,$C162)","v":"ApplyAfterClosedLoss=FALSE||false||0||true||N"}]
["; Anti-Martingale properties","; Anti-Martingale properties","; Anti-Martingale properties","Anti -Martingale properties ",null,null,null,null,null,null,null,null,null,null,null,{"$f":"$A163","v":"; Anti-Martingale properties"},"; Anti-Martingale properties","; Anti-Martingale properties","; Anti-Martingale properties","; Anti-Martingale properties","; Anti-Martingale properties","; Anti-Martingale properties","; Anti-Martingale properties","; Anti-Martingale properties","; Anti-Martingale properties","; Anti-Martingale properties"]
["AntiMartingale_Properties====================================================================================","AntiMartingale_Properties====================================================================================","AntiMartingale_Properties====================================================================================","Anti-Martingale properties: ",null,null,null,null,null,null,null,null,null,null,null,"AntiMartingale_Properties====================================================================================","AntiMartingale_Properties====================================================================================","AntiMartingale_Properties====================================================================================","AntiMartingale_Properties====================================================================================","AntiMartingale_Properties====================================================================================","AntiMartingale_Properties====================================================================================","AntiMartingale_Properties====================================================================================","AntiMartingale_Properties====================================================================================","AntiMartingale_Properties====================================================================================","AntiMartingale_Properties====================================================================================","AntiMartingale_Properties===================================================================================="]
["AntiMartingailType=0||0||0||3||N",{"$f":"_xlfn.CONCAT(LEFT(TRIM(A165),FIND(\"=\",TRIM(A165))-1),\"=\")","v":"AntiMartingailType="},{"$f":"_xlfn.CONCAT(\"|\",RIGHT(TRIM(A165),LEN(TRIM(A165))-SEARCH(\"|\",TRIM(A165))))","v":"||0||0||3||N"},"Anti-Martingale type ",{"$f":"VLOOKUP(Input!C165,Start!$AE$2:$AF$3,2,0)","v":1},{"$f":"VLOOKUP(Input!D165,Start!$AE$2:$AF$3,2,0)","v":1},{"$f":"VLOOKUP(Input!E165,Start!$AE$2:$AF$3,2,0)","v":1},{"$f":"VLOOKUP(Input!F165,Start!$AE$2:$AF$3,2,0)","v":1},{"$f":"VLOOKUP(Input!G165,Start!$AE$2:$AF$3,2,0)","v":1},{"$f":"VLOOKUP(Input!H165,Start!$AE$2:$AF$3,2,0)","v":1},{"$f":"VLOOKUP(Input!I165,Start!$AE$2:$AF$3,2,0)","v":1},{"$f":"VLOOKUP(Input!J165,Start!$AE$2:$AF$3,2,0)","v":1},{"$f":"VLOOKUP(Input!K165,Start!$AE$2:$AF$3,2,0)","v":1},{"$f":"VLOOKUP(Input!L165,Start!$AE$2:$AF$3,2,0)","v":1},{"$f":"VLOOKUP(Input!M165,Start!$AE$2:$AF$3,2,0)","v":1},{"$f":"_xlfn.CONCAT($B165,E165,$C165)","v":"AntiMartingailType=1||0||0||3||N"},"AntiMartingailType=1||0||0||3||N","AntiMartingailType=1||0||0||3||N","AntiMartingailType=1||0||0||3||N","AntiMartingailType=1||0||0||3||N","AntiMartingailType=1||0||0||3||N","AntiMartingailType=1||0||0||3||N","AntiMartingailType=1||0||0||3||N","AntiMartingailType=1||0||0||3||N","AntiMartingailType=1||0||0||3||N","AntiMartingailType=1||0||0||3||N"]
["AntiMaxTrades=10||10||1||100||N","AntiMaxTrades=","||10||1||100||N","Max trades ",{"$f":"Input!C166","v":0},{"$f":"Input!D166","v":0},{"$f":"Input!E166","v":0},{"$f":"Input!F166","v":0},{"$f":"Input!G166","v":0},{"$f":"Input!H166","v":0},{"$f":"Input!I166","v":0},{"$f":"Input!J166","v":0},{"$f":"Input!K166","v":0},{"$f":"Input!L166","v":0},{"$f":"Input!M166","v":0},"AntiMaxTrades=0||10||1||100||N","AntiMaxTrades=0||10||1||100||N","AntiMaxTrades=0||10||1||100||N","AntiMaxTrades=0||10||1||100||N","AntiMaxTrades=0||10||1||100||N","AntiMaxTrades=0||10||1||100||N","AntiMaxTrades=0||10||1||100||N","AntiMaxTrades=0||10||1||100||N","AntiMaxTrades=0||10||1||100||N","AntiMaxTrades=0||10||1||100||N","AntiMaxTrades=0||10||1||100||N"]
["AntiMartingailLotMode=2||0||0||2||N","AntiMartingailLotMode=","||0||0||2||N","Lot increasing mode ",{"$f":"VLOOKUP(Input!C167,Start!$AG$2:$AH$9,2,0)","v":3},{"$f":"VLOOKUP(Input!D167,Start!$AG$2:$AH$9,2,0)","v":3},{"$f":"VLOOKUP(Input!E167,Start!$AG$2:$AH$9,2,0)","v":3},{"$f":"VLOOKUP(Input!F167,Start!$AG$2:$AH$9,2,0)","v":3},{"$f":"VLOOKUP(Input!G167,Start!$AG$2:$AH$9,2,0)","v":3},{"$f":"VLOOKUP(Input!H167,Start!$AG$2:$AH$9,2,0)","v":3},{"$f":"VLOOKUP(Input!I167,Start!$AG$2:$AH$9,2,0)","v":3},{"$f":"VLOOKUP(Input!J167,Start!$AG$2:$AH$9,2,0)","v":3},{"$f":"VLOOKUP(Input!K167,Start!$AG$2:$AH$9,2,0)","v":3},{"$f":"VLOOKUP(Input!L167,Start!$AG$2:$AH$9,2,0)","v":3},{"$f":"VLOOKUP(Input!M167,Start!$AG$2:$AH$9,2,0)","v":3},"AntiMartingailLotMode=3||0||0||2||N","AntiMartingailLotMode=3||0||0||2||N","AntiMartingailLotMode=3||0||0||2||N","AntiMartingailLotMode=3||0||0||2||N","AntiMartingailLotMode=3||0||0||2||N","AntiMartingailLotMode=3||0||0||2||N","AntiMartingailLotMode=3||0||0||2||N","AntiMartingailLotMode=3||0||0||2||N","AntiMartingailLotMode=3||0||0||2||N","AntiMartingailLotMode=3||0||0||2||N","AntiMartingailLotMode=3||0||0||2||N"]
["AntiLotExponent=0.9||0.9||0.090000||9.000000||N","AntiLotExponent=","||0.9||0.090000||9.000000||N","Lot coefficient / adding / xo ",{"$f":"Input!C168","v":0},{"$f":"Input!D168","v":0},{"$f":"Input!E168","v":0},{"$f":"Input!F168","v":0},{"$f":"Input!G168","v":0},{"$f":"Input!H168","v":0},{"$f":"Input!I168","v":0},{"$f":"Input!J168","v":0},{"$f":"Input!K168","v":0},{"$f":"Input!L168","v":0},{"$f":"Input!M168","v":0},"AntiLotExponent=0||0.9||0.090000||9.000000||N","AntiLotExponent=0||0.9||0.090000||9.000000||N","AntiLotExponent=0||0.9||0.090000||9.000000||N","AntiLotExponent=0||0.9||0.090000||9.000000||N","AntiLotExponent=0||0.9||0.090000||9.000000||N","AntiLotExponent=0||0.9||0.090000||9.000000||N","AntiLotExponent=0||0.9||0.090000||9.000000||N","AntiLotExponent=0||0.9||0.090000||9.000000||N","AntiLotExponent=0||0.9||0.090000||9.000000||N","AntiLotExponent=0||0.9||0.090000||9.000000||N","AntiLotExponent=0||0.9||0.090000||9.000000||N"]
["AntiCutomCoefficients=0.95,0.77,0.53","AntiCutomCoefficients=0.95,0.77,0.53",null,"Custom lot coefficients ",null,null,null,null,null,null,null,null,null,null,null,{"$f":"_xlfn.CONCAT($B169,E169,$C169)","v":"AntiCutomCoefficients=0.95,0.77,0.53"},{"$f":"_xlfn.CONCAT($B169,F169,$C169)","v":"AntiCutomCoefficients=0.95,0.77,0.53"},{"$f":"_xlfn.CONCAT($B169,G169,$C169)","v":"AntiCutomCoefficients=0.95,0.77,0.53"},{"$f":"_xlfn.CONCAT($B169,H169,$C169)","v":"AntiCutomCoefficients=0.95,0.77,0.53"},{"$f":"_xlfn.CONCAT($B169,I169,$C169)","v":"AntiCutomCoefficients=0.95,0.77,0.53"},{"$f":"_xlfn.CONCAT($B169,J169,$C169)","v":"AntiCutomCoefficients=0.95,0.77,0.53"},{"$f":"_xlfn.CONCAT($B169,K169,$C169)","v":"AntiCutomCoefficients=0.95,0.77,0.53"},{"$f":"_xlfn.CONCAT($B169,L169,$C169)","v":"AntiCutomCoefficients=0.95,0.77,0.53"},{"$f":"_xlfn.CONCAT($B169,M169,$C169)","v":"AntiCutomCoefficients=0.95,0.77,0.53"},{"$f":"_xlfn.CONCAT($B169,N169,$C169)","v":"AntiCutomCoefficients=0.95,0.77,0.53"},{"$f":"_xlfn.CONCAT($B169,O169,$C169)","v":"AntiCutomCoefficients=0.95,0.77,0.53"}]
["AntiPipStep=15||15||1.500000||150.000000||N",{"$f":"_xlfn.CONCAT(LEFT(TRIM(A170),FIND(\"=\",TRIM(A170))-1),\"=\")","v":"AntiPipStep="},"||15||1.500000||150.000000||N","Step size ",{"$f":"Input!C170","v":0},{"$f":"Input!D170","v":0},{"$f":"Input!E170","v":0},{"$f":"Input!F170","v":0},{"$f":"Input!G170","v":0},{"$f":"Input!H170","v":0},{"$f":"Input!I170","v":0},{"$f":"Input!J170","v":0},{"$f":"Input!K170","v":0},{"$f":"Input!L170","v":0},{"$f":"Input!M170","v":0},{"$f":"_xlfn.CONCAT($B170,E170,$C170)","v":"AntiPipStep=0||15||1.500000||150.000000||N"},"AntiPipStep=0||15||1.500000||150.000000||N","AntiPipStep=0||15||1.500000||150.000000||N","AntiPipStep=0||15||1.500000||150.000000||N","AntiPipStep=0||15||1.500000||150.000000||N","AntiPipStep=0||15||1.500000||150.000000||N","AntiPipStep=0||15||1.500000||150.000000||N","AntiPipStep=0||15||1.500000||150.000000||N","AntiPipStep=0||15||1.500000||150.000000||N","AntiPipStep=0||15||1.500000||150.000000||N","AntiPipStep=0||15||1.500000||150.000000||N"]
["AntiMartingail_ModeP=0||0||0||1||N","AntiMartingail_ModeP=","||0||0||1||N","Step size calc mode ",{"$f":"VLOOKUP(Input!C171,Start!$AA$2:$AB$3,2,0)","v":0},{"$f":"VLOOKUP(Input!D171,Start!$AA$2:$AB$3,2,0)","v":0},{"$f":"VLOOKUP(Input!E171,Start!$AA$2:$AB$3,2,0)","v":0},{"$f":"VLOOKUP(Input!F171,Start!$AA$2:$AB$3,2,0)","v":0},{"$f":"VLOOKUP(Input!G171,Start!$AA$2:$AB$3,2,0)","v":0},{"$f":"VLOOKUP(Input!H171,Start!$AA$2:$AB$3,2,0)","v":0},{"$f":"VLOOKUP(Input!I171,Start!$AA$2:$AB$3,2,0)","v":0},{"$f":"VLOOKUP(Input!J171,Start!$AA$2:$AB$3,2,0)","v":0},{"$f":"VLOOKUP(Input!K171,Start!$AA$2:$AB$3,2,0)","v":0},{"$f":"VLOOKUP(Input!L171,Start!$AA$2:$AB$3,2,0)","v":0},{"$f":"VLOOKUP(Input!M171,Start!$AA$2:$AB$3,2,0)","v":0},"AntiMartingail_ModeP=0||0||0||1||N","AntiMartingail_ModeP=0||0||0||1||N","AntiMartingail_ModeP=0||0||0||1||N","AntiMartingail_ModeP=0||0||0||1||N","AntiMartingail_ModeP=0||0||0||1||N","AntiMartingail_ModeP=0||0||0||1||N","AntiMartingail_ModeP=0||0||0||1||N","AntiMartingail_ModeP=0||0||0||1||N","AntiMartingail_ModeP=0||0||0||1||N","AntiMartingail_ModeP=0||0||0||1||N","AntiMartingail_ModeP=0||0||0||1||N"]
["AntiStepCoeff=0.9||0.9||0.090000||9.000000||N","AntiStepCoeff=","||0.9||0.090000||9.000000||N","Step increase coefficient ",{"$f":"Input!C172","v":0},{"$f":"Input!D172","v":0},{"$f":"Input!E172","v":0},{"$f":"Input!F172","v":0},{"$f":"Input!G172","v":0},{"$f":"Input!H172","v":0},{"$f":"Input!I172","v":0},{"$f":"Input!J172","v":0},{"$f":"Input!K172","v":0},{"$f":"Input!L172","v":0},{"$f":"Input!M172","v":0},"AntiStepCoeff=0||0.9||0.090000||9.000000||N","AntiStepCoeff=0||0.9||0.090000||9.000000||N","AntiStepCoeff=0||0.9||0.090000||9.000000||N","AntiStepCoeff=0||0.9||0.090000||9.000000||N","AntiStepCoeff=0||0.9||0.090000||9.000000||N","AntiStepCoeff=0||0.9||0.090000||9.000000||N","AntiStepCoeff=0||0.9||0.090000||9.000000||N","AntiStepCoeff=0||0.9||0.090000||9.000000||N","AntiStepCoeff=0||0.9||0.090000||9.000000||N","AntiStepCoeff=0||0.9||0.090000||9.000000||N","AntiStepCoeff=0||0.9||0.090000||9.000000||N"]
["AntiMinStepSize=0||0||0.000000||0.000000||N","AntiMinStepSize=","||0||0.000000||0.000000||N","Min step size (points) ",{"$f":"Input!C173","v":0},{"$f":"Input!D173","v":0},{"$f":"Input!E173","v":0},{"$f":"Input!F173","v":0},{"$f":"Input!G173","v":0},{"$f":"Input!H173","v":0},{"$f":"Input!I173","v":0},{"$f":"Input!J173","v":0},{"$f":"Input!K173","v":0},{"$f":"Input!L173","v":0},{"$f":"Input!M173","v":0},"AntiMinStepSize=0||0||0.000000||0.000000||N","AntiMinStepSize=0||0||0.000000||0.000000||N","AntiMinStepSize=0||0||0.000000||0.000000||N","AntiMinStepSize=0||0||0.000000||0.000000||N","AntiMinStepSize=0||0||0.000000||0.000000||N","AntiMinStepSize=0||0||0.000000||0.000000||N","AntiMinStepSize=0||0||0.000000||0.000000||N","AntiMinStepSize=0||0||0.000000||0.000000||N","AntiMinStepSize=0||0||0.000000||0.000000||N","AntiMinStepSize=0||0||0.000000||0.000000||N","AntiMinStepSize=0||0||0.000000||0.000000||N"]
["AntiMaxStepSize=0||0||0.000000||0.000000||N","AntiMaxStepSize=","||0||0.000000||0.000000||N","Max step size (points) (O - disable limit) ",{"$f":"Input!C174","v":0},{"$f":"Input!D174","v":0},{"$f":"Input!E174","v":0},{"$f":"Input!F174","v":0},{"$f":"Input!G174","v":0},{"$f":"Input!H174","v":0},{"$f":"Input!I174","v":0},{"$f":"Input!J174","v":0},{"$f":"Input!K174","v":0},{"$f":"Input!L174","v":0},{"$f":"Input!M174","v":0},"AntiMaxStepSize=0||0||0.000000||0.000000||N","AntiMaxStepSize=0||0||0.000000||0.000000||N","AntiMaxStepSize=0||0||0.000000||0.000000||N","AntiMaxStepSize=0||0||0.000000||0.000000||N","AntiMaxStepSize=0||0||0.000000||0.000000||N","AntiMaxStepSize=0||0||0.000000||0.000000||N","AntiMaxStepSize=0||0||0.000000||0.000000||N","AntiMaxStepSize=0||0||0.000000||0.000000||N","AntiMaxStepSize=0||0||0.000000||0.000000||N","AntiMaxStepSize=0||0||0.000000||0.000000||N","AntiMaxStepSize=0||0||0.000000||0.000000||N"]
["AntiStopLoss=10||10||1.000000||100.000000||N","AntiStopLoss=","||10||1.000000||100.000000||N","Anti-StopLoss size (O disable) ",{"$f":"Input!C175","v":0},{"$f":"Input!D175","v":0},{"$f":"Input!E175","v":0},{"$f":"Input!F175","v":0},{"$f":"Input!G175","v":0},{"$f":"Input!H175","v":0},{"$f":"Input!I175","v":0},{"$f":"Input!J175","v":0},{"$f":"Input!K175","v":0},{"$f":"Input!L175","v":0},{"$f":"Input!M175","v":0},"AntiStopLoss=0||10||1.000000||100.000000||N","AntiStopLoss=0||10||1.000000||100.000000||N","AntiStopLoss=0||10||1.000000||100.000000||N","AntiStopLoss=0||10||1.000000||100.000000||N","AntiStopLoss=0||10||1.000000||100.000000||N","AntiStopLoss=0||10||1.000000||100.000000||N","AntiStopLoss=0||10||1.000000||100.000000||N","AntiStopLoss=0||10||1.000000||100.000000||N","AntiStopLoss=0||10||1.000000||100.000000||N","AntiStopLoss=0||10||1.000000||100.000000||N","AntiStopLoss=0||10||1.000000||100.000000||N"]
["AntiStopLoss_ReduceSize=0||0||0.000000||0.000000||N","AntiStopLoss_ReduceSize=","||0||0.000000||0.000000||N","Anti-StopLoss reduce size ",{"$f":"Input!C176","v":0},{"$f":"Input!D176","v":0},{"$f":"Input!E176","v":0},{"$f":"Input!F176","v":0},{"$f":"Input!G176","v":0},{"$f":"Input!H176","v":0},{"$f":"Input!I176","v":0},{"$f":"Input!J176","v":0},{"$f":"Input!K176","v":0},{"$f":"Input!L176","v":0},{"$f":"Input!M176","v":0},"AntiStopLoss_ReduceSize=0||0||0.000000||0.000000||N","AntiStopLoss_ReduceSize=0||0||0.000000||0.000000||N","AntiStopLoss_ReduceSize=0||0||0.000000||0.000000||N","AntiStopLoss_ReduceSize=0||0||0.000000||0.000000||N","AntiStopLoss_ReduceSize=0||0||0.000000||0.000000||N","AntiStopLoss_ReduceSize=0||0||0.000000||0.000000||N","AntiStopLoss_ReduceSize=0||0||0.000000||0.000000||N","AntiStopLoss_ReduceSize=0||0||0.000000||0.000000||N","AntiStopLoss_ReduceSize=0||0||0.000000||0.000000||N","AntiStopLoss_ReduceSize=0||0||0.000000||0.000000||N","AntiStopLoss_ReduceSize=0||0||0.000000||0.000000||N"]
["AntiStopLoss_ReduceCoeff=1||1||0.100000||10.000000||N","AntiStopLoss_ReduceCoeff=","||1||0.100000||10.000000||N","Anti-StopLoss reduce coefficient ",{"$f":"Input!C177","v":0},{"$f":"Input!D177","v":0},{"$f":"Input!E177","v":0},{"$f":"Input!F177","v":0},{"$f":"Input!G177","v":0},{"$f":"Input!H177","v":0},{"$f":"Input!I177","v":0},{"$f":"Input!J177","v":0},{"$f":"Input!K177","v":0},{"$f":"Input!L177","v":0},{"$f":"Input!M177","v":0},"AntiStopLoss_ReduceCoeff=0||1||0.100000||10.000000||N","AntiStopLoss_ReduceCoeff=0||1||0.100000||10.000000||N","AntiStopLoss_ReduceCoeff=0||1||0.100000||10.000000||N","AntiStopLoss_ReduceCoeff=0||1||0.100000||10.000000||N","AntiStopLoss_ReduceCoeff=0||1||0.100000||10.000000||N","AntiStopLoss_ReduceCoeff=0||1||0.100000||10.000000||N","AntiStopLoss_ReduceCoeff=0||1||0.100000||10.000000||N","AntiStopLoss_ReduceCoeff=0||1||0.100000||10.000000||N","AntiStopLoss_ReduceCoeff=0||1||0.100000||10.000000||N","AntiStopLoss_ReduceCoeff=0||1||0.100000||10.000000||N","AntiStopLoss_ReduceCoeff=0||1||0.100000||10.000000||N"]
["AntiStopLoss_MinSize=5||5||0.500000||50.000000||N","AntiStopLoss_MinSize=","||5||0.500000||50.000000||N","Anti-StopLoss min size (points) ",{"$f":"Input!C178","v":0},{"$f":"Input!D178","v":0},{"$f":"Input!E178","v":0},{"$f":"Input!F178","v":0},{"$f":"Input!G178","v":0},{"$f":"Input!H178","v":0},{"$f":"Input!I178","v":0},{"$f":"Input!J178","v":0},{"$f":"Input!K178","v":0},{"$f":"Input!L178","v":0},{"$f":"Input!M178","v":0},"AntiStopLoss_MinSize=0||5||0.500000||50.000000||N","AntiStopLoss_MinSize=0||5||0.500000||50.000000||N","AntiStopLoss_MinSize=0||5||0.500000||50.000000||N","AntiStopLoss_MinSize=0||5||0.500000||50.000000||N","AntiStopLoss_MinSize=0||5||0.500000||50.000000||N","AntiStopLoss_MinSize=0||5||0.500000||50.000000||N","AntiStopLoss_MinSize=0||5||0.500000||50.000000||N","AntiStopLoss_MinSize=0||5||0.500000||50.000000||N","AntiStopLoss_MinSize=0||5||0.500000||50.000000||N","AntiStopLoss_MinSize=0||5||0.500000||50.000000||N","AntiStopLoss_MinSize=0||5||0.500000||50.000000||N"]
["AntiStopLoss_Mode=1||0||0||1||N","AntiStopLoss_Mode=","||0||0||1||N","Anti-StopLoss mode ",{"$f":"VLOOKUP(Input!C179,Start!$AC$2:$AD$4,2,0)","v":1},{"$f":"VLOOKUP(Input!D179,Start!$AC$2:$AD$4,2,0)","v":1},{"$f":"VLOOKUP(Input!E179,Start!$AC$2:$AD$4,2,0)","v":1},{"$f":"VLOOKUP(Input!F179,Start!$AC$2:$AD$4,2,0)","v":1},{"$f":"VLOOKUP(Input!G179,Start!$AC$2:$AD$4,2,0)","v":1},{"$f":"VLOOKUP(Input!H179,Start!$AC$2:$AD$4,2,0)","v":1},{"$f":"VLOOKUP(Input!I179,Start!$AC$2:$AD$4,2,0)","v":1},{"$f":"VLOOKUP(Input!J179,Start!$AC$2:$AD$4,2,0)","v":1},{"$f":"VLOOKUP(Input!K179,Start!$AC$2:$AD$4,2,0)","v":1},{"$f":"VLOOKUP(Input!L179,Start!$AC$2:$AD$4,2,0)","v":1},{"$f":"VLOOKUP(Input!M179,Start!$AC$2:$AD$4,2,0)","v":1},"AntiStopLoss_Mode=1||0||0||1||N","AntiStopLoss_Mode=1||0||0||1||N","AntiStopLoss_Mode=1||0||0||1||N","AntiStopLoss_Mode=1||0||0||1||N","AntiStopLoss_Mode=1||0||0||1||N","AntiStopLoss_Mode=1||0||0||1||N","AntiStopLoss_Mode=1||0||0||1||N","AntiStopLoss_Mode=1||0||0||1||N","AntiStopLoss_Mode=1||0||0||1||N","AntiStopLoss_Mode=1||0||0||1||N","AntiStopLoss_Mode=1||0||0||1||N"]
["AntiStopLoss_ModeP=0||0||0||1||N","AntiStopLoss_ModeP=","||0||0||1||N","Anti-StopLoss calc mode ",{"$f":"VLOOKUP(Input!C180,Start!$AA$2:$AB$3,2,0)","v":0},{"$f":"VLOOKUP(Input!D180,Start!$AA$2:$AB$3,2,0)","v":0},{"$f":"VLOOKUP(Input!E180,Start!$AA$2:$AB$3,2,0)","v":0},{"$f":"VLOOKUP(Input!F180,Start!$AA$2:$AB$3,2,0)","v":0},{"$f":"VLOOKUP(Input!G180,Start!$AA$2:$AB$3,2,0)","v":0},{"$f":"VLOOKUP(Input!H180,Start!$AA$2:$AB$3,2,0)","v":0},{"$f":"VLOOKUP(Input!I180,Start!$AA$2:$AB$3,2,0)","v":0},{"$f":"VLOOKUP(Input!J180,Start!$AA$2:$AB$3,2,0)","v":0},{"$f":"VLOOKUP(Input!K180,Start!$AA$2:$AB$3,2,0)","v":0},{"$f":"VLOOKUP(Input!L180,Start!$AA$2:$AB$3,2,0)","v":0},{"$f":"VLOOKUP(Input!M180,Start!$AA$2:$AB$3,2,0)","v":0},"AntiStopLoss_ModeP=0||0||0||1||N","AntiStopLoss_ModeP=0||0||0||1||N","AntiStopLoss_ModeP=0||0||0||1||N","AntiStopLoss_ModeP=0||0||0||1||N","AntiStopLoss_ModeP=0||0||0||1||N","AntiStopLoss_ModeP=0||0||0||1||N","AntiStopLoss_ModeP=0||0||0||1||N","AntiStopLoss_ModeP=0||0||0||1||N","AntiStopLoss_ModeP=0||0||0||1||N","AntiStopLoss_ModeP=0||0||0||1||N","AntiStopLoss_ModeP=0||0||0||1||N"]
["AntiMartingail_AllowTP=false||false||0||true||N","AntiMartingail_AllowTP=","||false||0||true||N","Allow TakeProfit for anti-martin trades ",{"$f":"VLOOKUP(Input!C181,Start!$G$2:$H$3,2,0)","v":false},{"$f":"VLOOKUP(Input!D181,Start!$G$2:$H$3,2,0)","v":false},{"$f":"VLOOKUP(Input!E181,Start!$G$2:$H$3,2,0)","v":false},{"$f":"VLOOKUP(Input!F181,Start!$G$2:$H$3,2,0)","v":false},{"$f":"VLOOKUP(Input!G181,Start!$G$2:$H$3,2,0)","v":false},{"$f":"VLOOKUP(Input!H181,Start!$G$2:$H$3,2,0)","v":false},{"$f":"VLOOKUP(Input!I181,Start!$G$2:$H$3,2,0)","v":false},{"$f":"VLOOKUP(Input!J181,Start!$G$2:$H$3,2,0)","v":false},{"$f":"VLOOKUP(Input!K181,Start!$G$2:$H$3,2,0)","v":false},{"$f":"VLOOKUP(Input!L181,Start!$G$2:$H$3,2,0)","v":false},{"$f":"VLOOKUP(Input!M181,Start!$G$2:$H$3,2,0)","v":false},"AntiMartingail_AllowTP=FALSE||false||0||true||N","AntiMartingail_AllowTP=FALSE||false||0||true||N","AntiMartingail_AllowTP=FALSE||false||0||true||N","AntiMartingail_AllowTP=FALSE||false||0||true||N","AntiMartingail_AllowTP=FALSE||false||0||true||N","AntiMartingail_AllowTP=FALSE||false||0||true||N","AntiMartingail_AllowTP=FALSE||false||0||true||N","AntiMartingail_AllowTP=FALSE||false||0||true||N","AntiMartingail_AllowTP=FALSE||false||0||true||N","AntiMartingail_AllowTP=FALSE||false||0||true||N","AntiMartingail_AllowTP=FALSE||false||0||true||N"]
["AllowBoth_Properties========","AllowBoth_Properties========","AllowBoth_Properties========","Allow both Martin and Anti-martin ",null,null,null,null,null,null,null,null,null,null,null,{"$f":"$A182","v":"AllowBoth_Properties========"},{"$f":"$A182","v":"AllowBoth_Properties========"},{"$f":"$A182","v":"AllowBoth_Properties========"},{"$f":"$A182","v":"AllowBoth_Properties========"},{"$f":"$A182","v":"AllowBoth_Properties========"},{"$f":"$A182","v":"AllowBoth_Properties========"},{"$f":"$A182","v":"AllowBoth_Properties========"},{"$f":"$A182","v":"AllowBoth_Properties========"},{"$f":"$A182","v":"AllowBoth_Properties========"},{"$f":"$A182","v":"AllowBoth_Properties========"},{"$f":"$A182","v":"AllowBoth_Properties========"}]
["AllowBothMartinAndAntiMartin=false||false||0||true||N",{"$f":"_xlfn.CONCAT(LEFT(TRIM(A183),FIND(\"=\",TRIM(A183))-1),\"=\")","v":"AllowBothMartinAndAntiMartin="},"||false||0||true||N","Allow both Martin and Anti-martin ",{"$f":"VLOOKUP(Input!C183,Start!$G$2:$H$3,2,0)","v":false},{"$f":"VLOOKUP(Input!D183,Start!$G$2:$H$3,2,0)","v":false},{"$f":"VLOOKUP(Input!E183,Start!$G$2:$H$3,2,0)","v":false},{"$f":"VLOOKUP(Input!F183,Start!$G$2:$H$3,2,0)","v":false},{"$f":"VLOOKUP(Input!G183,Start!$G$2:$H$3,2,0)","v":false},{"$f":"VLOOKUP(Input!H183,Start!$G$2:$H$3,2,0)","v":false},{"$f":"VLOOKUP(Input!I183,Start!$G$2:$H$3,2,0)","v":false},{"$f":"VLOOKUP(Input!J183,Start!$G$2:$H$3,2,0)","v":false},{"$f":"VLOOKUP(Input!K183,Start!$G$2:$H$3,2,0)","v":false},{"$f":"VLOOKUP(Input!L183,Start!$G$2:$H$3,2,0)","v":false},{"$f":"VLOOKUP(Input!M183,Start!$G$2:$H$3,2,0)","v":false},{"$f":"_xlfn.CONCAT($B183,E183,$C183)","v":"AllowBothMartinAndAntiMartin=FALSE||false||0||true||N"},{"$f":"_xlfn.CONCAT($B183,F183,$C183)","v":"AllowBothMartinAndAntiMartin=FALSE||false||0||true||N"},{"$f":"_xlfn.CONCAT($B183,G183,$C183)","v":"AllowBothMartinAndAntiMartin=FALSE||false||0||true||N"},{"$f":"_xlfn.CONCAT($B183,H183,$C183)","v":"AllowBothMartinAndAntiMartin=FALSE||false||0||true||N"},{"$f":"_xlfn.CONCAT($B183,I183,$C183)","v":"AllowBothMartinAndAntiMartin=FALSE||false||0||true||N"},{"$f":"_xlfn.CONCAT($B183,J183,$C183)","v":"AllowBothMartinAndAntiMartin=FALSE||false||0||true||N"},{"$f":"_xlfn.CONCAT($B183,K183,$C183)","v":"AllowBothMartinAndAntiMartin=FALSE||false||0||true||N"},{"$f":"_xlfn.CONCAT($B183,L183,$C183)","v":"AllowBothMartinAndAntiMartin=FALSE||false||0||true||N"},{"$f":"_xlfn.CONCAT($B183,M183,$C183)","v":"AllowBothMartinAndAntiMartin=FALSE||false||0||true||N"},{"$f":"_xlfn.CONCAT($B183,N183,$C183)","v":"AllowBothMartinAndAntiMartin=FALSE||false||0||true||N"},{"$f":"_xlfn.CONCAT($B183,O183,$C183)","v":"AllowBothMartinAndAntiMartin=FALSE||false||0||true||N"}]
["; Partial close properties","; Partial close properties","; Partial close properties","Partial close properties ",null,null,null,null,null,null,null,null,null,null,null,{"$f":"$A184","v":"; Partial close properties"},"; Partial close properties","; Partial close properties","; Partial close properties","; Partial close properties","; Partial close properties","; Partial close properties","; Partial close properties","; Partial close properties","; Partial close properties","; Partial close properties"]
["PartialClose_Properties====================================================================================","PartialClose_Properties====================================================================================","PartialClose_Properties====================================================================================","Partial close properties: ",null,null,null,null,null,null,null,null,null,null,null,"PartialClose_Properties====================================================================================","PartialClose_Properties====================================================================================","PartialClose_Properties====================================================================================","PartialClose_Properties====================================================================================","PartialClose_Properties====================================================================================","PartialClose_Properties====================================================================================","PartialClose_Properties====================================================================================","PartialClose_Properties====================================================================================","PartialClose_Properties====================================================================================","PartialClose_Properties====================================================================================","PartialClose_Properties===================================================================================="]
["PartialClose_After=0||2||1||6||N",{"$f":"_xlfn.CONCAT(LEFT(TRIM(A186),FIND(\"=\",TRIM(A186))-1),\"=\")","v":"PartialClose_After="},{"$f":"_xlfn.CONCAT(\"|\",RIGHT(TRIM(A186),LEN(TRIM(A186))-SEARCH(\"|\",TRIM(A186))))","v":"||2||1||6||N"},"Close partial after order # (O - disable) ",{"$f":"Input!C186","v":0},{"$f":"Input!D186","v":0},{"$f":"Input!E186","v":0},{"$f":"Input!F186","v":0},{"$f":"Input!G186","v":0},{"$f":"Input!H186","v":0},{"$f":"Input!I186","v":0},{"$f":"Input!J186","v":0},{"$f":"Input!K186","v":0},{"$f":"Input!L186","v":0},{"$f":"Input!M186","v":0},{"$f":"_xlfn.CONCAT($B186,E186,$C186)","v":"PartialClose_After=0||2||1||6||N"},"PartialClose_After=0||2||1||6||N","PartialClose_After=0||2||1||6||N","PartialClose_After=0||2||1||6||N","PartialClose_After=0||2||1||6||N","PartialClose_After=0||2||1||6||N","PartialClose_After=0||2||1||6||N","PartialClose_After=0||2||1||6||N","PartialClose_After=0||2||1||6||N","PartialClose_After=0||2||1||6||N","PartialClose_After=0||2||1||6||N"]
["PartialClose_MinProfit=0||4||1||6||N","PartialClose_MinProfit=","||4||1||6||N","Min profit to close (account currency) ",{"$f":"Input!C187","v":0},{"$f":"Input!D187","v":0},{"$f":"Input!E187","v":0},{"$f":"Input!F187","v":0},{"$f":"Input!G187","v":0},{"$f":"Input!H187","v":0},{"$f":"Input!I187","v":0},{"$f":"Input!J187","v":0},{"$f":"Input!K187","v":0},{"$f":"Input!L187","v":0},{"$f":"Input!M187","v":0},"PartialClose_MinProfit=0||4||1||6||N","PartialClose_MinProfit=0||4||1||6||N","PartialClose_MinProfit=0||4||1||6||N","PartialClose_MinProfit=0||4||1||6||N","PartialClose_MinProfit=0||4||1||6||N","PartialClose_MinProfit=0||4||1||6||N","PartialClose_MinProfit=0||4||1||6||N","PartialClose_MinProfit=0||4||1||6||N","PartialClose_MinProfit=0||4||1||6||N","PartialClose_MinProfit=0||4||1||6||N","PartialClose_MinProfit=0||4||1||6||N"]
["PartialClose_MinProfit_Perc=0||0||0.000000||0.000000||N","PartialClose_MinProfit_Perc=","||0||0.000000||0.000000||N","Min profit to close from balance) (O - disable) ",{"$f":"Input!C188","v":0},{"$f":"Input!D188","v":0},{"$f":"Input!E188","v":0},{"$f":"Input!F188","v":0},{"$f":"Input!G188","v":0},{"$f":"Input!H188","v":0},{"$f":"Input!I188","v":0},{"$f":"Input!J188","v":0},{"$f":"Input!K188","v":0},{"$f":"Input!L188","v":0},{"$f":"Input!M188","v":0},"PartialClose_MinProfit_Perc=0||0||0.000000||0.000000||N","PartialClose_MinProfit_Perc=0||0||0.000000||0.000000||N","PartialClose_MinProfit_Perc=0||0||0.000000||0.000000||N","PartialClose_MinProfit_Perc=0||0||0.000000||0.000000||N","PartialClose_MinProfit_Perc=0||0||0.000000||0.000000||N","PartialClose_MinProfit_Perc=0||0||0.000000||0.000000||N","PartialClose_MinProfit_Perc=0||0||0.000000||0.000000||N","PartialClose_MinProfit_Perc=0||0||0.000000||0.000000||N","PartialClose_MinProfit_Perc=0||0||0.000000||0.000000||N","PartialClose_MinProfit_Perc=0||0||0.000000||0.000000||N","PartialClose_MinProfit_Perc=0||0||0.000000||0.000000||N"]
["PartialClose_MinPercent=100||100||10.000000||1000.000000||N","PartialClose_MinPercent=","||100||10.000000||1000.000000||N","Min part of losing order to close (%) ",{"$f":"Input!C189","v":0},{"$f":"Input!D189","v":0},{"$f":"Input!E189","v":0},{"$f":"Input!F189","v":0},{"$f":"Input!G189","v":0},{"$f":"Input!H189","v":0},{"$f":"Input!I189","v":0},{"$f":"Input!J189","v":0},{"$f":"Input!K189","v":0},{"$f":"Input!L189","v":0},{"$f":"Input!M189","v":0},"PartialClose_MinPercent=0||100||10.000000||1000.000000||N","PartialClose_MinPercent=0||100||10.000000||1000.000000||N","PartialClose_MinPercent=0||100||10.000000||1000.000000||N","PartialClose_MinPercent=0||100||10.000000||1000.000000||N","PartialClose_MinPercent=0||100||10.000000||1000.000000||N","PartialClose_MinPercent=0||100||10.000000||1000.000000||N","PartialClose_MinPercent=0||100||10.000000||1000.000000||N","PartialClose_MinPercent=0||100||10.000000||1000.000000||N","PartialClose_MinPercent=0||100||10.000000||1000.000000||N","PartialClose_MinPercent=0||100||10.000000||1000.000000||N","PartialClose_MinPercent=0||100||10.000000||1000.000000||N"]
["PartialClose_AnyToAny=false||false||0||true||N","PartialClose_AnyToAny=","||false||0||true||N","Close any with any ",{"$f":"VLOOKUP(Input!C190,Start!$G$2:$H$3,2,0)","v":false},{"$f":"VLOOKUP(Input!D190,Start!$G$2:$H$3,2,0)","v":false},{"$f":"VLOOKUP(Input!E190,Start!$G$2:$H$3,2,0)","v":false},{"$f":"VLOOKUP(Input!F190,Start!$G$2:$H$3,2,0)","v":false},{"$f":"VLOOKUP(Input!G190,Start!$G$2:$H$3,2,0)","v":false},{"$f":"VLOOKUP(Input!H190,Start!$G$2:$H$3,2,0)","v":false},{"$f":"VLOOKUP(Input!I190,Start!$G$2:$H$3,2,0)","v":false},{"$f":"VLOOKUP(Input!J190,Start!$G$2:$H$3,2,0)","v":false},{"$f":"VLOOKUP(Input!K190,Start!$G$2:$H$3,2,0)","v":false},{"$f":"VLOOKUP(Input!L190,Start!$G$2:$H$3,2,0)","v":false},{"$f":"VLOOKUP(Input!M190,Start!$G$2:$H$3,2,0)","v":false},"PartialClose_AnyToAny=FALSE||false||0||true||N","PartialClose_AnyToAny=FALSE||false||0||true||N","PartialClose_AnyToAny=FALSE||false||0||true||N","PartialClose_AnyToAny=FALSE||false||0||true||N","PartialClose_AnyToAny=FALSE||false||0||true||N","PartialClose_AnyToAny=FALSE||false||0||true||N","PartialClose_AnyToAny=FALSE||false||0||true||N","PartialClose_AnyToAny=FALSE||false||0||true||N","PartialClose_AnyToAny=FALSE||false||0||true||N","PartialClose_AnyToAny=FALSE||false||0||true||N","PartialClose_AnyToAny=FALSE||false||0||true||N"]
["PartialClose_CloseProfitItself=false||false||0||true||N","PartialClose_CloseProfitItself=","||false||0||true||N","Close profit itself ",{"$f":"VLOOKUP(Input!C191,Start!$G$2:$H$3,2,0)","v":false},{"$f":"VLOOKUP(Input!D191,Start!$G$2:$H$3,2,0)","v":false},{"$f":"VLOOKUP(Input!E191,Start!$G$2:$H$3,2,0)","v":false},{"$f":"VLOOKUP(Input!F191,Start!$G$2:$H$3,2,0)","v":false},{"$f":"VLOOKUP(Input!G191,Start!$G$2:$H$3,2,0)","v":false},{"$f":"VLOOKUP(Input!H191,Start!$G$2:$H$3,2,0)","v":false},{"$f":"VLOOKUP(Input!I191,Start!$G$2:$H$3,2,0)","v":false},{"$f":"VLOOKUP(Input!J191,Start!$G$2:$H$3,2,0)","v":false},{"$f":"VLOOKUP(Input!K191,Start!$G$2:$H$3,2,0)","v":false},{"$f":"VLOOKUP(Input!L191,Start!$G$2:$H$3,2,0)","v":false},{"$f":"VLOOKUP(Input!M191,Start!$G$2:$H$3,2,0)","v":false},"PartialClose_CloseProfitItself=FALSE||false||0||true||N","PartialClose_CloseProfitItself=FALSE||false||0||true||N","PartialClose_CloseProfitItself=FALSE||false||0||true||N","PartialClose_CloseProfitItself=FALSE||false||0||true||N","PartialClose_CloseProfitItself=FALSE||false||0||true||N","PartialClose_CloseProfitItself=FALSE||false||0||true||N","PartialClose_CloseProfitItself=FALSE||false||0||true||N","PartialClose_CloseProfitItself=FALSE||false||0||true||N","PartialClose_CloseProfitItself=FALSE||false||0||true||N","PartialClose_CloseProfitItself=FALSE||false||0||true||N","PartialClose_CloseProfitItself=FALSE||false||0||true||N"]
["PartialCloseHedge_After=0||0||1||10||N","PartialCloseHedge_After=","||0||1||10||N","Hedge: Close partial after order # (O - disable) ",{"$f":"Input!C192","v":0},{"$f":"Input!D192","v":0},{"$f":"Input!E192","v":0},{"$f":"Input!F192","v":0},{"$f":"Input!G192","v":0},{"$f":"Input!H192","v":0},{"$f":"Input!I192","v":0},{"$f":"Input!J192","v":0},{"$f":"Input!K192","v":0},{"$f":"Input!L192","v":0},{"$f":"Input!M192","v":0},"PartialCloseHedge_After=0||0||1||10||N","PartialCloseHedge_After=0||0||1||10||N","PartialCloseHedge_After=0||0||1||10||N","PartialCloseHedge_After=0||0||1||10||N","PartialCloseHedge_After=0||0||1||10||N","PartialCloseHedge_After=0||0||1||10||N","PartialCloseHedge_After=0||0||1||10||N","PartialCloseHedge_After=0||0||1||10||N","PartialCloseHedge_After=0||0||1||10||N","PartialCloseHedge_After=0||0||1||10||N","PartialCloseHedge_After=0||0||1||10||N"]
["PartialCloseHedge_MainToMain=false||false||0||true||N","PartialCloseHedge_MainToMain=","||false||0||true||N","Hedge: Close main series by opposite main series ",{"$f":"VLOOKUP(Input!C193,Start!$G$2:$H$3,2,0)","v":false},{"$f":"VLOOKUP(Input!D193,Start!$G$2:$H$3,2,0)","v":false},{"$f":"VLOOKUP(Input!E193,Start!$G$2:$H$3,2,0)","v":false},{"$f":"VLOOKUP(Input!F193,Start!$G$2:$H$3,2,0)","v":false},{"$f":"VLOOKUP(Input!G193,Start!$G$2:$H$3,2,0)","v":false},{"$f":"VLOOKUP(Input!H193,Start!$G$2:$H$3,2,0)","v":false},{"$f":"VLOOKUP(Input!I193,Start!$G$2:$H$3,2,0)","v":false},{"$f":"VLOOKUP(Input!J193,Start!$G$2:$H$3,2,0)","v":false},{"$f":"VLOOKUP(Input!K193,Start!$G$2:$H$3,2,0)","v":false},{"$f":"VLOOKUP(Input!L193,Start!$G$2:$H$3,2,0)","v":false},{"$f":"VLOOKUP(Input!M193,Start!$G$2:$H$3,2,0)","v":false},"PartialCloseHedge_MainToMain=FALSE||false||0||true||N","PartialCloseHedge_MainToMain=FALSE||false||0||true||N","PartialCloseHedge_MainToMain=FALSE||false||0||true||N","PartialCloseHedge_MainToMain=FALSE||false||0||true||N","PartialCloseHedge_MainToMain=FALSE||false||0||true||N","PartialCloseHedge_MainToMain=FALSE||false||0||true||N","PartialCloseHedge_MainToMain=FALSE||false||0||true||N","PartialCloseHedge_MainToMain=FALSE||false||0||true||N","PartialCloseHedge_MainToMain=FALSE||false||0||true||N","PartialCloseHedge_MainToMain=FALSE||false||0||true||N","PartialCloseHedge_MainToMain=FALSE||false||0||true||N"]
["PartialCloseHedge_BothWays=false||false||0||true||N","PartialCloseHedge_BothWays=","||false||0||true||N","Hedge: Allow close both ways (long series can close short ser ",{"$f":"VLOOKUP(Input!C194,Start!$G$2:$H$3,2,0)","v":false},{"$f":"VLOOKUP(Input!D194,Start!$G$2:$H$3,2,0)","v":false},{"$f":"VLOOKUP(Input!E194,Start!$G$2:$H$3,2,0)","v":false},{"$f":"VLOOKUP(Input!F194,Start!$G$2:$H$3,2,0)","v":false},{"$f":"VLOOKUP(Input!G194,Start!$G$2:$H$3,2,0)","v":false},{"$f":"VLOOKUP(Input!H194,Start!$G$2:$H$3,2,0)","v":false},{"$f":"VLOOKUP(Input!I194,Start!$G$2:$H$3,2,0)","v":false},{"$f":"VLOOKUP(Input!J194,Start!$G$2:$H$3,2,0)","v":false},{"$f":"VLOOKUP(Input!K194,Start!$G$2:$H$3,2,0)","v":false},{"$f":"VLOOKUP(Input!L194,Start!$G$2:$H$3,2,0)","v":false},{"$f":"VLOOKUP(Input!M194,Start!$G$2:$H$3,2,0)","v":false},"PartialCloseHedge_BothWays=FALSE||false||0||true||N","PartialCloseHedge_BothWays=FALSE||false||0||true||N","PartialCloseHedge_BothWays=FALSE||false||0||true||N","PartialCloseHedge_BothWays=FALSE||false||0||true||N","PartialCloseHedge_BothWays=FALSE||false||0||true||N","PartialCloseHedge_BothWays=FALSE||false||0||true||N","PartialCloseHedge_BothWays=FALSE||false||0||true||N","PartialCloseHedge_BothWays=FALSE||false||0||true||N","PartialCloseHedge_BothWays=FALSE||false||0||true||N","PartialCloseHedge_BothWays=FALSE||false||0||true||N","PartialCloseHedge_BothWays=FALSE||false||0||true||N"]
["PartialCloseHedge_MaxPrOrders=0||0||1||10||N","PartialCloseHedge_MaxPrOrders=","||0||1||10||N","Hedge: Max profitable orders to close at the same time (O d ",{"$f":"Input!C195","v":0},{"$f":"Input!D195","v":0},{"$f":"Input!E195","v":0},{"$f":"Input!F195","v":0},{"$f":"Input!G195","v":0},{"$f":"Input!H195","v":0},{"$f":"Input!I195","v":0},{"$f":"Input!J195","v":0},{"$f":"Input!K195","v":0},{"$f":"Input!L195","v":0},{"$f":"Input!M195","v":0},"PartialCloseHedge_MaxPrOrders=0||0||1||10||N","PartialCloseHedge_MaxPrOrders=0||0||1||10||N","PartialCloseHedge_MaxPrOrders=0||0||1||10||N","PartialCloseHedge_MaxPrOrders=0||0||1||10||N","PartialCloseHedge_MaxPrOrders=0||0||1||10||N","PartialCloseHedge_MaxPrOrders=0||0||1||10||N","PartialCloseHedge_MaxPrOrders=0||0||1||10||N","PartialCloseHedge_MaxPrOrders=0||0||1||10||N","PartialCloseHedge_MaxPrOrders=0||0||1||10||N","PartialCloseHedge_MaxPrOrders=0||0||1||10||N","PartialCloseHedge_MaxPrOrders=0||0||1||10||N"]
["PartialCloseHedge_MinProfit=0||0||0.000000||0.000000||N","PartialCloseHedge_MinProfit=","||0||0.000000||0.000000||N","Hedge: Min profit to close (account currency) ",{"$f":"Input!C196","v":0},{"$f":"Input!D196","v":0},{"$f":"Input!E196","v":0},{"$f":"Input!F196","v":0},{"$f":"Input!G196","v":0},{"$f":"Input!H196","v":0},{"$f":"Input!I196","v":0},{"$f":"Input!J196","v":0},{"$f":"Input!K196","v":0},{"$f":"Input!L196","v":0},{"$f":"Input!M196","v":0},"PartialCloseHedge_MinProfit=0||0||0.000000||0.000000||N","PartialCloseHedge_MinProfit=0||0||0.000000||0.000000||N","PartialCloseHedge_MinProfit=0||0||0.000000||0.000000||N","PartialCloseHedge_MinProfit=0||0||0.000000||0.000000||N","PartialCloseHedge_MinProfit=0||0||0.000000||0.000000||N","PartialCloseHedge_MinProfit=0||0||0.000000||0.000000||N","PartialCloseHedge_MinProfit=0||0||0.000000||0.000000||N","PartialCloseHedge_MinProfit=0||0||0.000000||0.000000||N","PartialCloseHedge_MinProfit=0||0||0.000000||0.000000||N","PartialCloseHedge_MinProfit=0||0||0.000000||0.000000||N","PartialCloseHedge_MinProfit=0||0||0.000000||0.000000||N"]
["PartialCloseHedge_MinProfit_Perc=0||0||0.000000||0.000000||N","PartialCloseHedge_MinProfit_Perc=","||0||0.000000||0.000000||N","Hedge: Min profit to close from balance) (O disable) ",{"$f":"Input!C197","v":0},{"$f":"Input!D197","v":0},{"$f":"Input!E197","v":0},{"$f":"Input!F197","v":0},{"$f":"Input!G197","v":0},{"$f":"Input!H197","v":0},{"$f":"Input!I197","v":0},{"$f":"Input!J197","v":0},{"$f":"Input!K197","v":0},{"$f":"Input!L197","v":0},{"$f":"Input!M197","v":0},"PartialCloseHedge_MinProfit_Perc=0||0||0.000000||0.000000||N","PartialCloseHedge_MinProfit_Perc=0||0||0.000000||0.000000||N","PartialCloseHedge_MinProfit_Perc=0||0||0.000000||0.000000||N","PartialCloseHedge_MinProfit_Perc=0||0||0.000000||0.000000||N","PartialCloseHedge_MinProfit_Perc=0||0||0.000000||0.000000||N","PartialCloseHedge_MinProfit_Perc=0||0||0.000000||0.000000||N","PartialCloseHedge_MinProfit_Perc=0||0||0.000000||0.000000||N","PartialCloseHedge_MinProfit_Perc=0||0||0.000000||0.000000||N","PartialCloseHedge_MinProfit_Perc=0||0||0.000000||0.000000||N","PartialCloseHedge_MinProfit_Perc=0||0||0.000000||0.000000||N","PartialCloseHedge_MinProfit_Perc=0||0||0.000000||0.000000||N"]
["PartialCloseHedge_MinProfit_OppL=0||0||0.000000||0.000000||N","PartialCloseHedge_MinProfit_OppL=","||0||0.000000||0.000000||N","Hedge: Min profit to close from opposite loss) (O - disabl ",{"$f":"Input!C198","v":0},{"$f":"Input!D198","v":0},{"$f":"Input!E198","v":0},{"$f":"Input!F198","v":0},{"$f":"Input!G198","v":0},{"$f":"Input!H198","v":0},{"$f":"Input!I198","v":0},{"$f":"Input!J198","v":0},{"$f":"Input!K198","v":0},{"$f":"Input!L198","v":0},{"$f":"Input!M198","v":0},"PartialCloseHedge_MinProfit_OppL=0||0||0.000000||0.000000||N","PartialCloseHedge_MinProfit_OppL=0||0||0.000000||0.000000||N","PartialCloseHedge_MinProfit_OppL=0||0||0.000000||0.000000||N","PartialCloseHedge_MinProfit_OppL=0||0||0.000000||0.000000||N","PartialCloseHedge_MinProfit_OppL=0||0||0.000000||0.000000||N","PartialCloseHedge_MinProfit_OppL=0||0||0.000000||0.000000||N","PartialCloseHedge_MinProfit_OppL=0||0||0.000000||0.000000||N","PartialCloseHedge_MinProfit_OppL=0||0||0.000000||0.000000||N","PartialCloseHedge_MinProfit_OppL=0||0||0.000000||0.000000||N","PartialCloseHedge_MinProfit_OppL=0||0||0.000000||0.000000||N","PartialCloseHedge_MinProfit_OppL=0||0||0.000000||0.000000||N"]
["PartialCloseHedge_MinPercent=100||100||10.000000||1000.000000||N","PartialCloseHedge_MinPercent=","||100||10.000000||1000.000000||N","Hedge: Min part of losing order to close (%) ",{"$f":"Input!C199","v":0},{"$f":"Input!D199","v":0},{"$f":"Input!E199","v":0},{"$f":"Input!F199","v":0},{"$f":"Input!G199","v":0},{"$f":"Input!H199","v":0},{"$f":"Input!I199","v":0},{"$f":"Input!J199","v":0},{"$f":"Input!K199","v":0},{"$f":"Input!L199","v":0},{"$f":"Input!M199","v":0},"PartialCloseHedge_MinPercent=0||100||10.000000||1000.000000||N","PartialCloseHedge_MinPercent=0||100||10.000000||1000.000000||N","PartialCloseHedge_MinPercent=0||100||10.000000||1000.000000||N","PartialCloseHedge_MinPercent=0||100||10.000000||1000.000000||N","PartialCloseHedge_MinPercent=0||100||10.000000||1000.000000||N","PartialCloseHedge_MinPercent=0||100||10.000000||1000.000000||N","PartialCloseHedge_MinPercent=0||100||10.000000||1000.000000||N","PartialCloseHedge_MinPercent=0||100||10.000000||1000.000000||N","PartialCloseHedge_MinPercent=0||100||10.000000||1000.000000||N","PartialCloseHedge_MinPercent=0||100||10.000000||1000.000000||N","PartialCloseHedge_MinPercent=0||100||10.000000||1000.000000||N"]
["; Directional change properties","; Directional change properties","; Directional change properties","Directional change properties ",null,null,null,null,null,null,null,null,null,null,null,{"$f":"$A200","v":"; Directional change properties"},"; Directional change properties","; Directional change properties","; Directional change properties","; Directional change properties","; Directional change properties","; Directional change properties","; Directional change properties","; Directional change properties","; Directional change properties","; Directional change properties"]
["DirChange_Properties====================================================================================","DirChange_Properties====================================================================================","DirChange_Properties====================================================================================","Directional change properties: ",null,null,null,null,null,null,null,null,null,null,null,"DirChange_Properties====================================================================================","DirChange_Properties====================================================================================","DirChange_Properties====================================================================================","DirChange_Properties====================================================================================","DirChange_Properties====================================================================================","DirChange_Properties====================================================================================","DirChange_Properties====================================================================================","DirChange_Properties====================================================================================","DirChange_Properties====================================================================================","DirChange_Properties====================================================================================","DirChange_Properties===================================================================================="]
["DirChange_Type=0||0||0||1||N",{"$f":"_xlfn.CONCAT(LEFT(TRIM(A202),FIND(\"=\",TRIM(A202))-1),\"=\")","v":"DirChange_Type="},{"$f":"_xlfn.CONCAT(\"|\",RIGHT(TRIM(A202),LEN(TRIM(A202))-SEARCH(\"|\",TRIM(A202))))","v":"||0||0||1||N"},"Directional change filter type ",{"$f":"VLOOKUP(Input!C202,Start!$AE$2:$AF$3,2,0)","v":1},{"$f":"VLOOKUP(Input!D202,Start!$AE$2:$AF$3,2,0)","v":1},{"$f":"VLOOKUP(Input!E202,Start!$AE$2:$AF$3,2,0)","v":1},{"$f":"VLOOKUP(Input!F202,Start!$AE$2:$AF$3,2,0)","v":1},{"$f":"VLOOKUP(Input!G202,Start!$AE$2:$AF$3,2,0)","v":1},{"$f":"VLOOKUP(Input!H202,Start!$AE$2:$AF$3,2,0)","v":1},{"$f":"VLOOKUP(Input!I202,Start!$AE$2:$AF$3,2,0)","v":1},{"$f":"VLOOKUP(Input!J202,Start!$AE$2:$AF$3,2,0)","v":1},{"$f":"VLOOKUP(Input!K202,Start!$AE$2:$AF$3,2,0)","v":1},{"$f":"VLOOKUP(Input!L202,Start!$AE$2:$AF$3,2,0)","v":1},{"$f":"VLOOKUP(Input!M202,Start!$AE$2:$AF$3,2,0)","v":1},{"$f":"_xlfn.CONCAT($B202,E202,$C202)","v":"DirChange_Type=1||0||0||1||N"},"DirChange_Type=1||0||0||1||N","DirChange_Type=1||0||0||1||N","DirChange_Type=1||0||0||1||N","DirChange_Type=1||0||0||1||N","DirChange_Type=1||0||0||1||N","DirChange_Type=1||0||0||1||N","DirChange_Type=1||0||0||1||N","DirChange_Type=1||0||0||1||N","DirChange_Type=1||0||0||1||N","DirChange_Type=1||0||0||1||N"]
["DirChange_OpenOn=0||0||0||3||N","DirChange_OpenOn=","||0||0||3||N","Open on ",{"$f":"VLOOKUP(Input!C203,Start!$AI$2:$AJ$5,2,0)","v":0},{"$f":"VLOOKUP(Input!D203,Start!$AI$2:$AJ$5,2,0)","v":0},{"$f":"VLOOKUP(Input!E203,Start!$AI$2:$AJ$5,2,0)","v":0},{"$f":"VLOOKUP(Input!F203,Start!$AI$2:$AJ$5,2,0)","v":0},{"$f":"VLOOKUP(Input!G203,Start!$AI$2:$AJ$5,2,0)","v":0},{"$f":"VLOOKUP(Input!H203,Start!$AI$2:$AJ$5,2,0)","v":0},{"$f":"VLOOKUP(Input!I203,Start!$AI$2:$AJ$5,2,0)","v":0},{"$f":"VLOOKUP(Input!J203,Start!$AI$2:$AJ$5,2,0)","v":0},{"$f":"VLOOKUP(Input!K203,Start!$AI$2:$AJ$5,2,0)","v":0},{"$f":"VLOOKUP(Input!L203,Start!$AI$2:$AJ$5,2,0)","v":0},{"$f":"VLOOKUP(Input!M203,Start!$AI$2:$AJ$5,2,0)","v":0},"DirChange_OpenOn=0||0||0||3||N","DirChange_OpenOn=0||0||0||3||N","DirChange_OpenOn=0||0||0||3||N","DirChange_OpenOn=0||0||0||3||N","DirChange_OpenOn=0||0||0||3||N","DirChange_OpenOn=0||0||0||3||N","DirChange_OpenOn=0||0||0||3||N","DirChange_OpenOn=0||0||0||3||N","DirChange_OpenOn=0||0||0||3||N","DirChange_OpenOn=0||0||0||3||N","DirChange_OpenOn=0||0||0||3||N"]
["; Big candle properties","; Big candle properties","; Big candle properties","Big candle properties ",null,null,null,null,null,null,null,null,null,null,null,{"$f":"$A204","v":"; Big candle properties"},"; Big candle properties","; Big candle properties","; Big candle properties","; Big candle properties","; Big candle properties","; Big candle properties","; Big candle properties","; Big candle properties","; Big candle properties","; Big candle properties"]
["BigCandle_Properties====================================================================================","BigCandle_Properties====================================================================================","BigCandle_Properties====================================================================================","Big candle properties: ",null,null,null,null,null,null,null,null,null,null,null,"BigCandle_Properties====================================================================================","BigCandle_Properties====================================================================================","BigCandle_Properties====================================================================================","BigCandle_Properties====================================================================================","BigCandle_Properties====================================================================================","BigCandle_Properties====================================================================================","BigCandle_Properties====================================================================================","BigCandle_Properties====================================================================================","BigCandle_Properties====================================================================================","BigCandle_Properties====================================================================================","BigCandle_Properties===================================================================================="]
["BigCandle_Type=0||0||0||3||N",{"$f":"_xlfn.CONCAT(LEFT(TRIM(A206),FIND(\"=\",TRIM(A206))-1),\"=\")","v":"BigCandle_Type="},{"$f":"_xlfn.CONCAT(\"|\",RIGHT(TRIM(A206),LEN(TRIM(A206))-SEARCH(\"|\",TRIM(A206))))","v":"||0||0||3||N"},"Big candle filter type ",{"$f":"VLOOKUP(Input!C206,Start!$AE$2:$AF$3,2,0)","v":1},{"$f":"VLOOKUP(Input!D206,Start!$AE$2:$AF$3,2,0)","v":1},{"$f":"VLOOKUP(Input!E206,Start!$AE$2:$AF$3,2,0)","v":1},{"$f":"VLOOKUP(Input!F206,Start!$AE$2:$AF$3,2,0)","v":1},{"$f":"VLOOKUP(Input!G206,Start!$AE$2:$AF$3,2,0)","v":1},{"$f":"VLOOKUP(Input!H206,Start!$AE$2:$AF$3,2,0)","v":1},{"$f":"VLOOKUP(Input!I206,Start!$AE$2:$AF$3,2,0)","v":1},{"$f":"VLOOKUP(Input!J206,Start!$AE$2:$AF$3,2,0)","v":1},{"$f":"VLOOKUP(Input!K206,Start!$AE$2:$AF$3,2,0)","v":1},{"$f":"VLOOKUP(Input!L206,Start!$AE$2:$AF$3,2,0)","v":1},{"$f":"VLOOKUP(Input!M206,Start!$AE$2:$AF$3,2,0)","v":1},{"$f":"_xlfn.CONCAT($B206,E206,$C206)","v":"BigCandle_Type=1||0||0||3||N"},"BigCandle_Type=1||0||0||3||N","BigCandle_Type=1||0||0||3||N","BigCandle_Type=1||0||0||3||N","BigCandle_Type=1||0||0||3||N","BigCandle_Type=1||0||0||3||N","BigCandle_Type=1||0||0||3||N","BigCandle_Type=1||0||0||3||N","BigCandle_Type=1||0||0||3||N","BigCandle_Type=1||0||0||3||N","BigCandle_Type=1||0||0||3||N"]
["BigCandle_MinSize=100||100||10.000000||1000.000000||N","BigCandle_MinSize=","||100||10.000000||1000.000000||N","Big candle min size ",{"$f":"Input!C207","v":0},{"$f":"Input!D207","v":0},{"$f":"Input!E207","v":0},{"$f":"Input!F207","v":0},{"$f":"Input!G207","v":0},{"$f":"Input!H207","v":0},{"$f":"Input!I207","v":0},{"$f":"Input!J207","v":0},{"$f":"Input!K207","v":0},{"$f":"Input!L207","v":0},{"$f":"Input!M207","v":0},"BigCandle_MinSize=0||100||10.000000||1000.000000||N","BigCandle_MinSize=0||100||10.000000||1000.000000||N","BigCandle_MinSize=0||100||10.000000||1000.000000||N","BigCandle_MinSize=0||100||10.000000||1000.000000||N","BigCandle_MinSize=0||100||10.000000||1000.000000||N","BigCandle_MinSize=0||100||10.000000||1000.000000||N","BigCandle_MinSize=0||100||10.000000||1000.000000||N","BigCandle_MinSize=0||100||10.000000||1000.000000||N","BigCandle_MinSize=0||100||10.000000||1000.000000||N","BigCandle_MinSize=0||100||10.000000||1000.000000||N","BigCandle_MinSize=0||100||10.000000||1000.000000||N"]
["BigCandle_MaxSize=0||0||0.000000||0.000000||N","BigCandle_MaxSize=","||0||0.000000||0.000000||N","Big candle max size (O - disable limit) ",{"$f":"Input!C208","v":0},{"$f":"Input!D208","v":0},{"$f":"Input!E208","v":0},{"$f":"Input!F208","v":0},{"$f":"Input!G208","v":0},{"$f":"Input!H208","v":0},{"$f":"Input!I208","v":0},{"$f":"Input!J208","v":0},{"$f":"Input!K208","v":0},{"$f":"Input!L208","v":0},{"$f":"Input!M208","v":0},"BigCandle_MaxSize=0||0||0.000000||0.000000||N","BigCandle_MaxSize=0||0||0.000000||0.000000||N","BigCandle_MaxSize=0||0||0.000000||0.000000||N","BigCandle_MaxSize=0||0||0.000000||0.000000||N","BigCandle_MaxSize=0||0||0.000000||0.000000||N","BigCandle_MaxSize=0||0||0.000000||0.000000||N","BigCandle_MaxSize=0||0||0.000000||0.000000||N","BigCandle_MaxSize=0||0||0.000000||0.000000||N","BigCandle_MaxSize=0||0||0.000000||0.000000||N","BigCandle_MaxSize=0||0||0.000000||0.000000||N","BigCandle_MaxSize=0||0||0.000000||0.000000||N"]
["BigCandle_TF=0||0||0||49153||N","BigCandle_TF=","||0||0||49153||N","Big candle TimeFrame ",{"$f":"VLOOKUP(Input!C209,Start!$K$2:$L$22,2,0)","v":2},{"$f":"VLOOKUP(Input!D209,Start!$K$2:$L$22,2,0)","v":2},{"$f":"VLOOKUP(Input!E209,Start!$K$2:$L$22,2,0)","v":2},{"$f":"VLOOKUP(Input!F209,Start!$K$2:$L$22,2,0)","v":2},{"$f":"VLOOKUP(Input!G209,Start!$K$2:$L$22,2,0)","v":2},{"$f":"VLOOKUP(Input!H209,Start!$K$2:$L$22,2,0)","v":2},{"$f":"VLOOKUP(Input!I209,Start!$K$2:$L$22,2,0)","v":2},{"$f":"VLOOKUP(Input!J209,Start!$K$2:$L$22,2,0)","v":2},{"$f":"VLOOKUP(Input!K209,Start!$K$2:$L$22,2,0)","v":2},{"$f":"VLOOKUP(Input!L209,Start!$K$2:$L$22,2,0)","v":2},{"$f":"VLOOKUP(Input!M209,Start!$K$2:$L$22,2,0)","v":2},"BigCandle_TF=2||0||0||49153||N","BigCandle_TF=2||0||0||49153||N","BigCandle_TF=2||0||0||49153||N","BigCandle_TF=2||0||0||49153||N","BigCandle_TF=2||0||0||49153||N","BigCandle_TF=2||0||0||49153||N","BigCandle_TF=2||0||0||49153||N","BigCandle_TF=2||0||0||49153||N","BigCandle_TF=2||0||0||49153||N","BigCandle_TF=2||0||0||49153||N","BigCandle_TF=2||0||0||49153||N"]
["BigCandle_CurrentBar=true||false||0||true||N","BigCandle_CurrentBar=","||false||0||true||N","Analyze current bar ",{"$f":"VLOOKUP(Input!C210,Start!$G$2:$H$3,2,0)","v":false},{"$f":"VLOOKUP(Input!D210,Start!$G$2:$H$3,2,0)","v":false},{"$f":"VLOOKUP(Input!E210,Start!$G$2:$H$3,2,0)","v":false},{"$f":"VLOOKUP(Input!F210,Start!$G$2:$H$3,2,0)","v":false},{"$f":"VLOOKUP(Input!G210,Start!$G$2:$H$3,2,0)","v":false},{"$f":"VLOOKUP(Input!H210,Start!$G$2:$H$3,2,0)","v":false},{"$f":"VLOOKUP(Input!I210,Start!$G$2:$H$3,2,0)","v":false},{"$f":"VLOOKUP(Input!J210,Start!$G$2:$H$3,2,0)","v":false},{"$f":"VLOOKUP(Input!K210,Start!$G$2:$H$3,2,0)","v":false},{"$f":"VLOOKUP(Input!L210,Start!$G$2:$H$3,2,0)","v":false},{"$f":"VLOOKUP(Input!M210,Start!$G$2:$H$3,2,0)","v":false},"BigCandle_CurrentBar=FALSE||false||0||true||N","BigCandle_CurrentBar=FALSE||false||0||true||N","BigCandle_CurrentBar=FALSE||false||0||true||N","BigCandle_CurrentBar=FALSE||false||0||true||N","BigCandle_CurrentBar=FALSE||false||0||true||N","BigCandle_CurrentBar=FALSE||false||0||true||N","BigCandle_CurrentBar=FALSE||false||0||true||N","BigCandle_CurrentBar=FALSE||false||0||true||N","BigCandle_CurrentBar=FALSE||false||0||true||N","BigCandle_CurrentBar=FALSE||false||0||true||N","BigCandle_CurrentBar=FALSE||false||0||true||N"]
["BigCandle_OpenOn=0||0||0||3||N","BigCandle_OpenOn=","||0||0||3||N","Open on ",{"$f":"VLOOKUP(Input!C211,Start!$AK$2:$AL$5,2,0)","v":1},{"$f":"VLOOKUP(Input!D211,Start!$AK$2:$AL$5,2,0)","v":1},{"$f":"VLOOKUP(Input!E211,Start!$AK$2:$AL$5,2,0)","v":1},{"$f":"VLOOKUP(Input!F211,Start!$AK$2:$AL$5,2,0)","v":1},{"$f":"VLOOKUP(Input!G211,Start!$AK$2:$AL$5,2,0)","v":1},{"$f":"VLOOKUP(Input!H211,Start!$AK$2:$AL$5,2,0)","v":1},{"$f":"VLOOKUP(Input!I211,Start!$AK$2:$AL$5,2,0)","v":1},{"$f":"VLOOKUP(Input!J211,Start!$AK$2:$AL$5,2,0)","v":1},{"$f":"VLOOKUP(Input!K211,Start!$AK$2:$AL$5,2,0)","v":1},{"$f":"VLOOKUP(Input!L211,Start!$AK$2:$AL$5,2,0)","v":1},{"$f":"VLOOKUP(Input!M211,Start!$AK$2:$AL$5,2,0)","v":1},"BigCandle_OpenOn=1||0||0||3||N","BigCandle_OpenOn=1||0||0||3||N","BigCandle_OpenOn=1||0||0||3||N","BigCandle_OpenOn=1||0||0||3||N","BigCandle_OpenOn=1||0||0||3||N","BigCandle_OpenOn=1||0||0||3||N","BigCandle_OpenOn=1||0||0||3||N","BigCandle_OpenOn=1||0||0||3||N","BigCandle_OpenOn=1||0||0||3||N","BigCandle_OpenOn=1||0||0||3||N","BigCandle_OpenOn=1||0||0||3||N"]
["BigCandle_MartinOn=0||0||0||3||N","BigCandle_MartinOn=","||0||0||3||N","Open martin on ",{"$f":"VLOOKUP(Input!C212,Start!$AK$2:$AL$5,2,0)","v":1},{"$f":"VLOOKUP(Input!D212,Start!$AK$2:$AL$5,2,0)","v":1},{"$f":"VLOOKUP(Input!E212,Start!$AK$2:$AL$5,2,0)","v":1},{"$f":"VLOOKUP(Input!F212,Start!$AK$2:$AL$5,2,0)","v":1},{"$f":"VLOOKUP(Input!G212,Start!$AK$2:$AL$5,2,0)","v":1},{"$f":"VLOOKUP(Input!H212,Start!$AK$2:$AL$5,2,0)","v":1},{"$f":"VLOOKUP(Input!I212,Start!$AK$2:$AL$5,2,0)","v":1},{"$f":"VLOOKUP(Input!J212,Start!$AK$2:$AL$5,2,0)","v":1},{"$f":"VLOOKUP(Input!K212,Start!$AK$2:$AL$5,2,0)","v":1},{"$f":"VLOOKUP(Input!L212,Start!$AK$2:$AL$5,2,0)","v":1},{"$f":"VLOOKUP(Input!M212,Start!$AK$2:$AL$5,2,0)","v":1},"BigCandle_MartinOn=1||0||0||3||N","BigCandle_MartinOn=1||0||0||3||N","BigCandle_MartinOn=1||0||0||3||N","BigCandle_MartinOn=1||0||0||3||N","BigCandle_MartinOn=1||0||0||3||N","BigCandle_MartinOn=1||0||0||3||N","BigCandle_MartinOn=1||0||0||3||N","BigCandle_MartinOn=1||0||0||3||N","BigCandle_MartinOn=1||0||0||3||N","BigCandle_MartinOn=1||0||0||3||N","BigCandle_MartinOn=1||0||0||3||N"]
["BigCandle_HedgeOn=0||0||0||3||N","BigCandle_HedgeOn=","||0||0||3||N","Open hedge on ",{"$f":"VLOOKUP(Input!C213,Start!$AK$2:$AL$5,2,0)","v":1},{"$f":"VLOOKUP(Input!D213,Start!$AK$2:$AL$5,2,0)","v":1},{"$f":"VLOOKUP(Input!E213,Start!$AK$2:$AL$5,2,0)","v":1},{"$f":"VLOOKUP(Input!F213,Start!$AK$2:$AL$5,2,0)","v":1},{"$f":"VLOOKUP(Input!G213,Start!$AK$2:$AL$5,2,0)","v":1},{"$f":"VLOOKUP(Input!H213,Start!$AK$2:$AL$5,2,0)","v":1},{"$f":"VLOOKUP(Input!I213,Start!$AK$2:$AL$5,2,0)","v":1},{"$f":"VLOOKUP(Input!J213,Start!$AK$2:$AL$5,2,0)","v":1},{"$f":"VLOOKUP(Input!K213,Start!$AK$2:$AL$5,2,0)","v":1},{"$f":"VLOOKUP(Input!L213,Start!$AK$2:$AL$5,2,0)","v":1},{"$f":"VLOOKUP(Input!M213,Start!$AK$2:$AL$5,2,0)","v":1},"BigCandle_HedgeOn=1||0||0||3||N","BigCandle_HedgeOn=1||0||0||3||N","BigCandle_HedgeOn=1||0||0||3||N","BigCandle_HedgeOn=1||0||0||3||N","BigCandle_HedgeOn=1||0||0||3||N","BigCandle_HedgeOn=1||0||0||3||N","BigCandle_HedgeOn=1||0||0||3||N","BigCandle_HedgeOn=1||0||0||3||N","BigCandle_HedgeOn=1||0||0||3||N","BigCandle_HedgeOn=1||0||0||3||N","BigCandle_HedgeOn=1||0||0||3||N"]
["BigCandle_CloseOn=0||0||0||4||N","BigCandle_CloseOn=","||0||0||4||N","Close on ",{"$f":"VLOOKUP(Input!C214,Start!$AM$2:$AN$6,2,0)","v":2},{"$f":"VLOOKUP(Input!D214,Start!$AM$2:$AN$6,2,0)","v":2},{"$f":"VLOOKUP(Input!E214,Start!$AM$2:$AN$6,2,0)","v":2},{"$f":"VLOOKUP(Input!F214,Start!$AM$2:$AN$6,2,0)","v":2},{"$f":"VLOOKUP(Input!G214,Start!$AM$2:$AN$6,2,0)","v":2},{"$f":"VLOOKUP(Input!H214,Start!$AM$2:$AN$6,2,0)","v":2},{"$f":"VLOOKUP(Input!I214,Start!$AM$2:$AN$6,2,0)","v":2},{"$f":"VLOOKUP(Input!J214,Start!$AM$2:$AN$6,2,0)","v":2},{"$f":"VLOOKUP(Input!K214,Start!$AM$2:$AN$6,2,0)","v":2},{"$f":"VLOOKUP(Input!L214,Start!$AM$2:$AN$6,2,0)","v":2},{"$f":"VLOOKUP(Input!M214,Start!$AM$2:$AN$6,2,0)","v":2},"BigCandle_CloseOn=2||0||0||4||N","BigCandle_CloseOn=2||0||0||4||N","BigCandle_CloseOn=2||0||0||4||N","BigCandle_CloseOn=2||0||0||4||N","BigCandle_CloseOn=2||0||0||4||N","BigCandle_CloseOn=2||0||0||4||N","BigCandle_CloseOn=2||0||0||4||N","BigCandle_CloseOn=2||0||0||4||N","BigCandle_CloseOn=2||0||0||4||N","BigCandle_CloseOn=2||0||0||4||N","BigCandle_CloseOn=2||0||0||4||N"]
["BigCandle_PartialCloseOn=0||0||0||3||N","BigCandle_PartialCloseOn=","||0||0||3||N","Partial close on ",{"$f":"VLOOKUP(Input!C215,Start!$AO$2:$AP$4,2,0)","v":1},{"$f":"VLOOKUP(Input!D215,Start!$AO$2:$AP$4,2,0)","v":1},{"$f":"VLOOKUP(Input!E215,Start!$AO$2:$AP$4,2,0)","v":1},{"$f":"VLOOKUP(Input!F215,Start!$AO$2:$AP$4,2,0)","v":1},{"$f":"VLOOKUP(Input!G215,Start!$AO$2:$AP$4,2,0)","v":1},{"$f":"VLOOKUP(Input!H215,Start!$AO$2:$AP$4,2,0)","v":1},{"$f":"VLOOKUP(Input!I215,Start!$AO$2:$AP$4,2,0)","v":1},{"$f":"VLOOKUP(Input!J215,Start!$AO$2:$AP$4,2,0)","v":1},{"$f":"VLOOKUP(Input!K215,Start!$AO$2:$AP$4,2,0)","v":1},{"$f":"VLOOKUP(Input!L215,Start!$AO$2:$AP$4,2,0)","v":1},{"$f":"VLOOKUP(Input!M215,Start!$AO$2:$AP$4,2,0)","v":1},"BigCandle_PartialCloseOn=1||0||0||3||N","BigCandle_PartialCloseOn=1||0||0||3||N","BigCandle_PartialCloseOn=1||0||0||3||N","BigCandle_PartialCloseOn=1||0||0||3||N","BigCandle_PartialCloseOn=1||0||0||3||N","BigCandle_PartialCloseOn=1||0||0||3||N","BigCandle_PartialCloseOn=1||0||0||3||N","BigCandle_PartialCloseOn=1||0||0||3||N","BigCandle_PartialCloseOn=1||0||0||3||N","BigCandle_PartialCloseOn=1||0||0||3||N","BigCandle_PartialCloseOn=1||0||0||3||N"]
["; Oscillator #1 properties","; Oscillator #1 properties","; Oscillator #1 properties","Oscillator #1 properties ",null,null,null,null,null,null,null,null,null,null,null,{"$f":"$A216","v":"; Oscillator #1 properties"},"; Oscillator #1 properties","; Oscillator #1 properties","; Oscillator #1 properties","; Oscillator #1 properties","; Oscillator #1 properties","; Oscillator #1 properties","; Oscillator #1 properties","; Oscillator #1 properties","; Oscillator #1 properties","; Oscillator #1 properties"]
["Oscillators_Properties====================================================================================","Oscillators_Properties====================================================================================","Oscillators_Properties====================================================================================","Oscillator properties: ",null,null,null,null,null,null,null,null,null,null,null,"Oscillators_Properties====================================================================================","Oscillators_Properties====================================================================================","Oscillators_Properties====================================================================================","Oscillators_Properties====================================================================================","Oscillators_Properties====================================================================================","Oscillators_Properties====================================================================================","Oscillators_Properties====================================================================================","Oscillators_Properties====================================================================================","Oscillators_Properties====================================================================================","Oscillators_Properties====================================================================================","Oscillators_Properties===================================================================================="]
["Oscillators_Type=0||0||0||4||N",{"$f":"_xlfn.CONCAT(LEFT(TRIM(A218),FIND(\"=\",TRIM(A218))-1),\"=\")","v":"Oscillators_Type="},{"$f":"_xlfn.CONCAT(\"|\",RIGHT(TRIM(A218),LEN(TRIM(A218))-SEARCH(\"|\",TRIM(A218))))","v":"||0||0||4||N"},"Filter Type ",{"$f":"VLOOKUP(Input!C218,Start!$AQ$2:$AR$6,2,0)","v":1},{"$f":"VLOOKUP(Input!D218,Start!$AQ$2:$AR$6,2,0)","v":1},{"$f":"VLOOKUP(Input!E218,Start!$AQ$2:$AR$6,2,0)","v":1},{"$f":"VLOOKUP(Input!F218,Start!$AQ$2:$AR$6,2,0)","v":1},{"$f":"VLOOKUP(Input!G218,Start!$AQ$2:$AR$6,2,0)","v":1},{"$f":"VLOOKUP(Input!H218,Start!$AQ$2:$AR$6,2,0)","v":1},{"$f":"VLOOKUP(Input!I218,Start!$AQ$2:$AR$6,2,0)","v":1},{"$f":"VLOOKUP(Input!J218,Start!$AQ$2:$AR$6,2,0)","v":1},{"$f":"VLOOKUP(Input!K218,Start!$AQ$2:$AR$6,2,0)","v":1},{"$f":"VLOOKUP(Input!L218,Start!$AQ$2:$AR$6,2,0)","v":1},{"$f":"VLOOKUP(Input!M218,Start!$AQ$2:$AR$6,2,0)","v":1},{"$f":"_xlfn.CONCAT($B218,E218,$C218)","v":"Oscillators_Type=1||0||0||4||N"},"Oscillators_Type=1||0||0||4||N","Oscillators_Type=1||0||0||4||N","Oscillators_Type=1||0||0||4||N","Oscillators_Type=1||0||0||4||N","Oscillators_Type=1||0||0||4||N","Oscillators_Type=1||0||0||4||N","Oscillators_Type=1||0||0||4||N","Oscillators_Type=1||0||0||4||N","Oscillators_Type=1||0||0||4||N","Oscillators_Type=1||0||0||4||N"]
["Oscillators_Indicator=3||0||0||4||N","Oscillators_Indicator=","||0||0||4||N","Indicator ",{"$f":"VLOOKUP(Input!C219,Start!$AS$2:$AT$7,2,0)","v":1},{"$f":"VLOOKUP(Input!D219,Start!$AS$2:$AT$7,2,0)","v":1},{"$f":"VLOOKUP(Input!E219,Start!$AS$2:$AT$7,2,0)","v":1},{"$f":"VLOOKUP(Input!F219,Start!$AS$2:$AT$7,2,0)","v":1},{"$f":"VLOOKUP(Input!G219,Start!$AS$2:$AT$7,2,0)","v":1},{"$f":"VLOOKUP(Input!H219,Start!$AS$2:$AT$7,2,0)","v":1},{"$f":"VLOOKUP(Input!I219,Start!$AS$2:$AT$7,2,0)","v":1},{"$f":"VLOOKUP(Input!J219,Start!$AS$2:$AT$7,2,0)","v":1},{"$f":"VLOOKUP(Input!K219,Start!$AS$2:$AT$7,2,0)","v":1},{"$f":"VLOOKUP(Input!L219,Start!$AS$2:$AT$7,2,0)","v":1},{"$f":"VLOOKUP(Input!M219,Start!$AS$2:$AT$7,2,0)","v":1},"Oscillators_Indicator=1||0||0||4||N","Oscillators_Indicator=1||0||0||4||N","Oscillators_Indicator=1||0||0||4||N","Oscillators_Indicator=1||0||0||4||N","Oscillators_Indicator=1||0||0||4||N","Oscillators_Indicator=1||0||0||4||N","Oscillators_Indicator=1||0||0||4||N","Oscillators_Indicator=1||0||0||4||N","Oscillators_Indicator=1||0||0||4||N","Oscillators_Indicator=1||0||0||4||N","Oscillators_Indicator=1||0||0||4||N"]
["Oscillators_TF=0||0||0||49153||N","Oscillators_TF=","||0||0||49153||N","Time Frame ",{"$f":"VLOOKUP(Input!C220,Start!$K$2:$L$22,2,0)","v":2},{"$f":"VLOOKUP(Input!D220,Start!$K$2:$L$22,2,0)","v":2},{"$f":"VLOOKUP(Input!E220,Start!$K$2:$L$22,2,0)","v":2},{"$f":"VLOOKUP(Input!F220,Start!$K$2:$L$22,2,0)","v":2},{"$f":"VLOOKUP(Input!G220,Start!$K$2:$L$22,2,0)","v":2},{"$f":"VLOOKUP(Input!H220,Start!$K$2:$L$22,2,0)","v":2},{"$f":"VLOOKUP(Input!I220,Start!$K$2:$L$22,2,0)","v":2},{"$f":"VLOOKUP(Input!J220,Start!$K$2:$L$22,2,0)","v":2},{"$f":"VLOOKUP(Input!K220,Start!$K$2:$L$22,2,0)","v":2},{"$f":"VLOOKUP(Input!L220,Start!$K$2:$L$22,2,0)","v":2},{"$f":"VLOOKUP(Input!M220,Start!$K$2:$L$22,2,0)","v":2},"Oscillators_TF=2||0||0||49153||N","Oscillators_TF=2||0||0||49153||N","Oscillators_TF=2||0||0||49153||N","Oscillators_TF=2||0||0||49153||N","Oscillators_TF=2||0||0||49153||N","Oscillators_TF=2||0||0||49153||N","Oscillators_TF=2||0||0||49153||N","Oscillators_TF=2||0||0||49153||N","Oscillators_TF=2||0||0||49153||N","Oscillators_TF=2||0||0||49153||N","Oscillators_TF=2||0||0||49153||N"]
["Oscillators_Period=9||9||1||90||N","Oscillators_Period=","||9||1||90||N","Main Period ",{"$f":"Input!C221","v":0},{"$f":"Input!D221","v":0},{"$f":"Input!E221","v":0},{"$f":"Input!F221","v":0},{"$f":"Input!G221","v":0},{"$f":"Input!H221","v":0},{"$f":"Input!I221","v":0},{"$f":"Input!J221","v":0},{"$f":"Input!K221","v":0},{"$f":"Input!L221","v":0},{"$f":"Input!M221","v":0},"Oscillators_Period=0||9||1||90||N","Oscillators_Period=0||9||1||90||N","Oscillators_Period=0||9||1||90||N","Oscillators_Period=0||9||1||90||N","Oscillators_Period=0||9||1||90||N","Oscillators_Period=0||9||1||90||N","Oscillators_Period=0||9||1||90||N","Oscillators_Period=0||9||1||90||N","Oscillators_Period=0||9||1||90||N","Oscillators_Period=0||9||1||90||N","Oscillators_Period=0||9||1||90||N"]
["Oscillators_Price=1||1||0||7||N","Oscillators_Price=","||1||0||7||N","Applied price ",{"$f":"VLOOKUP(Input!C222,Start!$AU$2:$AV$8,2,0)","v":1},{"$f":"VLOOKUP(Input!D222,Start!$AU$2:$AV$8,2,0)","v":3},{"$f":"VLOOKUP(Input!E222,Start!$AU$2:$AV$8,2,0)","v":1},{"$f":"VLOOKUP(Input!F222,Start!$AU$2:$AV$8,2,0)","v":1},{"$f":"VLOOKUP(Input!G222,Start!$AU$2:$AV$8,2,0)","v":1},{"$f":"VLOOKUP(Input!H222,Start!$AU$2:$AV$8,2,0)","v":1},{"$f":"VLOOKUP(Input!I222,Start!$AU$2:$AV$8,2,0)","v":1},{"$f":"VLOOKUP(Input!J222,Start!$AU$2:$AV$8,2,0)","v":1},{"$f":"VLOOKUP(Input!K222,Start!$AU$2:$AV$8,2,0)","v":1},{"$f":"VLOOKUP(Input!L222,Start!$AU$2:$AV$8,2,0)","v":1},{"$f":"VLOOKUP(Input!M222,Start!$AU$2:$AV$8,2,0)","v":1},"Oscillators_Price=1||1||0||7||N","Oscillators_Price=3||1||0||7||N","Oscillators_Price=1||1||0||7||N","Oscillators_Price=1||1||0||7||N","Oscillators_Price=1||1||0||7||N","Oscillators_Price=1||1||0||7||N","Oscillators_Price=1||1||0||7||N","Oscillators_Price=1||1||0||7||N","Oscillators_Price=1||1||0||7||N","Oscillators_Price=1||1||0||7||N","Oscillators_Price=1||1||0||7||N"]
["Oscillators_MA_Period=3||3||1||30||N","Oscillators_MA_Period=","||3||1||30||N","MA Period (for Cross MA mode) ",{"$f":"Input!C223","v":0},{"$f":"Input!D223","v":0},{"$f":"Input!E223","v":0},{"$f":"Input!F223","v":0},{"$f":"Input!G223","v":0},{"$f":"Input!H223","v":0},{"$f":"Input!I223","v":0},{"$f":"Input!J223","v":0},{"$f":"Input!K223","v":0},{"$f":"Input!L223","v":0},{"$f":"Input!M223","v":0},"Oscillators_MA_Period=0||3||1||30||N","Oscillators_MA_Period=0||3||1||30||N","Oscillators_MA_Period=0||3||1||30||N","Oscillators_MA_Period=0||3||1||30||N","Oscillators_MA_Period=0||3||1||30||N","Oscillators_MA_Period=0||3||1||30||N","Oscillators_MA_Period=0||3||1||30||N","Oscillators_MA_Period=0||3||1||30||N","Oscillators_MA_Period=0||3||1||30||N","Oscillators_MA_Period=0||3||1||30||N","Oscillators_MA_Period=0||3||1||30||N"]
["Oscillators_MA_Method=0||0||0||3||N","Oscillators_MA_Method=","||0||0||3||N","MA Method ",{"$f":"VLOOKUP(Input!C224,Start!$AW$2:$AX$5,2,0)","v":1},{"$f":"VLOOKUP(Input!D224,Start!$AW$2:$AX$5,2,0)","v":1},{"$f":"VLOOKUP(Input!E224,Start!$AW$2:$AX$5,2,0)","v":1},{"$f":"VLOOKUP(Input!F224,Start!$AW$2:$AX$5,2,0)","v":1},{"$f":"VLOOKUP(Input!G224,Start!$AW$2:$AX$5,2,0)","v":1},{"$f":"VLOOKUP(Input!H224,Start!$AW$2:$AX$5,2,0)","v":1},{"$f":"VLOOKUP(Input!I224,Start!$AW$2:$AX$5,2,0)","v":1},{"$f":"VLOOKUP(Input!J224,Start!$AW$2:$AX$5,2,0)","v":1},{"$f":"VLOOKUP(Input!K224,Start!$AW$2:$AX$5,2,0)","v":1},{"$f":"VLOOKUP(Input!L224,Start!$AW$2:$AX$5,2,0)","v":1},{"$f":"VLOOKUP(Input!M224,Start!$AW$2:$AX$5,2,0)","v":1},"Oscillators_MA_Method=1||0||0||3||N","Oscillators_MA_Method=1||0||0||3||N","Oscillators_MA_Method=1||0||0||3||N","Oscillators_MA_Method=1||0||0||3||N","Oscillators_MA_Method=1||0||0||3||N","Oscillators_MA_Method=1||0||0||3||N","Oscillators_MA_Method=1||0||0||3||N","Oscillators_MA_Method=1||0||0||3||N","Oscillators_MA_Method=1||0||0||3||N","Oscillators_MA_Method=1||0||0||3||N","Oscillators_MA_Method=1||0||0||3||N"]
["Oscillators_Slowing=3||3||1||30||N","Oscillators_Slowing=","||3||1||30||N","Stochastic Slowing period ",{"$f":"Input!C225","v":0},{"$f":"Input!D225","v":0},{"$f":"Input!E225","v":0},{"$f":"Input!F225","v":0},{"$f":"Input!G225","v":0},{"$f":"Input!H225","v":0},{"$f":"Input!I225","v":0},{"$f":"Input!J225","v":0},{"$f":"Input!K225","v":0},{"$f":"Input!L225","v":0},{"$f":"Input!M225","v":0},"Oscillators_Slowing=0||3||1||30||N","Oscillators_Slowing=0||3||1||30||N","Oscillators_Slowing=0||3||1||30||N","Oscillators_Slowing=0||3||1||30||N","Oscillators_Slowing=0||3||1||30||N","Oscillators_Slowing=0||3||1||30||N","Oscillators_Slowing=0||3||1||30||N","Oscillators_Slowing=0||3||1||30||N","Oscillators_Slowing=0||3||1||30||N","Oscillators_Slowing=0||3||1||30||N","Oscillators_Slowing=0||3||1||30||N"]
["Oscillators_STO_Price=0||0||0||1||N","Oscillators_STO_Price=","||0||0||1||N","Stochastic Price ",{"$f":"VLOOKUP(Input!C226,Start!$AY$2:$AZ$3,2,0)","v":1},{"$f":"VLOOKUP(Input!D226,Start!$AY$2:$AZ$3,2,0)","v":1},{"$f":"VLOOKUP(Input!E226,Start!$AY$2:$AZ$3,2,0)","v":1},{"$f":"VLOOKUP(Input!F226,Start!$AY$2:$AZ$3,2,0)","v":1},{"$f":"VLOOKUP(Input!G226,Start!$AY$2:$AZ$3,2,0)","v":1},{"$f":"VLOOKUP(Input!H226,Start!$AY$2:$AZ$3,2,0)","v":1},{"$f":"VLOOKUP(Input!I226,Start!$AY$2:$AZ$3,2,0)","v":1},{"$f":"VLOOKUP(Input!J226,Start!$AY$2:$AZ$3,2,0)","v":1},{"$f":"VLOOKUP(Input!K226,Start!$AY$2:$AZ$3,2,0)","v":1},{"$f":"VLOOKUP(Input!L226,Start!$AY$2:$AZ$3,2,0)","v":1},{"$f":"VLOOKUP(Input!M226,Start!$AY$2:$AZ$3,2,0)","v":1},"Oscillators_STO_Price=1||0||0||1||N","Oscillators_STO_Price=1||0||0||1||N","Oscillators_STO_Price=1||0||0||1||N","Oscillators_STO_Price=1||0||0||1||N","Oscillators_STO_Price=1||0||0||1||N","Oscillators_STO_Price=1||0||0||1||N","Oscillators_STO_Price=1||0||0||1||N","Oscillators_STO_Price=1||0||0||1||N","Oscillators_STO_Price=1||0||0||1||N","Oscillators_STO_Price=1||0||0||1||N","Oscillators_STO_Price=1||0||0||1||N"]
["Oscillators_Level_UP_Min=90||90||9.000000||900.000000||N","Oscillators_Level_UP_Min=","||90||9.000000||900.000000||N","Level UP ",{"$f":"Input!C227","v":0},{"$f":"Input!D227","v":0},{"$f":"Input!E227","v":0},{"$f":"Input!F227","v":0},{"$f":"Input!G227","v":0},{"$f":"Input!H227","v":0},{"$f":"Input!I227","v":0},{"$f":"Input!J227","v":0},{"$f":"Input!K227","v":0},{"$f":"Input!L227","v":0},{"$f":"Input!M227","v":0},"Oscillators_Level_UP_Min=0||90||9.000000||900.000000||N","Oscillators_Level_UP_Min=0||90||9.000000||900.000000||N","Oscillators_Level_UP_Min=0||90||9.000000||900.000000||N","Oscillators_Level_UP_Min=0||90||9.000000||900.000000||N","Oscillators_Level_UP_Min=0||90||9.000000||900.000000||N","Oscillators_Level_UP_Min=0||90||9.000000||900.000000||N","Oscillators_Level_UP_Min=0||90||9.000000||900.000000||N","Oscillators_Level_UP_Min=0||90||9.000000||900.000000||N","Oscillators_Level_UP_Min=0||90||9.000000||900.000000||N","Oscillators_Level_UP_Min=0||90||9.000000||900.000000||N","Oscillators_Level_UP_Min=0||90||9.000000||900.000000||N"]
["Oscillators_Level_DN_Min=-999||-999||-99.900000||-9990.000000||N","Oscillators_Level_DN_Min=","||-999||-99.900000||-9990.000000||N","Level DN - calc automatically) ",{"$f":"Input!C228","v":0},{"$f":"Input!D228","v":0},{"$f":"Input!E228","v":0},{"$f":"Input!F228","v":0},{"$f":"Input!G228","v":0},{"$f":"Input!H228","v":0},{"$f":"Input!I228","v":0},{"$f":"Input!J228","v":0},{"$f":"Input!K228","v":0},{"$f":"Input!L228","v":0},{"$f":"Input!M228","v":0},"Oscillators_Level_DN_Min=0||-999||-99.900000||-9990.000000||N","Oscillators_Level_DN_Min=0||-999||-99.900000||-9990.000000||N","Oscillators_Level_DN_Min=0||-999||-99.900000||-9990.000000||N","Oscillators_Level_DN_Min=0||-999||-99.900000||-9990.000000||N","Oscillators_Level_DN_Min=0||-999||-99.900000||-9990.000000||N","Oscillators_Level_DN_Min=0||-999||-99.900000||-9990.000000||N","Oscillators_Level_DN_Min=0||-999||-99.900000||-9990.000000||N","Oscillators_Level_DN_Min=0||-999||-99.900000||-9990.000000||N","Oscillators_Level_DN_Min=0||-999||-99.900000||-9990.000000||N","Oscillators_Level_DN_Min=0||-999||-99.900000||-9990.000000||N","Oscillators_Level_DN_Min=0||-999||-99.900000||-9990.000000||N"]
["Oscillators_ContrTrend=false||false||0||true||N","Oscillators_ContrTrend=","||false||0||true||N","Reverse mode ",{"$f":"VLOOKUP(Input!C229,Start!$G$2:$H$3,2,0)","v":false},{"$f":"VLOOKUP(Input!D229,Start!$G$2:$H$3,2,0)","v":false},{"$f":"VLOOKUP(Input!E229,Start!$G$2:$H$3,2,0)","v":false},{"$f":"VLOOKUP(Input!F229,Start!$G$2:$H$3,2,0)","v":false},{"$f":"VLOOKUP(Input!G229,Start!$G$2:$H$3,2,0)","v":false},{"$f":"VLOOKUP(Input!H229,Start!$G$2:$H$3,2,0)","v":false},{"$f":"VLOOKUP(Input!I229,Start!$G$2:$H$3,2,0)","v":false},{"$f":"VLOOKUP(Input!J229,Start!$G$2:$H$3,2,0)","v":false},{"$f":"VLOOKUP(Input!K229,Start!$G$2:$H$3,2,0)","v":false},{"$f":"VLOOKUP(Input!L229,Start!$G$2:$H$3,2,0)","v":false},{"$f":"VLOOKUP(Input!M229,Start!$G$2:$H$3,2,0)","v":false},"Oscillators_ContrTrend=FALSE||false||0||true||N","Oscillators_ContrTrend=FALSE||false||0||true||N","Oscillators_ContrTrend=FALSE||false||0||true||N","Oscillators_ContrTrend=FALSE||false||0||true||N","Oscillators_ContrTrend=FALSE||false||0||true||N","Oscillators_ContrTrend=FALSE||false||0||true||N","Oscillators_ContrTrend=FALSE||false||0||true||N","Oscillators_ContrTrend=FALSE||false||0||true||N","Oscillators_ContrTrend=FALSE||false||0||true||N","Oscillators_ContrTrend=FALSE||false||0||true||N","Oscillators_ContrTrend=FALSE||false||0||true||N"]
["Oscillators_UseClosedBars=true||false||0||true||N","Oscillators_UseClosedBars=","||false||0||true||N","Use only closed bars ",{"$f":"VLOOKUP(Input!C230,Start!$G$2:$H$3,2,0)","v":false},{"$f":"VLOOKUP(Input!D230,Start!$G$2:$H$3,2,0)","v":false},{"$f":"VLOOKUP(Input!E230,Start!$G$2:$H$3,2,0)","v":false},{"$f":"VLOOKUP(Input!F230,Start!$G$2:$H$3,2,0)","v":false},{"$f":"VLOOKUP(Input!G230,Start!$G$2:$H$3,2,0)","v":false},{"$f":"VLOOKUP(Input!H230,Start!$G$2:$H$3,2,0)","v":false},{"$f":"VLOOKUP(Input!I230,Start!$G$2:$H$3,2,0)","v":false},{"$f":"VLOOKUP(Input!J230,Start!$G$2:$H$3,2,0)","v":false},{"$f":"VLOOKUP(Input!K230,Start!$G$2:$H$3,2,0)","v":false},{"$f":"VLOOKUP(Input!L230,Start!$G$2:$H$3,2,0)","v":false},{"$f":"VLOOKUP(Input!M230,Start!$G$2:$H$3,2,0)","v":false},"Oscillators_UseClosedBars=FALSE||false||0||true||N","Oscillators_UseClosedBars=FALSE||false||0||true||N","Oscillators_UseClosedBars=FALSE||false||0||true||N","Oscillators_UseClosedBars=FALSE||false||0||true||N","Oscillators_UseClosedBars=FALSE||false||0||true||N","Oscillators_UseClosedBars=FALSE||false||0||true||N","Oscillators_UseClosedBars=FALSE||false||0||true||N","Oscillators_UseClosedBars=FALSE||false||0||true||N","Oscillators_UseClosedBars=FALSE||false||0||true||N","Oscillators_UseClosedBars=FALSE||false||0||true||N","Oscillators_UseClosedBars=FALSE||false||0||true||N"]
["Oscillators_OpenOn=2||0||0||3||N","Oscillators_OpenOn=","||0||0||3||N","Open on ",{"$f":"VLOOKUP(Input!C231,Start!$AK$2:$AL$5,2,0)","v":0},{"$f":"VLOOKUP(Input!D231,Start!$AK$2:$AL$5,2,0)","v":0},{"$f":"VLOOKUP(Input!E231,Start!$AK$2:$AL$5,2,0)","v":0},{"$f":"VLOOKUP(Input!F231,Start!$AK$2:$AL$5,2,0)","v":0},{"$f":"VLOOKUP(Input!G231,Start!$AK$2:$AL$5,2,0)","v":0},{"$f":"VLOOKUP(Input!H231,Start!$AK$2:$AL$5,2,0)","v":0},{"$f":"VLOOKUP(Input!I231,Start!$AK$2:$AL$5,2,0)","v":0},{"$f":"VLOOKUP(Input!J231,Start!$AK$2:$AL$5,2,0)","v":0},{"$f":"VLOOKUP(Input!K231,Start!$AK$2:$AL$5,2,0)","v":0},{"$f":"VLOOKUP(Input!L231,Start!$AK$2:$AL$5,2,0)","v":0},{"$f":"VLOOKUP(Input!M231,Start!$AK$2:$AL$5,2,0)","v":0},"Oscillators_OpenOn=0||0||0||3||N","Oscillators_OpenOn=0||0||0||3||N","Oscillators_OpenOn=0||0||0||3||N","Oscillators_OpenOn=0||0||0||3||N","Oscillators_OpenOn=0||0||0||3||N","Oscillators_OpenOn=0||0||0||3||N","Oscillators_OpenOn=0||0||0||3||N","Oscillators_OpenOn=0||0||0||3||N","Oscillators_OpenOn=0||0||0||3||N","Oscillators_OpenOn=0||0||0||3||N","Oscillators_OpenOn=0||0||0||3||N"]
["Oscillators_MartinOn=0||0||0||3||N","Oscillators_MartinOn=","||0||0||3||N","Open martin on ",{"$f":"VLOOKUP(Input!C232,Start!$AK$2:$AL$5,2,0)","v":1},{"$f":"VLOOKUP(Input!D232,Start!$AK$2:$AL$5,2,0)","v":1},{"$f":"VLOOKUP(Input!E232,Start!$AK$2:$AL$5,2,0)","v":1},{"$f":"VLOOKUP(Input!F232,Start!$AK$2:$AL$5,2,0)","v":1},{"$f":"VLOOKUP(Input!G232,Start!$AK$2:$AL$5,2,0)","v":1},{"$f":"VLOOKUP(Input!H232,Start!$AK$2:$AL$5,2,0)","v":1},{"$f":"VLOOKUP(Input!I232,Start!$AK$2:$AL$5,2,0)","v":1},{"$f":"VLOOKUP(Input!J232,Start!$AK$2:$AL$5,2,0)","v":1},{"$f":"VLOOKUP(Input!K232,Start!$AK$2:$AL$5,2,0)","v":1},{"$f":"VLOOKUP(Input!L232,Start!$AK$2:$AL$5,2,0)","v":1},{"$f":"VLOOKUP(Input!M232,Start!$AK$2:$AL$5,2,0)","v":1},"Oscillators_MartinOn=1||0||0||3||N","Oscillators_MartinOn=1||0||0||3||N","Oscillators_MartinOn=1||0||0||3||N","Oscillators_MartinOn=1||0||0||3||N","Oscillators_MartinOn=1||0||0||3||N","Oscillators_MartinOn=1||0||0||3||N","Oscillators_MartinOn=1||0||0||3||N","Oscillators_MartinOn=1||0||0||3||N","Oscillators_MartinOn=1||0||0||3||N","Oscillators_MartinOn=1||0||0||3||N","Oscillators_MartinOn=1||0||0||3||N"]
["Oscillators_HedgeOn=0||0||0||3||N","Oscillators_HedgeOn=","||0||0||3||N","Open hedge on ",{"$f":"VLOOKUP(Input!C233,Start!$AK$2:$AL$5,2,0)","v":1},{"$f":"VLOOKUP(Input!D233,Start!$AK$2:$AL$5,2,0)","v":1},{"$f":"VLOOKUP(Input!E233,Start!$AK$2:$AL$5,2,0)","v":1},{"$f":"VLOOKUP(Input!F233,Start!$AK$2:$AL$5,2,0)","v":1},{"$f":"VLOOKUP(Input!G233,Start!$AK$2:$AL$5,2,0)","v":1},{"$f":"VLOOKUP(Input!H233,Start!$AK$2:$AL$5,2,0)","v":1},{"$f":"VLOOKUP(Input!I233,Start!$AK$2:$AL$5,2,0)","v":1},{"$f":"VLOOKUP(Input!J233,Start!$AK$2:$AL$5,2,0)","v":1},{"$f":"VLOOKUP(Input!K233,Start!$AK$2:$AL$5,2,0)","v":1},{"$f":"VLOOKUP(Input!L233,Start!$AK$2:$AL$5,2,0)","v":1},{"$f":"VLOOKUP(Input!M233,Start!$AK$2:$AL$5,2,0)","v":1},"Oscillators_HedgeOn=1||0||0||3||N","Oscillators_HedgeOn=1||0||0||3||N","Oscillators_HedgeOn=1||0||0||3||N","Oscillators_HedgeOn=1||0||0||3||N","Oscillators_HedgeOn=1||0||0||3||N","Oscillators_HedgeOn=1||0||0||3||N","Oscillators_HedgeOn=1||0||0||3||N","Oscillators_HedgeOn=1||0||0||3||N","Oscillators_HedgeOn=1||0||0||3||N","Oscillators_HedgeOn=1||0||0||3||N","Oscillators_HedgeOn=1||0||0||3||N"]
["Oscillators_CloseOn=2||0||0||4||N","Oscillators_CloseOn=","||0||0||4||N","Close on ",{"$f":"VLOOKUP(Input!C234,Start!$AM$2:$AN$6,2,0)","v":2},{"$f":"VLOOKUP(Input!D234,Start!$AM$2:$AN$6,2,0)","v":2},{"$f":"VLOOKUP(Input!E234,Start!$AM$2:$AN$6,2,0)","v":2},{"$f":"VLOOKUP(Input!F234,Start!$AM$2:$AN$6,2,0)","v":2},{"$f":"VLOOKUP(Input!G234,Start!$AM$2:$AN$6,2,0)","v":2},{"$f":"VLOOKUP(Input!H234,Start!$AM$2:$AN$6,2,0)","v":2},{"$f":"VLOOKUP(Input!I234,Start!$AM$2:$AN$6,2,0)","v":2},{"$f":"VLOOKUP(Input!J234,Start!$AM$2:$AN$6,2,0)","v":2},{"$f":"VLOOKUP(Input!K234,Start!$AM$2:$AN$6,2,0)","v":2},{"$f":"VLOOKUP(Input!L234,Start!$AM$2:$AN$6,2,0)","v":2},{"$f":"VLOOKUP(Input!M234,Start!$AM$2:$AN$6,2,0)","v":2},"Oscillators_CloseOn=2||0||0||4||N","Oscillators_CloseOn=2||0||0||4||N","Oscillators_CloseOn=2||0||0||4||N","Oscillators_CloseOn=2||0||0||4||N","Oscillators_CloseOn=2||0||0||4||N","Oscillators_CloseOn=2||0||0||4||N","Oscillators_CloseOn=2||0||0||4||N","Oscillators_CloseOn=2||0||0||4||N","Oscillators_CloseOn=2||0||0||4||N","Oscillators_CloseOn=2||0||0||4||N","Oscillators_CloseOn=2||0||0||4||N"]
["Oscillators_PartialCloseOn=0||0||0||3||N","Oscillators_PartialCloseOn=","||0||0||3||N","Partial close on ",{"$f":"VLOOKUP(Input!C235,Start!$AO$2:$AP$4,2,0)","v":1},{"$f":"VLOOKUP(Input!D235,Start!$AO$2:$AP$4,2,0)","v":1},{"$f":"VLOOKUP(Input!E235,Start!$AO$2:$AP$4,2,0)","v":1},{"$f":"VLOOKUP(Input!F235,Start!$AO$2:$AP$4,2,0)","v":1},{"$f":"VLOOKUP(Input!G235,Start!$AO$2:$AP$4,2,0)","v":1},{"$f":"VLOOKUP(Input!H235,Start!$AO$2:$AP$4,2,0)","v":1},{"$f":"VLOOKUP(Input!I235,Start!$AO$2:$AP$4,2,0)","v":1},{"$f":"VLOOKUP(Input!J235,Start!$AO$2:$AP$4,2,0)","v":1},{"$f":"VLOOKUP(Input!K235,Start!$AO$2:$AP$4,2,0)","v":1},{"$f":"VLOOKUP(Input!L235,Start!$AO$2:$AP$4,2,0)","v":1},{"$f":"VLOOKUP(Input!M235,Start!$AO$2:$AP$4,2,0)","v":1},"Oscillators_PartialCloseOn=1||0||0||3||N","Oscillators_PartialCloseOn=1||0||0||3||N","Oscillators_PartialCloseOn=1||0||0||3||N","Oscillators_PartialCloseOn=1||0||0||3||N","Oscillators_PartialCloseOn=1||0||0||3||N","Oscillators_PartialCloseOn=1||0||0||3||N","Oscillators_PartialCloseOn=1||0||0||3||N","Oscillators_PartialCloseOn=1||0||0||3||N","Oscillators_PartialCloseOn=1||0||0||3||N","Oscillators_PartialCloseOn=1||0||0||3||N","Oscillators_PartialCloseOn=1||0||0||3||N"]
["; Oscillator #2 properties","; Oscillator #2 properties","; Oscillator #2 properties","Oscillator #2 properties ",null,null,null,null,null,null,null,null,null,null,null,{"$f":"$A236","v":"; Oscillator #2 properties"},"; Oscillator #2 properties","; Oscillator #2 properties","; Oscillator #2 properties","; Oscillator #2 properties","; Oscillator #2 properties","; Oscillator #2 properties","; Oscillator #2 properties","; Oscillator #2 properties","; Oscillator #2 properties","; Oscillator #2 properties"]
["Oscillator2_Properties====================================================================================","Oscillator2_Properties====================================================================================","Oscillator2_Properties====================================================================================","Oscillator properties: ",null,null,null,null,null,null,null,null,null,null,null,"Oscillator2_Properties====================================================================================","Oscillator2_Properties====================================================================================","Oscillator2_Properties====================================================================================","Oscillator2_Properties====================================================================================","Oscillator2_Properties====================================================================================","Oscillator2_Properties====================================================================================","Oscillator2_Properties====================================================================================","Oscillator2_Properties====================================================================================","Oscillator2_Properties====================================================================================","Oscillator2_Properties====================================================================================","Oscillator2_Properties===================================================================================="]
["Oscillator2_Type=0||0||0||4||N",{"$f":"_xlfn.CONCAT(LEFT(TRIM(A238),FIND(\"=\",TRIM(A238))-1),\"=\")","v":"Oscillator2_Type="},{"$f":"_xlfn.CONCAT(\"|\",RIGHT(TRIM(A238),LEN(TRIM(A238))-SEARCH(\"|\",TRIM(A238))))","v":"||0||0||4||N"},"Filter type ",{"$f":"VLOOKUP(Input!C238,Start!$AQ$2:$AR$6,2,0)","v":1},{"$f":"VLOOKUP(Input!D238,Start!$AQ$2:$AR$6,2,0)","v":1},{"$f":"VLOOKUP(Input!E238,Start!$AQ$2:$AR$6,2,0)","v":1},{"$f":"VLOOKUP(Input!F238,Start!$AQ$2:$AR$6,2,0)","v":1},{"$f":"VLOOKUP(Input!G238,Start!$AQ$2:$AR$6,2,0)","v":1},{"$f":"VLOOKUP(Input!H238,Start!$AQ$2:$AR$6,2,0)","v":1},{"$f":"VLOOKUP(Input!I238,Start!$AQ$2:$AR$6,2,0)","v":1},{"$f":"VLOOKUP(Input!J238,Start!$AQ$2:$AR$6,2,0)","v":1},{"$f":"VLOOKUP(Input!K238,Start!$AQ$2:$AR$6,2,0)","v":1},{"$f":"VLOOKUP(Input!L238,Start!$AQ$2:$AR$6,2,0)","v":1},{"$f":"VLOOKUP(Input!M238,Start!$AQ$2:$AR$6,2,0)","v":1},{"$f":"_xlfn.CONCAT($B238,E238,$C238)","v":"Oscillator2_Type=1||0||0||4||N"},"Oscillator2_Type=1||0||0||4||N","Oscillator2_Type=1||0||0||4||N","Oscillator2_Type=1||0||0||4||N","Oscillator2_Type=1||0||0||4||N","Oscillator2_Type=1||0||0||4||N","Oscillator2_Type=1||0||0||4||N","Oscillator2_Type=1||0||0||4||N","Oscillator2_Type=1||0||0||4||N","Oscillator2_Type=1||0||0||4||N","Oscillator2_Type=1||0||0||4||N"]
["Oscillator2_Indicator=2||0||0||4||N","Oscillator2_Indicator=","||0||0||4||N","Indicator ",{"$f":"VLOOKUP(Input!C239,Start!$AS$2:$AT$7,2,0)","v":1},{"$f":"VLOOKUP(Input!D239,Start!$AS$2:$AT$7,2,0)","v":1},{"$f":"VLOOKUP(Input!E239,Start!$AS$2:$AT$7,2,0)","v":1},{"$f":"VLOOKUP(Input!F239,Start!$AS$2:$AT$7,2,0)","v":1},{"$f":"VLOOKUP(Input!G239,Start!$AS$2:$AT$7,2,0)","v":1},{"$f":"VLOOKUP(Input!H239,Start!$AS$2:$AT$7,2,0)","v":1},{"$f":"VLOOKUP(Input!I239,Start!$AS$2:$AT$7,2,0)","v":1},{"$f":"VLOOKUP(Input!J239,Start!$AS$2:$AT$7,2,0)","v":1},{"$f":"VLOOKUP(Input!K239,Start!$AS$2:$AT$7,2,0)","v":1},{"$f":"VLOOKUP(Input!L239,Start!$AS$2:$AT$7,2,0)","v":1},{"$f":"VLOOKUP(Input!M239,Start!$AS$2:$AT$7,2,0)","v":1},"Oscillator2_Indicator=1||0||0||4||N","Oscillator2_Indicator=1||0||0||4||N","Oscillator2_Indicator=1||0||0||4||N","Oscillator2_Indicator=1||0||0||4||N","Oscillator2_Indicator=1||0||0||4||N","Oscillator2_Indicator=1||0||0||4||N","Oscillator2_Indicator=1||0||0||4||N","Oscillator2_Indicator=1||0||0||4||N","Oscillator2_Indicator=1||0||0||4||N","Oscillator2_Indicator=1||0||0||4||N","Oscillator2_Indicator=1||0||0||4||N"]
["Oscillator2_TF=16408||0||0||49153||N","Oscillator2_TF=","||0||0||49153||N","Time Frame ",{"$f":"VLOOKUP(Input!C240,Start!$K$2:$L$22,2,0)","v":2},{"$f":"VLOOKUP(Input!D240,Start!$K$2:$L$22,2,0)","v":2},{"$f":"VLOOKUP(Input!E240,Start!$K$2:$L$22,2,0)","v":2},{"$f":"VLOOKUP(Input!F240,Start!$K$2:$L$22,2,0)","v":2},{"$f":"VLOOKUP(Input!G240,Start!$K$2:$L$22,2,0)","v":2},{"$f":"VLOOKUP(Input!H240,Start!$K$2:$L$22,2,0)","v":2},{"$f":"VLOOKUP(Input!I240,Start!$K$2:$L$22,2,0)","v":2},{"$f":"VLOOKUP(Input!J240,Start!$K$2:$L$22,2,0)","v":2},{"$f":"VLOOKUP(Input!K240,Start!$K$2:$L$22,2,0)","v":2},{"$f":"VLOOKUP(Input!L240,Start!$K$2:$L$22,2,0)","v":2},{"$f":"VLOOKUP(Input!M240,Start!$K$2:$L$22,2,0)","v":2},"Oscillator2_TF=2||0||0||49153||N","Oscillator2_TF=2||0||0||49153||N","Oscillator2_TF=2||0||0||49153||N","Oscillator2_TF=2||0||0||49153||N","Oscillator2_TF=2||0||0||49153||N","Oscillator2_TF=2||0||0||49153||N","Oscillator2_TF=2||0||0||49153||N","Oscillator2_TF=2||0||0||49153||N","Oscillator2_TF=2||0||0||49153||N","Oscillator2_TF=2||0||0||49153||N","Oscillator2_TF=2||0||0||49153||N"]
["Oscillator2_Period=14||14||1||140||N","Oscillator2_Period=","||14||1||140||N","Main Period ",{"$f":"Input!C241","v":0},{"$f":"Input!D241","v":0},{"$f":"Input!E241","v":0},{"$f":"Input!F241","v":0},{"$f":"Input!G241","v":0},{"$f":"Input!H241","v":0},{"$f":"Input!I241","v":0},{"$f":"Input!J241","v":0},{"$f":"Input!K241","v":0},{"$f":"Input!L241","v":0},{"$f":"Input!M241","v":0},"Oscillator2_Period=0||14||1||140||N","Oscillator2_Period=0||14||1||140||N","Oscillator2_Period=0||14||1||140||N","Oscillator2_Period=0||14||1||140||N","Oscillator2_Period=0||14||1||140||N","Oscillator2_Period=0||14||1||140||N","Oscillator2_Period=0||14||1||140||N","Oscillator2_Period=0||14||1||140||N","Oscillator2_Period=0||14||1||140||N","Oscillator2_Period=0||14||1||140||N","Oscillator2_Period=0||14||1||140||N"]
["Oscillator2_Price=1||1||0||7||N","Oscillator2_Price=","||1||0||7||N","Applied price ",{"$f":"VLOOKUP(Input!C242,Start!$AU$2:$AV$8,2,0)","v":1},{"$f":"VLOOKUP(Input!D242,Start!$AU$2:$AV$8,2,0)","v":1},{"$f":"VLOOKUP(Input!E242,Start!$AU$2:$AV$8,2,0)","v":1},{"$f":"VLOOKUP(Input!F242,Start!$AU$2:$AV$8,2,0)","v":1},{"$f":"VLOOKUP(Input!G242,Start!$AU$2:$AV$8,2,0)","v":1},{"$f":"VLOOKUP(Input!H242,Start!$AU$2:$AV$8,2,0)","v":1},{"$f":"VLOOKUP(Input!I242,Start!$AU$2:$AV$8,2,0)","v":1},{"$f":"VLOOKUP(Input!J242,Start!$AU$2:$AV$8,2,0)","v":1},{"$f":"VLOOKUP(Input!K242,Start!$AU$2:$AV$8,2,0)","v":1},{"$f":"VLOOKUP(Input!L242,Start!$AU$2:$AV$8,2,0)","v":1},{"$f":"VLOOKUP(Input!M242,Start!$AU$2:$AV$8,2,0)","v":1},"Oscillator2_Price=1||1||0||7||N","Oscillator2_Price=1||1||0||7||N","Oscillator2_Price=1||1||0||7||N","Oscillator2_Price=1||1||0||7||N","Oscillator2_Price=1||1||0||7||N","Oscillator2_Price=1||1||0||7||N","Oscillator2_Price=1||1||0||7||N","Oscillator2_Price=1||1||0||7||N","Oscillator2_Price=1||1||0||7||N","Oscillator2_Price=1||1||0||7||N","Oscillator2_Price=1||1||0||7||N"]
["Oscillator2_MA_Period=3||3||1||30||N","Oscillator2_MA_Period=","||3||1||30||N","MA Period (for Cross MA mode) ",{"$f":"Input!C243","v":0},{"$f":"Input!D243","v":0},{"$f":"Input!E243","v":0},{"$f":"Input!F243","v":0},{"$f":"Input!G243","v":0},{"$f":"Input!H243","v":0},{"$f":"Input!I243","v":0},{"$f":"Input!J243","v":0},{"$f":"Input!K243","v":0},{"$f":"Input!L243","v":0},{"$f":"Input!M243","v":0},"Oscillator2_MA_Period=0||3||1||30||N","Oscillator2_MA_Period=0||3||1||30||N","Oscillator2_MA_Period=0||3||1||30||N","Oscillator2_MA_Period=0||3||1||30||N","Oscillator2_MA_Period=0||3||1||30||N","Oscillator2_MA_Period=0||3||1||30||N","Oscillator2_MA_Period=0||3||1||30||N","Oscillator2_MA_Period=0||3||1||30||N","Oscillator2_MA_Period=0||3||1||30||N","Oscillator2_MA_Period=0||3||1||30||N","Oscillator2_MA_Period=0||3||1||30||N"]
["Oscillator2_MA_Method=0||0||0||3||N","Oscillator2_MA_Method=","||0||0||3||N","MA Method ",{"$f":"VLOOKUP(Input!C244,Start!$AW$2:$AX$5,2,0)","v":1},{"$f":"VLOOKUP(Input!D244,Start!$AW$2:$AX$5,2,0)","v":1},{"$f":"VLOOKUP(Input!E244,Start!$AW$2:$AX$5,2,0)","v":1},{"$f":"VLOOKUP(Input!F244,Start!$AW$2:$AX$5,2,0)","v":1},{"$f":"VLOOKUP(Input!G244,Start!$AW$2:$AX$5,2,0)","v":1},{"$f":"VLOOKUP(Input!H244,Start!$AW$2:$AX$5,2,0)","v":1},{"$f":"VLOOKUP(Input!I244,Start!$AW$2:$AX$5,2,0)","v":1},{"$f":"VLOOKUP(Input!J244,Start!$AW$2:$AX$5,2,0)","v":1},{"$f":"VLOOKUP(Input!K244,Start!$AW$2:$AX$5,2,0)","v":1},{"$f":"VLOOKUP(Input!L244,Start!$AW$2:$AX$5,2,0)","v":1},{"$f":"VLOOKUP(Input!M244,Start!$AW$2:$AX$5,2,0)","v":1},"Oscillator2_MA_Method=1||0||0||3||N","Oscillator2_MA_Method=1||0||0||3||N","Oscillator2_MA_Method=1||0||0||3||N","Oscillator2_MA_Method=1||0||0||3||N","Oscillator2_MA_Method=1||0||0||3||N","Oscillator2_MA_Method=1||0||0||3||N","Oscillator2_MA_Method=1||0||0||3||N","Oscillator2_MA_Method=1||0||0||3||N","Oscillator2_MA_Method=1||0||0||3||N","Oscillator2_MA_Method=1||0||0||3||N","Oscillator2_MA_Method=1||0||0||3||N"]
["Oscillator2_Slowing=3||3||1||30||N","Oscillator2_Slowing=","||3||1||30||N","Stochastic Slowing period ",{"$f":"Input!C245","v":0},{"$f":"Input!D245","v":0},{"$f":"Input!E245","v":0},{"$f":"Input!F245","v":0},{"$f":"Input!G245","v":0},{"$f":"Input!H245","v":0},{"$f":"Input!I245","v":0},{"$f":"Input!J245","v":0},{"$f":"Input!K245","v":0},{"$f":"Input!L245","v":0},{"$f":"Input!M245","v":0},"Oscillator2_Slowing=0||3||1||30||N","Oscillator2_Slowing=0||3||1||30||N","Oscillator2_Slowing=0||3||1||30||N","Oscillator2_Slowing=0||3||1||30||N","Oscillator2_Slowing=0||3||1||30||N","Oscillator2_Slowing=0||3||1||30||N","Oscillator2_Slowing=0||3||1||30||N","Oscillator2_Slowing=0||3||1||30||N","Oscillator2_Slowing=0||3||1||30||N","Oscillator2_Slowing=0||3||1||30||N","Oscillator2_Slowing=0||3||1||30||N"]
["Oscillator2_STO_Price=0||0||0||1||N","Oscillator2_STO_Price=","||0||0||1||N","Stochastic Price ",{"$f":"VLOOKUP(Input!C246,Start!$AY$2:$AZ$3,2,0)","v":1},{"$f":"VLOOKUP(Input!D246,Start!$AY$2:$AZ$3,2,0)","v":1},{"$f":"VLOOKUP(Input!E246,Start!$AY$2:$AZ$3,2,0)","v":1},{"$f":"VLOOKUP(Input!F246,Start!$AY$2:$AZ$3,2,0)","v":1},{"$f":"VLOOKUP(Input!G246,Start!$AY$2:$AZ$3,2,0)","v":1},{"$f":"VLOOKUP(Input!H246,Start!$AY$2:$AZ$3,2,0)","v":1},{"$f":"VLOOKUP(Input!I246,Start!$AY$2:$AZ$3,2,0)","v":1},{"$f":"VLOOKUP(Input!J246,Start!$AY$2:$AZ$3,2,0)","v":1},{"$f":"VLOOKUP(Input!K246,Start!$AY$2:$AZ$3,2,0)","v":1},{"$f":"VLOOKUP(Input!L246,Start!$AY$2:$AZ$3,2,0)","v":1},{"$f":"VLOOKUP(Input!M246,Start!$AY$2:$AZ$3,2,0)","v":1},"Oscillator2_STO_Price=1||0||0||1||N","Oscillator2_STO_Price=1||0||0||1||N","Oscillator2_STO_Price=1||0||0||1||N","Oscillator2_STO_Price=1||0||0||1||N","Oscillator2_STO_Price=1||0||0||1||N","Oscillator2_STO_Price=1||0||0||1||N","Oscillator2_STO_Price=1||0||0||1||N","Oscillator2_STO_Price=1||0||0||1||N","Oscillator2_STO_Price=1||0||0||1||N","Oscillator2_STO_Price=1||0||0||1||N","Oscillator2_STO_Price=1||0||0||1||N"]
["Oscillator2_Level_UP_Min=80||80||8.000000||800.000000||N","Oscillator2_Level_UP_Min=","||80||8.000000||800.000000||N","Level UP ",{"$f":"Input!C247","v":0},{"$f":"Input!D247","v":0},{"$f":"Input!E247","v":0},{"$f":"Input!F247","v":0},{"$f":"Input!G247","v":0},{"$f":"Input!H247","v":0},{"$f":"Input!I247","v":0},{"$f":"Input!J247","v":0},{"$f":"Input!K247","v":0},{"$f":"Input!L247","v":0},{"$f":"Input!M247","v":0},"Oscillator2_Level_UP_Min=0||80||8.000000||800.000000||N","Oscillator2_Level_UP_Min=0||80||8.000000||800.000000||N","Oscillator2_Level_UP_Min=0||80||8.000000||800.000000||N","Oscillator2_Level_UP_Min=0||80||8.000000||800.000000||N","Oscillator2_Level_UP_Min=0||80||8.000000||800.000000||N","Oscillator2_Level_UP_Min=0||80||8.000000||800.000000||N","Oscillator2_Level_UP_Min=0||80||8.000000||800.000000||N","Oscillator2_Level_UP_Min=0||80||8.000000||800.000000||N","Oscillator2_Level_UP_Min=0||80||8.000000||800.000000||N","Oscillator2_Level_UP_Min=0||80||8.000000||800.000000||N","Oscillator2_Level_UP_Min=0||80||8.000000||800.000000||N"]
["Oscillator2_Level_DN_Min=-999||-999||-99.900000||-9990.000000||N","Oscillator2_Level_DN_Min=","||-999||-99.900000||-9990.000000||N","Level DN - calc automatically) ",{"$f":"Input!C248","v":0},{"$f":"Input!D248","v":0},{"$f":"Input!E248","v":0},{"$f":"Input!F248","v":0},{"$f":"Input!G248","v":0},{"$f":"Input!H248","v":0},{"$f":"Input!I248","v":0},{"$f":"Input!J248","v":0},{"$f":"Input!K248","v":0},{"$f":"Input!L248","v":0},{"$f":"Input!M248","v":0},"Oscillator2_Level_DN_Min=0||-999||-99.900000||-9990.000000||N","Oscillator2_Level_DN_Min=0||-999||-99.900000||-9990.000000||N","Oscillator2_Level_DN_Min=0||-999||-99.900000||-9990.000000||N","Oscillator2_Level_DN_Min=0||-999||-99.900000||-9990.000000||N","Oscillator2_Level_DN_Min=0||-999||-99.900000||-9990.000000||N","Oscillator2_Level_DN_Min=0||-999||-99.900000||-9990.000000||N","Oscillator2_Level_DN_Min=0||-999||-99.900000||-9990.000000||N","Oscillator2_Level_DN_Min=0||-999||-99.900000||-9990.000000||N","Oscillator2_Level_DN_Min=0||-999||-99.900000||-9990.000000||N","Oscillator2_Level_DN_Min=0||-999||-99.900000||-9990.000000||N","Oscillator2_Level_DN_Min=0||-999||-99.900000||-9990.000000||N"]
["Oscillator2_ContrTrend=false||false||0||true||N","Oscillator2_ContrTrend=","||false||0||true||N","Reverse mode ",{"$f":"VLOOKUP(Input!C249,Start!$G$2:$H$3,2,0)","v":false},{"$f":"VLOOKUP(Input!D249,Start!$G$2:$H$3,2,0)","v":false},{"$f":"VLOOKUP(Input!E249,Start!$G$2:$H$3,2,0)","v":false},{"$f":"VLOOKUP(Input!F249,Start!$G$2:$H$3,2,0)","v":false},{"$f":"VLOOKUP(Input!G249,Start!$G$2:$H$3,2,0)","v":false},{"$f":"VLOOKUP(Input!H249,Start!$G$2:$H$3,2,0)","v":false},{"$f":"VLOOKUP(Input!I249,Start!$G$2:$H$3,2,0)","v":false},{"$f":"VLOOKUP(Input!J249,Start!$G$2:$H$3,2,0)","v":false},{"$f":"VLOOKUP(Input!K249,Start!$G$2:$H$3,2,0)","v":false},{"$f":"VLOOKUP(Input!L249,Start!$G$2:$H$3,2,0)","v":false},{"$f":"VLOOKUP(Input!M249,Start!$G$2:$H$3,2,0)","v":false},"Oscillator2_ContrTrend=FALSE||false||0||true||N","Oscillator2_ContrTrend=FALSE||false||0||true||N","Oscillator2_ContrTrend=FALSE||false||0||true||N","Oscillator2_ContrTrend=FALSE||false||0||true||N","Oscillator2_ContrTrend=FALSE||false||0||true||N","Oscillator2_ContrTrend=FALSE||false||0||true||N","Oscillator2_ContrTrend=FALSE||false||0||true||N","Oscillator2_ContrTrend=FALSE||false||0||true||N","Oscillator2_ContrTrend=FALSE||false||0||true||N","Oscillator2_ContrTrend=FALSE||false||0||true||N","Oscillator2_ContrTrend=FALSE||false||0||true||N"]
["Oscillator2_UseClosedBars=true||false||0||true||N","Oscillator2_UseClosedBars=","||false||0||true||N","Use only closed bars ",{"$f":"VLOOKUP(Input!C250,Start!$G$2:$H$3,2,0)","v":false},{"$f":"VLOOKUP(Input!D250,Start!$G$2:$H$3,2,0)","v":false},{"$f":"VLOOKUP(Input!E250,Start!$G$2:$H$3,2,0)","v":false},{"$f":"VLOOKUP(Input!F250,Start!$G$2:$H$3,2,0)","v":false},{"$f":"VLOOKUP(Input!G250,Start!$G$2:$H$3,2,0)","v":false},{"$f":"VLOOKUP(Input!H250,Start!$G$2:$H$3,2,0)","v":false},{"$f":"VLOOKUP(Input!I250,Start!$G$2:$H$3,2,0)","v":false},{"$f":"VLOOKUP(Input!J250,Start!$G$2:$H$3,2,0)","v":false},{"$f":"VLOOKUP(Input!K250,Start!$G$2:$H$3,2,0)","v":false},{"$f":"VLOOKUP(Input!L250,Start!$G$2:$H$3,2,0)","v":false},{"$f":"VLOOKUP(Input!M250,Start!$G$2:$H$3,2,0)","v":false},"Oscillator2_UseClosedBars=FALSE||false||0||true||N","Oscillator2_UseClosedBars=FALSE||false||0||true||N","Oscillator2_UseClosedBars=FALSE||false||0||true||N","Oscillator2_UseClosedBars=FALSE||false||0||true||N","Oscillator2_UseClosedBars=FALSE||false||0||true||N","Oscillator2_UseClosedBars=FALSE||false||0||true||N","Oscillator2_UseClosedBars=FALSE||false||0||true||N","Oscillator2_UseClosedBars=FALSE||false||0||true||N","Oscillator2_UseClosedBars=FALSE||false||0||true||N","Oscillator2_UseClosedBars=FALSE||false||0||true||N","Oscillator2_UseClosedBars=FALSE||false||0||true||N"]
["Oscillator2_OpenOn=0||0||0||3||N","Oscillator2_OpenOn=","||0||0||3||N","Open on ",{"$f":"VLOOKUP(Input!C251,Start!$AK$2:$AL$5,2,0)","v":0},{"$f":"VLOOKUP(Input!D251,Start!$AK$2:$AL$5,2,0)","v":0},{"$f":"VLOOKUP(Input!E251,Start!$AK$2:$AL$5,2,0)","v":0},{"$f":"VLOOKUP(Input!F251,Start!$AK$2:$AL$5,2,0)","v":0},{"$f":"VLOOKUP(Input!G251,Start!$AK$2:$AL$5,2,0)","v":0},{"$f":"VLOOKUP(Input!H251,Start!$AK$2:$AL$5,2,0)","v":0},{"$f":"VLOOKUP(Input!I251,Start!$AK$2:$AL$5,2,0)","v":0},{"$f":"VLOOKUP(Input!J251,Start!$AK$2:$AL$5,2,0)","v":0},{"$f":"VLOOKUP(Input!K251,Start!$AK$2:$AL$5,2,0)","v":0},{"$f":"VLOOKUP(Input!L251,Start!$AK$2:$AL$5,2,0)","v":0},{"$f":"VLOOKUP(Input!M251,Start!$AK$2:$AL$5,2,0)","v":0},"Oscillator2_OpenOn=0||0||0||3||N","Oscillator2_OpenOn=0||0||0||3||N","Oscillator2_OpenOn=0||0||0||3||N","Oscillator2_OpenOn=0||0||0||3||N","Oscillator2_OpenOn=0||0||0||3||N","Oscillator2_OpenOn=0||0||0||3||N","Oscillator2_OpenOn=0||0||0||3||N","Oscillator2_OpenOn=0||0||0||3||N","Oscillator2_OpenOn=0||0||0||3||N","Oscillator2_OpenOn=0||0||0||3||N","Oscillator2_OpenOn=0||0||0||3||N"]
["Oscillator2_MartinOn=0||0||0||3||N","Oscillator2_MartinOn=","||0||0||3||N","Open martin on ",{"$f":"VLOOKUP(Input!C252,Start!$AK$2:$AL$5,2,0)","v":1},{"$f":"VLOOKUP(Input!D252,Start!$AK$2:$AL$5,2,0)","v":1},{"$f":"VLOOKUP(Input!E252,Start!$AK$2:$AL$5,2,0)","v":1},{"$f":"VLOOKUP(Input!F252,Start!$AK$2:$AL$5,2,0)","v":1},{"$f":"VLOOKUP(Input!G252,Start!$AK$2:$AL$5,2,0)","v":1},{"$f":"VLOOKUP(Input!H252,Start!$AK$2:$AL$5,2,0)","v":1},{"$f":"VLOOKUP(Input!I252,Start!$AK$2:$AL$5,2,0)","v":1},{"$f":"VLOOKUP(Input!J252,Start!$AK$2:$AL$5,2,0)","v":1},{"$f":"VLOOKUP(Input!K252,Start!$AK$2:$AL$5,2,0)","v":1},{"$f":"VLOOKUP(Input!L252,Start!$AK$2:$AL$5,2,0)","v":1},{"$f":"VLOOKUP(Input!M252,Start!$AK$2:$AL$5,2,0)","v":1},"Oscillator2_MartinOn=1||0||0||3||N","Oscillator2_MartinOn=1||0||0||3||N","Oscillator2_MartinOn=1||0||0||3||N","Oscillator2_MartinOn=1||0||0||3||N","Oscillator2_MartinOn=1||0||0||3||N","Oscillator2_MartinOn=1||0||0||3||N","Oscillator2_MartinOn=1||0||0||3||N","Oscillator2_MartinOn=1||0||0||3||N","Oscillator2_MartinOn=1||0||0||3||N","Oscillator2_MartinOn=1||0||0||3||N","Oscillator2_MartinOn=1||0||0||3||N"]
["Oscillator2_HedgeOn=0||0||0||3||N","Oscillator2_HedgeOn=","||0||0||3||N","Open hedge on ",{"$f":"VLOOKUP(Input!C253,Start!$AK$2:$AL$5,2,0)","v":1},{"$f":"VLOOKUP(Input!D253,Start!$AK$2:$AL$5,2,0)","v":1},{"$f":"VLOOKUP(Input!E253,Start!$AK$2:$AL$5,2,0)","v":1},{"$f":"VLOOKUP(Input!F253,Start!$AK$2:$AL$5,2,0)","v":1},{"$f":"VLOOKUP(Input!G253,Start!$AK$2:$AL$5,2,0)","v":1},{"$f":"VLOOKUP(Input!H253,Start!$AK$2:$AL$5,2,0)","v":1},{"$f":"VLOOKUP(Input!I253,Start!$AK$2:$AL$5,2,0)","v":1},{"$f":"VLOOKUP(Input!J253,Start!$AK$2:$AL$5,2,0)","v":1},{"$f":"VLOOKUP(Input!K253,Start!$AK$2:$AL$5,2,0)","v":1},{"$f":"VLOOKUP(Input!L253,Start!$AK$2:$AL$5,2,0)","v":1},{"$f":"VLOOKUP(Input!M253,Start!$AK$2:$AL$5,2,0)","v":1},"Oscillator2_HedgeOn=1||0||0||3||N","Oscillator2_HedgeOn=1||0||0||3||N","Oscillator2_HedgeOn=1||0||0||3||N","Oscillator2_HedgeOn=1||0||0||3||N","Oscillator2_HedgeOn=1||0||0||3||N","Oscillator2_HedgeOn=1||0||0||3||N","Oscillator2_HedgeOn=1||0||0||3||N","Oscillator2_HedgeOn=1||0||0||3||N","Oscillator2_HedgeOn=1||0||0||3||N","Oscillator2_HedgeOn=1||0||0||3||N","Oscillator2_HedgeOn=1||0||0||3||N"]
["Oscillator2_CloseOn=0||0||0||4||N","Oscillator2_CloseOn=","||0||0||4||N","Close on ",{"$f":"VLOOKUP(Input!C254,Start!$AM$2:$AN$6,2,0)","v":2},{"$f":"VLOOKUP(Input!D254,Start!$AM$2:$AN$6,2,0)","v":2},{"$f":"VLOOKUP(Input!E254,Start!$AM$2:$AN$6,2,0)","v":2},{"$f":"VLOOKUP(Input!F254,Start!$AM$2:$AN$6,2,0)","v":2},{"$f":"VLOOKUP(Input!G254,Start!$AM$2:$AN$6,2,0)","v":2},{"$f":"VLOOKUP(Input!H254,Start!$AM$2:$AN$6,2,0)","v":2},{"$f":"VLOOKUP(Input!I254,Start!$AM$2:$AN$6,2,0)","v":2},{"$f":"VLOOKUP(Input!J254,Start!$AM$2:$AN$6,2,0)","v":2},{"$f":"VLOOKUP(Input!K254,Start!$AM$2:$AN$6,2,0)","v":2},{"$f":"VLOOKUP(Input!L254,Start!$AM$2:$AN$6,2,0)","v":2},{"$f":"VLOOKUP(Input!M254,Start!$AM$2:$AN$6,2,0)","v":2},"Oscillator2_CloseOn=2||0||0||4||N","Oscillator2_CloseOn=2||0||0||4||N","Oscillator2_CloseOn=2||0||0||4||N","Oscillator2_CloseOn=2||0||0||4||N","Oscillator2_CloseOn=2||0||0||4||N","Oscillator2_CloseOn=2||0||0||4||N","Oscillator2_CloseOn=2||0||0||4||N","Oscillator2_CloseOn=2||0||0||4||N","Oscillator2_CloseOn=2||0||0||4||N","Oscillator2_CloseOn=2||0||0||4||N","Oscillator2_CloseOn=2||0||0||4||N"]
["Oscillator2_PartialCloseOn=0||0||0||3||N","Oscillator2_PartialCloseOn=","||0||0||3||N","Partial close on ",{"$f":"VLOOKUP(Input!C255,Start!$AO$2:$AP$4,2,0)","v":1},{"$f":"VLOOKUP(Input!D255,Start!$AO$2:$AP$4,2,0)","v":1},{"$f":"VLOOKUP(Input!E255,Start!$AO$2:$AP$4,2,0)","v":1},{"$f":"VLOOKUP(Input!F255,Start!$AO$2:$AP$4,2,0)","v":1},{"$f":"VLOOKUP(Input!G255,Start!$AO$2:$AP$4,2,0)","v":1},{"$f":"VLOOKUP(Input!H255,Start!$AO$2:$AP$4,2,0)","v":1},{"$f":"VLOOKUP(Input!I255,Start!$AO$2:$AP$4,2,0)","v":1},{"$f":"VLOOKUP(Input!J255,Start!$AO$2:$AP$4,2,0)","v":1},{"$f":"VLOOKUP(Input!K255,Start!$AO$2:$AP$4,2,0)","v":1},{"$f":"VLOOKUP(Input!L255,Start!$AO$2:$AP$4,2,0)","v":1},{"$f":"VLOOKUP(Input!M255,Start!$AO$2:$AP$4,2,0)","v":1},"Oscillator2_PartialCloseOn=1||0||0||3||N","Oscillator2_PartialCloseOn=1||0||0||3||N","Oscillator2_PartialCloseOn=1||0||0||3||N","Oscillator2_PartialCloseOn=1||0||0||3||N","Oscillator2_PartialCloseOn=1||0||0||3||N","Oscillator2_PartialCloseOn=1||0||0||3||N","Oscillator2_PartialCloseOn=1||0||0||3||N","Oscillator2_PartialCloseOn=1||0||0||3||N","Oscillator2_PartialCloseOn=1||0||0||3||N","Oscillator2_PartialCloseOn=1||0||0||3||N","Oscillator2_PartialCloseOn=1||0||0||3||N"]
["; Oscillator #3 properties","; Oscillator #3 properties","; Oscillator #3 properties","Oscillator #3 properties ",null,null,null,null,null,null,null,null,null,null,null,{"$f":"$A256","v":"; Oscillator #3 properties"},"; Oscillator #3 properties","; Oscillator #3 properties","; Oscillator #3 properties","; Oscillator #3 properties","; Oscillator #3 properties","; Oscillator #3 properties","; Oscillator #3 properties","; Oscillator #3 properties","; Oscillator #3 properties","; Oscillator #3 properties"]
["Oscillator3_Properties====================================================================================","Oscillator3_Properties====================================================================================","Oscillator3_Properties====================================================================================","Oscillator properties: ",null,null,null,null,null,null,null,null,null,null,null,"Oscillator3_Properties====================================================================================","Oscillator3_Properties====================================================================================","Oscillator3_Properties====================================================================================","Oscillator3_Properties====================================================================================","Oscillator3_Properties====================================================================================","Oscillator3_Properties====================================================================================","Oscillator3_Properties====================================================================================","Oscillator3_Properties====================================================================================","Oscillator3_Properties====================================================================================","Oscillator3_Properties====================================================================================","Oscillator3_Properties===================================================================================="]
["Oscillator3_Type=0||0||0||4||N",{"$f":"_xlfn.CONCAT(LEFT(TRIM(A258),FIND(\"=\",TRIM(A258))-1),\"=\")","v":"Oscillator3_Type="},{"$f":"_xlfn.CONCAT(\"|\",RIGHT(TRIM(A258),LEN(TRIM(A258))-SEARCH(\"|\",TRIM(A258))))","v":"||0||0||4||N"},"Filter type ",{"$f":"VLOOKUP(Input!C258,Start!$AQ$2:$AR$6,2,0)","v":1},{"$f":"VLOOKUP(Input!D258,Start!$AQ$2:$AR$6,2,0)","v":1},{"$f":"VLOOKUP(Input!E258,Start!$AQ$2:$AR$6,2,0)","v":1},{"$f":"VLOOKUP(Input!F258,Start!$AQ$2:$AR$6,2,0)","v":1},{"$f":"VLOOKUP(Input!G258,Start!$AQ$2:$AR$6,2,0)","v":1},{"$f":"VLOOKUP(Input!H258,Start!$AQ$2:$AR$6,2,0)","v":1},{"$f":"VLOOKUP(Input!I258,Start!$AQ$2:$AR$6,2,0)","v":1},{"$f":"VLOOKUP(Input!J258,Start!$AQ$2:$AR$6,2,0)","v":1},{"$f":"VLOOKUP(Input!K258,Start!$AQ$2:$AR$6,2,0)","v":1},{"$f":"VLOOKUP(Input!L258,Start!$AQ$2:$AR$6,2,0)","v":1},{"$f":"VLOOKUP(Input!M258,Start!$AQ$2:$AR$6,2,0)","v":1},{"$f":"_xlfn.CONCAT($B258,E258,$C258)","v":"Oscillator3_Type=1||0||0||4||N"},"Oscillator3_Type=1||0||0||4||N","Oscillator3_Type=1||0||0||4||N","Oscillator3_Type=1||0||0||4||N","Oscillator3_Type=1||0||0||4||N","Oscillator3_Type=1||0||0||4||N","Oscillator3_Type=1||0||0||4||N","Oscillator3_Type=1||0||0||4||N","Oscillator3_Type=1||0||0||4||N","Oscillator3_Type=1||0||0||4||N","Oscillator3_Type=1||0||0||4||N"]
["Oscillator3_Indicator=2||0||0||4||N","Oscillator3_Indicator=","||0||0||4||N","Indicator ",{"$f":"VLOOKUP(Input!C259,Start!$AS$2:$AT$7,2,0)","v":1},{"$f":"VLOOKUP(Input!D259,Start!$AS$2:$AT$7,2,0)","v":1},{"$f":"VLOOKUP(Input!E259,Start!$AS$2:$AT$7,2,0)","v":1},{"$f":"VLOOKUP(Input!F259,Start!$AS$2:$AT$7,2,0)","v":1},{"$f":"VLOOKUP(Input!G259,Start!$AS$2:$AT$7,2,0)","v":1},{"$f":"VLOOKUP(Input!H259,Start!$AS$2:$AT$7,2,0)","v":1},{"$f":"VLOOKUP(Input!I259,Start!$AS$2:$AT$7,2,0)","v":1},{"$f":"VLOOKUP(Input!J259,Start!$AS$2:$AT$7,2,0)","v":1},{"$f":"VLOOKUP(Input!K259,Start!$AS$2:$AT$7,2,0)","v":1},{"$f":"VLOOKUP(Input!L259,Start!$AS$2:$AT$7,2,0)","v":1},{"$f":"VLOOKUP(Input!M259,Start!$AS$2:$AT$7,2,0)","v":1},"Oscillator3_Indicator=1||0||0||4||N","Oscillator3_Indicator=1||0||0||4||N","Oscillator3_Indicator=1||0||0||4||N","Oscillator3_Indicator=1||0||0||4||N","Oscillator3_Indicator=1||0||0||4||N","Oscillator3_Indicator=1||0||0||4||N","Oscillator3_Indicator=1||0||0||4||N","Oscillator3_Indicator=1||0||0||4||N","Oscillator3_Indicator=1||0||0||4||N","Oscillator3_Indicator=1||0||0||4||N","Oscillator3_Indicator=1||0||0||4||N"]
["Oscillator3_TF=16408||0||0||49153||N","Oscillator3_TF=","||0||0||49153||N","Time Frame ",{"$f":"VLOOKUP(Input!C260,Start!$K$2:$L$22,2,0)","v":2},{"$f":"VLOOKUP(Input!D260,Start!$K$2:$L$22,2,0)","v":2},{"$f":"VLOOKUP(Input!E260,Start!$K$2:$L$22,2,0)","v":2},{"$f":"VLOOKUP(Input!F260,Start!$K$2:$L$22,2,0)","v":2},{"$f":"VLOOKUP(Input!G260,Start!$K$2:$L$22,2,0)","v":2},{"$f":"VLOOKUP(Input!H260,Start!$K$2:$L$22,2,0)","v":2},{"$f":"VLOOKUP(Input!I260,Start!$K$2:$L$22,2,0)","v":2},{"$f":"VLOOKUP(Input!J260,Start!$K$2:$L$22,2,0)","v":2},{"$f":"VLOOKUP(Input!K260,Start!$K$2:$L$22,2,0)","v":2},{"$f":"VLOOKUP(Input!L260,Start!$K$2:$L$22,2,0)","v":2},{"$f":"VLOOKUP(Input!M260,Start!$K$2:$L$22,2,0)","v":2},"Oscillator3_TF=2||0||0||49153||N","Oscillator3_TF=2||0||0||49153||N","Oscillator3_TF=2||0||0||49153||N","Oscillator3_TF=2||0||0||49153||N","Oscillator3_TF=2||0||0||49153||N","Oscillator3_TF=2||0||0||49153||N","Oscillator3_TF=2||0||0||49153||N","Oscillator3_TF=2||0||0||49153||N","Oscillator3_TF=2||0||0||49153||N","Oscillator3_TF=2||0||0||49153||N","Oscillator3_TF=2||0||0||49153||N"]
["Oscillator3_Period=14||14||1||140||N","Oscillator3_Period=","||14||1||140||N","Main Period ",{"$f":"Input!C261","v":0},{"$f":"Input!D261","v":0},{"$f":"Input!E261","v":0},{"$f":"Input!F261","v":0},{"$f":"Input!G261","v":0},{"$f":"Input!H261","v":0},{"$f":"Input!I261","v":0},{"$f":"Input!J261","v":0},{"$f":"Input!K261","v":0},{"$f":"Input!L261","v":0},{"$f":"Input!M261","v":0},"Oscillator3_Period=0||14||1||140||N","Oscillator3_Period=0||14||1||140||N","Oscillator3_Period=0||14||1||140||N","Oscillator3_Period=0||14||1||140||N","Oscillator3_Period=0||14||1||140||N","Oscillator3_Period=0||14||1||140||N","Oscillator3_Period=0||14||1||140||N","Oscillator3_Period=0||14||1||140||N","Oscillator3_Period=0||14||1||140||N","Oscillator3_Period=0||14||1||140||N","Oscillator3_Period=0||14||1||140||N"]
["Oscillator3_Price=1||1||0||7||N","Oscillator3_Price=","||1||0||7||N","Applied price ",{"$f":"VLOOKUP(Input!C262,Start!$AU$2:$AV$8,2,0)","v":1},{"$f":"VLOOKUP(Input!D262,Start!$AU$2:$AV$8,2,0)","v":1},{"$f":"VLOOKUP(Input!E262,Start!$AU$2:$AV$8,2,0)","v":1},{"$f":"VLOOKUP(Input!F262,Start!$AU$2:$AV$8,2,0)","v":1},{"$f":"VLOOKUP(Input!G262,Start!$AU$2:$AV$8,2,0)","v":1},{"$f":"VLOOKUP(Input!H262,Start!$AU$2:$AV$8,2,0)","v":1},{"$f":"VLOOKUP(Input!I262,Start!$AU$2:$AV$8,2,0)","v":1},{"$f":"VLOOKUP(Input!J262,Start!$AU$2:$AV$8,2,0)","v":1},{"$f":"VLOOKUP(Input!K262,Start!$AU$2:$AV$8,2,0)","v":1},{"$f":"VLOOKUP(Input!L262,Start!$AU$2:$AV$8,2,0)","v":1},{"$f":"VLOOKUP(Input!M262,Start!$AU$2:$AV$8,2,0)","v":1},"Oscillator3_Price=1||1||0||7||N","Oscillator3_Price=1||1||0||7||N","Oscillator3_Price=1||1||0||7||N","Oscillator3_Price=1||1||0||7||N","Oscillator3_Price=1||1||0||7||N","Oscillator3_Price=1||1||0||7||N","Oscillator3_Price=1||1||0||7||N","Oscillator3_Price=1||1||0||7||N","Oscillator3_Price=1||1||0||7||N","Oscillator3_Price=1||1||0||7||N","Oscillator3_Price=1||1||0||7||N"]
["Oscillator3_MA_Period=3||3||1||30||N","Oscillator3_MA_Period=","||3||1||30||N","MA Period (for Cross MA mode) ",{"$f":"Input!C263","v":0},{"$f":"Input!D263","v":0},{"$f":"Input!E263","v":0},{"$f":"Input!F263","v":0},{"$f":"Input!G263","v":0},{"$f":"Input!H263","v":0},{"$f":"Input!I263","v":0},{"$f":"Input!J263","v":0},{"$f":"Input!K263","v":0},{"$f":"Input!L263","v":0},{"$f":"Input!M263","v":0},"Oscillator3_MA_Period=0||3||1||30||N","Oscillator3_MA_Period=0||3||1||30||N","Oscillator3_MA_Period=0||3||1||30||N","Oscillator3_MA_Period=0||3||1||30||N","Oscillator3_MA_Period=0||3||1||30||N","Oscillator3_MA_Period=0||3||1||30||N","Oscillator3_MA_Period=0||3||1||30||N","Oscillator3_MA_Period=0||3||1||30||N","Oscillator3_MA_Period=0||3||1||30||N","Oscillator3_MA_Period=0||3||1||30||N","Oscillator3_MA_Period=0||3||1||30||N"]
["Oscillator3_MA_Method=0||0||0||3||N","Oscillator3_MA_Method=","||0||0||3||N","MA Method ",{"$f":"VLOOKUP(Input!C264,Start!$AW$2:$AX$5,2,0)","v":1},{"$f":"VLOOKUP(Input!D264,Start!$AW$2:$AX$5,2,0)","v":1},{"$f":"VLOOKUP(Input!E264,Start!$AW$2:$AX$5,2,0)","v":1},{"$f":"VLOOKUP(Input!F264,Start!$AW$2:$AX$5,2,0)","v":1},{"$f":"VLOOKUP(Input!G264,Start!$AW$2:$AX$5,2,0)","v":1},{"$f":"VLOOKUP(Input!H264,Start!$AW$2:$AX$5,2,0)","v":1},{"$f":"VLOOKUP(Input!I264,Start!$AW$2:$AX$5,2,0)","v":1},{"$f":"VLOOKUP(Input!J264,Start!$AW$2:$AX$5,2,0)","v":1},{"$f":"VLOOKUP(Input!K264,Start!$AW$2:$AX$5,2,0)","v":1},{"$f":"VLOOKUP(Input!L264,Start!$AW$2:$AX$5,2,0)","v":1},{"$f":"VLOOKUP(Input!M264,Start!$AW$2:$AX$5,2,0)","v":1},"Oscillator3_MA_Method=1||0||0||3||N","Oscillator3_MA_Method=1||0||0||3||N","Oscillator3_MA_Method=1||0||0||3||N","Oscillator3_MA_Method=1||0||0||3||N","Oscillator3_MA_Method=1||0||0||3||N","Oscillator3_MA_Method=1||0||0||3||N","Oscillator3_MA_Method=1||0||0||3||N","Oscillator3_MA_Method=1||0||0||3||N","Oscillator3_MA_Method=1||0||0||3||N","Oscillator3_MA_Method=1||0||0||3||N","Oscillator3_MA_Method=1||0||0||3||N"]
["Oscillator3_Slowing=3||3||1||30||N","Oscillator3_Slowing=","||3||1||30||N","Stochastic Slowing period ",{"$f":"Input!C265","v":0},{"$f":"Input!D265","v":0},{"$f":"Input!E265","v":0},{"$f":"Input!F265","v":0},{"$f":"Input!G265","v":0},{"$f":"Input!H265","v":0},{"$f":"Input!I265","v":0},{"$f":"Input!J265","v":0},{"$f":"Input!K265","v":0},{"$f":"Input!L265","v":0},{"$f":"Input!M265","v":0},"Oscillator3_Slowing=0||3||1||30||N","Oscillator3_Slowing=0||3||1||30||N","Oscillator3_Slowing=0||3||1||30||N","Oscillator3_Slowing=0||3||1||30||N","Oscillator3_Slowing=0||3||1||30||N","Oscillator3_Slowing=0||3||1||30||N","Oscillator3_Slowing=0||3||1||30||N","Oscillator3_Slowing=0||3||1||30||N","Oscillator3_Slowing=0||3||1||30||N","Oscillator3_Slowing=0||3||1||30||N","Oscillator3_Slowing=0||3||1||30||N"]
["Oscillator3_STO_Price=0||0||0||1||N","Oscillator3_STO_Price=","||0||0||1||N","Stochastic Price ",{"$f":"VLOOKUP(Input!C266,Start!$AY$2:$AZ$3,2,0)","v":1},{"$f":"VLOOKUP(Input!D266,Start!$AY$2:$AZ$3,2,0)","v":1},{"$f":"VLOOKUP(Input!E266,Start!$AY$2:$AZ$3,2,0)","v":1},{"$f":"VLOOKUP(Input!F266,Start!$AY$2:$AZ$3,2,0)","v":1},{"$f":"VLOOKUP(Input!G266,Start!$AY$2:$AZ$3,2,0)","v":1},{"$f":"VLOOKUP(Input!H266,Start!$AY$2:$AZ$3,2,0)","v":1},{"$f":"VLOOKUP(Input!I266,Start!$AY$2:$AZ$3,2,0)","v":1},{"$f":"VLOOKUP(Input!J266,Start!$AY$2:$AZ$3,2,0)","v":1},{"$f":"VLOOKUP(Input!K266,Start!$AY$2:$AZ$3,2,0)","v":1},{"$f":"VLOOKUP(Input!L266,Start!$AY$2:$AZ$3,2,0)","v":1},{"$f":"VLOOKUP(Input!M266,Start!$AY$2:$AZ$3,2,0)","v":1},"Oscillator3_STO_Price=1||0||0||1||N","Oscillator3_STO_Price=1||0||0||1||N","Oscillator3_STO_Price=1||0||0||1||N","Oscillator3_STO_Price=1||0||0||1||N","Oscillator3_STO_Price=1||0||0||1||N","Oscillator3_STO_Price=1||0||0||1||N","Oscillator3_STO_Price=1||0||0||1||N","Oscillator3_STO_Price=1||0||0||1||N","Oscillator3_STO_Price=1||0||0||1||N","Oscillator3_STO_Price=1||0||0||1||N","Oscillator3_STO_Price=1||0||0||1||N"]
["Oscillator3_Level_UP_Min=80||80||8.000000||800.000000||N","Oscillator3_Level_UP_Min=","||80||8.000000||800.000000||N","Level UP ",{"$f":"Input!C267","v":0},{"$f":"Input!D267","v":0},{"$f":"Input!E267","v":0},{"$f":"Input!F267","v":0},{"$f":"Input!G267","v":0},{"$f":"Input!H267","v":0},{"$f":"Input!I267","v":0},{"$f":"Input!J267","v":0},{"$f":"Input!K267","v":0},{"$f":"Input!L267","v":0},{"$f":"Input!M267","v":0},"Oscillator3_Level_UP_Min=0||80||8.000000||800.000000||N","Oscillator3_Level_UP_Min=0||80||8.000000||800.000000||N","Oscillator3_Level_UP_Min=0||80||8.000000||800.000000||N","Oscillator3_Level_UP_Min=0||80||8.000000||800.000000||N","Oscillator3_Level_UP_Min=0||80||8.000000||800.000000||N","Oscillator3_Level_UP_Min=0||80||8.000000||800.000000||N","Oscillator3_Level_UP_Min=0||80||8.000000||800.000000||N","Oscillator3_Level_UP_Min=0||80||8.000000||800.000000||N","Oscillator3_Level_UP_Min=0||80||8.000000||800.000000||N","Oscillator3_Level_UP_Min=0||80||8.000000||800.000000||N","Oscillator3_Level_UP_Min=0||80||8.000000||800.000000||N"]
["Oscillator3_Level_DN_Min=-999||-999||-99.900000||-9990.000000||N","Oscillator3_Level_DN_Min=","||-999||-99.900000||-9990.000000||N","Level DN - calc automatically) ",{"$f":"Input!C268","v":0},{"$f":"Input!D268","v":0},{"$f":"Input!E268","v":0},{"$f":"Input!F268","v":0},{"$f":"Input!G268","v":0},{"$f":"Input!H268","v":0},{"$f":"Input!I268","v":0},{"$f":"Input!J268","v":0},{"$f":"Input!K268","v":0},{"$f":"Input!L268","v":0},{"$f":"Input!M268","v":0},"Oscillator3_Level_DN_Min=0||-999||-99.900000||-9990.000000||N","Oscillator3_Level_DN_Min=0||-999||-99.900000||-9990.000000||N","Oscillator3_Level_DN_Min=0||-999||-99.900000||-9990.000000||N","Oscillator3_Level_DN_Min=0||-999||-99.900000||-9990.000000||N","Oscillator3_Level_DN_Min=0||-999||-99.900000||-9990.000000||N","Oscillator3_Level_DN_Min=0||-999||-99.900000||-9990.000000||N","Oscillator3_Level_DN_Min=0||-999||-99.900000||-9990.000000||N","Oscillator3_Level_DN_Min=0||-999||-99.900000||-9990.000000||N","Oscillator3_Level_DN_Min=0||-999||-99.900000||-9990.000000||N","Oscillator3_Level_DN_Min=0||-999||-99.900000||-9990.000000||N","Oscillator3_Level_DN_Min=0||-999||-99.900000||-9990.000000||N"]
["Oscillator3_ContrTrend=false||false||0||true||N","Oscillator3_ContrTrend=","||false||0||true||N","Reverse mode ",{"$f":"VLOOKUP(Input!C269,Start!$G$2:$H$3,2,0)","v":false},{"$f":"VLOOKUP(Input!D269,Start!$G$2:$H$3,2,0)","v":false},{"$f":"VLOOKUP(Input!E269,Start!$G$2:$H$3,2,0)","v":false},{"$f":"VLOOKUP(Input!F269,Start!$G$2:$H$3,2,0)","v":false},{"$f":"VLOOKUP(Input!G269,Start!$G$2:$H$3,2,0)","v":false},{"$f":"VLOOKUP(Input!H269,Start!$G$2:$H$3,2,0)","v":false},{"$f":"VLOOKUP(Input!I269,Start!$G$2:$H$3,2,0)","v":false},{"$f":"VLOOKUP(Input!J269,Start!$G$2:$H$3,2,0)","v":false},{"$f":"VLOOKUP(Input!K269,Start!$G$2:$H$3,2,0)","v":false},{"$f":"VLOOKUP(Input!L269,Start!$G$2:$H$3,2,0)","v":false},{"$f":"VLOOKUP(Input!M269,Start!$G$2:$H$3,2,0)","v":false},"Oscillator3_ContrTrend=FALSE||false||0||true||N","Oscillator3_ContrTrend=FALSE||false||0||true||N","Oscillator3_ContrTrend=FALSE||false||0||true||N","Oscillator3_ContrTrend=FALSE||false||0||true||N","Oscillator3_ContrTrend=FALSE||false||0||true||N","Oscillator3_ContrTrend=FALSE||false||0||true||N","Oscillator3_ContrTrend=FALSE||false||0||true||N","Oscillator3_ContrTrend=FALSE||false||0||true||N","Oscillator3_ContrTrend=FALSE||false||0||true||N","Oscillator3_ContrTrend=FALSE||false||0||true||N","Oscillator3_ContrTrend=FALSE||false||0||true||N"]
["Oscillator3_UseClosedBars=true||false||0||true||N","Oscillator3_UseClosedBars=","||false||0||true||N","Use only closed bars ",{"$f":"VLOOKUP(Input!C270,Start!$G$2:$H$3,2,0)","v":false},{"$f":"VLOOKUP(Input!D270,Start!$G$2:$H$3,2,0)","v":false},{"$f":"VLOOKUP(Input!E270,Start!$G$2:$H$3,2,0)","v":false},{"$f":"VLOOKUP(Input!F270,Start!$G$2:$H$3,2,0)","v":false},{"$f":"VLOOKUP(Input!G270,Start!$G$2:$H$3,2,0)","v":false},{"$f":"VLOOKUP(Input!H270,Start!$G$2:$H$3,2,0)","v":false},{"$f":"VLOOKUP(Input!I270,Start!$G$2:$H$3,2,0)","v":false},{"$f":"VLOOKUP(Input!J270,Start!$G$2:$H$3,2,0)","v":false},{"$f":"VLOOKUP(Input!K270,Start!$G$2:$H$3,2,0)","v":false},{"$f":"VLOOKUP(Input!L270,Start!$G$2:$H$3,2,0)","v":false},{"$f":"VLOOKUP(Input!M270,Start!$G$2:$H$3,2,0)","v":false},"Oscillator3_UseClosedBars=FALSE||false||0||true||N","Oscillator3_UseClosedBars=FALSE||false||0||true||N","Oscillator3_UseClosedBars=FALSE||false||0||true||N","Oscillator3_UseClosedBars=FALSE||false||0||true||N","Oscillator3_UseClosedBars=FALSE||false||0||true||N","Oscillator3_UseClosedBars=FALSE||false||0||true||N","Oscillator3_UseClosedBars=FALSE||false||0||true||N","Oscillator3_UseClosedBars=FALSE||false||0||true||N","Oscillator3_UseClosedBars=FALSE||false||0||true||N","Oscillator3_UseClosedBars=FALSE||false||0||true||N","Oscillator3_UseClosedBars=FALSE||false||0||true||N"]
["Oscillator3_OpenOn=0||0||0||3||N","Oscillator3_OpenOn=","||0||0||3||N","Open on ",{"$f":"VLOOKUP(Input!C271,Start!$AK$2:$AL$5,2,0)","v":0},{"$f":"VLOOKUP(Input!D271,Start!$AK$2:$AL$5,2,0)","v":0},{"$f":"VLOOKUP(Input!E271,Start!$AK$2:$AL$5,2,0)","v":0},{"$f":"VLOOKUP(Input!F271,Start!$AK$2:$AL$5,2,0)","v":0},{"$f":"VLOOKUP(Input!G271,Start!$AK$2:$AL$5,2,0)","v":0},{"$f":"VLOOKUP(Input!H271,Start!$AK$2:$AL$5,2,0)","v":0},{"$f":"VLOOKUP(Input!I271,Start!$AK$2:$AL$5,2,0)","v":0},{"$f":"VLOOKUP(Input!J271,Start!$AK$2:$AL$5,2,0)","v":0},{"$f":"VLOOKUP(Input!K271,Start!$AK$2:$AL$5,2,0)","v":0},{"$f":"VLOOKUP(Input!L271,Start!$AK$2:$AL$5,2,0)","v":0},{"$f":"VLOOKUP(Input!M271,Start!$AK$2:$AL$5,2,0)","v":0},"Oscillator3_OpenOn=0||0||0||3||N","Oscillator3_OpenOn=0||0||0||3||N","Oscillator3_OpenOn=0||0||0||3||N","Oscillator3_OpenOn=0||0||0||3||N","Oscillator3_OpenOn=0||0||0||3||N","Oscillator3_OpenOn=0||0||0||3||N","Oscillator3_OpenOn=0||0||0||3||N","Oscillator3_OpenOn=0||0||0||3||N","Oscillator3_OpenOn=0||0||0||3||N","Oscillator3_OpenOn=0||0||0||3||N","Oscillator3_OpenOn=0||0||0||3||N"]
["Oscillator3_MartinOn=0||0||0||3||N","Oscillator3_MartinOn=","||0||0||3||N","Open martin on ",{"$f":"VLOOKUP(Input!C272,Start!$AK$2:$AL$5,2,0)","v":1},{"$f":"VLOOKUP(Input!D272,Start!$AK$2:$AL$5,2,0)","v":1},{"$f":"VLOOKUP(Input!E272,Start!$AK$2:$AL$5,2,0)","v":1},{"$f":"VLOOKUP(Input!F272,Start!$AK$2:$AL$5,2,0)","v":1},{"$f":"VLOOKUP(Input!G272,Start!$AK$2:$AL$5,2,0)","v":1},{"$f":"VLOOKUP(Input!H272,Start!$AK$2:$AL$5,2,0)","v":1},{"$f":"VLOOKUP(Input!I272,Start!$AK$2:$AL$5,2,0)","v":1},{"$f":"VLOOKUP(Input!J272,Start!$AK$2:$AL$5,2,0)","v":1},{"$f":"VLOOKUP(Input!K272,Start!$AK$2:$AL$5,2,0)","v":1},{"$f":"VLOOKUP(Input!L272,Start!$AK$2:$AL$5,2,0)","v":1},{"$f":"VLOOKUP(Input!M272,Start!$AK$2:$AL$5,2,0)","v":1},"Oscillator3_MartinOn=1||0||0||3||N","Oscillator3_MartinOn=1||0||0||3||N","Oscillator3_MartinOn=1||0||0||3||N","Oscillator3_MartinOn=1||0||0||3||N","Oscillator3_MartinOn=1||0||0||3||N","Oscillator3_MartinOn=1||0||0||3||N","Oscillator3_MartinOn=1||0||0||3||N","Oscillator3_MartinOn=1||0||0||3||N","Oscillator3_MartinOn=1||0||0||3||N","Oscillator3_MartinOn=1||0||0||3||N","Oscillator3_MartinOn=1||0||0||3||N"]
["Oscillator3_HedgeOn=0||0||0||3||N","Oscillator3_HedgeOn=","||0||0||3||N","Open hedge on ",{"$f":"VLOOKUP(Input!C273,Start!$AK$2:$AL$5,2,0)","v":1},{"$f":"VLOOKUP(Input!D273,Start!$AK$2:$AL$5,2,0)","v":1},{"$f":"VLOOKUP(Input!E273,Start!$AK$2:$AL$5,2,0)","v":1},{"$f":"VLOOKUP(Input!F273,Start!$AK$2:$AL$5,2,0)","v":1},{"$f":"VLOOKUP(Input!G273,Start!$AK$2:$AL$5,2,0)","v":1},{"$f":"VLOOKUP(Input!H273,Start!$AK$2:$AL$5,2,0)","v":1},{"$f":"VLOOKUP(Input!I273,Start!$AK$2:$AL$5,2,0)","v":1},{"$f":"VLOOKUP(Input!J273,Start!$AK$2:$AL$5,2,0)","v":1},{"$f":"VLOOKUP(Input!K273,Start!$AK$2:$AL$5,2,0)","v":1},{"$f":"VLOOKUP(Input!L273,Start!$AK$2:$AL$5,2,0)","v":1},{"$f":"VLOOKUP(Input!M273,Start!$AK$2:$AL$5,2,0)","v":1},"Oscillator3_HedgeOn=1||0||0||3||N","Oscillator3_HedgeOn=1||0||0||3||N","Oscillator3_HedgeOn=1||0||0||3||N","Oscillator3_HedgeOn=1||0||0||3||N","Oscillator3_HedgeOn=1||0||0||3||N","Oscillator3_HedgeOn=1||0||0||3||N","Oscillator3_HedgeOn=1||0||0||3||N","Oscillator3_HedgeOn=1||0||0||3||N","Oscillator3_HedgeOn=1||0||0||3||N","Oscillator3_HedgeOn=1||0||0||3||N","Oscillator3_HedgeOn=1||0||0||3||N"]
["Oscillator3_CloseOn=0||0||0||4||N","Oscillator3_CloseOn=","||0||0||4||N","Close on ",{"$f":"VLOOKUP(Input!C274,Start!$AM$2:$AN$6,2,0)","v":2},{"$f":"VLOOKUP(Input!D274,Start!$AM$2:$AN$6,2,0)","v":2},{"$f":"VLOOKUP(Input!E274,Start!$AM$2:$AN$6,2,0)","v":2},{"$f":"VLOOKUP(Input!F274,Start!$AM$2:$AN$6,2,0)","v":2},{"$f":"VLOOKUP(Input!G274,Start!$AM$2:$AN$6,2,0)","v":2},{"$f":"VLOOKUP(Input!H274,Start!$AM$2:$AN$6,2,0)","v":2},{"$f":"VLOOKUP(Input!I274,Start!$AM$2:$AN$6,2,0)","v":2},{"$f":"VLOOKUP(Input!J274,Start!$AM$2:$AN$6,2,0)","v":2},{"$f":"VLOOKUP(Input!K274,Start!$AM$2:$AN$6,2,0)","v":2},{"$f":"VLOOKUP(Input!L274,Start!$AM$2:$AN$6,2,0)","v":2},{"$f":"VLOOKUP(Input!M274,Start!$AM$2:$AN$6,2,0)","v":2},"Oscillator3_CloseOn=2||0||0||4||N","Oscillator3_CloseOn=2||0||0||4||N","Oscillator3_CloseOn=2||0||0||4||N","Oscillator3_CloseOn=2||0||0||4||N","Oscillator3_CloseOn=2||0||0||4||N","Oscillator3_CloseOn=2||0||0||4||N","Oscillator3_CloseOn=2||0||0||4||N","Oscillator3_CloseOn=2||0||0||4||N","Oscillator3_CloseOn=2||0||0||4||N","Oscillator3_CloseOn=2||0||0||4||N","Oscillator3_CloseOn=2||0||0||4||N"]
["Oscillator3_PartialCloseOn=0||0||0||3||N","Oscillator3_PartialCloseOn=","||0||0||3||N","Partial close on ",{"$f":"VLOOKUP(Input!C275,Start!$AO$2:$AP$4,2,0)","v":1},{"$f":"VLOOKUP(Input!D275,Start!$AO$2:$AP$4,2,0)","v":1},{"$f":"VLOOKUP(Input!E275,Start!$AO$2:$AP$4,2,0)","v":1},{"$f":"VLOOKUP(Input!F275,Start!$AO$2:$AP$4,2,0)","v":1},{"$f":"VLOOKUP(Input!G275,Start!$AO$2:$AP$4,2,0)","v":1},{"$f":"VLOOKUP(Input!H275,Start!$AO$2:$AP$4,2,0)","v":1},{"$f":"VLOOKUP(Input!I275,Start!$AO$2:$AP$4,2,0)","v":1},{"$f":"VLOOKUP(Input!J275,Start!$AO$2:$AP$4,2,0)","v":1},{"$f":"VLOOKUP(Input!K275,Start!$AO$2:$AP$4,2,0)","v":1},{"$f":"VLOOKUP(Input!L275,Start!$AO$2:$AP$4,2,0)","v":1},{"$f":"VLOOKUP(Input!M275,Start!$AO$2:$AP$4,2,0)","v":1},"Oscillator3_PartialCloseOn=1||0||0||3||N","Oscillator3_PartialCloseOn=1||0||0||3||N","Oscillator3_PartialCloseOn=1||0||0||3||N","Oscillator3_PartialCloseOn=1||0||0||3||N","Oscillator3_PartialCloseOn=1||0||0||3||N","Oscillator3_PartialCloseOn=1||0||0||3||N","Oscillator3_PartialCloseOn=1||0||0||3||N","Oscillator3_PartialCloseOn=1||0||0||3||N","Oscillator3_PartialCloseOn=1||0||0||3||N","Oscillator3_PartialCloseOn=1||0||0||3||N","Oscillator3_PartialCloseOn=1||0||0||3||N"]
["; IdentifyTrend properties","; IdentifyTrend properties","; IdentifyTrend properties","IdentifyTrend p rope rties ",null,null,null,null,null,null,null,null,null,null,null,{"$f":"$A276","v":"; IdentifyTrend properties"},"; IdentifyTrend properties","; IdentifyTrend properties","; IdentifyTrend properties","; IdentifyTrend properties","; IdentifyTrend properties","; IdentifyTrend properties","; IdentifyTrend properties","; IdentifyTrend properties","; IdentifyTrend properties","; IdentifyTrend properties"]
["IdentifyTrend_Properties====================================================================================","IdentifyTrend_Properties====================================================================================","IdentifyTrend_Properties====================================================================================","IdentifyTrend properties: ",null,null,null,null,null,null,null,null,null,null,null,"IdentifyTrend_Properties====================================================================================","IdentifyTrend_Properties====================================================================================","IdentifyTrend_Properties====================================================================================","IdentifyTrend_Properties====================================================================================","IdentifyTrend_Properties====================================================================================","IdentifyTrend_Properties====================================================================================","IdentifyTrend_Properties====================================================================================","IdentifyTrend_Properties====================================================================================","IdentifyTrend_Properties====================================================================================","IdentifyTrend_Properties====================================================================================","IdentifyTrend_Properties===================================================================================="]
["IdentifyTrend_Enable=false||false||0||true||N",{"$f":"_xlfn.CONCAT(LEFT(TRIM(A278),FIND(\"=\",TRIM(A278))-1),\"=\")","v":"IdentifyTrend_Enable="},{"$f":"_xlfn.CONCAT(\"|\",RIGHT(TRIM(A278),LEN(TRIM(A278))-SEARCH(\"|\",TRIM(A278))))","v":"||false||0||true||N"},"Enable IdentifyTrend filter ",{"$f":"VLOOKUP(Input!C278,Start!$G$2:$H$3,2,0)","v":false},{"$f":"VLOOKUP(Input!D278,Start!$G$2:$H$3,2,0)","v":false},{"$f":"VLOOKUP(Input!E278,Start!$G$2:$H$3,2,0)","v":false},{"$f":"VLOOKUP(Input!F278,Start!$G$2:$H$3,2,0)","v":false},{"$f":"VLOOKUP(Input!G278,Start!$G$2:$H$3,2,0)","v":false},{"$f":"VLOOKUP(Input!H278,Start!$G$2:$H$3,2,0)","v":false},{"$f":"VLOOKUP(Input!I278,Start!$G$2:$H$3,2,0)","v":false},{"$f":"VLOOKUP(Input!J278,Start!$G$2:$H$3,2,0)","v":false},{"$f":"VLOOKUP(Input!K278,Start!$G$2:$H$3,2,0)","v":false},{"$f":"VLOOKUP(Input!L278,Start!$G$2:$H$3,2,0)","v":false},{"$f":"VLOOKUP(Input!M278,Start!$G$2:$H$3,2,0)","v":false},{"$f":"_xlfn.CONCAT($B278,E278,$C278)","v":"IdentifyTrend_Enable=FALSE||false||0||true||N"},"IdentifyTrend_Enable=FALSE||false||0||true||N","IdentifyTrend_Enable=FALSE||false||0||true||N","IdentifyTrend_Enable=FALSE||false||0||true||N","IdentifyTrend_Enable=FALSE||false||0||true||N","IdentifyTrend_Enable=FALSE||false||0||true||N","IdentifyTrend_Enable=FALSE||false||0||true||N","IdentifyTrend_Enable=FALSE||false||0||true||N","IdentifyTrend_Enable=FALSE||false||0||true||N","IdentifyTrend_Enable=FALSE||false||0||true||N","IdentifyTrend_Enable=FALSE||false||0||true||N"]
["IdentifyTrend_TF=16408||0||0||49153||N","IdentifyTrend_TF=","||0||0||49153||N","IdentifyTrend TimeFrame ",{"$f":"VLOOKUP(Input!C279,Start!$K$2:$L$22,2,0)","v":2},{"$f":"VLOOKUP(Input!D279,Start!$K$2:$L$22,2,0)","v":2},{"$f":"VLOOKUP(Input!E279,Start!$K$2:$L$22,2,0)","v":2},{"$f":"VLOOKUP(Input!F279,Start!$K$2:$L$22,2,0)","v":2},{"$f":"VLOOKUP(Input!G279,Start!$K$2:$L$22,2,0)","v":2},{"$f":"VLOOKUP(Input!H279,Start!$K$2:$L$22,2,0)","v":2},{"$f":"VLOOKUP(Input!I279,Start!$K$2:$L$22,2,0)","v":2},{"$f":"VLOOKUP(Input!J279,Start!$K$2:$L$22,2,0)","v":2},{"$f":"VLOOKUP(Input!K279,Start!$K$2:$L$22,2,0)","v":2},{"$f":"VLOOKUP(Input!L279,Start!$K$2:$L$22,2,0)","v":2},{"$f":"VLOOKUP(Input!M279,Start!$K$2:$L$22,2,0)","v":2},"IdentifyTrend_TF=2||0||0||49153||N","IdentifyTrend_TF=2||0||0||49153||N","IdentifyTrend_TF=2||0||0||49153||N","IdentifyTrend_TF=2||0||0||49153||N","IdentifyTrend_TF=2||0||0||49153||N","IdentifyTrend_TF=2||0||0||49153||N","IdentifyTrend_TF=2||0||0||49153||N","IdentifyTrend_TF=2||0||0||49153||N","IdentifyTrend_TF=2||0||0||49153||N","IdentifyTrend_TF=2||0||0||49153||N","IdentifyTrend_TF=2||0||0||49153||N"]
["IdentifyTrend_AppliedPrice=5||1||0||7||N","IdentifyTrend_AppliedPrice=","||1||0||7||N","IdentifyTrend Price ",{"$f":"VLOOKUP(Input!C280,Start!$BC$2:$BD$9,2,0)","v":1},{"$f":"VLOOKUP(Input!D280,Start!$BC$2:$BD$9,2,0)","v":5},{"$f":"VLOOKUP(Input!E280,Start!$BC$2:$BD$9,2,0)","v":1},{"$f":"VLOOKUP(Input!F280,Start!$BC$2:$BD$9,2,0)","v":1},{"$f":"VLOOKUP(Input!G280,Start!$BC$2:$BD$9,2,0)","v":1},{"$f":"VLOOKUP(Input!H280,Start!$BC$2:$BD$9,2,0)","v":1},{"$f":"VLOOKUP(Input!I280,Start!$BC$2:$BD$9,2,0)","v":1},{"$f":"VLOOKUP(Input!J280,Start!$BC$2:$BD$9,2,0)","v":1},{"$f":"VLOOKUP(Input!K280,Start!$BC$2:$BD$9,2,0)","v":1},{"$f":"VLOOKUP(Input!L280,Start!$BC$2:$BD$9,2,0)","v":1},{"$f":"VLOOKUP(Input!M280,Start!$BC$2:$BD$9,2,0)","v":1},"IdentifyTrend_AppliedPrice=1||1||0||7||N","IdentifyTrend_AppliedPrice=5||1||0||7||N","IdentifyTrend_AppliedPrice=1||1||0||7||N","IdentifyTrend_AppliedPrice=1||1||0||7||N","IdentifyTrend_AppliedPrice=1||1||0||7||N","IdentifyTrend_AppliedPrice=1||1||0||7||N","IdentifyTrend_AppliedPrice=1||1||0||7||N","IdentifyTrend_AppliedPrice=1||1||0||7||N","IdentifyTrend_AppliedPrice=1||1||0||7||N","IdentifyTrend_AppliedPrice=1||1||0||7||N","IdentifyTrend_AppliedPrice=1||1||0||7||N"]
["IdentifyTrend_MainPeriod=3||3||1||30||N","IdentifyTrend_MainPeriod=","||3||1||30||N","IdentifyTrend Period ",{"$f":"Input!C281","v":0},{"$f":"Input!D281","v":0},{"$f":"Input!E281","v":0},{"$f":"Input!F281","v":0},{"$f":"Input!G281","v":0},{"$f":"Input!H281","v":0},{"$f":"Input!I281","v":0},{"$f":"Input!J281","v":0},{"$f":"Input!K281","v":0},{"$f":"Input!L281","v":0},{"$f":"Input!M281","v":0},"IdentifyTrend_MainPeriod=0||3||1||30||N","IdentifyTrend_MainPeriod=0||3||1||30||N","IdentifyTrend_MainPeriod=0||3||1||30||N","IdentifyTrend_MainPeriod=0||3||1||30||N","IdentifyTrend_MainPeriod=0||3||1||30||N","IdentifyTrend_MainPeriod=0||3||1||30||N","IdentifyTrend_MainPeriod=0||3||1||30||N","IdentifyTrend_MainPeriod=0||3||1||30||N","IdentifyTrend_MainPeriod=0||3||1||30||N","IdentifyTrend_MainPeriod=0||3||1||30||N","IdentifyTrend_MainPeriod=0||3||1||30||N"]
["IdentifyTrend_Reverse=false||false||0||true||N","IdentifyTrend_Reverse=","||false||0||true||N","IdentifyTrend Reverse mode ",{"$f":"VLOOKUP(Input!C282,Start!$G$2:$H$3,2,0)","v":false},{"$f":"VLOOKUP(Input!D282,Start!$G$2:$H$3,2,0)","v":false},{"$f":"VLOOKUP(Input!E282,Start!$G$2:$H$3,2,0)","v":false},{"$f":"VLOOKUP(Input!F282,Start!$G$2:$H$3,2,0)","v":false},{"$f":"VLOOKUP(Input!G282,Start!$G$2:$H$3,2,0)","v":false},{"$f":"VLOOKUP(Input!H282,Start!$G$2:$H$3,2,0)","v":false},{"$f":"VLOOKUP(Input!I282,Start!$G$2:$H$3,2,0)","v":false},{"$f":"VLOOKUP(Input!J282,Start!$G$2:$H$3,2,0)","v":false},{"$f":"VLOOKUP(Input!K282,Start!$G$2:$H$3,2,0)","v":false},{"$f":"VLOOKUP(Input!L282,Start!$G$2:$H$3,2,0)","v":false},{"$f":"VLOOKUP(Input!M282,Start!$G$2:$H$3,2,0)","v":false},"IdentifyTrend_Reverse=FALSE||false||0||true||N","IdentifyTrend_Reverse=FALSE||false||0||true||N","IdentifyTrend_Reverse=FALSE||false||0||true||N","IdentifyTrend_Reverse=FALSE||false||0||true||N","IdentifyTrend_Reverse=FALSE||false||0||true||N","IdentifyTrend_Reverse=FALSE||false||0||true||N","IdentifyTrend_Reverse=FALSE||false||0||true||N","IdentifyTrend_Reverse=FALSE||false||0||true||N","IdentifyTrend_Reverse=FALSE||false||0||true||N","IdentifyTrend_Reverse=FALSE||false||0||true||N","IdentifyTrend_Reverse=FALSE||false||0||true||N"]
["IdentifyTrend_UseClosedBars=false||false||0||true||N","IdentifyTrend_UseClosedBars=","||false||0||true||N","IdentifyTrend use closed bars only ",{"$f":"VLOOKUP(Input!C283,Start!$G$2:$H$3,2,0)","v":false},{"$f":"VLOOKUP(Input!D283,Start!$G$2:$H$3,2,0)","v":false},{"$f":"VLOOKUP(Input!E283,Start!$G$2:$H$3,2,0)","v":false},{"$f":"VLOOKUP(Input!F283,Start!$G$2:$H$3,2,0)","v":false},{"$f":"VLOOKUP(Input!G283,Start!$G$2:$H$3,2,0)","v":false},{"$f":"VLOOKUP(Input!H283,Start!$G$2:$H$3,2,0)","v":false},{"$f":"VLOOKUP(Input!I283,Start!$G$2:$H$3,2,0)","v":false},{"$f":"VLOOKUP(Input!J283,Start!$G$2:$H$3,2,0)","v":false},{"$f":"VLOOKUP(Input!K283,Start!$G$2:$H$3,2,0)","v":false},{"$f":"VLOOKUP(Input!L283,Start!$G$2:$H$3,2,0)","v":false},{"$f":"VLOOKUP(Input!M283,Start!$G$2:$H$3,2,0)","v":false},"IdentifyTrend_UseClosedBars=FALSE||false||0||true||N","IdentifyTrend_UseClosedBars=FALSE||false||0||true||N","IdentifyTrend_UseClosedBars=FALSE||false||0||true||N","IdentifyTrend_UseClosedBars=FALSE||false||0||true||N","IdentifyTrend_UseClosedBars=FALSE||false||0||true||N","IdentifyTrend_UseClosedBars=FALSE||false||0||true||N","IdentifyTrend_UseClosedBars=FALSE||false||0||true||N","IdentifyTrend_UseClosedBars=FALSE||false||0||true||N","IdentifyTrend_UseClosedBars=FALSE||false||0||true||N","IdentifyTrend_UseClosedBars=FALSE||false||0||true||N","IdentifyTrend_UseClosedBars=FALSE||false||0||true||N"]
["IdentifyTrend_OpenOn=2||0||0||3||N","IdentifyTrend_OpenOn=","||0||0||3||N","Open on ",{"$f":"VLOOKUP(Input!C284,Start!$AK$2:$AL$5,2,0)","v":0},{"$f":"VLOOKUP(Input!D284,Start!$AK$2:$AL$5,2,0)","v":0},{"$f":"VLOOKUP(Input!E284,Start!$AK$2:$AL$5,2,0)","v":0},{"$f":"VLOOKUP(Input!F284,Start!$AK$2:$AL$5,2,0)","v":0},{"$f":"VLOOKUP(Input!G284,Start!$AK$2:$AL$5,2,0)","v":0},{"$f":"VLOOKUP(Input!H284,Start!$AK$2:$AL$5,2,0)","v":0},{"$f":"VLOOKUP(Input!I284,Start!$AK$2:$AL$5,2,0)","v":0},{"$f":"VLOOKUP(Input!J284,Start!$AK$2:$AL$5,2,0)","v":0},{"$f":"VLOOKUP(Input!K284,Start!$AK$2:$AL$5,2,0)","v":0},{"$f":"VLOOKUP(Input!L284,Start!$AK$2:$AL$5,2,0)","v":0},{"$f":"VLOOKUP(Input!M284,Start!$AK$2:$AL$5,2,0)","v":0},"IdentifyTrend_OpenOn=0||0||0||3||N","IdentifyTrend_OpenOn=0||0||0||3||N","IdentifyTrend_OpenOn=0||0||0||3||N","IdentifyTrend_OpenOn=0||0||0||3||N","IdentifyTrend_OpenOn=0||0||0||3||N","IdentifyTrend_OpenOn=0||0||0||3||N","IdentifyTrend_OpenOn=0||0||0||3||N","IdentifyTrend_OpenOn=0||0||0||3||N","IdentifyTrend_OpenOn=0||0||0||3||N","IdentifyTrend_OpenOn=0||0||0||3||N","IdentifyTrend_OpenOn=0||0||0||3||N"]
["IdentifyTrend_MartinOn=0||0||0||3||N","IdentifyTrend_MartinOn=","||0||0||3||N","Open martin on ",{"$f":"VLOOKUP(Input!C285,Start!$AK$2:$AL$5,2,0)","v":1},{"$f":"VLOOKUP(Input!D285,Start!$AK$2:$AL$5,2,0)","v":1},{"$f":"VLOOKUP(Input!E285,Start!$AK$2:$AL$5,2,0)","v":1},{"$f":"VLOOKUP(Input!F285,Start!$AK$2:$AL$5,2,0)","v":1},{"$f":"VLOOKUP(Input!G285,Start!$AK$2:$AL$5,2,0)","v":1},{"$f":"VLOOKUP(Input!H285,Start!$AK$2:$AL$5,2,0)","v":1},{"$f":"VLOOKUP(Input!I285,Start!$AK$2:$AL$5,2,0)","v":1},{"$f":"VLOOKUP(Input!J285,Start!$AK$2:$AL$5,2,0)","v":1},{"$f":"VLOOKUP(Input!K285,Start!$AK$2:$AL$5,2,0)","v":1},{"$f":"VLOOKUP(Input!L285,Start!$AK$2:$AL$5,2,0)","v":1},{"$f":"VLOOKUP(Input!M285,Start!$AK$2:$AL$5,2,0)","v":1},"IdentifyTrend_MartinOn=1||0||0||3||N","IdentifyTrend_MartinOn=1||0||0||3||N","IdentifyTrend_MartinOn=1||0||0||3||N","IdentifyTrend_MartinOn=1||0||0||3||N","IdentifyTrend_MartinOn=1||0||0||3||N","IdentifyTrend_MartinOn=1||0||0||3||N","IdentifyTrend_MartinOn=1||0||0||3||N","IdentifyTrend_MartinOn=1||0||0||3||N","IdentifyTrend_MartinOn=1||0||0||3||N","IdentifyTrend_MartinOn=1||0||0||3||N","IdentifyTrend_MartinOn=1||0||0||3||N"]
["IdentifyTrend_HedgeOn=0||0||0||3||N","IdentifyTrend_HedgeOn=","||0||0||3||N","Open hedge on ",{"$f":"VLOOKUP(Input!C286,Start!$AK$2:$AL$5,2,0)","v":1},{"$f":"VLOOKUP(Input!D286,Start!$AK$2:$AL$5,2,0)","v":1},{"$f":"VLOOKUP(Input!E286,Start!$AK$2:$AL$5,2,0)","v":1},{"$f":"VLOOKUP(Input!F286,Start!$AK$2:$AL$5,2,0)","v":1},{"$f":"VLOOKUP(Input!G286,Start!$AK$2:$AL$5,2,0)","v":1},{"$f":"VLOOKUP(Input!H286,Start!$AK$2:$AL$5,2,0)","v":1},{"$f":"VLOOKUP(Input!I286,Start!$AK$2:$AL$5,2,0)","v":1},{"$f":"VLOOKUP(Input!J286,Start!$AK$2:$AL$5,2,0)","v":1},{"$f":"VLOOKUP(Input!K286,Start!$AK$2:$AL$5,2,0)","v":1},{"$f":"VLOOKUP(Input!L286,Start!$AK$2:$AL$5,2,0)","v":1},{"$f":"VLOOKUP(Input!M286,Start!$AK$2:$AL$5,2,0)","v":1},"IdentifyTrend_HedgeOn=1||0||0||3||N","IdentifyTrend_HedgeOn=1||0||0||3||N","IdentifyTrend_HedgeOn=1||0||0||3||N","IdentifyTrend_HedgeOn=1||0||0||3||N","IdentifyTrend_HedgeOn=1||0||0||3||N","IdentifyTrend_HedgeOn=1||0||0||3||N","IdentifyTrend_HedgeOn=1||0||0||3||N","IdentifyTrend_HedgeOn=1||0||0||3||N","IdentifyTrend_HedgeOn=1||0||0||3||N","IdentifyTrend_HedgeOn=1||0||0||3||N","IdentifyTrend_HedgeOn=1||0||0||3||N"]
["IdentifyTrend_CloseOn=0||0||0||4||N","IdentifyTrend_CloseOn=","||0||0||4||N","Close on ",{"$f":"VLOOKUP(Input!C287,Start!$AM$2:$AN$6,2,0)","v":2},{"$f":"VLOOKUP(Input!D287,Start!$AM$2:$AN$6,2,0)","v":2},{"$f":"VLOOKUP(Input!E287,Start!$AM$2:$AN$6,2,0)","v":2},{"$f":"VLOOKUP(Input!F287,Start!$AM$2:$AN$6,2,0)","v":2},{"$f":"VLOOKUP(Input!G287,Start!$AM$2:$AN$6,2,0)","v":2},{"$f":"VLOOKUP(Input!H287,Start!$AM$2:$AN$6,2,0)","v":2},{"$f":"VLOOKUP(Input!I287,Start!$AM$2:$AN$6,2,0)","v":2},{"$f":"VLOOKUP(Input!J287,Start!$AM$2:$AN$6,2,0)","v":2},{"$f":"VLOOKUP(Input!K287,Start!$AM$2:$AN$6,2,0)","v":2},{"$f":"VLOOKUP(Input!L287,Start!$AM$2:$AN$6,2,0)","v":2},{"$f":"VLOOKUP(Input!M287,Start!$AM$2:$AN$6,2,0)","v":2},"IdentifyTrend_CloseOn=2||0||0||4||N","IdentifyTrend_CloseOn=2||0||0||4||N","IdentifyTrend_CloseOn=2||0||0||4||N","IdentifyTrend_CloseOn=2||0||0||4||N","IdentifyTrend_CloseOn=2||0||0||4||N","IdentifyTrend_CloseOn=2||0||0||4||N","IdentifyTrend_CloseOn=2||0||0||4||N","IdentifyTrend_CloseOn=2||0||0||4||N","IdentifyTrend_CloseOn=2||0||0||4||N","IdentifyTrend_CloseOn=2||0||0||4||N","IdentifyTrend_CloseOn=2||0||0||4||N"]
["IdentifyTrend_PartialCloseOn=0||0||0||3||N","IdentifyTrend_PartialCloseOn=","||0||0||3||N","Partial close on ",{"$f":"VLOOKUP(Input!C288,Start!$AO$2:$AP$4,2,0)","v":1},{"$f":"VLOOKUP(Input!D288,Start!$AO$2:$AP$4,2,0)","v":1},{"$f":"VLOOKUP(Input!E288,Start!$AO$2:$AP$4,2,0)","v":1},{"$f":"VLOOKUP(Input!F288,Start!$AO$2:$AP$4,2,0)","v":1},{"$f":"VLOOKUP(Input!G288,Start!$AO$2:$AP$4,2,0)","v":1},{"$f":"VLOOKUP(Input!H288,Start!$AO$2:$AP$4,2,0)","v":1},{"$f":"VLOOKUP(Input!I288,Start!$AO$2:$AP$4,2,0)","v":1},{"$f":"VLOOKUP(Input!J288,Start!$AO$2:$AP$4,2,0)","v":1},{"$f":"VLOOKUP(Input!K288,Start!$AO$2:$AP$4,2,0)","v":1},{"$f":"VLOOKUP(Input!L288,Start!$AO$2:$AP$4,2,0)","v":1},{"$f":"VLOOKUP(Input!M288,Start!$AO$2:$AP$4,2,0)","v":1},"IdentifyTrend_PartialCloseOn=1||0||0||3||N","IdentifyTrend_PartialCloseOn=1||0||0||3||N","IdentifyTrend_PartialCloseOn=1||0||0||3||N","IdentifyTrend_PartialCloseOn=1||0||0||3||N","IdentifyTrend_PartialCloseOn=1||0||0||3||N","IdentifyTrend_PartialCloseOn=1||0||0||3||N","IdentifyTrend_PartialCloseOn=1||0||0||3||N","IdentifyTrend_PartialCloseOn=1||0||0||3||N","IdentifyTrend_PartialCloseOn=1||0||0||3||N","IdentifyTrend_PartialCloseOn=1||0||0||3||N","IdentifyTrend_PartialCloseOn=1||0||0||3||N"]
["; TDI properties","; TDI properties","; TDI properties","T DI properties ",null,null,null,null,null,null,null,null,null,null,null,{"$f":"$A289","v":"; TDI properties"},"; TDI properties","; TDI properties","; TDI properties","; TDI properties","; TDI properties","; TDI properties","; TDI properties","; TDI properties","; TDI properties","; TDI properties"]
["TDI_Properties====================================================================================","TDI_Properties====================================================================================","TDI_Properties====================================================================================","TDI properties: ",null,null,null,null,null,null,null,null,null,null,null,"TDI_Properties====================================================================================","TDI_Properties====================================================================================","TDI_Properties====================================================================================","TDI_Properties====================================================================================","TDI_Properties====================================================================================","TDI_Properties====================================================================================","TDI_Properties====================================================================================","TDI_Properties====================================================================================","TDI_Properties====================================================================================","TDI_Properties====================================================================================","TDI_Properties===================================================================================="]
["TDI_Mode=0||0||0||1||N",{"$f":"_xlfn.CONCAT(LEFT(TRIM(A291),FIND(\"=\",TRIM(A291))-1),\"=\")","v":"TDI_Mode="},{"$f":"_xlfn.CONCAT(\"|\",RIGHT(TRIM(A291),LEN(TRIM(A291))-SEARCH(\"|\",TRIM(A291))))","v":"||0||0||1||N"},"TDI filter mode ",{"$f":"VLOOKUP(Input!C291,Start!$BE$2:$BF$3,2,0)","v":1},{"$f":"VLOOKUP(Input!D291,Start!$BE$2:$BF$3,2,0)","v":1},{"$f":"VLOOKUP(Input!E291,Start!$BE$2:$BF$3,2,0)","v":1},{"$f":"VLOOKUP(Input!F291,Start!$BE$2:$BF$3,2,0)","v":1},{"$f":"VLOOKUP(Input!G291,Start!$BE$2:$BF$3,2,0)","v":1},{"$f":"VLOOKUP(Input!H291,Start!$BE$2:$BF$3,2,0)","v":1},{"$f":"VLOOKUP(Input!I291,Start!$BE$2:$BF$3,2,0)","v":1},{"$f":"VLOOKUP(Input!J291,Start!$BE$2:$BF$3,2,0)","v":1},{"$f":"VLOOKUP(Input!K291,Start!$BE$2:$BF$3,2,0)","v":1},{"$f":"VLOOKUP(Input!L291,Start!$BE$2:$BF$3,2,0)","v":1},{"$f":"VLOOKUP(Input!M291,Start!$BE$2:$BF$3,2,0)","v":1},{"$f":"_xlfn.CONCAT($B291,E291,$C291)","v":"TDI_Mode=1||0||0||1||N"},"TDI_Mode=1||0||0||1||N","TDI_Mode=1||0||0||1||N","TDI_Mode=1||0||0||1||N","TDI_Mode=1||0||0||1||N","TDI_Mode=1||0||0||1||N","TDI_Mode=1||0||0||1||N","TDI_Mode=1||0||0||1||N","TDI_Mode=1||0||0||1||N","TDI_Mode=1||0||0||1||N","TDI_Mode=1||0||0||1||N"]
["TDI_TF=16385||0||0||49153||N","TDI_TF=","||0||0||49153||N","Time Frame ",{"$f":"VLOOKUP(Input!C292,Start!$K$2:$L$22,2,0)","v":2},{"$f":"VLOOKUP(Input!D292,Start!$K$2:$L$22,2,0)","v":2},{"$f":"VLOOKUP(Input!E292,Start!$K$2:$L$22,2,0)","v":2},{"$f":"VLOOKUP(Input!F292,Start!$K$2:$L$22,2,0)","v":2},{"$f":"VLOOKUP(Input!G292,Start!$K$2:$L$22,2,0)","v":2},{"$f":"VLOOKUP(Input!H292,Start!$K$2:$L$22,2,0)","v":2},{"$f":"VLOOKUP(Input!I292,Start!$K$2:$L$22,2,0)","v":2},{"$f":"VLOOKUP(Input!J292,Start!$K$2:$L$22,2,0)","v":2},{"$f":"VLOOKUP(Input!K292,Start!$K$2:$L$22,2,0)","v":2},{"$f":"VLOOKUP(Input!L292,Start!$K$2:$L$22,2,0)","v":2},{"$f":"VLOOKUP(Input!M292,Start!$K$2:$L$22,2,0)","v":2},"TDI_TF=2||0||0||49153||N","TDI_TF=2||0||0||49153||N","TDI_TF=2||0||0||49153||N","TDI_TF=2||0||0||49153||N","TDI_TF=2||0||0||49153||N","TDI_TF=2||0||0||49153||N","TDI_TF=2||0||0||49153||N","TDI_TF=2||0||0||49153||N","TDI_TF=2||0||0||49153||N","TDI_TF=2||0||0||49153||N","TDI_TF=2||0||0||49153||N"]
["TDI_SignalLevel=50||50||5.000000||500.000000||N","TDI_SignalLevel=","||50||5.000000||500.000000||N","Signal level ",{"$f":"Input!C293","v":0},{"$f":"Input!D293","v":0},{"$f":"Input!E293","v":0},{"$f":"Input!F293","v":0},{"$f":"Input!G293","v":0},{"$f":"Input!H293","v":0},{"$f":"Input!I293","v":0},{"$f":"Input!J293","v":0},{"$f":"Input!K293","v":0},{"$f":"Input!L293","v":0},{"$f":"Input!M293","v":0},"TDI_SignalLevel=0||50||5.000000||500.000000||N","TDI_SignalLevel=0||50||5.000000||500.000000||N","TDI_SignalLevel=0||50||5.000000||500.000000||N","TDI_SignalLevel=0||50||5.000000||500.000000||N","TDI_SignalLevel=0||50||5.000000||500.000000||N","TDI_SignalLevel=0||50||5.000000||500.000000||N","TDI_SignalLevel=0||50||5.000000||500.000000||N","TDI_SignalLevel=0||50||5.000000||500.000000||N","TDI_SignalLevel=0||50||5.000000||500.000000||N","TDI_SignalLevel=0||50||5.000000||500.000000||N","TDI_SignalLevel=0||50||5.000000||500.000000||N"]
["TDI_PeriodRSI=21||21||1||210||N","TDI_PeriodRSI=","||21||1||210||N","RSI period ",{"$f":"Input!C294","v":0},{"$f":"Input!D294","v":0},{"$f":"Input!E294","v":0},{"$f":"Input!F294","v":0},{"$f":"Input!G294","v":0},{"$f":"Input!H294","v":0},{"$f":"Input!I294","v":0},{"$f":"Input!J294","v":0},{"$f":"Input!K294","v":0},{"$f":"Input!L294","v":0},{"$f":"Input!M294","v":0},"TDI_PeriodRSI=0||21||1||210||N","TDI_PeriodRSI=0||21||1||210||N","TDI_PeriodRSI=0||21||1||210||N","TDI_PeriodRSI=0||21||1||210||N","TDI_PeriodRSI=0||21||1||210||N","TDI_PeriodRSI=0||21||1||210||N","TDI_PeriodRSI=0||21||1||210||N","TDI_PeriodRSI=0||21||1||210||N","TDI_PeriodRSI=0||21||1||210||N","TDI_PeriodRSI=0||21||1||210||N","TDI_PeriodRSI=0||21||1||210||N"]
["TDI_AppliedPriceRSI=1||1||0||7||N","TDI_AppliedPriceRSI=","||1||0||7||N","RSI price ",{"$f":"VLOOKUP(Input!C295,Start!$AU$2:$AV$8,2,0)","v":0},{"$f":"VLOOKUP(Input!D295,Start!$AU$2:$AV$8,2,0)","v":0},{"$f":"VLOOKUP(Input!E295,Start!$AU$2:$AV$8,2,0)","v":0},{"$f":"VLOOKUP(Input!F295,Start!$AU$2:$AV$8,2,0)","v":0},{"$f":"VLOOKUP(Input!G295,Start!$AU$2:$AV$8,2,0)","v":0},{"$f":"VLOOKUP(Input!H295,Start!$AU$2:$AV$8,2,0)","v":0},{"$f":"VLOOKUP(Input!I295,Start!$AU$2:$AV$8,2,0)","v":0},{"$f":"VLOOKUP(Input!J295,Start!$AU$2:$AV$8,2,0)","v":0},{"$f":"VLOOKUP(Input!K295,Start!$AU$2:$AV$8,2,0)","v":0},{"$f":"VLOOKUP(Input!L295,Start!$AU$2:$AV$8,2,0)","v":0},{"$f":"VLOOKUP(Input!M295,Start!$AU$2:$AV$8,2,0)","v":0},"TDI_AppliedPriceRSI=0||1||0||7||N","TDI_AppliedPriceRSI=0||1||0||7||N","TDI_AppliedPriceRSI=0||1||0||7||N","TDI_AppliedPriceRSI=0||1||0||7||N","TDI_AppliedPriceRSI=0||1||0||7||N","TDI_AppliedPriceRSI=0||1||0||7||N","TDI_AppliedPriceRSI=0||1||0||7||N","TDI_AppliedPriceRSI=0||1||0||7||N","TDI_AppliedPriceRSI=0||1||0||7||N","TDI_AppliedPriceRSI=0||1||0||7||N","TDI_AppliedPriceRSI=0||1||0||7||N"]
["TDI_PeriodSmRSI=2||2||1||20||N","TDI_PeriodSmRSI=","||2||1||20||N","RSI smoothing period ",{"$f":"Input!C296","v":0},{"$f":"Input!D296","v":0},{"$f":"Input!E296","v":0},{"$f":"Input!F296","v":0},{"$f":"Input!G296","v":0},{"$f":"Input!H296","v":0},{"$f":"Input!I296","v":0},{"$f":"Input!J296","v":0},{"$f":"Input!K296","v":0},{"$f":"Input!L296","v":0},{"$f":"Input!M296","v":0},"TDI_PeriodSmRSI=0||2||1||20||N","TDI_PeriodSmRSI=0||2||1||20||N","TDI_PeriodSmRSI=0||2||1||20||N","TDI_PeriodSmRSI=0||2||1||20||N","TDI_PeriodSmRSI=0||2||1||20||N","TDI_PeriodSmRSI=0||2||1||20||N","TDI_PeriodSmRSI=0||2||1||20||N","TDI_PeriodSmRSI=0||2||1||20||N","TDI_PeriodSmRSI=0||2||1||20||N","TDI_PeriodSmRSI=0||2||1||20||N","TDI_PeriodSmRSI=0||2||1||20||N"]
["TDI_MethodSmRSI=0||0||0||3||N","TDI_MethodSmRSI=","||0||0||3||N","RSI smoothing method ",{"$f":"VLOOKUP(Input!C297,Start!$AW$2:$AX$5,2,0)","v":1},{"$f":"VLOOKUP(Input!D297,Start!$AW$2:$AX$5,2,0)","v":1},{"$f":"VLOOKUP(Input!E297,Start!$AW$2:$AX$5,2,0)","v":1},{"$f":"VLOOKUP(Input!F297,Start!$AW$2:$AX$5,2,0)","v":1},{"$f":"VLOOKUP(Input!G297,Start!$AW$2:$AX$5,2,0)","v":1},{"$f":"VLOOKUP(Input!H297,Start!$AW$2:$AX$5,2,0)","v":1},{"$f":"VLOOKUP(Input!I297,Start!$AW$2:$AX$5,2,0)","v":1},{"$f":"VLOOKUP(Input!J297,Start!$AW$2:$AX$5,2,0)","v":1},{"$f":"VLOOKUP(Input!K297,Start!$AW$2:$AX$5,2,0)","v":1},{"$f":"VLOOKUP(Input!L297,Start!$AW$2:$AX$5,2,0)","v":1},{"$f":"VLOOKUP(Input!M297,Start!$AW$2:$AX$5,2,0)","v":1},"TDI_MethodSmRSI=1||0||0||3||N","TDI_MethodSmRSI=1||0||0||3||N","TDI_MethodSmRSI=1||0||0||3||N","TDI_MethodSmRSI=1||0||0||3||N","TDI_MethodSmRSI=1||0||0||3||N","TDI_MethodSmRSI=1||0||0||3||N","TDI_MethodSmRSI=1||0||0||3||N","TDI_MethodSmRSI=1||0||0||3||N","TDI_MethodSmRSI=1||0||0||3||N","TDI_MethodSmRSI=1||0||0||3||N","TDI_MethodSmRSI=1||0||0||3||N"]
["TDI_PeriodSmSig=7||7||1||70||N","TDI_PeriodSmSig=","||7||1||70||N","Signal smoothing period ",{"$f":"Input!C298","v":0},{"$f":"Input!D298","v":0},{"$f":"Input!E298","v":0},{"$f":"Input!F298","v":0},{"$f":"Input!G298","v":0},{"$f":"Input!H298","v":0},{"$f":"Input!I298","v":0},{"$f":"Input!J298","v":0},{"$f":"Input!K298","v":0},{"$f":"Input!L298","v":0},{"$f":"Input!M298","v":0},"TDI_PeriodSmSig=0||7||1||70||N","TDI_PeriodSmSig=0||7||1||70||N","TDI_PeriodSmSig=0||7||1||70||N","TDI_PeriodSmSig=0||7||1||70||N","TDI_PeriodSmSig=0||7||1||70||N","TDI_PeriodSmSig=0||7||1||70||N","TDI_PeriodSmSig=0||7||1||70||N","TDI_PeriodSmSig=0||7||1||70||N","TDI_PeriodSmSig=0||7||1||70||N","TDI_PeriodSmSig=0||7||1||70||N","TDI_PeriodSmSig=0||7||1||70||N"]
["TDI_MethodSmSig=0||0||0||3||N","TDI_MethodSmSig=","||0||0||3||N","Signal smoothing method ",{"$f":"VLOOKUP(Input!C299,Start!$AW$2:$AX$5,2,0)","v":1},{"$f":"VLOOKUP(Input!D299,Start!$AW$2:$AX$5,2,0)","v":1},{"$f":"VLOOKUP(Input!E299,Start!$AW$2:$AX$5,2,0)","v":1},{"$f":"VLOOKUP(Input!F299,Start!$AW$2:$AX$5,2,0)","v":1},{"$f":"VLOOKUP(Input!G299,Start!$AW$2:$AX$5,2,0)","v":1},{"$f":"VLOOKUP(Input!H299,Start!$AW$2:$AX$5,2,0)","v":1},{"$f":"VLOOKUP(Input!I299,Start!$AW$2:$AX$5,2,0)","v":1},{"$f":"VLOOKUP(Input!J299,Start!$AW$2:$AX$5,2,0)","v":1},{"$f":"VLOOKUP(Input!K299,Start!$AW$2:$AX$5,2,0)","v":1},{"$f":"VLOOKUP(Input!L299,Start!$AW$2:$AX$5,2,0)","v":1},{"$f":"VLOOKUP(Input!M299,Start!$AW$2:$AX$5,2,0)","v":1},"TDI_MethodSmSig=1||0||0||3||N","TDI_MethodSmSig=1||0||0||3||N","TDI_MethodSmSig=1||0||0||3||N","TDI_MethodSmSig=1||0||0||3||N","TDI_MethodSmSig=1||0||0||3||N","TDI_MethodSmSig=1||0||0||3||N","TDI_MethodSmSig=1||0||0||3||N","TDI_MethodSmSig=1||0||0||3||N","TDI_MethodSmSig=1||0||0||3||N","TDI_MethodSmSig=1||0||0||3||N","TDI_MethodSmSig=1||0||0||3||N"]
["TDI_PeriodVolBand=34||34||1||340||N","TDI_PeriodVolBand=","||34||1||340||N","Volatility bands period ",{"$f":"Input!C300","v":0},{"$f":"Input!D300","v":0},{"$f":"Input!E300","v":0},{"$f":"Input!F300","v":0},{"$f":"Input!G300","v":0},{"$f":"Input!H300","v":0},{"$f":"Input!I300","v":0},{"$f":"Input!J300","v":0},{"$f":"Input!K300","v":0},{"$f":"Input!L300","v":0},{"$f":"Input!M300","v":0},"TDI_PeriodVolBand=0||34||1||340||N","TDI_PeriodVolBand=0||34||1||340||N","TDI_PeriodVolBand=0||34||1||340||N","TDI_PeriodVolBand=0||34||1||340||N","TDI_PeriodVolBand=0||34||1||340||N","TDI_PeriodVolBand=0||34||1||340||N","TDI_PeriodVolBand=0||34||1||340||N","TDI_PeriodVolBand=0||34||1||340||N","TDI_PeriodVolBand=0||34||1||340||N","TDI_PeriodVolBand=0||34||1||340||N","TDI_PeriodVolBand=0||34||1||340||N"]
["TDI_StdDev=1.6185||1.6185||0.161850||16.185000||N","TDI_StdDev=","||1.6185||0.161850||16.185000||N","Standard Deviations ",{"$f":"Input!C301","v":0},{"$f":"Input!D301","v":0},{"$f":"Input!E301","v":0},{"$f":"Input!F301","v":0},{"$f":"Input!G301","v":0},{"$f":"Input!H301","v":0},{"$f":"Input!I301","v":0},{"$f":"Input!J301","v":0},{"$f":"Input!K301","v":0},{"$f":"Input!L301","v":0},{"$f":"Input!M301","v":0},"TDI_StdDev=0||1.6185||0.161850||16.185000||N","TDI_StdDev=0||1.6185||0.161850||16.185000||N","TDI_StdDev=0||1.6185||0.161850||16.185000||N","TDI_StdDev=0||1.6185||0.161850||16.185000||N","TDI_StdDev=0||1.6185||0.161850||16.185000||N","TDI_StdDev=0||1.6185||0.161850||16.185000||N","TDI_StdDev=0||1.6185||0.161850||16.185000||N","TDI_StdDev=0||1.6185||0.161850||16.185000||N","TDI_StdDev=0||1.6185||0.161850||16.185000||N","TDI_StdDev=0||1.6185||0.161850||16.185000||N","TDI_StdDev=0||1.6185||0.161850||16.185000||N"]
["TDI_Reverse=false||false||0||true||N","TDI_Reverse=","||false||0||true||N","Reverse mode ",{"$f":"VLOOKUP(Input!C302,Start!$G$2:$H$3,2,0)","v":false},{"$f":"VLOOKUP(Input!D302,Start!$G$2:$H$3,2,0)","v":false},{"$f":"VLOOKUP(Input!E302,Start!$G$2:$H$3,2,0)","v":false},{"$f":"VLOOKUP(Input!F302,Start!$G$2:$H$3,2,0)","v":false},{"$f":"VLOOKUP(Input!G302,Start!$G$2:$H$3,2,0)","v":false},{"$f":"VLOOKUP(Input!H302,Start!$G$2:$H$3,2,0)","v":false},{"$f":"VLOOKUP(Input!I302,Start!$G$2:$H$3,2,0)","v":false},{"$f":"VLOOKUP(Input!J302,Start!$G$2:$H$3,2,0)","v":false},{"$f":"VLOOKUP(Input!K302,Start!$G$2:$H$3,2,0)","v":false},{"$f":"VLOOKUP(Input!L302,Start!$G$2:$H$3,2,0)","v":false},{"$f":"VLOOKUP(Input!M302,Start!$G$2:$H$3,2,0)","v":false},"TDI_Reverse=FALSE||false||0||true||N","TDI_Reverse=FALSE||false||0||true||N","TDI_Reverse=FALSE||false||0||true||N","TDI_Reverse=FALSE||false||0||true||N","TDI_Reverse=FALSE||false||0||true||N","TDI_Reverse=FALSE||false||0||true||N","TDI_Reverse=FALSE||false||0||true||N","TDI_Reverse=FALSE||false||0||true||N","TDI_Reverse=FALSE||false||0||true||N","TDI_Reverse=FALSE||false||0||true||N","TDI_Reverse=FALSE||false||0||true||N"]
["TDI_UseClosedBars=true||false||0||true||N","TDI_UseClosedBars=","||false||0||true||N","Use closed bars only ",{"$f":"VLOOKUP(Input!C303,Start!$G$2:$H$3,2,0)","v":false},{"$f":"VLOOKUP(Input!D303,Start!$G$2:$H$3,2,0)","v":false},{"$f":"VLOOKUP(Input!E303,Start!$G$2:$H$3,2,0)","v":false},{"$f":"VLOOKUP(Input!F303,Start!$G$2:$H$3,2,0)","v":false},{"$f":"VLOOKUP(Input!G303,Start!$G$2:$H$3,2,0)","v":false},{"$f":"VLOOKUP(Input!H303,Start!$G$2:$H$3,2,0)","v":false},{"$f":"VLOOKUP(Input!I303,Start!$G$2:$H$3,2,0)","v":false},{"$f":"VLOOKUP(Input!J303,Start!$G$2:$H$3,2,0)","v":false},{"$f":"VLOOKUP(Input!K303,Start!$G$2:$H$3,2,0)","v":false},{"$f":"VLOOKUP(Input!L303,Start!$G$2:$H$3,2,0)","v":false},{"$f":"VLOOKUP(Input!M303,Start!$G$2:$H$3,2,0)","v":false},"TDI_UseClosedBars=FALSE||false||0||true||N","TDI_UseClosedBars=FALSE||false||0||true||N","TDI_UseClosedBars=FALSE||false||0||true||N","TDI_UseClosedBars=FALSE||false||0||true||N","TDI_UseClosedBars=FALSE||false||0||true||N","TDI_UseClosedBars=FALSE||false||0||true||N","TDI_UseClosedBars=FALSE||false||0||true||N","TDI_UseClosedBars=FALSE||false||0||true||N","TDI_UseClosedBars=FALSE||false||0||true||N","TDI_UseClosedBars=FALSE||false||0||true||N","TDI_UseClosedBars=FALSE||false||0||true||N"]
["TDI_OpenOn=2||0||0||3||N","TDI_OpenOn=","||0||0||3||N","Open on ",{"$f":"VLOOKUP(Input!C304,Start!$AK$2:$AL$5,2,0)","v":0},{"$f":"VLOOKUP(Input!D304,Start!$AK$2:$AL$5,2,0)","v":0},{"$f":"VLOOKUP(Input!E304,Start!$AK$2:$AL$5,2,0)","v":0},{"$f":"VLOOKUP(Input!F304,Start!$AK$2:$AL$5,2,0)","v":0},{"$f":"VLOOKUP(Input!G304,Start!$AK$2:$AL$5,2,0)","v":0},{"$f":"VLOOKUP(Input!H304,Start!$AK$2:$AL$5,2,0)","v":0},{"$f":"VLOOKUP(Input!I304,Start!$AK$2:$AL$5,2,0)","v":0},{"$f":"VLOOKUP(Input!J304,Start!$AK$2:$AL$5,2,0)","v":0},{"$f":"VLOOKUP(Input!K304,Start!$AK$2:$AL$5,2,0)","v":0},{"$f":"VLOOKUP(Input!L304,Start!$AK$2:$AL$5,2,0)","v":0},{"$f":"VLOOKUP(Input!M304,Start!$AK$2:$AL$5,2,0)","v":0},"TDI_OpenOn=0||0||0||3||N","TDI_OpenOn=0||0||0||3||N","TDI_OpenOn=0||0||0||3||N","TDI_OpenOn=0||0||0||3||N","TDI_OpenOn=0||0||0||3||N","TDI_OpenOn=0||0||0||3||N","TDI_OpenOn=0||0||0||3||N","TDI_OpenOn=0||0||0||3||N","TDI_OpenOn=0||0||0||3||N","TDI_OpenOn=0||0||0||3||N","TDI_OpenOn=0||0||0||3||N"]
["TDI_MartinOn=0||0||0||3||N","TDI_MartinOn=","||0||0||3||N","Open martin on ",{"$f":"VLOOKUP(Input!C305,Start!$AK$2:$AL$5,2,0)","v":1},{"$f":"VLOOKUP(Input!D305,Start!$AK$2:$AL$5,2,0)","v":1},{"$f":"VLOOKUP(Input!E305,Start!$AK$2:$AL$5,2,0)","v":1},{"$f":"VLOOKUP(Input!F305,Start!$AK$2:$AL$5,2,0)","v":1},{"$f":"VLOOKUP(Input!G305,Start!$AK$2:$AL$5,2,0)","v":1},{"$f":"VLOOKUP(Input!H305,Start!$AK$2:$AL$5,2,0)","v":1},{"$f":"VLOOKUP(Input!I305,Start!$AK$2:$AL$5,2,0)","v":1},{"$f":"VLOOKUP(Input!J305,Start!$AK$2:$AL$5,2,0)","v":1},{"$f":"VLOOKUP(Input!K305,Start!$AK$2:$AL$5,2,0)","v":1},{"$f":"VLOOKUP(Input!L305,Start!$AK$2:$AL$5,2,0)","v":1},{"$f":"VLOOKUP(Input!M305,Start!$AK$2:$AL$5,2,0)","v":1},"TDI_MartinOn=1||0||0||3||N","TDI_MartinOn=1||0||0||3||N","TDI_MartinOn=1||0||0||3||N","TDI_MartinOn=1||0||0||3||N","TDI_MartinOn=1||0||0||3||N","TDI_MartinOn=1||0||0||3||N","TDI_MartinOn=1||0||0||3||N","TDI_MartinOn=1||0||0||3||N","TDI_MartinOn=1||0||0||3||N","TDI_MartinOn=1||0||0||3||N","TDI_MartinOn=1||0||0||3||N"]
["TDI_HedgeOn=0||0||0||3||N","TDI_HedgeOn=","||0||0||3||N","Open hedge on ",{"$f":"VLOOKUP(Input!C306,Start!$AK$2:$AL$5,2,0)","v":1},{"$f":"VLOOKUP(Input!D306,Start!$AK$2:$AL$5,2,0)","v":1},{"$f":"VLOOKUP(Input!E306,Start!$AK$2:$AL$5,2,0)","v":1},{"$f":"VLOOKUP(Input!F306,Start!$AK$2:$AL$5,2,0)","v":1},{"$f":"VLOOKUP(Input!G306,Start!$AK$2:$AL$5,2,0)","v":1},{"$f":"VLOOKUP(Input!H306,Start!$AK$2:$AL$5,2,0)","v":1},{"$f":"VLOOKUP(Input!I306,Start!$AK$2:$AL$5,2,0)","v":1},{"$f":"VLOOKUP(Input!J306,Start!$AK$2:$AL$5,2,0)","v":1},{"$f":"VLOOKUP(Input!K306,Start!$AK$2:$AL$5,2,0)","v":1},{"$f":"VLOOKUP(Input!L306,Start!$AK$2:$AL$5,2,0)","v":1},{"$f":"VLOOKUP(Input!M306,Start!$AK$2:$AL$5,2,0)","v":1},"TDI_HedgeOn=1||0||0||3||N","TDI_HedgeOn=1||0||0||3||N","TDI_HedgeOn=1||0||0||3||N","TDI_HedgeOn=1||0||0||3||N","TDI_HedgeOn=1||0||0||3||N","TDI_HedgeOn=1||0||0||3||N","TDI_HedgeOn=1||0||0||3||N","TDI_HedgeOn=1||0||0||3||N","TDI_HedgeOn=1||0||0||3||N","TDI_HedgeOn=1||0||0||3||N","TDI_HedgeOn=1||0||0||3||N"]
["TDI_CloseOn=0||0||0||4||N","TDI_CloseOn=","||0||0||4||N","Close on ",{"$f":"VLOOKUP(Input!C307,Start!$AM$2:$AN$6,2,0)","v":2},{"$f":"VLOOKUP(Input!D307,Start!$AM$2:$AN$6,2,0)","v":2},{"$f":"VLOOKUP(Input!E307,Start!$AM$2:$AN$6,2,0)","v":2},{"$f":"VLOOKUP(Input!F307,Start!$AM$2:$AN$6,2,0)","v":2},{"$f":"VLOOKUP(Input!G307,Start!$AM$2:$AN$6,2,0)","v":2},{"$f":"VLOOKUP(Input!H307,Start!$AM$2:$AN$6,2,0)","v":2},{"$f":"VLOOKUP(Input!I307,Start!$AM$2:$AN$6,2,0)","v":2},{"$f":"VLOOKUP(Input!J307,Start!$AM$2:$AN$6,2,0)","v":2},{"$f":"VLOOKUP(Input!K307,Start!$AM$2:$AN$6,2,0)","v":2},{"$f":"VLOOKUP(Input!L307,Start!$AM$2:$AN$6,2,0)","v":2},{"$f":"VLOOKUP(Input!M307,Start!$AM$2:$AN$6,2,0)","v":2},"TDI_CloseOn=2||0||0||4||N","TDI_CloseOn=2||0||0||4||N","TDI_CloseOn=2||0||0||4||N","TDI_CloseOn=2||0||0||4||N","TDI_CloseOn=2||0||0||4||N","TDI_CloseOn=2||0||0||4||N","TDI_CloseOn=2||0||0||4||N","TDI_CloseOn=2||0||0||4||N","TDI_CloseOn=2||0||0||4||N","TDI_CloseOn=2||0||0||4||N","TDI_CloseOn=2||0||0||4||N"]
["TDI_PartialCloseOn=0||0||0||3||N","TDI_PartialCloseOn=","||0||0||3||N","Partial close on ",{"$f":"VLOOKUP(Input!C308,Start!$AO$2:$AP$4,2,0)","v":1},{"$f":"VLOOKUP(Input!D308,Start!$AO$2:$AP$4,2,0)","v":1},{"$f":"VLOOKUP(Input!E308,Start!$AO$2:$AP$4,2,0)","v":1},{"$f":"VLOOKUP(Input!F308,Start!$AO$2:$AP$4,2,0)","v":1},{"$f":"VLOOKUP(Input!G308,Start!$AO$2:$AP$4,2,0)","v":1},{"$f":"VLOOKUP(Input!H308,Start!$AO$2:$AP$4,2,0)","v":1},{"$f":"VLOOKUP(Input!I308,Start!$AO$2:$AP$4,2,0)","v":1},{"$f":"VLOOKUP(Input!J308,Start!$AO$2:$AP$4,2,0)","v":1},{"$f":"VLOOKUP(Input!K308,Start!$AO$2:$AP$4,2,0)","v":1},{"$f":"VLOOKUP(Input!L308,Start!$AO$2:$AP$4,2,0)","v":1},{"$f":"VLOOKUP(Input!M308,Start!$AO$2:$AP$4,2,0)","v":1},"TDI_PartialCloseOn=1||0||0||3||N","TDI_PartialCloseOn=1||0||0||3||N","TDI_PartialCloseOn=1||0||0||3||N","TDI_PartialCloseOn=1||0||0||3||N","TDI_PartialCloseOn=1||0||0||3||N","TDI_PartialCloseOn=1||0||0||3||N","TDI_PartialCloseOn=1||0||0||3||N","TDI_PartialCloseOn=1||0||0||3||N","TDI_PartialCloseOn=1||0||0||3||N","TDI_PartialCloseOn=1||0||0||3||N","TDI_PartialCloseOn=1||0||0||3||N"]
["; MACD #1 properties","; MACD #1 properties","; MACD #1 properties","MACD #1 properties ",null,null,null,null,null,null,null,null,null,null,null,{"$f":"$A309","v":"; MACD #1 properties"},"; MACD #1 properties","; MACD #1 properties","; MACD #1 properties","; MACD #1 properties","; MACD #1 properties","; MACD #1 properties","; MACD #1 properties","; MACD #1 properties","; MACD #1 properties","; MACD #1 properties"]
["MACD_Properties====================================================================================","MACD_Properties====================================================================================","MACD_Properties====================================================================================","MACD properties: ",null,null,null,null,null,null,null,null,null,null,null,"MACD_Properties====================================================================================","MACD_Properties====================================================================================","MACD_Properties====================================================================================","MACD_Properties====================================================================================","MACD_Properties====================================================================================","MACD_Properties====================================================================================","MACD_Properties====================================================================================","MACD_Properties====================================================================================","MACD_Properties====================================================================================","MACD_Properties====================================================================================","MACD_Properties===================================================================================="]
["MACD_Type=0||0||0||3||N",{"$f":"_xlfn.CONCAT(LEFT(TRIM(A311),FIND(\"=\",TRIM(A311))-1),\"=\")","v":"MACD_Type="},{"$f":"_xlfn.CONCAT(\"|\",RIGHT(TRIM(A311),LEN(TRIM(A311))-SEARCH(\"|\",TRIM(A311))))","v":"||0||0||3||N"},"* Type ",{"$f":"VLOOKUP(Input!C311,Start!$BG$2:$BH$12,2,0)","v":2},{"$f":"VLOOKUP(Input!D311,Start!$BG$2:$BH$12,2,0)","v":2},{"$f":"VLOOKUP(Input!E311,Start!$BG$2:$BH$12,2,0)","v":2},{"$f":"VLOOKUP(Input!F311,Start!$BG$2:$BH$12,2,0)","v":2},{"$f":"VLOOKUP(Input!G311,Start!$BG$2:$BH$12,2,0)","v":2},{"$f":"VLOOKUP(Input!H311,Start!$BG$2:$BH$12,2,0)","v":2},{"$f":"VLOOKUP(Input!I311,Start!$BG$2:$BH$12,2,0)","v":2},{"$f":"VLOOKUP(Input!J311,Start!$BG$2:$BH$12,2,0)","v":2},{"$f":"VLOOKUP(Input!K311,Start!$BG$2:$BH$12,2,0)","v":2},{"$f":"VLOOKUP(Input!L311,Start!$BG$2:$BH$12,2,0)","v":2},{"$f":"VLOOKUP(Input!M311,Start!$BG$2:$BH$12,2,0)","v":2},{"$f":"_xlfn.CONCAT($B311,E311,$C311)","v":"MACD_Type=2||0||0||3||N"},"MACD_Type=2||0||0||3||N","MACD_Type=2||0||0||3||N","MACD_Type=2||0||0||3||N","MACD_Type=2||0||0||3||N","MACD_Type=2||0||0||3||N","MACD_Type=2||0||0||3||N","MACD_Type=2||0||0||3||N","MACD_Type=2||0||0||3||N","MACD_Type=2||0||0||3||N","MACD_Type=2||0||0||3||N"]
["MACD_TF=0||0||0||49153||N","MACD_TF=","||0||0||49153||N","Time Frame ",{"$f":"VLOOKUP(Input!C312,Start!$K$2:$L$22,2,0)","v":2},{"$f":"VLOOKUP(Input!D312,Start!$K$2:$L$22,2,0)","v":2},{"$f":"VLOOKUP(Input!E312,Start!$K$2:$L$22,2,0)","v":2},{"$f":"VLOOKUP(Input!F312,Start!$K$2:$L$22,2,0)","v":2},{"$f":"VLOOKUP(Input!G312,Start!$K$2:$L$22,2,0)","v":2},{"$f":"VLOOKUP(Input!H312,Start!$K$2:$L$22,2,0)","v":2},{"$f":"VLOOKUP(Input!I312,Start!$K$2:$L$22,2,0)","v":2},{"$f":"VLOOKUP(Input!J312,Start!$K$2:$L$22,2,0)","v":2},{"$f":"VLOOKUP(Input!K312,Start!$K$2:$L$22,2,0)","v":2},{"$f":"VLOOKUP(Input!L312,Start!$K$2:$L$22,2,0)","v":2},{"$f":"VLOOKUP(Input!M312,Start!$K$2:$L$22,2,0)","v":2},"MACD_TF=2||0||0||49153||N","MACD_TF=2||0||0||49153||N","MACD_TF=2||0||0||49153||N","MACD_TF=2||0||0||49153||N","MACD_TF=2||0||0||49153||N","MACD_TF=2||0||0||49153||N","MACD_TF=2||0||0||49153||N","MACD_TF=2||0||0||49153||N","MACD_TF=2||0||0||49153||N","MACD_TF=2||0||0||49153||N","MACD_TF=2||0||0||49153||N"]
["MACD_PeriodFast=12||12||1||120||N","MACD_PeriodFast=","||12||1||120||N","Fast period ",{"$f":"Input!C313","v":0},{"$f":"Input!D313","v":0},{"$f":"Input!E313","v":0},{"$f":"Input!F313","v":0},{"$f":"Input!G313","v":0},{"$f":"Input!H313","v":0},{"$f":"Input!I313","v":0},{"$f":"Input!J313","v":0},{"$f":"Input!K313","v":0},{"$f":"Input!L313","v":0},{"$f":"Input!M313","v":0},"MACD_PeriodFast=0||12||1||120||N","MACD_PeriodFast=0||12||1||120||N","MACD_PeriodFast=0||12||1||120||N","MACD_PeriodFast=0||12||1||120||N","MACD_PeriodFast=0||12||1||120||N","MACD_PeriodFast=0||12||1||120||N","MACD_PeriodFast=0||12||1||120||N","MACD_PeriodFast=0||12||1||120||N","MACD_PeriodFast=0||12||1||120||N","MACD_PeriodFast=0||12||1||120||N","MACD_PeriodFast=0||12||1||120||N"]
["MACD_FastMA_Method=1||0||0||9||N","MACD_FastMA_Method=","||0||0||9||N","Fast MA method ",{"$f":"VLOOKUP(Input!C314,Start!$BI$2:$BJ$10,2,0)","v":1},{"$f":"VLOOKUP(Input!D314,Start!$BI$2:$BJ$10,2,0)","v":4},{"$f":"VLOOKUP(Input!E314,Start!$BI$2:$BJ$10,2,0)","v":1},{"$f":"VLOOKUP(Input!F314,Start!$BI$2:$BJ$10,2,0)","v":1},{"$f":"VLOOKUP(Input!G314,Start!$BI$2:$BJ$10,2,0)","v":1},{"$f":"VLOOKUP(Input!H314,Start!$BI$2:$BJ$10,2,0)","v":1},{"$f":"VLOOKUP(Input!I314,Start!$BI$2:$BJ$10,2,0)","v":1},{"$f":"VLOOKUP(Input!J314,Start!$BI$2:$BJ$10,2,0)","v":1},{"$f":"VLOOKUP(Input!K314,Start!$BI$2:$BJ$10,2,0)","v":1},{"$f":"VLOOKUP(Input!L314,Start!$BI$2:$BJ$10,2,0)","v":1},{"$f":"VLOOKUP(Input!M314,Start!$BI$2:$BJ$10,2,0)","v":1},"MACD_FastMA_Method=1||0||0||9||N","MACD_FastMA_Method=4||0||0||9||N","MACD_FastMA_Method=1||0||0||9||N","MACD_FastMA_Method=1||0||0||9||N","MACD_FastMA_Method=1||0||0||9||N","MACD_FastMA_Method=1||0||0||9||N","MACD_FastMA_Method=1||0||0||9||N","MACD_FastMA_Method=1||0||0||9||N","MACD_FastMA_Method=1||0||0||9||N","MACD_FastMA_Method=1||0||0||9||N","MACD_FastMA_Method=1||0||0||9||N"]
["MACD_PeriodSlow=27||27||1||270||N","MACD_PeriodSlow=","||27||1||270||N","Slow period ",{"$f":"Input!C315","v":0},{"$f":"Input!D315","v":0},{"$f":"Input!E315","v":0},{"$f":"Input!F315","v":0},{"$f":"Input!G315","v":0},{"$f":"Input!H315","v":0},{"$f":"Input!I315","v":0},{"$f":"Input!J315","v":0},{"$f":"Input!K315","v":0},{"$f":"Input!L315","v":0},{"$f":"Input!M315","v":0},"MACD_PeriodSlow=0||27||1||270||N","MACD_PeriodSlow=0||27||1||270||N","MACD_PeriodSlow=0||27||1||270||N","MACD_PeriodSlow=0||27||1||270||N","MACD_PeriodSlow=0||27||1||270||N","MACD_PeriodSlow=0||27||1||270||N","MACD_PeriodSlow=0||27||1||270||N","MACD_PeriodSlow=0||27||1||270||N","MACD_PeriodSlow=0||27||1||270||N","MACD_PeriodSlow=0||27||1||270||N","MACD_PeriodSlow=0||27||1||270||N"]
["MACD_SlowMA_Method=1||0||0||9||N","MACD_SlowMA_Method=","||0||0||9||N","Slow MA method ",{"$f":"VLOOKUP(Input!C316,Start!$BI$2:$BJ$10,2,0)","v":1},{"$f":"VLOOKUP(Input!D316,Start!$BI$2:$BJ$10,2,0)","v":8},{"$f":"VLOOKUP(Input!E316,Start!$BI$2:$BJ$10,2,0)","v":1},{"$f":"VLOOKUP(Input!F316,Start!$BI$2:$BJ$10,2,0)","v":1},{"$f":"VLOOKUP(Input!G316,Start!$BI$2:$BJ$10,2,0)","v":1},{"$f":"VLOOKUP(Input!H316,Start!$BI$2:$BJ$10,2,0)","v":1},{"$f":"VLOOKUP(Input!I316,Start!$BI$2:$BJ$10,2,0)","v":1},{"$f":"VLOOKUP(Input!J316,Start!$BI$2:$BJ$10,2,0)","v":1},{"$f":"VLOOKUP(Input!K316,Start!$BI$2:$BJ$10,2,0)","v":1},{"$f":"VLOOKUP(Input!L316,Start!$BI$2:$BJ$10,2,0)","v":1},{"$f":"VLOOKUP(Input!M316,Start!$BI$2:$BJ$10,2,0)","v":1},"MACD_SlowMA_Method=1||0||0||9||N","MACD_SlowMA_Method=8||0||0||9||N","MACD_SlowMA_Method=1||0||0||9||N","MACD_SlowMA_Method=1||0||0||9||N","MACD_SlowMA_Method=1||0||0||9||N","MACD_SlowMA_Method=1||0||0||9||N","MACD_SlowMA_Method=1||0||0||9||N","MACD_SlowMA_Method=1||0||0||9||N","MACD_SlowMA_Method=1||0||0||9||N","MACD_SlowMA_Method=1||0||0||9||N","MACD_SlowMA_Method=1||0||0||9||N"]
["MACD_PeriodSignal=9||9||1||90||N","MACD_PeriodSignal=","||9||1||90||N","Signal period ",{"$f":"Input!C317","v":0},{"$f":"Input!D317","v":0},{"$f":"Input!E317","v":0},{"$f":"Input!F317","v":0},{"$f":"Input!G317","v":0},{"$f":"Input!H317","v":0},{"$f":"Input!I317","v":0},{"$f":"Input!J317","v":0},{"$f":"Input!K317","v":0},{"$f":"Input!L317","v":0},{"$f":"Input!M317","v":0},"MACD_PeriodSignal=0||9||1||90||N","MACD_PeriodSignal=0||9||1||90||N","MACD_PeriodSignal=0||9||1||90||N","MACD_PeriodSignal=0||9||1||90||N","MACD_PeriodSignal=0||9||1||90||N","MACD_PeriodSignal=0||9||1||90||N","MACD_PeriodSignal=0||9||1||90||N","MACD_PeriodSignal=0||9||1||90||N","MACD_PeriodSignal=0||9||1||90||N","MACD_PeriodSignal=0||9||1||90||N","MACD_PeriodSignal=0||9||1||90||N"]
["MACD_SignalMA_Method=0||0||0||3||N","MACD_SignalMA_Method=","||0||0||3||N","Signal MA method ",{"$f":"VLOOKUP(Input!C318,Start!$AW$2:$AX$5,2,0)","v":1},{"$f":"VLOOKUP(Input!D318,Start!$AW$2:$AX$5,2,0)","v":1},{"$f":"VLOOKUP(Input!E318,Start!$AW$2:$AX$5,2,0)","v":1},{"$f":"VLOOKUP(Input!F318,Start!$AW$2:$AX$5,2,0)","v":1},{"$f":"VLOOKUP(Input!G318,Start!$AW$2:$AX$5,2,0)","v":1},{"$f":"VLOOKUP(Input!H318,Start!$AW$2:$AX$5,2,0)","v":1},{"$f":"VLOOKUP(Input!I318,Start!$AW$2:$AX$5,2,0)","v":1},{"$f":"VLOOKUP(Input!J318,Start!$AW$2:$AX$5,2,0)","v":1},{"$f":"VLOOKUP(Input!K318,Start!$AW$2:$AX$5,2,0)","v":1},{"$f":"VLOOKUP(Input!L318,Start!$AW$2:$AX$5,2,0)","v":1},{"$f":"VLOOKUP(Input!M318,Start!$AW$2:$AX$5,2,0)","v":1},"MACD_SignalMA_Method=1||0||0||3||N","MACD_SignalMA_Method=1||0||0||3||N","MACD_SignalMA_Method=1||0||0||3||N","MACD_SignalMA_Method=1||0||0||3||N","MACD_SignalMA_Method=1||0||0||3||N","MACD_SignalMA_Method=1||0||0||3||N","MACD_SignalMA_Method=1||0||0||3||N","MACD_SignalMA_Method=1||0||0||3||N","MACD_SignalMA_Method=1||0||0||3||N","MACD_SignalMA_Method=1||0||0||3||N","MACD_SignalMA_Method=1||0||0||3||N"]
["MACD_Price=1||1||0||7||N","MACD_Price=","||1||0||7||N","Applied price ",{"$f":"VLOOKUP(Input!C319,Start!$BC$2:$BD$9,2,0)","v":1},{"$f":"VLOOKUP(Input!D319,Start!$BC$2:$BD$9,2,0)","v":1},{"$f":"VLOOKUP(Input!E319,Start!$BC$2:$BD$9,2,0)","v":1},{"$f":"VLOOKUP(Input!F319,Start!$BC$2:$BD$9,2,0)","v":1},{"$f":"VLOOKUP(Input!G319,Start!$BC$2:$BD$9,2,0)","v":1},{"$f":"VLOOKUP(Input!H319,Start!$BC$2:$BD$9,2,0)","v":1},{"$f":"VLOOKUP(Input!I319,Start!$BC$2:$BD$9,2,0)","v":1},{"$f":"VLOOKUP(Input!J319,Start!$BC$2:$BD$9,2,0)","v":1},{"$f":"VLOOKUP(Input!K319,Start!$BC$2:$BD$9,2,0)","v":1},{"$f":"VLOOKUP(Input!L319,Start!$BC$2:$BD$9,2,0)","v":1},{"$f":"VLOOKUP(Input!M319,Start!$BC$2:$BD$9,2,0)","v":1},"MACD_Price=1||1||0||7||N","MACD_Price=1||1||0||7||N","MACD_Price=1||1||0||7||N","MACD_Price=1||1||0||7||N","MACD_Price=1||1||0||7||N","MACD_Price=1||1||0||7||N","MACD_Price=1||1||0||7||N","MACD_Price=1||1||0||7||N","MACD_Price=1||1||0||7||N","MACD_Price=1||1||0||7||N","MACD_Price=1||1||0||7||N"]
["MACD_JMA_Phase=0||0||1||10||N","MACD_JMA_Phase=","||0||1||10||N","JMA Phase ",{"$f":"Input!C320","v":0},{"$f":"Input!D320","v":0},{"$f":"Input!E320","v":0},{"$f":"Input!F320","v":0},{"$f":"Input!G320","v":0},{"$f":"Input!H320","v":0},{"$f":"Input!I320","v":0},{"$f":"Input!J320","v":0},{"$f":"Input!K320","v":0},{"$f":"Input!L320","v":0},{"$f":"Input!M320","v":0},"MACD_JMA_Phase=0||0||1||10||N","MACD_JMA_Phase=0||0||1||10||N","MACD_JMA_Phase=0||0||1||10||N","MACD_JMA_Phase=0||0||1||10||N","MACD_JMA_Phase=0||0||1||10||N","MACD_JMA_Phase=0||0||1||10||N","MACD_JMA_Phase=0||0||1||10||N","MACD_JMA_Phase=0||0||1||10||N","MACD_JMA_Phase=0||0||1||10||N","MACD_JMA_Phase=0||0||1||10||N","MACD_JMA_Phase=0||0||1||10||N"]
["MACD_Reverse=false||false||0||true||N","MACD_Reverse=","||false||0||true||N","Reverse mode ",{"$f":"VLOOKUP(Input!C321,Start!$G$2:$H$3,2,0)","v":false},{"$f":"VLOOKUP(Input!D321,Start!$G$2:$H$3,2,0)","v":false},{"$f":"VLOOKUP(Input!E321,Start!$G$2:$H$3,2,0)","v":false},{"$f":"VLOOKUP(Input!F321,Start!$G$2:$H$3,2,0)","v":false},{"$f":"VLOOKUP(Input!G321,Start!$G$2:$H$3,2,0)","v":false},{"$f":"VLOOKUP(Input!H321,Start!$G$2:$H$3,2,0)","v":false},{"$f":"VLOOKUP(Input!I321,Start!$G$2:$H$3,2,0)","v":false},{"$f":"VLOOKUP(Input!J321,Start!$G$2:$H$3,2,0)","v":false},{"$f":"VLOOKUP(Input!K321,Start!$G$2:$H$3,2,0)","v":false},{"$f":"VLOOKUP(Input!L321,Start!$G$2:$H$3,2,0)","v":false},{"$f":"VLOOKUP(Input!M321,Start!$G$2:$H$3,2,0)","v":false},"MACD_Reverse=FALSE||false||0||true||N","MACD_Reverse=FALSE||false||0||true||N","MACD_Reverse=FALSE||false||0||true||N","MACD_Reverse=FALSE||false||0||true||N","MACD_Reverse=FALSE||false||0||true||N","MACD_Reverse=FALSE||false||0||true||N","MACD_Reverse=FALSE||false||0||true||N","MACD_Reverse=FALSE||false||0||true||N","MACD_Reverse=FALSE||false||0||true||N","MACD_Reverse=FALSE||false||0||true||N","MACD_Reverse=FALSE||false||0||true||N"]
["MACD_UseClosedBars=true||false||0||true||N","MACD_UseClosedBars=","||false||0||true||N","Use closed bars only ",{"$f":"VLOOKUP(Input!C322,Start!$G$2:$H$3,2,0)","v":false},{"$f":"VLOOKUP(Input!D322,Start!$G$2:$H$3,2,0)","v":false},{"$f":"VLOOKUP(Input!E322,Start!$G$2:$H$3,2,0)","v":false},{"$f":"VLOOKUP(Input!F322,Start!$G$2:$H$3,2,0)","v":false},{"$f":"VLOOKUP(Input!G322,Start!$G$2:$H$3,2,0)","v":false},{"$f":"VLOOKUP(Input!H322,Start!$G$2:$H$3,2,0)","v":false},{"$f":"VLOOKUP(Input!I322,Start!$G$2:$H$3,2,0)","v":false},{"$f":"VLOOKUP(Input!J322,Start!$G$2:$H$3,2,0)","v":false},{"$f":"VLOOKUP(Input!K322,Start!$G$2:$H$3,2,0)","v":false},{"$f":"VLOOKUP(Input!L322,Start!$G$2:$H$3,2,0)","v":false},{"$f":"VLOOKUP(Input!M322,Start!$G$2:$H$3,2,0)","v":false},"MACD_UseClosedBars=FALSE||false||0||true||N","MACD_UseClosedBars=FALSE||false||0||true||N","MACD_UseClosedBars=FALSE||false||0||true||N","MACD_UseClosedBars=FALSE||false||0||true||N","MACD_UseClosedBars=FALSE||false||0||true||N","MACD_UseClosedBars=FALSE||false||0||true||N","MACD_UseClosedBars=FALSE||false||0||true||N","MACD_UseClosedBars=FALSE||false||0||true||N","MACD_UseClosedBars=FALSE||false||0||true||N","MACD_UseClosedBars=FALSE||false||0||true||N","MACD_UseClosedBars=FALSE||false||0||true||N"]
["MACD_OpenOn=0||0||0||3||N","MACD_OpenOn=","||0||0||3||N","Open on ",{"$f":"VLOOKUP(Input!C323,Start!$AK$2:$AL$5,2,0)","v":0},{"$f":"VLOOKUP(Input!D323,Start!$AK$2:$AL$5,2,0)","v":0},{"$f":"VLOOKUP(Input!E323,Start!$AK$2:$AL$5,2,0)","v":0},{"$f":"VLOOKUP(Input!F323,Start!$AK$2:$AL$5,2,0)","v":0},{"$f":"VLOOKUP(Input!G323,Start!$AK$2:$AL$5,2,0)","v":0},{"$f":"VLOOKUP(Input!H323,Start!$AK$2:$AL$5,2,0)","v":0},{"$f":"VLOOKUP(Input!I323,Start!$AK$2:$AL$5,2,0)","v":0},{"$f":"VLOOKUP(Input!J323,Start!$AK$2:$AL$5,2,0)","v":0},{"$f":"VLOOKUP(Input!K323,Start!$AK$2:$AL$5,2,0)","v":0},{"$f":"VLOOKUP(Input!L323,Start!$AK$2:$AL$5,2,0)","v":0},{"$f":"VLOOKUP(Input!M323,Start!$AK$2:$AL$5,2,0)","v":0},"MACD_OpenOn=0||0||0||3||N","MACD_OpenOn=0||0||0||3||N","MACD_OpenOn=0||0||0||3||N","MACD_OpenOn=0||0||0||3||N","MACD_OpenOn=0||0||0||3||N","MACD_OpenOn=0||0||0||3||N","MACD_OpenOn=0||0||0||3||N","MACD_OpenOn=0||0||0||3||N","MACD_OpenOn=0||0||0||3||N","MACD_OpenOn=0||0||0||3||N","MACD_OpenOn=0||0||0||3||N"]
["MACD_MartinOn=0||0||0||3||N","MACD_MartinOn=","||0||0||3||N","Open martin on ",{"$f":"VLOOKUP(Input!C324,Start!$AK$2:$AL$5,2,0)","v":1},{"$f":"VLOOKUP(Input!D324,Start!$AK$2:$AL$5,2,0)","v":1},{"$f":"VLOOKUP(Input!E324,Start!$AK$2:$AL$5,2,0)","v":1},{"$f":"VLOOKUP(Input!F324,Start!$AK$2:$AL$5,2,0)","v":1},{"$f":"VLOOKUP(Input!G324,Start!$AK$2:$AL$5,2,0)","v":1},{"$f":"VLOOKUP(Input!H324,Start!$AK$2:$AL$5,2,0)","v":1},{"$f":"VLOOKUP(Input!I324,Start!$AK$2:$AL$5,2,0)","v":1},{"$f":"VLOOKUP(Input!J324,Start!$AK$2:$AL$5,2,0)","v":1},{"$f":"VLOOKUP(Input!K324,Start!$AK$2:$AL$5,2,0)","v":1},{"$f":"VLOOKUP(Input!L324,Start!$AK$2:$AL$5,2,0)","v":1},{"$f":"VLOOKUP(Input!M324,Start!$AK$2:$AL$5,2,0)","v":1},"MACD_MartinOn=1||0||0||3||N","MACD_MartinOn=1||0||0||3||N","MACD_MartinOn=1||0||0||3||N","MACD_MartinOn=1||0||0||3||N","MACD_MartinOn=1||0||0||3||N","MACD_MartinOn=1||0||0||3||N","MACD_MartinOn=1||0||0||3||N","MACD_MartinOn=1||0||0||3||N","MACD_MartinOn=1||0||0||3||N","MACD_MartinOn=1||0||0||3||N","MACD_MartinOn=1||0||0||3||N"]
["MACD_HedgeOn=0||0||0||3||N","MACD_HedgeOn=","||0||0||3||N","Open hedge on ",{"$f":"VLOOKUP(Input!C325,Start!$AK$2:$AL$5,2,0)","v":1},{"$f":"VLOOKUP(Input!D325,Start!$AK$2:$AL$5,2,0)","v":1},{"$f":"VLOOKUP(Input!E325,Start!$AK$2:$AL$5,2,0)","v":1},{"$f":"VLOOKUP(Input!F325,Start!$AK$2:$AL$5,2,0)","v":1},{"$f":"VLOOKUP(Input!G325,Start!$AK$2:$AL$5,2,0)","v":1},{"$f":"VLOOKUP(Input!H325,Start!$AK$2:$AL$5,2,0)","v":1},{"$f":"VLOOKUP(Input!I325,Start!$AK$2:$AL$5,2,0)","v":1},{"$f":"VLOOKUP(Input!J325,Start!$AK$2:$AL$5,2,0)","v":1},{"$f":"VLOOKUP(Input!K325,Start!$AK$2:$AL$5,2,0)","v":1},{"$f":"VLOOKUP(Input!L325,Start!$AK$2:$AL$5,2,0)","v":1},{"$f":"VLOOKUP(Input!M325,Start!$AK$2:$AL$5,2,0)","v":1},"MACD_HedgeOn=1||0||0||3||N","MACD_HedgeOn=1||0||0||3||N","MACD_HedgeOn=1||0||0||3||N","MACD_HedgeOn=1||0||0||3||N","MACD_HedgeOn=1||0||0||3||N","MACD_HedgeOn=1||0||0||3||N","MACD_HedgeOn=1||0||0||3||N","MACD_HedgeOn=1||0||0||3||N","MACD_HedgeOn=1||0||0||3||N","MACD_HedgeOn=1||0||0||3||N","MACD_HedgeOn=1||0||0||3||N"]
["MACD_CloseOn=0||0||0||4||N","MACD_CloseOn=","||0||0||4||N","Close on ",{"$f":"VLOOKUP(Input!C326,Start!$AM$2:$AN$6,2,0)","v":2},{"$f":"VLOOKUP(Input!D326,Start!$AM$2:$AN$6,2,0)","v":2},{"$f":"VLOOKUP(Input!E326,Start!$AM$2:$AN$6,2,0)","v":2},{"$f":"VLOOKUP(Input!F326,Start!$AM$2:$AN$6,2,0)","v":2},{"$f":"VLOOKUP(Input!G326,Start!$AM$2:$AN$6,2,0)","v":2},{"$f":"VLOOKUP(Input!H326,Start!$AM$2:$AN$6,2,0)","v":2},{"$f":"VLOOKUP(Input!I326,Start!$AM$2:$AN$6,2,0)","v":2},{"$f":"VLOOKUP(Input!J326,Start!$AM$2:$AN$6,2,0)","v":2},{"$f":"VLOOKUP(Input!K326,Start!$AM$2:$AN$6,2,0)","v":2},{"$f":"VLOOKUP(Input!L326,Start!$AM$2:$AN$6,2,0)","v":2},{"$f":"VLOOKUP(Input!M326,Start!$AM$2:$AN$6,2,0)","v":2},"MACD_CloseOn=2||0||0||4||N","MACD_CloseOn=2||0||0||4||N","MACD_CloseOn=2||0||0||4||N","MACD_CloseOn=2||0||0||4||N","MACD_CloseOn=2||0||0||4||N","MACD_CloseOn=2||0||0||4||N","MACD_CloseOn=2||0||0||4||N","MACD_CloseOn=2||0||0||4||N","MACD_CloseOn=2||0||0||4||N","MACD_CloseOn=2||0||0||4||N","MACD_CloseOn=2||0||0||4||N"]
["MACD_PartialCloseOn=0||0||0||3||N","MACD_PartialCloseOn=","||0||0||3||N","Partial close on ",{"$f":"VLOOKUP(Input!C327,Start!$AO$2:$AP$4,2,0)","v":1},{"$f":"VLOOKUP(Input!D327,Start!$AO$2:$AP$4,2,0)","v":1},{"$f":"VLOOKUP(Input!E327,Start!$AO$2:$AP$4,2,0)","v":1},{"$f":"VLOOKUP(Input!F327,Start!$AO$2:$AP$4,2,0)","v":1},{"$f":"VLOOKUP(Input!G327,Start!$AO$2:$AP$4,2,0)","v":1},{"$f":"VLOOKUP(Input!H327,Start!$AO$2:$AP$4,2,0)","v":1},{"$f":"VLOOKUP(Input!I327,Start!$AO$2:$AP$4,2,0)","v":1},{"$f":"VLOOKUP(Input!J327,Start!$AO$2:$AP$4,2,0)","v":1},{"$f":"VLOOKUP(Input!K327,Start!$AO$2:$AP$4,2,0)","v":1},{"$f":"VLOOKUP(Input!L327,Start!$AO$2:$AP$4,2,0)","v":1},{"$f":"VLOOKUP(Input!M327,Start!$AO$2:$AP$4,2,0)","v":1},"MACD_PartialCloseOn=1||0||0||3||N","MACD_PartialCloseOn=1||0||0||3||N","MACD_PartialCloseOn=1||0||0||3||N","MACD_PartialCloseOn=1||0||0||3||N","MACD_PartialCloseOn=1||0||0||3||N","MACD_PartialCloseOn=1||0||0||3||N","MACD_PartialCloseOn=1||0||0||3||N","MACD_PartialCloseOn=1||0||0||3||N","MACD_PartialCloseOn=1||0||0||3||N","MACD_PartialCloseOn=1||0||0||3||N","MACD_PartialCloseOn=1||0||0||3||N"]
["; MACD #2 properties","; MACD #2 properties","; MACD #2 properties","MACD #2 properties ",null,null,null,null,null,null,null,null,null,null,null,{"$f":"$A328","v":"; MACD #2 properties"},"; MACD #2 properties","; MACD #2 properties","; MACD #2 properties","; MACD #2 properties","; MACD #2 properties","; MACD #2 properties","; MACD #2 properties","; MACD #2 properties","; MACD #2 properties","; MACD #2 properties"]
["MACD2_Properties====================================================================================","MACD2_Properties====================================================================================","MACD2_Properties====================================================================================","MACD properties: ",null,null,null,null,null,null,null,null,null,null,null,"MACD2_Properties====================================================================================","MACD2_Properties====================================================================================","MACD2_Properties====================================================================================","MACD2_Properties====================================================================================","MACD2_Properties====================================================================================","MACD2_Properties====================================================================================","MACD2_Properties====================================================================================","MACD2_Properties====================================================================================","MACD2_Properties====================================================================================","MACD2_Properties====================================================================================","MACD2_Properties===================================================================================="]
["MACD2_Type=0||0||0||8||N",{"$f":"_xlfn.CONCAT(LEFT(TRIM(A330),FIND(\"=\",TRIM(A330))-1),\"=\")","v":"MACD2_Type="},{"$f":"_xlfn.CONCAT(\"|\",RIGHT(TRIM(A330),LEN(TRIM(A330))-SEARCH(\"|\",TRIM(A330))))","v":"||0||0||8||N"},"Type ",null,null,null,null,null,null,null,null,null,null,null,{"$f":"_xlfn.CONCAT(B330,E330,C330)","v":"MACD2_Type=||0||0||8||N"},"||0||0||8||NType ","Type ","","","","","","","",""]
["MACD2_TF=0||0||0||49153||N","MACD2_TF=","||0||0||49153||N","TimeFrame ",{"$f":"VLOOKUP(Input!C331,Start!$K$2:$L$22,2,0)","v":2},{"$f":"VLOOKUP(Input!D331,Start!$K$2:$L$22,2,0)","v":2},{"$f":"VLOOKUP(Input!E331,Start!$K$2:$L$22,2,0)","v":2},{"$f":"VLOOKUP(Input!F331,Start!$K$2:$L$22,2,0)","v":2},{"$f":"VLOOKUP(Input!G331,Start!$K$2:$L$22,2,0)","v":2},{"$f":"VLOOKUP(Input!H331,Start!$K$2:$L$22,2,0)","v":2},{"$f":"VLOOKUP(Input!I331,Start!$K$2:$L$22,2,0)","v":2},{"$f":"VLOOKUP(Input!J331,Start!$K$2:$L$22,2,0)","v":2},{"$f":"VLOOKUP(Input!K331,Start!$K$2:$L$22,2,0)","v":2},{"$f":"VLOOKUP(Input!L331,Start!$K$2:$L$22,2,0)","v":2},{"$f":"VLOOKUP(Input!M331,Start!$K$2:$L$22,2,0)","v":2},{"$f":"_xlfn.CONCAT($B331,E331,$C331)","v":"MACD2_TF=2||0||0||49153||N"},"MACD2_TF=2||0||0||49153||N","MACD2_TF=2||0||0||49153||N","MACD2_TF=2||0||0||49153||N","MACD2_TF=2||0||0||49153||N","MACD2_TF=2||0||0||49153||N","MACD2_TF=2||0||0||49153||N","MACD2_TF=2||0||0||49153||N","MACD2_TF=2||0||0||49153||N","MACD2_TF=2||0||0||49153||N","MACD2_TF=2||0||0||49153||N"]
["MACD2_PeriodFast=12||12||1||120||N","MACD2_PeriodFast=","||12||1||120||N","Fast period ",{"$f":"Input!C332","v":0},{"$f":"Input!D332","v":0},{"$f":"Input!E332","v":0},{"$f":"Input!F332","v":0},{"$f":"Input!G332","v":0},{"$f":"Input!H332","v":0},{"$f":"Input!I332","v":0},{"$f":"Input!J332","v":0},{"$f":"Input!K332","v":0},{"$f":"Input!L332","v":0},{"$f":"Input!M332","v":0},"MACD2_PeriodFast=0||12||1||120||N","MACD2_PeriodFast=0||12||1||120||N","MACD2_PeriodFast=0||12||1||120||N","MACD2_PeriodFast=0||12||1||120||N","MACD2_PeriodFast=0||12||1||120||N","MACD2_PeriodFast=0||12||1||120||N","MACD2_PeriodFast=0||12||1||120||N","MACD2_PeriodFast=0||12||1||120||N","MACD2_PeriodFast=0||12||1||120||N","MACD2_PeriodFast=0||12||1||120||N","MACD2_PeriodFast=0||12||1||120||N"]
["MACD2_FastMA_Method=1||0||0||9||N","MACD2_FastMA_Method=","||0||0||9||N","Fast MA method ",{"$f":"VLOOKUP(Input!C333,Start!$BI$2:$BJ$10,2,0)","v":1},{"$f":"VLOOKUP(Input!D333,Start!$BI$2:$BJ$10,2,0)","v":1},{"$f":"VLOOKUP(Input!E333,Start!$BI$2:$BJ$10,2,0)","v":1},{"$f":"VLOOKUP(Input!F333,Start!$BI$2:$BJ$10,2,0)","v":1},{"$f":"VLOOKUP(Input!G333,Start!$BI$2:$BJ$10,2,0)","v":1},{"$f":"VLOOKUP(Input!H333,Start!$BI$2:$BJ$10,2,0)","v":1},{"$f":"VLOOKUP(Input!I333,Start!$BI$2:$BJ$10,2,0)","v":1},{"$f":"VLOOKUP(Input!J333,Start!$BI$2:$BJ$10,2,0)","v":1},{"$f":"VLOOKUP(Input!K333,Start!$BI$2:$BJ$10,2,0)","v":1},{"$f":"VLOOKUP(Input!L333,Start!$BI$2:$BJ$10,2,0)","v":1},{"$f":"VLOOKUP(Input!M333,Start!$BI$2:$BJ$10,2,0)","v":1},"MACD2_FastMA_Method=1||0||0||9||N","MACD2_FastMA_Method=1||0||0||9||N","MACD2_FastMA_Method=1||0||0||9||N","MACD2_FastMA_Method=1||0||0||9||N","MACD2_FastMA_Method=1||0||0||9||N","MACD2_FastMA_Method=1||0||0||9||N","MACD2_FastMA_Method=1||0||0||9||N","MACD2_FastMA_Method=1||0||0||9||N","MACD2_FastMA_Method=1||0||0||9||N","MACD2_FastMA_Method=1||0||0||9||N","MACD2_FastMA_Method=1||0||0||9||N"]
["MACD2_PeriodSlow=27||27||1||270||N","MACD2_PeriodSlow=","||27||1||270||N","Slow period ",{"$f":"Input!C334","v":0},{"$f":"Input!D334","v":0},{"$f":"Input!E334","v":0},{"$f":"Input!F334","v":0},{"$f":"Input!G334","v":0},{"$f":"Input!H334","v":0},{"$f":"Input!I334","v":0},{"$f":"Input!J334","v":0},{"$f":"Input!K334","v":0},{"$f":"Input!L334","v":0},{"$f":"Input!M334","v":0},"MACD2_PeriodSlow=0||27||1||270||N","MACD2_PeriodSlow=0||27||1||270||N","MACD2_PeriodSlow=0||27||1||270||N","MACD2_PeriodSlow=0||27||1||270||N","MACD2_PeriodSlow=0||27||1||270||N","MACD2_PeriodSlow=0||27||1||270||N","MACD2_PeriodSlow=0||27||1||270||N","MACD2_PeriodSlow=0||27||1||270||N","MACD2_PeriodSlow=0||27||1||270||N","MACD2_PeriodSlow=0||27||1||270||N","MACD2_PeriodSlow=0||27||1||270||N"]
["MACD2_SlowMA_Method=1||0||0||9||N","MACD2_SlowMA_Method=","||0||0||9||N","Slow MA method ",{"$f":"VLOOKUP(Input!C335,Start!$BI$2:$BJ$10,2,0)","v":1},{"$f":"VLOOKUP(Input!D335,Start!$BI$2:$BJ$10,2,0)","v":1},{"$f":"VLOOKUP(Input!E335,Start!$BI$2:$BJ$10,2,0)","v":1},{"$f":"VLOOKUP(Input!F335,Start!$BI$2:$BJ$10,2,0)","v":1},{"$f":"VLOOKUP(Input!G335,Start!$BI$2:$BJ$10,2,0)","v":1},{"$f":"VLOOKUP(Input!H335,Start!$BI$2:$BJ$10,2,0)","v":1},{"$f":"VLOOKUP(Input!I335,Start!$BI$2:$BJ$10,2,0)","v":1},{"$f":"VLOOKUP(Input!J335,Start!$BI$2:$BJ$10,2,0)","v":1},{"$f":"VLOOKUP(Input!K335,Start!$BI$2:$BJ$10,2,0)","v":1},{"$f":"VLOOKUP(Input!L335,Start!$BI$2:$BJ$10,2,0)","v":1},{"$f":"VLOOKUP(Input!M335,Start!$BI$2:$BJ$10,2,0)","v":1},"MACD2_SlowMA_Method=1||0||0||9||N","MACD2_SlowMA_Method=1||0||0||9||N","MACD2_SlowMA_Method=1||0||0||9||N","MACD2_SlowMA_Method=1||0||0||9||N","MACD2_SlowMA_Method=1||0||0||9||N","MACD2_SlowMA_Method=1||0||0||9||N","MACD2_SlowMA_Method=1||0||0||9||N","MACD2_SlowMA_Method=1||0||0||9||N","MACD2_SlowMA_Method=1||0||0||9||N","MACD2_SlowMA_Method=1||0||0||9||N","MACD2_SlowMA_Method=1||0||0||9||N"]
["MACD2_PeriodSignal=9||9||1||90||N","MACD2_PeriodSignal=","||9||1||90||N","Signal period ",{"$f":"Input!C336","v":0},{"$f":"Input!D336","v":0},{"$f":"Input!E336","v":0},{"$f":"Input!F336","v":0},{"$f":"Input!G336","v":0},{"$f":"Input!H336","v":0},{"$f":"Input!I336","v":0},{"$f":"Input!J336","v":0},{"$f":"Input!K336","v":0},{"$f":"Input!L336","v":0},{"$f":"Input!M336","v":0},"MACD2_PeriodSignal=0||9||1||90||N","MACD2_PeriodSignal=0||9||1||90||N","MACD2_PeriodSignal=0||9||1||90||N","MACD2_PeriodSignal=0||9||1||90||N","MACD2_PeriodSignal=0||9||1||90||N","MACD2_PeriodSignal=0||9||1||90||N","MACD2_PeriodSignal=0||9||1||90||N","MACD2_PeriodSignal=0||9||1||90||N","MACD2_PeriodSignal=0||9||1||90||N","MACD2_PeriodSignal=0||9||1||90||N","MACD2_PeriodSignal=0||9||1||90||N"]
["MACD2_SignalMA_Method=0||0||0||3||N","MACD2_SignalMA_Method=","||0||0||3||N","Signal MA method ",{"$f":"VLOOKUP(Input!C337,Start!$AW$2:$AX$5,2,0)","v":1},{"$f":"VLOOKUP(Input!D337,Start!$AW$2:$AX$5,2,0)","v":1},{"$f":"VLOOKUP(Input!E337,Start!$AW$2:$AX$5,2,0)","v":1},{"$f":"VLOOKUP(Input!F337,Start!$AW$2:$AX$5,2,0)","v":1},{"$f":"VLOOKUP(Input!G337,Start!$AW$2:$AX$5,2,0)","v":1},{"$f":"VLOOKUP(Input!H337,Start!$AW$2:$AX$5,2,0)","v":1},{"$f":"VLOOKUP(Input!I337,Start!$AW$2:$AX$5,2,0)","v":1},{"$f":"VLOOKUP(Input!J337,Start!$AW$2:$AX$5,2,0)","v":1},{"$f":"VLOOKUP(Input!K337,Start!$AW$2:$AX$5,2,0)","v":1},{"$f":"VLOOKUP(Input!L337,Start!$AW$2:$AX$5,2,0)","v":1},{"$f":"VLOOKUP(Input!M337,Start!$AW$2:$AX$5,2,0)","v":1},"MACD2_SignalMA_Method=1||0||0||3||N","MACD2_SignalMA_Method=1||0||0||3||N","MACD2_SignalMA_Method=1||0||0||3||N","MACD2_SignalMA_Method=1||0||0||3||N","MACD2_SignalMA_Method=1||0||0||3||N","MACD2_SignalMA_Method=1||0||0||3||N","MACD2_SignalMA_Method=1||0||0||3||N","MACD2_SignalMA_Method=1||0||0||3||N","MACD2_SignalMA_Method=1||0||0||3||N","MACD2_SignalMA_Method=1||0||0||3||N","MACD2_SignalMA_Method=1||0||0||3||N"]
["MACD2_Price=1||1||0||7||N","MACD2_Price=","||1||0||7||N","Applied price ",{"$f":"VLOOKUP(Input!C338,Start!$BC$2:$BD$9,2,0)","v":1},{"$f":"VLOOKUP(Input!D338,Start!$BC$2:$BD$9,2,0)","v":1},{"$f":"VLOOKUP(Input!E338,Start!$BC$2:$BD$9,2,0)","v":1},{"$f":"VLOOKUP(Input!F338,Start!$BC$2:$BD$9,2,0)","v":1},{"$f":"VLOOKUP(Input!G338,Start!$BC$2:$BD$9,2,0)","v":1},{"$f":"VLOOKUP(Input!H338,Start!$BC$2:$BD$9,2,0)","v":1},{"$f":"VLOOKUP(Input!I338,Start!$BC$2:$BD$9,2,0)","v":1},{"$f":"VLOOKUP(Input!J338,Start!$BC$2:$BD$9,2,0)","v":1},{"$f":"VLOOKUP(Input!K338,Start!$BC$2:$BD$9,2,0)","v":1},{"$f":"VLOOKUP(Input!L338,Start!$BC$2:$BD$9,2,0)","v":1},{"$f":"VLOOKUP(Input!M338,Start!$BC$2:$BD$9,2,0)","v":1},"MACD2_Price=1||1||0||7||N","MACD2_Price=1||1||0||7||N","MACD2_Price=1||1||0||7||N","MACD2_Price=1||1||0||7||N","MACD2_Price=1||1||0||7||N","MACD2_Price=1||1||0||7||N","MACD2_Price=1||1||0||7||N","MACD2_Price=1||1||0||7||N","MACD2_Price=1||1||0||7||N","MACD2_Price=1||1||0||7||N","MACD2_Price=1||1||0||7||N"]
["MACD2_JMA_Phase=0||0||1||10||N","MACD2_JMA_Phase=","||0||1||10||N","JMA Phase ",{"$f":"Input!C339","v":0},{"$f":"Input!D339","v":0},{"$f":"Input!E339","v":0},{"$f":"Input!F339","v":0},{"$f":"Input!G339","v":0},{"$f":"Input!H339","v":0},{"$f":"Input!I339","v":0},{"$f":"Input!J339","v":0},{"$f":"Input!K339","v":0},{"$f":"Input!L339","v":0},{"$f":"Input!M339","v":0},"MACD2_JMA_Phase=0||0||1||10||N","MACD2_JMA_Phase=0||0||1||10||N","MACD2_JMA_Phase=0||0||1||10||N","MACD2_JMA_Phase=0||0||1||10||N","MACD2_JMA_Phase=0||0||1||10||N","MACD2_JMA_Phase=0||0||1||10||N","MACD2_JMA_Phase=0||0||1||10||N","MACD2_JMA_Phase=0||0||1||10||N","MACD2_JMA_Phase=0||0||1||10||N","MACD2_JMA_Phase=0||0||1||10||N","MACD2_JMA_Phase=0||0||1||10||N"]
["MACD2_Reverse=false||false||0||true||N","MACD2_Reverse=","||false||0||true||N","Reverse mode ",{"$f":"VLOOKUP(Input!C340,Start!$G$2:$H$3,2,0)","v":false},{"$f":"VLOOKUP(Input!D340,Start!$G$2:$H$3,2,0)","v":false},{"$f":"VLOOKUP(Input!E340,Start!$G$2:$H$3,2,0)","v":false},{"$f":"VLOOKUP(Input!F340,Start!$G$2:$H$3,2,0)","v":false},{"$f":"VLOOKUP(Input!G340,Start!$G$2:$H$3,2,0)","v":false},{"$f":"VLOOKUP(Input!H340,Start!$G$2:$H$3,2,0)","v":false},{"$f":"VLOOKUP(Input!I340,Start!$G$2:$H$3,2,0)","v":false},{"$f":"VLOOKUP(Input!J340,Start!$G$2:$H$3,2,0)","v":false},{"$f":"VLOOKUP(Input!K340,Start!$G$2:$H$3,2,0)","v":false},{"$f":"VLOOKUP(Input!L340,Start!$G$2:$H$3,2,0)","v":false},{"$f":"VLOOKUP(Input!M340,Start!$G$2:$H$3,2,0)","v":false},"MACD2_Reverse=FALSE||false||0||true||N","MACD2_Reverse=FALSE||false||0||true||N","MACD2_Reverse=FALSE||false||0||true||N","MACD2_Reverse=FALSE||false||0||true||N","MACD2_Reverse=FALSE||false||0||true||N","MACD2_Reverse=FALSE||false||0||true||N","MACD2_Reverse=FALSE||false||0||true||N","MACD2_Reverse=FALSE||false||0||true||N","MACD2_Reverse=FALSE||false||0||true||N","MACD2_Reverse=FALSE||false||0||true||N","MACD2_Reverse=FALSE||false||0||true||N"]
["MACD2_UseClosedBars=true||false||0||true||N","MACD2_UseClosedBars=","||false||0||true||N","Use closed bars only ",{"$f":"VLOOKUP(Input!C341,Start!$G$2:$H$3,2,0)","v":false},{"$f":"VLOOKUP(Input!D341,Start!$G$2:$H$3,2,0)","v":false},{"$f":"VLOOKUP(Input!E341,Start!$G$2:$H$3,2,0)","v":false},{"$f":"VLOOKUP(Input!F341,Start!$G$2:$H$3,2,0)","v":false},{"$f":"VLOOKUP(Input!G341,Start!$G$2:$H$3,2,0)","v":false},{"$f":"VLOOKUP(Input!H341,Start!$G$2:$H$3,2,0)","v":false},{"$f":"VLOOKUP(Input!I341,Start!$G$2:$H$3,2,0)","v":false},{"$f":"VLOOKUP(Input!J341,Start!$G$2:$H$3,2,0)","v":false},{"$f":"VLOOKUP(Input!K341,Start!$G$2:$H$3,2,0)","v":false},{"$f":"VLOOKUP(Input!L341,Start!$G$2:$H$3,2,0)","v":false},{"$f":"VLOOKUP(Input!M341,Start!$G$2:$H$3,2,0)","v":false},"MACD2_UseClosedBars=FALSE||false||0||true||N","MACD2_UseClosedBars=FALSE||false||0||true||N","MACD2_UseClosedBars=FALSE||false||0||true||N","MACD2_UseClosedBars=FALSE||false||0||true||N","MACD2_UseClosedBars=FALSE||false||0||true||N","MACD2_UseClosedBars=FALSE||false||0||true||N","MACD2_UseClosedBars=FALSE||false||0||true||N","MACD2_UseClosedBars=FALSE||false||0||true||N","MACD2_UseClosedBars=FALSE||false||0||true||N","MACD2_UseClosedBars=FALSE||false||0||true||N","MACD2_UseClosedBars=FALSE||false||0||true||N"]
["MACD2_OpenOn=0||0||0||3||N","MACD2_OpenOn=","||0||0||3||N","Open on ",{"$f":"VLOOKUP(Input!C342,Start!$AK$2:$AL$5,2,0)","v":0},{"$f":"VLOOKUP(Input!D342,Start!$AK$2:$AL$5,2,0)","v":0},{"$f":"VLOOKUP(Input!E342,Start!$AK$2:$AL$5,2,0)","v":0},{"$f":"VLOOKUP(Input!F342,Start!$AK$2:$AL$5,2,0)","v":0},{"$f":"VLOOKUP(Input!G342,Start!$AK$2:$AL$5,2,0)","v":0},{"$f":"VLOOKUP(Input!H342,Start!$AK$2:$AL$5,2,0)","v":0},{"$f":"VLOOKUP(Input!I342,Start!$AK$2:$AL$5,2,0)","v":0},{"$f":"VLOOKUP(Input!J342,Start!$AK$2:$AL$5,2,0)","v":0},{"$f":"VLOOKUP(Input!K342,Start!$AK$2:$AL$5,2,0)","v":0},{"$f":"VLOOKUP(Input!L342,Start!$AK$2:$AL$5,2,0)","v":0},{"$f":"VLOOKUP(Input!M342,Start!$AK$2:$AL$5,2,0)","v":0},"MACD2_OpenOn=0||0||0||3||N","MACD2_OpenOn=0||0||0||3||N","MACD2_OpenOn=0||0||0||3||N","MACD2_OpenOn=0||0||0||3||N","MACD2_OpenOn=0||0||0||3||N","MACD2_OpenOn=0||0||0||3||N","MACD2_OpenOn=0||0||0||3||N","MACD2_OpenOn=0||0||0||3||N","MACD2_OpenOn=0||0||0||3||N","MACD2_OpenOn=0||0||0||3||N","MACD2_OpenOn=0||0||0||3||N"]
["MACD2_MartinOn=0||0||0||3||N","MACD2_MartinOn=","||0||0||3||N","Open martin on ",{"$f":"VLOOKUP(Input!C343,Start!$AK$2:$AL$5,2,0)","v":1},{"$f":"VLOOKUP(Input!D343,Start!$AK$2:$AL$5,2,0)","v":1},{"$f":"VLOOKUP(Input!E343,Start!$AK$2:$AL$5,2,0)","v":1},{"$f":"VLOOKUP(Input!F343,Start!$AK$2:$AL$5,2,0)","v":1},{"$f":"VLOOKUP(Input!G343,Start!$AK$2:$AL$5,2,0)","v":1},{"$f":"VLOOKUP(Input!H343,Start!$AK$2:$AL$5,2,0)","v":1},{"$f":"VLOOKUP(Input!I343,Start!$AK$2:$AL$5,2,0)","v":1},{"$f":"VLOOKUP(Input!J343,Start!$AK$2:$AL$5,2,0)","v":1},{"$f":"VLOOKUP(Input!K343,Start!$AK$2:$AL$5,2,0)","v":1},{"$f":"VLOOKUP(Input!L343,Start!$AK$2:$AL$5,2,0)","v":1},{"$f":"VLOOKUP(Input!M343,Start!$AK$2:$AL$5,2,0)","v":1},"MACD2_MartinOn=1||0||0||3||N","MACD2_MartinOn=1||0||0||3||N","MACD2_MartinOn=1||0||0||3||N","MACD2_MartinOn=1||0||0||3||N","MACD2_MartinOn=1||0||0||3||N","MACD2_MartinOn=1||0||0||3||N","MACD2_MartinOn=1||0||0||3||N","MACD2_MartinOn=1||0||0||3||N","MACD2_MartinOn=1||0||0||3||N","MACD2_MartinOn=1||0||0||3||N","MACD2_MartinOn=1||0||0||3||N"]
["MACD2_HedgeOn=0||0||0||3||N","MACD2_HedgeOn=","||0||0||3||N","Open hedge on ",{"$f":"VLOOKUP(Input!C344,Start!$AK$2:$AL$5,2,0)","v":1},{"$f":"VLOOKUP(Input!D344,Start!$AK$2:$AL$5,2,0)","v":1},{"$f":"VLOOKUP(Input!E344,Start!$AK$2:$AL$5,2,0)","v":1},{"$f":"VLOOKUP(Input!F344,Start!$AK$2:$AL$5,2,0)","v":1},{"$f":"VLOOKUP(Input!G344,Start!$AK$2:$AL$5,2,0)","v":1},{"$f":"VLOOKUP(Input!H344,Start!$AK$2:$AL$5,2,0)","v":1},{"$f":"VLOOKUP(Input!I344,Start!$AK$2:$AL$5,2,0)","v":1},{"$f":"VLOOKUP(Input!J344,Start!$AK$2:$AL$5,2,0)","v":1},{"$f":"VLOOKUP(Input!K344,Start!$AK$2:$AL$5,2,0)","v":1},{"$f":"VLOOKUP(Input!L344,Start!$AK$2:$AL$5,2,0)","v":1},{"$f":"VLOOKUP(Input!M344,Start!$AK$2:$AL$5,2,0)","v":1},"MACD2_HedgeOn=1||0||0||3||N","MACD2_HedgeOn=1||0||0||3||N","MACD2_HedgeOn=1||0||0||3||N","MACD2_HedgeOn=1||0||0||3||N","MACD2_HedgeOn=1||0||0||3||N","MACD2_HedgeOn=1||0||0||3||N","MACD2_HedgeOn=1||0||0||3||N","MACD2_HedgeOn=1||0||0||3||N","MACD2_HedgeOn=1||0||0||3||N","MACD2_HedgeOn=1||0||0||3||N","MACD2_HedgeOn=1||0||0||3||N"]
["MACD2_CloseOn=0||0||0||4||N","MACD2_CloseOn=","||0||0||4||N","Close on ",{"$f":"VLOOKUP(Input!C345,Start!$AM$2:$AN$6,2,0)","v":2},{"$f":"VLOOKUP(Input!D345,Start!$AM$2:$AN$6,2,0)","v":2},{"$f":"VLOOKUP(Input!E345,Start!$AM$2:$AN$6,2,0)","v":2},{"$f":"VLOOKUP(Input!F345,Start!$AM$2:$AN$6,2,0)","v":2},{"$f":"VLOOKUP(Input!G345,Start!$AM$2:$AN$6,2,0)","v":2},{"$f":"VLOOKUP(Input!H345,Start!$AM$2:$AN$6,2,0)","v":2},{"$f":"VLOOKUP(Input!I345,Start!$AM$2:$AN$6,2,0)","v":2},{"$f":"VLOOKUP(Input!J345,Start!$AM$2:$AN$6,2,0)","v":2},{"$f":"VLOOKUP(Input!K345,Start!$AM$2:$AN$6,2,0)","v":2},{"$f":"VLOOKUP(Input!L345,Start!$AM$2:$AN$6,2,0)","v":2},{"$f":"VLOOKUP(Input!M345,Start!$AM$2:$AN$6,2,0)","v":2},"MACD2_CloseOn=2||0||0||4||N","MACD2_CloseOn=2||0||0||4||N","MACD2_CloseOn=2||0||0||4||N","MACD2_CloseOn=2||0||0||4||N","MACD2_CloseOn=2||0||0||4||N","MACD2_CloseOn=2||0||0||4||N","MACD2_CloseOn=2||0||0||4||N","MACD2_CloseOn=2||0||0||4||N","MACD2_CloseOn=2||0||0||4||N","MACD2_CloseOn=2||0||0||4||N","MACD2_CloseOn=2||0||0||4||N"]
["MACD2_PartialCloseOn=0||0||0||3||N","MACD2_PartialCloseOn=","||0||0||3||N","Partial close on ",{"$f":"VLOOKUP(Input!C346,Start!$AO$2:$AP$4,2,0)","v":1},{"$f":"VLOOKUP(Input!D346,Start!$AO$2:$AP$4,2,0)","v":1},{"$f":"VLOOKUP(Input!E346,Start!$AO$2:$AP$4,2,0)","v":1},{"$f":"VLOOKUP(Input!F346,Start!$AO$2:$AP$4,2,0)","v":1},{"$f":"VLOOKUP(Input!G346,Start!$AO$2:$AP$4,2,0)","v":1},{"$f":"VLOOKUP(Input!H346,Start!$AO$2:$AP$4,2,0)","v":1},{"$f":"VLOOKUP(Input!I346,Start!$AO$2:$AP$4,2,0)","v":1},{"$f":"VLOOKUP(Input!J346,Start!$AO$2:$AP$4,2,0)","v":1},{"$f":"VLOOKUP(Input!K346,Start!$AO$2:$AP$4,2,0)","v":1},{"$f":"VLOOKUP(Input!L346,Start!$AO$2:$AP$4,2,0)","v":1},{"$f":"VLOOKUP(Input!M346,Start!$AO$2:$AP$4,2,0)","v":1},"MACD2_PartialCloseOn=1||0||0||3||N","MACD2_PartialCloseOn=1||0||0||3||N","MACD2_PartialCloseOn=1||0||0||3||N","MACD2_PartialCloseOn=1||0||0||3||N","MACD2_PartialCloseOn=1||0||0||3||N","MACD2_PartialCloseOn=1||0||0||3||N","MACD2_PartialCloseOn=1||0||0||3||N","MACD2_PartialCloseOn=1||0||0||3||N","MACD2_PartialCloseOn=1||0||0||3||N","MACD2_PartialCloseOn=1||0||0||3||N","MACD2_PartialCloseOn=1||0||0||3||N"]
["; ADX properties","; ADX properties","; ADX properties","ADX properties ",null,null,null,null,null,null,null,null,null,null,null,{"$f":"$A347","v":"; ADX properties"},"; ADX properties","; ADX properties","; ADX properties","; ADX properties","; ADX properties","; ADX properties","; ADX properties","; ADX properties","; ADX properties","; ADX properties"]
["ADX_Properties====================================================================================","ADX_Properties====================================================================================","ADX_Properties====================================================================================","ADX properties: ",null,null,null,null,null,null,null,null,null,null,null,"ADX_Properties====================================================================================","ADX_Properties====================================================================================","ADX_Properties====================================================================================","ADX_Properties====================================================================================","ADX_Properties====================================================================================","ADX_Properties====================================================================================","ADX_Properties====================================================================================","ADX_Properties====================================================================================","ADX_Properties====================================================================================","ADX_Properties====================================================================================","ADX_Properties===================================================================================="]
["ADX_Type=0||0||0||2||N",{"$f":"_xlfn.CONCAT(LEFT(TRIM(A349),FIND(\"=\",TRIM(A349))-1),\"=\")","v":"ADX_Type="},{"$f":"_xlfn.CONCAT(\"|\",RIGHT(TRIM(A349),LEN(TRIM(A349))-SEARCH(\"|\",TRIM(A349))))","v":"||0||0||2||N"},"* Type ",{"$f":"VLOOKUP(Input!C349,Start!$BK$2:$BL$4,2,0)","v":1},{"$f":"VLOOKUP(Input!D349,Start!$BK$2:$BL$4,2,0)","v":1},{"$f":"VLOOKUP(Input!E349,Start!$BK$2:$BL$4,2,0)","v":1},{"$f":"VLOOKUP(Input!F349,Start!$BK$2:$BL$4,2,0)","v":1},{"$f":"VLOOKUP(Input!G349,Start!$BK$2:$BL$4,2,0)","v":1},{"$f":"VLOOKUP(Input!H349,Start!$BK$2:$BL$4,2,0)","v":1},{"$f":"VLOOKUP(Input!I349,Start!$BK$2:$BL$4,2,0)","v":1},{"$f":"VLOOKUP(Input!J349,Start!$BK$2:$BL$4,2,0)","v":1},{"$f":"VLOOKUP(Input!K349,Start!$BK$2:$BL$4,2,0)","v":1},{"$f":"VLOOKUP(Input!L349,Start!$BK$2:$BL$4,2,0)","v":1},{"$f":"VLOOKUP(Input!M349,Start!$BK$2:$BL$4,2,0)","v":1},{"$f":"_xlfn.CONCAT($B349,E349,$C349)","v":"ADX_Type=1||0||0||2||N"},"ADX_Type=1||0||0||2||N","ADX_Type=1||0||0||2||N","ADX_Type=1||0||0||2||N","ADX_Type=1||0||0||2||N","ADX_Type=1||0||0||2||N","ADX_Type=1||0||0||2||N","ADX_Type=1||0||0||2||N","ADX_Type=1||0||0||2||N","ADX_Type=1||0||0||2||N","ADX_Type=1||0||0||2||N"]
["ADX_TF=0||0||0||49153||N","ADX_TF=","||0||0||49153||N","Time Frame ",{"$f":"VLOOKUP(Input!C350,Start!$K$2:$L$22,2,0)","v":2},{"$f":"VLOOKUP(Input!D350,Start!$K$2:$L$22,2,0)","v":2},{"$f":"VLOOKUP(Input!E350,Start!$K$2:$L$22,2,0)","v":2},{"$f":"VLOOKUP(Input!F350,Start!$K$2:$L$22,2,0)","v":2},{"$f":"VLOOKUP(Input!G350,Start!$K$2:$L$22,2,0)","v":2},{"$f":"VLOOKUP(Input!H350,Start!$K$2:$L$22,2,0)","v":2},{"$f":"VLOOKUP(Input!I350,Start!$K$2:$L$22,2,0)","v":2},{"$f":"VLOOKUP(Input!J350,Start!$K$2:$L$22,2,0)","v":2},{"$f":"VLOOKUP(Input!K350,Start!$K$2:$L$22,2,0)","v":2},{"$f":"VLOOKUP(Input!L350,Start!$K$2:$L$22,2,0)","v":2},{"$f":"VLOOKUP(Input!M350,Start!$K$2:$L$22,2,0)","v":2},"ADX_TF=2||0||0||49153||N","ADX_TF=2||0||0||49153||N","ADX_TF=2||0||0||49153||N","ADX_TF=2||0||0||49153||N","ADX_TF=2||0||0||49153||N","ADX_TF=2||0||0||49153||N","ADX_TF=2||0||0||49153||N","ADX_TF=2||0||0||49153||N","ADX_TF=2||0||0||49153||N","ADX_TF=2||0||0||49153||N","ADX_TF=2||0||0||49153||N"]
["ADX_Period=14||14||1||140||N","ADX_Period=","||14||1||140||N","ADX period ",{"$f":"Input!C351","v":0},{"$f":"Input!D351","v":0},{"$f":"Input!E351","v":0},{"$f":"Input!F351","v":0},{"$f":"Input!G351","v":0},{"$f":"Input!H351","v":0},{"$f":"Input!I351","v":0},{"$f":"Input!J351","v":0},{"$f":"Input!K351","v":0},{"$f":"Input!L351","v":0},{"$f":"Input!M351","v":0},"ADX_Period=0||14||1||140||N","ADX_Period=0||14||1||140||N","ADX_Period=0||14||1||140||N","ADX_Period=0||14||1||140||N","ADX_Period=0||14||1||140||N","ADX_Period=0||14||1||140||N","ADX_Period=0||14||1||140||N","ADX_Period=0||14||1||140||N","ADX_Period=0||14||1||140||N","ADX_Period=0||14||1||140||N","ADX_Period=0||14||1||140||N"]
["ADX_Level=10||10||1.000000||100.000000||N","ADX_Level=","||10||1.000000||100.000000||N","Signal level ",{"$f":"Input!C352","v":0},{"$f":"Input!D352","v":0},{"$f":"Input!E352","v":0},{"$f":"Input!F352","v":0},{"$f":"Input!G352","v":0},{"$f":"Input!H352","v":0},{"$f":"Input!I352","v":0},{"$f":"Input!J352","v":0},{"$f":"Input!K352","v":0},{"$f":"Input!L352","v":0},{"$f":"Input!M352","v":0},"ADX_Level=0||10||1.000000||100.000000||N","ADX_Level=0||10||1.000000||100.000000||N","ADX_Level=0||10||1.000000||100.000000||N","ADX_Level=0||10||1.000000||100.000000||N","ADX_Level=0||10||1.000000||100.000000||N","ADX_Level=0||10||1.000000||100.000000||N","ADX_Level=0||10||1.000000||100.000000||N","ADX_Level=0||10||1.000000||100.000000||N","ADX_Level=0||10||1.000000||100.000000||N","ADX_Level=0||10||1.000000||100.000000||N","ADX_Level=0||10||1.000000||100.000000||N"]
["ADX_Reverse=false||false||0||true||N","ADX_Reverse=","||false||0||true||N","Reverse mode ",{"$f":"VLOOKUP(Input!C353,Start!$G$2:$H$3,2,0)","v":false},{"$f":"VLOOKUP(Input!D353,Start!$G$2:$H$3,2,0)","v":false},{"$f":"VLOOKUP(Input!E353,Start!$G$2:$H$3,2,0)","v":false},{"$f":"VLOOKUP(Input!F353,Start!$G$2:$H$3,2,0)","v":false},{"$f":"VLOOKUP(Input!G353,Start!$G$2:$H$3,2,0)","v":false},{"$f":"VLOOKUP(Input!H353,Start!$G$2:$H$3,2,0)","v":false},{"$f":"VLOOKUP(Input!I353,Start!$G$2:$H$3,2,0)","v":false},{"$f":"VLOOKUP(Input!J353,Start!$G$2:$H$3,2,0)","v":false},{"$f":"VLOOKUP(Input!K353,Start!$G$2:$H$3,2,0)","v":false},{"$f":"VLOOKUP(Input!L353,Start!$G$2:$H$3,2,0)","v":false},{"$f":"VLOOKUP(Input!M353,Start!$G$2:$H$3,2,0)","v":false},"ADX_Reverse=FALSE||false||0||true||N","ADX_Reverse=FALSE||false||0||true||N","ADX_Reverse=FALSE||false||0||true||N","ADX_Reverse=FALSE||false||0||true||N","ADX_Reverse=FALSE||false||0||true||N","ADX_Reverse=FALSE||false||0||true||N","ADX_Reverse=FALSE||false||0||true||N","ADX_Reverse=FALSE||false||0||true||N","ADX_Reverse=FALSE||false||0||true||N","ADX_Reverse=FALSE||false||0||true||N","ADX_Reverse=FALSE||false||0||true||N"]
["ADX_UseClosedBars=true||false||0||true||N","ADX_UseClosedBars=","||false||0||true||N","Use closed bars only ",{"$f":"VLOOKUP(Input!C354,Start!$G$2:$H$3,2,0)","v":false},{"$f":"VLOOKUP(Input!D354,Start!$G$2:$H$3,2,0)","v":false},{"$f":"VLOOKUP(Input!E354,Start!$G$2:$H$3,2,0)","v":false},{"$f":"VLOOKUP(Input!F354,Start!$G$2:$H$3,2,0)","v":false},{"$f":"VLOOKUP(Input!G354,Start!$G$2:$H$3,2,0)","v":false},{"$f":"VLOOKUP(Input!H354,Start!$G$2:$H$3,2,0)","v":false},{"$f":"VLOOKUP(Input!I354,Start!$G$2:$H$3,2,0)","v":false},{"$f":"VLOOKUP(Input!J354,Start!$G$2:$H$3,2,0)","v":false},{"$f":"VLOOKUP(Input!K354,Start!$G$2:$H$3,2,0)","v":false},{"$f":"VLOOKUP(Input!L354,Start!$G$2:$H$3,2,0)","v":false},{"$f":"VLOOKUP(Input!M354,Start!$G$2:$H$3,2,0)","v":false},"ADX_UseClosedBars=FALSE||false||0||true||N","ADX_UseClosedBars=FALSE||false||0||true||N","ADX_UseClosedBars=FALSE||false||0||true||N","ADX_UseClosedBars=FALSE||false||0||true||N","ADX_UseClosedBars=FALSE||false||0||true||N","ADX_UseClosedBars=FALSE||false||0||true||N","ADX_UseClosedBars=FALSE||false||0||true||N","ADX_UseClosedBars=FALSE||false||0||true||N","ADX_UseClosedBars=FALSE||false||0||true||N","ADX_UseClosedBars=FALSE||false||0||true||N","ADX_UseClosedBars=FALSE||false||0||true||N"]
["ADX_OpenOn=0||0||0||3||N","ADX_OpenOn=","||0||0||3||N","Open on ",{"$f":"VLOOKUP(Input!C355,Start!$AK$2:$AL$5,2,0)","v":0},{"$f":"VLOOKUP(Input!D355,Start!$AK$2:$AL$5,2,0)","v":0},{"$f":"VLOOKUP(Input!E355,Start!$AK$2:$AL$5,2,0)","v":0},{"$f":"VLOOKUP(Input!F355,Start!$AK$2:$AL$5,2,0)","v":0},{"$f":"VLOOKUP(Input!G355,Start!$AK$2:$AL$5,2,0)","v":0},{"$f":"VLOOKUP(Input!H355,Start!$AK$2:$AL$5,2,0)","v":0},{"$f":"VLOOKUP(Input!I355,Start!$AK$2:$AL$5,2,0)","v":0},{"$f":"VLOOKUP(Input!J355,Start!$AK$2:$AL$5,2,0)","v":0},{"$f":"VLOOKUP(Input!K355,Start!$AK$2:$AL$5,2,0)","v":0},{"$f":"VLOOKUP(Input!L355,Start!$AK$2:$AL$5,2,0)","v":0},{"$f":"VLOOKUP(Input!M355,Start!$AK$2:$AL$5,2,0)","v":0},"ADX_OpenOn=0||0||0||3||N","ADX_OpenOn=0||0||0||3||N","ADX_OpenOn=0||0||0||3||N","ADX_OpenOn=0||0||0||3||N","ADX_OpenOn=0||0||0||3||N","ADX_OpenOn=0||0||0||3||N","ADX_OpenOn=0||0||0||3||N","ADX_OpenOn=0||0||0||3||N","ADX_OpenOn=0||0||0||3||N","ADX_OpenOn=0||0||0||3||N","ADX_OpenOn=0||0||0||3||N"]
["ADX_MartinOn=0||0||0||3||N","ADX_MartinOn=","||0||0||3||N","Open martin on ",{"$f":"VLOOKUP(Input!C356,Start!$AK$2:$AL$5,2,0)","v":1},{"$f":"VLOOKUP(Input!D356,Start!$AK$2:$AL$5,2,0)","v":1},{"$f":"VLOOKUP(Input!E356,Start!$AK$2:$AL$5,2,0)","v":1},{"$f":"VLOOKUP(Input!F356,Start!$AK$2:$AL$5,2,0)","v":1},{"$f":"VLOOKUP(Input!G356,Start!$AK$2:$AL$5,2,0)","v":1},{"$f":"VLOOKUP(Input!H356,Start!$AK$2:$AL$5,2,0)","v":1},{"$f":"VLOOKUP(Input!I356,Start!$AK$2:$AL$5,2,0)","v":1},{"$f":"VLOOKUP(Input!J356,Start!$AK$2:$AL$5,2,0)","v":1},{"$f":"VLOOKUP(Input!K356,Start!$AK$2:$AL$5,2,0)","v":1},{"$f":"VLOOKUP(Input!L356,Start!$AK$2:$AL$5,2,0)","v":1},{"$f":"VLOOKUP(Input!M356,Start!$AK$2:$AL$5,2,0)","v":1},"ADX_MartinOn=1||0||0||3||N","ADX_MartinOn=1||0||0||3||N","ADX_MartinOn=1||0||0||3||N","ADX_MartinOn=1||0||0||3||N","ADX_MartinOn=1||0||0||3||N","ADX_MartinOn=1||0||0||3||N","ADX_MartinOn=1||0||0||3||N","ADX_MartinOn=1||0||0||3||N","ADX_MartinOn=1||0||0||3||N","ADX_MartinOn=1||0||0||3||N","ADX_MartinOn=1||0||0||3||N"]
["ADX_HedgeOn=0||0||0||3||N","ADX_HedgeOn=","||0||0||3||N","Open hedge on ",{"$f":"VLOOKUP(Input!C357,Start!$AK$2:$AL$5,2,0)","v":1},{"$f":"VLOOKUP(Input!D357,Start!$AK$2:$AL$5,2,0)","v":1},{"$f":"VLOOKUP(Input!E357,Start!$AK$2:$AL$5,2,0)","v":1},{"$f":"VLOOKUP(Input!F357,Start!$AK$2:$AL$5,2,0)","v":1},{"$f":"VLOOKUP(Input!G357,Start!$AK$2:$AL$5,2,0)","v":1},{"$f":"VLOOKUP(Input!H357,Start!$AK$2:$AL$5,2,0)","v":1},{"$f":"VLOOKUP(Input!I357,Start!$AK$2:$AL$5,2,0)","v":1},{"$f":"VLOOKUP(Input!J357,Start!$AK$2:$AL$5,2,0)","v":1},{"$f":"VLOOKUP(Input!K357,Start!$AK$2:$AL$5,2,0)","v":1},{"$f":"VLOOKUP(Input!L357,Start!$AK$2:$AL$5,2,0)","v":1},{"$f":"VLOOKUP(Input!M357,Start!$AK$2:$AL$5,2,0)","v":1},"ADX_HedgeOn=1||0||0||3||N","ADX_HedgeOn=1||0||0||3||N","ADX_HedgeOn=1||0||0||3||N","ADX_HedgeOn=1||0||0||3||N","ADX_HedgeOn=1||0||0||3||N","ADX_HedgeOn=1||0||0||3||N","ADX_HedgeOn=1||0||0||3||N","ADX_HedgeOn=1||0||0||3||N","ADX_HedgeOn=1||0||0||3||N","ADX_HedgeOn=1||0||0||3||N","ADX_HedgeOn=1||0||0||3||N"]
["ADX_CloseOn=0||0||0||4||N","ADX_CloseOn=","||0||0||4||N","Close on ",{"$f":"VLOOKUP(Input!C358,Start!$AM$2:$AN$6,2,0)","v":2},{"$f":"VLOOKUP(Input!D358,Start!$AM$2:$AN$6,2,0)","v":2},{"$f":"VLOOKUP(Input!E358,Start!$AM$2:$AN$6,2,0)","v":2},{"$f":"VLOOKUP(Input!F358,Start!$AM$2:$AN$6,2,0)","v":2},{"$f":"VLOOKUP(Input!G358,Start!$AM$2:$AN$6,2,0)","v":2},{"$f":"VLOOKUP(Input!H358,Start!$AM$2:$AN$6,2,0)","v":2},{"$f":"VLOOKUP(Input!I358,Start!$AM$2:$AN$6,2,0)","v":2},{"$f":"VLOOKUP(Input!J358,Start!$AM$2:$AN$6,2,0)","v":2},{"$f":"VLOOKUP(Input!K358,Start!$AM$2:$AN$6,2,0)","v":2},{"$f":"VLOOKUP(Input!L358,Start!$AM$2:$AN$6,2,0)","v":2},{"$f":"VLOOKUP(Input!M358,Start!$AM$2:$AN$6,2,0)","v":2},"ADX_CloseOn=2||0||0||4||N","ADX_CloseOn=2||0||0||4||N","ADX_CloseOn=2||0||0||4||N","ADX_CloseOn=2||0||0||4||N","ADX_CloseOn=2||0||0||4||N","ADX_CloseOn=2||0||0||4||N","ADX_CloseOn=2||0||0||4||N","ADX_CloseOn=2||0||0||4||N","ADX_CloseOn=2||0||0||4||N","ADX_CloseOn=2||0||0||4||N","ADX_CloseOn=2||0||0||4||N"]
["ADX_PartialCloseOn=0||0||0||3||N","ADX_PartialCloseOn=","||0||0||3||N","Partial close on ",{"$f":"VLOOKUP(Input!C359,Start!$AO$2:$AP$4,2,0)","v":1},{"$f":"VLOOKUP(Input!D359,Start!$AO$2:$AP$4,2,0)","v":1},{"$f":"VLOOKUP(Input!E359,Start!$AO$2:$AP$4,2,0)","v":1},{"$f":"VLOOKUP(Input!F359,Start!$AO$2:$AP$4,2,0)","v":1},{"$f":"VLOOKUP(Input!G359,Start!$AO$2:$AP$4,2,0)","v":1},{"$f":"VLOOKUP(Input!H359,Start!$AO$2:$AP$4,2,0)","v":1},{"$f":"VLOOKUP(Input!I359,Start!$AO$2:$AP$4,2,0)","v":1},{"$f":"VLOOKUP(Input!J359,Start!$AO$2:$AP$4,2,0)","v":1},{"$f":"VLOOKUP(Input!K359,Start!$AO$2:$AP$4,2,0)","v":1},{"$f":"VLOOKUP(Input!L359,Start!$AO$2:$AP$4,2,0)","v":1},{"$f":"VLOOKUP(Input!M359,Start!$AO$2:$AP$4,2,0)","v":1},"ADX_PartialCloseOn=1||0||0||3||N","ADX_PartialCloseOn=1||0||0||3||N","ADX_PartialCloseOn=1||0||0||3||N","ADX_PartialCloseOn=1||0||0||3||N","ADX_PartialCloseOn=1||0||0||3||N","ADX_PartialCloseOn=1||0||0||3||N","ADX_PartialCloseOn=1||0||0||3||N","ADX_PartialCloseOn=1||0||0||3||N","ADX_PartialCloseOn=1||0||0||3||N","ADX_PartialCloseOn=1||0||0||3||N","ADX_PartialCloseOn=1||0||0||3||N"]
["; DTrend properties","; DTrend properties","; DTrend properties","DTrend p rope rties ",null,null,null,null,null,null,null,null,null,null,null,{"$f":"$A360","v":"; DTrend properties"},"; DTrend properties","; DTrend properties","; DTrend properties","; DTrend properties","; DTrend properties","; DTrend properties","; DTrend properties","; DTrend properties","; DTrend properties","; DTrend properties"]
["DTrend_Properties====================================================================================","DTrend_Properties====================================================================================","DTrend_Properties====================================================================================","DTrend properties: ",null,null,null,null,null,null,null,null,null,null,null,"DTrend_Properties====================================================================================","DTrend_Properties====================================================================================","DTrend_Properties====================================================================================","DTrend_Properties====================================================================================","DTrend_Properties====================================================================================","DTrend_Properties====================================================================================","DTrend_Properties====================================================================================","DTrend_Properties====================================================================================","DTrend_Properties====================================================================================","DTrend_Properties====================================================================================","DTrend_Properties===================================================================================="]
["DTrend_Type=0||0||0||3||N",{"$f":"_xlfn.CONCAT(LEFT(TRIM(A362),FIND(\"=\",TRIM(A362))-1),\"=\")","v":"DTrend_Type="},{"$f":"_xlfn.CONCAT(\"|\",RIGHT(TRIM(A362),LEN(TRIM(A362))-SEARCH(\"|\",TRIM(A362))))","v":"||0||0||3||N"},"Type ",{"$f":"VLOOKUP(Input!C362,Start!$BM$2:$BN$5,2,0)","v":1},{"$f":"VLOOKUP(Input!D362,Start!$BM$2:$BN$5,2,0)","v":1},{"$f":"VLOOKUP(Input!E362,Start!$BM$2:$BN$5,2,0)","v":1},{"$f":"VLOOKUP(Input!F362,Start!$BM$2:$BN$5,2,0)","v":1},{"$f":"VLOOKUP(Input!G362,Start!$BM$2:$BN$5,2,0)","v":1},{"$f":"VLOOKUP(Input!H362,Start!$BM$2:$BN$5,2,0)","v":1},{"$f":"VLOOKUP(Input!I362,Start!$BM$2:$BN$5,2,0)","v":1},{"$f":"VLOOKUP(Input!J362,Start!$BM$2:$BN$5,2,0)","v":1},{"$f":"VLOOKUP(Input!K362,Start!$BM$2:$BN$5,2,0)","v":1},{"$f":"VLOOKUP(Input!L362,Start!$BM$2:$BN$5,2,0)","v":1},{"$f":"VLOOKUP(Input!M362,Start!$BM$2:$BN$5,2,0)","v":1},{"$f":"_xlfn.CONCAT($B362,E362,$C362)","v":"DTrend_Type=1||0||0||3||N"},"DTrend_Type=1||0||0||3||N","DTrend_Type=1||0||0||3||N","DTrend_Type=1||0||0||3||N","DTrend_Type=1||0||0||3||N","DTrend_Type=1||0||0||3||N","DTrend_Type=1||0||0||3||N","DTrend_Type=1||0||0||3||N","DTrend_Type=1||0||0||3||N","DTrend_Type=1||0||0||3||N","DTrend_Type=1||0||0||3||N"]
["DTrend_TF=0||0||0||49153||N","DTrend_TF=","||0||0||49153||N","TimeFrame ",{"$f":"VLOOKUP(Input!C363,Start!$K$2:$L$22,2,0)","v":2},{"$f":"VLOOKUP(Input!D363,Start!$K$2:$L$22,2,0)","v":2},{"$f":"VLOOKUP(Input!E363,Start!$K$2:$L$22,2,0)","v":2},{"$f":"VLOOKUP(Input!F363,Start!$K$2:$L$22,2,0)","v":2},{"$f":"VLOOKUP(Input!G363,Start!$K$2:$L$22,2,0)","v":2},{"$f":"VLOOKUP(Input!H363,Start!$K$2:$L$22,2,0)","v":2},{"$f":"VLOOKUP(Input!I363,Start!$K$2:$L$22,2,0)","v":2},{"$f":"VLOOKUP(Input!J363,Start!$K$2:$L$22,2,0)","v":2},{"$f":"VLOOKUP(Input!K363,Start!$K$2:$L$22,2,0)","v":2},{"$f":"VLOOKUP(Input!L363,Start!$K$2:$L$22,2,0)","v":2},{"$f":"VLOOKUP(Input!M363,Start!$K$2:$L$22,2,0)","v":2},"DTrend_TF=2||0||0||49153||N","DTrend_TF=2||0||0||49153||N","DTrend_TF=2||0||0||49153||N","DTrend_TF=2||0||0||49153||N","DTrend_TF=2||0||0||49153||N","DTrend_TF=2||0||0||49153||N","DTrend_TF=2||0||0||49153||N","DTrend_TF=2||0||0||49153||N","DTrend_TF=2||0||0||49153||N","DTrend_TF=2||0||0||49153||N","DTrend_TF=2||0||0||49153||N"]
["DTrend_PeriodMA1=5||5||1||50||N","DTrend_PeriodMA1=","||5||1||50||N","MAI period ",{"$f":"Input!C364","v":0},{"$f":"Input!D364","v":0},{"$f":"Input!E364","v":0},{"$f":"Input!F364","v":0},{"$f":"Input!G364","v":0},{"$f":"Input!H364","v":0},{"$f":"Input!I364","v":0},{"$f":"Input!J364","v":0},{"$f":"Input!K364","v":0},{"$f":"Input!L364","v":0},{"$f":"Input!M364","v":0},"DTrend_PeriodMA1=0||5||1||50||N","DTrend_PeriodMA1=0||5||1||50||N","DTrend_PeriodMA1=0||5||1||50||N","DTrend_PeriodMA1=0||5||1||50||N","DTrend_PeriodMA1=0||5||1||50||N","DTrend_PeriodMA1=0||5||1||50||N","DTrend_PeriodMA1=0||5||1||50||N","DTrend_PeriodMA1=0||5||1||50||N","DTrend_PeriodMA1=0||5||1||50||N","DTrend_PeriodMA1=0||5||1||50||N","DTrend_PeriodMA1=0||5||1||50||N"]
["DTrend_PeriodMA2=9||9||1||90||N","DTrend_PeriodMA2=","||9||1||90||N","MA2 period ",{"$f":"Input!C365","v":0},{"$f":"Input!D365","v":0},{"$f":"Input!E365","v":0},{"$f":"Input!F365","v":0},{"$f":"Input!G365","v":0},{"$f":"Input!H365","v":0},{"$f":"Input!I365","v":0},{"$f":"Input!J365","v":0},{"$f":"Input!K365","v":0},{"$f":"Input!L365","v":0},{"$f":"Input!M365","v":0},"DTrend_PeriodMA2=0||9||1||90||N","DTrend_PeriodMA2=0||9||1||90||N","DTrend_PeriodMA2=0||9||1||90||N","DTrend_PeriodMA2=0||9||1||90||N","DTrend_PeriodMA2=0||9||1||90||N","DTrend_PeriodMA2=0||9||1||90||N","DTrend_PeriodMA2=0||9||1||90||N","DTrend_PeriodMA2=0||9||1||90||N","DTrend_PeriodMA2=0||9||1||90||N","DTrend_PeriodMA2=0||9||1||90||N","DTrend_PeriodMA2=0||9||1||90||N"]
["DTrend_PeriodD=5||5||1||50||N","DTrend_PeriodD=","||5||1||50||N","D period ",{"$f":"Input!C366","v":0},{"$f":"Input!D366","v":0},{"$f":"Input!E366","v":0},{"$f":"Input!F366","v":0},{"$f":"Input!G366","v":0},{"$f":"Input!H366","v":0},{"$f":"Input!I366","v":0},{"$f":"Input!J366","v":0},{"$f":"Input!K366","v":0},{"$f":"Input!L366","v":0},{"$f":"Input!M366","v":0},"DTrend_PeriodD=0||5||1||50||N","DTrend_PeriodD=0||5||1||50||N","DTrend_PeriodD=0||5||1||50||N","DTrend_PeriodD=0||5||1||50||N","DTrend_PeriodD=0||5||1||50||N","DTrend_PeriodD=0||5||1||50||N","DTrend_PeriodD=0||5||1||50||N","DTrend_PeriodD=0||5||1||50||N","DTrend_PeriodD=0||5||1||50||N","DTrend_PeriodD=0||5||1||50||N","DTrend_PeriodD=0||5||1||50||N"]
["DTrend_Scalar=1000000||1000000||100000.000000||10000000.000000||N","DTrend_Scalar=","||1000000||100000.000000||10000000.000000||N","Scalar ",{"$f":"Input!C367","v":0},{"$f":"Input!D367","v":0},{"$f":"Input!E367","v":0},{"$f":"Input!F367","v":0},{"$f":"Input!G367","v":0},{"$f":"Input!H367","v":0},{"$f":"Input!I367","v":0},{"$f":"Input!J367","v":0},{"$f":"Input!K367","v":0},{"$f":"Input!L367","v":0},{"$f":"Input!M367","v":0},"DTrend_Scalar=0||1000000||100000.000000||10000000.000000||N","DTrend_Scalar=0||1000000||100000.000000||10000000.000000||N","DTrend_Scalar=0||1000000||100000.000000||10000000.000000||N","DTrend_Scalar=0||1000000||100000.000000||10000000.000000||N","DTrend_Scalar=0||1000000||100000.000000||10000000.000000||N","DTrend_Scalar=0||1000000||100000.000000||10000000.000000||N","DTrend_Scalar=0||1000000||100000.000000||10000000.000000||N","DTrend_Scalar=0||1000000||100000.000000||10000000.000000||N","DTrend_Scalar=0||1000000||100000.000000||10000000.000000||N","DTrend_Scalar=0||1000000||100000.000000||10000000.000000||N","DTrend_Scalar=0||1000000||100000.000000||10000000.000000||N"]
["DTrend_Level=30||30||3.000000||300.000000||N","DTrend_Level=","||30||3.000000||300.000000||N","Signal level ",{"$f":"Input!C368","v":0},{"$f":"Input!D368","v":0},{"$f":"Input!E368","v":0},{"$f":"Input!F368","v":0},{"$f":"Input!G368","v":0},{"$f":"Input!H368","v":0},{"$f":"Input!I368","v":0},{"$f":"Input!J368","v":0},{"$f":"Input!K368","v":0},{"$f":"Input!L368","v":0},{"$f":"Input!M368","v":0},"DTrend_Level=0||30||3.000000||300.000000||N","DTrend_Level=0||30||3.000000||300.000000||N","DTrend_Level=0||30||3.000000||300.000000||N","DTrend_Level=0||30||3.000000||300.000000||N","DTrend_Level=0||30||3.000000||300.000000||N","DTrend_Level=0||30||3.000000||300.000000||N","DTrend_Level=0||30||3.000000||300.000000||N","DTrend_Level=0||30||3.000000||300.000000||N","DTrend_Level=0||30||3.000000||300.000000||N","DTrend_Level=0||30||3.000000||300.000000||N","DTrend_Level=0||30||3.000000||300.000000||N"]
["DTrend_Reverse=false||false||0||true||N","DTrend_Reverse=","||false||0||true||N","Reverse mode ",{"$f":"VLOOKUP(Input!C369,Start!$G$2:$H$3,2,0)","v":false},{"$f":"VLOOKUP(Input!D369,Start!$G$2:$H$3,2,0)","v":false},{"$f":"VLOOKUP(Input!E369,Start!$G$2:$H$3,2,0)","v":false},{"$f":"VLOOKUP(Input!F369,Start!$G$2:$H$3,2,0)","v":false},{"$f":"VLOOKUP(Input!G369,Start!$G$2:$H$3,2,0)","v":false},{"$f":"VLOOKUP(Input!H369,Start!$G$2:$H$3,2,0)","v":false},{"$f":"VLOOKUP(Input!I369,Start!$G$2:$H$3,2,0)","v":false},{"$f":"VLOOKUP(Input!J369,Start!$G$2:$H$3,2,0)","v":false},{"$f":"VLOOKUP(Input!K369,Start!$G$2:$H$3,2,0)","v":false},{"$f":"VLOOKUP(Input!L369,Start!$G$2:$H$3,2,0)","v":false},{"$f":"VLOOKUP(Input!M369,Start!$G$2:$H$3,2,0)","v":false},"DTrend_Reverse=FALSE||false||0||true||N","DTrend_Reverse=FALSE||false||0||true||N","DTrend_Reverse=FALSE||false||0||true||N","DTrend_Reverse=FALSE||false||0||true||N","DTrend_Reverse=FALSE||false||0||true||N","DTrend_Reverse=FALSE||false||0||true||N","DTrend_Reverse=FALSE||false||0||true||N","DTrend_Reverse=FALSE||false||0||true||N","DTrend_Reverse=FALSE||false||0||true||N","DTrend_Reverse=FALSE||false||0||true||N","DTrend_Reverse=FALSE||false||0||true||N"]
["DTrend_UseClosedBars=false||false||0||true||N","DTrend_UseClosedBars=","||false||0||true||N","Use closed bars only ",{"$f":"VLOOKUP(Input!C370,Start!$G$2:$H$3,2,0)","v":false},{"$f":"VLOOKUP(Input!D370,Start!$G$2:$H$3,2,0)","v":false},{"$f":"VLOOKUP(Input!E370,Start!$G$2:$H$3,2,0)","v":false},{"$f":"VLOOKUP(Input!F370,Start!$G$2:$H$3,2,0)","v":false},{"$f":"VLOOKUP(Input!G370,Start!$G$2:$H$3,2,0)","v":false},{"$f":"VLOOKUP(Input!H370,Start!$G$2:$H$3,2,0)","v":false},{"$f":"VLOOKUP(Input!I370,Start!$G$2:$H$3,2,0)","v":false},{"$f":"VLOOKUP(Input!J370,Start!$G$2:$H$3,2,0)","v":false},{"$f":"VLOOKUP(Input!K370,Start!$G$2:$H$3,2,0)","v":false},{"$f":"VLOOKUP(Input!L370,Start!$G$2:$H$3,2,0)","v":false},{"$f":"VLOOKUP(Input!M370,Start!$G$2:$H$3,2,0)","v":false},"DTrend_UseClosedBars=FALSE||false||0||true||N","DTrend_UseClosedBars=FALSE||false||0||true||N","DTrend_UseClosedBars=FALSE||false||0||true||N","DTrend_UseClosedBars=FALSE||false||0||true||N","DTrend_UseClosedBars=FALSE||false||0||true||N","DTrend_UseClosedBars=FALSE||false||0||true||N","DTrend_UseClosedBars=FALSE||false||0||true||N","DTrend_UseClosedBars=FALSE||false||0||true||N","DTrend_UseClosedBars=FALSE||false||0||true||N","DTrend_UseClosedBars=FALSE||false||0||true||N","DTrend_UseClosedBars=FALSE||false||0||true||N"]
["DTrend_OpenOn=0||0||0||3||N","DTrend_OpenOn=","||0||0||3||N","Open on ",{"$f":"VLOOKUP(Input!C371,Start!$AK$2:$AL$5,2,0)","v":0},{"$f":"VLOOKUP(Input!D371,Start!$AK$2:$AL$5,2,0)","v":0},{"$f":"VLOOKUP(Input!E371,Start!$AK$2:$AL$5,2,0)","v":0},{"$f":"VLOOKUP(Input!F371,Start!$AK$2:$AL$5,2,0)","v":0},{"$f":"VLOOKUP(Input!G371,Start!$AK$2:$AL$5,2,0)","v":0},{"$f":"VLOOKUP(Input!H371,Start!$AK$2:$AL$5,2,0)","v":0},{"$f":"VLOOKUP(Input!I371,Start!$AK$2:$AL$5,2,0)","v":0},{"$f":"VLOOKUP(Input!J371,Start!$AK$2:$AL$5,2,0)","v":0},{"$f":"VLOOKUP(Input!K371,Start!$AK$2:$AL$5,2,0)","v":0},{"$f":"VLOOKUP(Input!L371,Start!$AK$2:$AL$5,2,0)","v":0},{"$f":"VLOOKUP(Input!M371,Start!$AK$2:$AL$5,2,0)","v":0},"DTrend_OpenOn=0||0||0||3||N","DTrend_OpenOn=0||0||0||3||N","DTrend_OpenOn=0||0||0||3||N","DTrend_OpenOn=0||0||0||3||N","DTrend_OpenOn=0||0||0||3||N","DTrend_OpenOn=0||0||0||3||N","DTrend_OpenOn=0||0||0||3||N","DTrend_OpenOn=0||0||0||3||N","DTrend_OpenOn=0||0||0||3||N","DTrend_OpenOn=0||0||0||3||N","DTrend_OpenOn=0||0||0||3||N"]
["DTrend_MartinOn=0||0||0||3||N","DTrend_MartinOn=","||0||0||3||N","Open martin on ",{"$f":"VLOOKUP(Input!C372,Start!$AK$2:$AL$5,2,0)","v":1},{"$f":"VLOOKUP(Input!D372,Start!$AK$2:$AL$5,2,0)","v":1},{"$f":"VLOOKUP(Input!E372,Start!$AK$2:$AL$5,2,0)","v":1},{"$f":"VLOOKUP(Input!F372,Start!$AK$2:$AL$5,2,0)","v":1},{"$f":"VLOOKUP(Input!G372,Start!$AK$2:$AL$5,2,0)","v":1},{"$f":"VLOOKUP(Input!H372,Start!$AK$2:$AL$5,2,0)","v":1},{"$f":"VLOOKUP(Input!I372,Start!$AK$2:$AL$5,2,0)","v":1},{"$f":"VLOOKUP(Input!J372,Start!$AK$2:$AL$5,2,0)","v":1},{"$f":"VLOOKUP(Input!K372,Start!$AK$2:$AL$5,2,0)","v":1},{"$f":"VLOOKUP(Input!L372,Start!$AK$2:$AL$5,2,0)","v":1},{"$f":"VLOOKUP(Input!M372,Start!$AK$2:$AL$5,2,0)","v":1},"DTrend_MartinOn=1||0||0||3||N","DTrend_MartinOn=1||0||0||3||N","DTrend_MartinOn=1||0||0||3||N","DTrend_MartinOn=1||0||0||3||N","DTrend_MartinOn=1||0||0||3||N","DTrend_MartinOn=1||0||0||3||N","DTrend_MartinOn=1||0||0||3||N","DTrend_MartinOn=1||0||0||3||N","DTrend_MartinOn=1||0||0||3||N","DTrend_MartinOn=1||0||0||3||N","DTrend_MartinOn=1||0||0||3||N"]
["DTrend_HedgeOn=0||0||0||3||N","DTrend_HedgeOn=","||0||0||3||N","Open hedge on ",{"$f":"VLOOKUP(Input!C373,Start!$AK$2:$AL$5,2,0)","v":1},{"$f":"VLOOKUP(Input!D373,Start!$AK$2:$AL$5,2,0)","v":1},{"$f":"VLOOKUP(Input!E373,Start!$AK$2:$AL$5,2,0)","v":1},{"$f":"VLOOKUP(Input!F373,Start!$AK$2:$AL$5,2,0)","v":1},{"$f":"VLOOKUP(Input!G373,Start!$AK$2:$AL$5,2,0)","v":1},{"$f":"VLOOKUP(Input!H373,Start!$AK$2:$AL$5,2,0)","v":1},{"$f":"VLOOKUP(Input!I373,Start!$AK$2:$AL$5,2,0)","v":1},{"$f":"VLOOKUP(Input!J373,Start!$AK$2:$AL$5,2,0)","v":1},{"$f":"VLOOKUP(Input!K373,Start!$AK$2:$AL$5,2,0)","v":1},{"$f":"VLOOKUP(Input!L373,Start!$AK$2:$AL$5,2,0)","v":1},{"$f":"VLOOKUP(Input!M373,Start!$AK$2:$AL$5,2,0)","v":1},"DTrend_HedgeOn=1||0||0||3||N","DTrend_HedgeOn=1||0||0||3||N","DTrend_HedgeOn=1||0||0||3||N","DTrend_HedgeOn=1||0||0||3||N","DTrend_HedgeOn=1||0||0||3||N","DTrend_HedgeOn=1||0||0||3||N","DTrend_HedgeOn=1||0||0||3||N","DTrend_HedgeOn=1||0||0||3||N","DTrend_HedgeOn=1||0||0||3||N","DTrend_HedgeOn=1||0||0||3||N","DTrend_HedgeOn=1||0||0||3||N"]
["DTrend_CloseOn=0||0||0||4||N","DTrend_CloseOn=","||0||0||4||N","Close on ",{"$f":"VLOOKUP(Input!C374,Start!$AM$2:$AN$6,2,0)","v":2},{"$f":"VLOOKUP(Input!D374,Start!$AM$2:$AN$6,2,0)","v":2},{"$f":"VLOOKUP(Input!E374,Start!$AM$2:$AN$6,2,0)","v":2},{"$f":"VLOOKUP(Input!F374,Start!$AM$2:$AN$6,2,0)","v":2},{"$f":"VLOOKUP(Input!G374,Start!$AM$2:$AN$6,2,0)","v":2},{"$f":"VLOOKUP(Input!H374,Start!$AM$2:$AN$6,2,0)","v":2},{"$f":"VLOOKUP(Input!I374,Start!$AM$2:$AN$6,2,0)","v":2},{"$f":"VLOOKUP(Input!J374,Start!$AM$2:$AN$6,2,0)","v":2},{"$f":"VLOOKUP(Input!K374,Start!$AM$2:$AN$6,2,0)","v":2},{"$f":"VLOOKUP(Input!L374,Start!$AM$2:$AN$6,2,0)","v":2},{"$f":"VLOOKUP(Input!M374,Start!$AM$2:$AN$6,2,0)","v":2},"DTrend_CloseOn=2||0||0||4||N","DTrend_CloseOn=2||0||0||4||N","DTrend_CloseOn=2||0||0||4||N","DTrend_CloseOn=2||0||0||4||N","DTrend_CloseOn=2||0||0||4||N","DTrend_CloseOn=2||0||0||4||N","DTrend_CloseOn=2||0||0||4||N","DTrend_CloseOn=2||0||0||4||N","DTrend_CloseOn=2||0||0||4||N","DTrend_CloseOn=2||0||0||4||N","DTrend_CloseOn=2||0||0||4||N"]
["DTrend_PartialCloseOn=0||0||0||3||N","DTrend_PartialCloseOn=","||0||0||3||N","Partial close on ",{"$f":"VLOOKUP(Input!C375,Start!$AO$2:$AP$4,2,0)","v":1},{"$f":"VLOOKUP(Input!D375,Start!$AO$2:$AP$4,2,0)","v":1},{"$f":"VLOOKUP(Input!E375,Start!$AO$2:$AP$4,2,0)","v":1},{"$f":"VLOOKUP(Input!F375,Start!$AO$2:$AP$4,2,0)","v":1},{"$f":"VLOOKUP(Input!G375,Start!$AO$2:$AP$4,2,0)","v":1},{"$f":"VLOOKUP(Input!H375,Start!$AO$2:$AP$4,2,0)","v":1},{"$f":"VLOOKUP(Input!I375,Start!$AO$2:$AP$4,2,0)","v":1},{"$f":"VLOOKUP(Input!J375,Start!$AO$2:$AP$4,2,0)","v":1},{"$f":"VLOOKUP(Input!K375,Start!$AO$2:$AP$4,2,0)","v":1},{"$f":"VLOOKUP(Input!L375,Start!$AO$2:$AP$4,2,0)","v":1},{"$f":"VLOOKUP(Input!M375,Start!$AO$2:$AP$4,2,0)","v":1},"DTrend_PartialCloseOn=1||0||0||3||N","DTrend_PartialCloseOn=1||0||0||3||N","DTrend_PartialCloseOn=1||0||0||3||N","DTrend_PartialCloseOn=1||0||0||3||N","DTrend_PartialCloseOn=1||0||0||3||N","DTrend_PartialCloseOn=1||0||0||3||N","DTrend_PartialCloseOn=1||0||0||3||N","DTrend_PartialCloseOn=1||0||0||3||N","DTrend_PartialCloseOn=1||0||0||3||N","DTrend_PartialCloseOn=1||0||0||3||N","DTrend_PartialCloseOn=1||0||0||3||N"]
["; Parabolic SAR properties","; Parabolic SAR properties","; Parabolic SAR properties","Parabolic SAR properties ",null,null,null,null,null,null,null,null,null,null,null,{"$f":"$A376","v":"; Parabolic SAR properties"},"; Parabolic SAR properties","; Parabolic SAR properties","; Parabolic SAR properties","; Parabolic SAR properties","; Parabolic SAR properties","; Parabolic SAR properties","; Parabolic SAR properties","; Parabolic SAR properties","; Parabolic SAR properties","; Parabolic SAR properties"]
["PSar_Properties====================================================================================","PSar_Properties====================================================================================","PSar_Properties====================================================================================","Parabolic SAR properties: ",null,null,null,null,null,null,null,null,null,null,null,"PSar_Properties====================================================================================","PSar_Properties====================================================================================","PSar_Properties====================================================================================","PSar_Properties====================================================================================","PSar_Properties====================================================================================","PSar_Properties====================================================================================","PSar_Properties====================================================================================","PSar_Properties====================================================================================","PSar_Properties====================================================================================","PSar_Properties====================================================================================","PSar_Properties===================================================================================="]
["PSar_Type=0||0||0||2||N",{"$f":"_xlfn.CONCAT(LEFT(TRIM(A378),FIND(\"=\",TRIM(A378))-1),\"=\")","v":"PSar_Type="},{"$f":"_xlfn.CONCAT(\"|\",RIGHT(TRIM(A378),LEN(TRIM(A378))-SEARCH(\"|\",TRIM(A378))))","v":"||0||0||2||N"},"Signal Type ",{"$f":"VLOOKUP(Input!C378,Start!$BO$2:$BP$4,2,0)","v":2},{"$f":"VLOOKUP(Input!D378,Start!$BO$2:$BP$4,2,0)","v":2},{"$f":"VLOOKUP(Input!E378,Start!$BO$2:$BP$4,2,0)","v":2},{"$f":"VLOOKUP(Input!F378,Start!$BO$2:$BP$4,2,0)","v":2},{"$f":"VLOOKUP(Input!G378,Start!$BO$2:$BP$4,2,0)","v":2},{"$f":"VLOOKUP(Input!H378,Start!$BO$2:$BP$4,2,0)","v":2},{"$f":"VLOOKUP(Input!I378,Start!$BO$2:$BP$4,2,0)","v":2},{"$f":"VLOOKUP(Input!J378,Start!$BO$2:$BP$4,2,0)","v":2},{"$f":"VLOOKUP(Input!K378,Start!$BO$2:$BP$4,2,0)","v":2},{"$f":"VLOOKUP(Input!L378,Start!$BO$2:$BP$4,2,0)","v":2},{"$f":"VLOOKUP(Input!M378,Start!$BO$2:$BP$4,2,0)","v":2},{"$f":"_xlfn.CONCAT($B378,E378,$C378)","v":"PSar_Type=2||0||0||2||N"},"PSar_Type=2||0||0||2||N","PSar_Type=2||0||0||2||N","PSar_Type=2||0||0||2||N","PSar_Type=2||0||0||2||N","PSar_Type=2||0||0||2||N","PSar_Type=2||0||0||2||N","PSar_Type=2||0||0||2||N","PSar_Type=2||0||0||2||N","PSar_Type=2||0||0||2||N","PSar_Type=2||0||0||2||N"]
["PSar_TF=0||0||0||49153||N","PSar_TF=","||0||0||49153||N","TimeFrame ",{"$f":"VLOOKUP(Input!C379,Start!$K$2:$L$22,2,0)","v":2},{"$f":"VLOOKUP(Input!D379,Start!$K$2:$L$22,2,0)","v":2},{"$f":"VLOOKUP(Input!E379,Start!$K$2:$L$22,2,0)","v":2},{"$f":"VLOOKUP(Input!F379,Start!$K$2:$L$22,2,0)","v":2},{"$f":"VLOOKUP(Input!G379,Start!$K$2:$L$22,2,0)","v":2},{"$f":"VLOOKUP(Input!H379,Start!$K$2:$L$22,2,0)","v":2},{"$f":"VLOOKUP(Input!I379,Start!$K$2:$L$22,2,0)","v":2},{"$f":"VLOOKUP(Input!J379,Start!$K$2:$L$22,2,0)","v":2},{"$f":"VLOOKUP(Input!K379,Start!$K$2:$L$22,2,0)","v":2},{"$f":"VLOOKUP(Input!L379,Start!$K$2:$L$22,2,0)","v":2},{"$f":"VLOOKUP(Input!M379,Start!$K$2:$L$22,2,0)","v":2},"PSar_TF=2||0||0||49153||N","PSar_TF=2||0||0||49153||N","PSar_TF=2||0||0||49153||N","PSar_TF=2||0||0||49153||N","PSar_TF=2||0||0||49153||N","PSar_TF=2||0||0||49153||N","PSar_TF=2||0||0||49153||N","PSar_TF=2||0||0||49153||N","PSar_TF=2||0||0||49153||N","PSar_TF=2||0||0||49153||N","PSar_TF=2||0||0||49153||N"]
["PSar_Step=0.02||0.02||0.002000||0.200000||N","PSar_Step=","||0.02||0.002000||0.200000||N","Step ",{"$f":"Input!C380","v":0},{"$f":"Input!D380","v":0},{"$f":"Input!E380","v":0},{"$f":"Input!F380","v":0},{"$f":"Input!G380","v":0},{"$f":"Input!H380","v":0},{"$f":"Input!I380","v":0},{"$f":"Input!J380","v":0},{"$f":"Input!K380","v":0},{"$f":"Input!L380","v":0},{"$f":"Input!M380","v":0},"PSar_Step=0||0.02||0.002000||0.200000||N","PSar_Step=0||0.02||0.002000||0.200000||N","PSar_Step=0||0.02||0.002000||0.200000||N","PSar_Step=0||0.02||0.002000||0.200000||N","PSar_Step=0||0.02||0.002000||0.200000||N","PSar_Step=0||0.02||0.002000||0.200000||N","PSar_Step=0||0.02||0.002000||0.200000||N","PSar_Step=0||0.02||0.002000||0.200000||N","PSar_Step=0||0.02||0.002000||0.200000||N","PSar_Step=0||0.02||0.002000||0.200000||N","PSar_Step=0||0.02||0.002000||0.200000||N"]
["PSar_Maximum=0.2||0.2||0.020000||2.000000||N","PSar_Maximum=","||0.2||0.020000||2.000000||N","Maximum ",{"$f":"Input!C381","v":0},{"$f":"Input!D381","v":0},{"$f":"Input!E381","v":0},{"$f":"Input!F381","v":0},{"$f":"Input!G381","v":0},{"$f":"Input!H381","v":0},{"$f":"Input!I381","v":0},{"$f":"Input!J381","v":0},{"$f":"Input!K381","v":0},{"$f":"Input!L381","v":0},{"$f":"Input!M381","v":0},"PSar_Maximum=0||0.2||0.020000||2.000000||N","PSar_Maximum=0||0.2||0.020000||2.000000||N","PSar_Maximum=0||0.2||0.020000||2.000000||N","PSar_Maximum=0||0.2||0.020000||2.000000||N","PSar_Maximum=0||0.2||0.020000||2.000000||N","PSar_Maximum=0||0.2||0.020000||2.000000||N","PSar_Maximum=0||0.2||0.020000||2.000000||N","PSar_Maximum=0||0.2||0.020000||2.000000||N","PSar_Maximum=0||0.2||0.020000||2.000000||N","PSar_Maximum=0||0.2||0.020000||2.000000||N","PSar_Maximum=0||0.2||0.020000||2.000000||N"]
["PSar_Reverse=false||false||0||true||N","PSar_Reverse=","||false||0||true||N","Reverse mode ",{"$f":"VLOOKUP(Input!C382,Start!$G$2:$H$3,2,0)","v":false},{"$f":"VLOOKUP(Input!D382,Start!$G$2:$H$3,2,0)","v":false},{"$f":"VLOOKUP(Input!E382,Start!$G$2:$H$3,2,0)","v":false},{"$f":"VLOOKUP(Input!F382,Start!$G$2:$H$3,2,0)","v":false},{"$f":"VLOOKUP(Input!G382,Start!$G$2:$H$3,2,0)","v":false},{"$f":"VLOOKUP(Input!H382,Start!$G$2:$H$3,2,0)","v":false},{"$f":"VLOOKUP(Input!I382,Start!$G$2:$H$3,2,0)","v":false},{"$f":"VLOOKUP(Input!J382,Start!$G$2:$H$3,2,0)","v":false},{"$f":"VLOOKUP(Input!K382,Start!$G$2:$H$3,2,0)","v":false},{"$f":"VLOOKUP(Input!L382,Start!$G$2:$H$3,2,0)","v":false},{"$f":"VLOOKUP(Input!M382,Start!$G$2:$H$3,2,0)","v":false},"PSar_Reverse=FALSE||false||0||true||N","PSar_Reverse=FALSE||false||0||true||N","PSar_Reverse=FALSE||false||0||true||N","PSar_Reverse=FALSE||false||0||true||N","PSar_Reverse=FALSE||false||0||true||N","PSar_Reverse=FALSE||false||0||true||N","PSar_Reverse=FALSE||false||0||true||N","PSar_Reverse=FALSE||false||0||true||N","PSar_Reverse=FALSE||false||0||true||N","PSar_Reverse=FALSE||false||0||true||N","PSar_Reverse=FALSE||false||0||true||N"]
["PSar_OpenOn=0||0||0||3||N","PSar_OpenOn=","||0||0||3||N","Open on ",{"$f":"VLOOKUP(Input!C383,Start!$AK$2:$AL$5,2,0)","v":0},{"$f":"VLOOKUP(Input!D383,Start!$AK$2:$AL$5,2,0)","v":0},{"$f":"VLOOKUP(Input!E383,Start!$AK$2:$AL$5,2,0)","v":0},{"$f":"VLOOKUP(Input!F383,Start!$AK$2:$AL$5,2,0)","v":0},{"$f":"VLOOKUP(Input!G383,Start!$AK$2:$AL$5,2,0)","v":0},{"$f":"VLOOKUP(Input!H383,Start!$AK$2:$AL$5,2,0)","v":0},{"$f":"VLOOKUP(Input!I383,Start!$AK$2:$AL$5,2,0)","v":0},{"$f":"VLOOKUP(Input!J383,Start!$AK$2:$AL$5,2,0)","v":0},{"$f":"VLOOKUP(Input!K383,Start!$AK$2:$AL$5,2,0)","v":0},{"$f":"VLOOKUP(Input!L383,Start!$AK$2:$AL$5,2,0)","v":0},{"$f":"VLOOKUP(Input!M383,Start!$AK$2:$AL$5,2,0)","v":0},"PSar_OpenOn=0||0||0||3||N","PSar_OpenOn=0||0||0||3||N","PSar_OpenOn=0||0||0||3||N","PSar_OpenOn=0||0||0||3||N","PSar_OpenOn=0||0||0||3||N","PSar_OpenOn=0||0||0||3||N","PSar_OpenOn=0||0||0||3||N","PSar_OpenOn=0||0||0||3||N","PSar_OpenOn=0||0||0||3||N","PSar_OpenOn=0||0||0||3||N","PSar_OpenOn=0||0||0||3||N"]
["PSar_MartinOn=0||0||0||3||N","PSar_MartinOn=","||0||0||3||N","Open martin on ",{"$f":"VLOOKUP(Input!C384,Start!$AK$2:$AL$5,2,0)","v":1},{"$f":"VLOOKUP(Input!D384,Start!$AK$2:$AL$5,2,0)","v":1},{"$f":"VLOOKUP(Input!E384,Start!$AK$2:$AL$5,2,0)","v":1},{"$f":"VLOOKUP(Input!F384,Start!$AK$2:$AL$5,2,0)","v":1},{"$f":"VLOOKUP(Input!G384,Start!$AK$2:$AL$5,2,0)","v":1},{"$f":"VLOOKUP(Input!H384,Start!$AK$2:$AL$5,2,0)","v":1},{"$f":"VLOOKUP(Input!I384,Start!$AK$2:$AL$5,2,0)","v":1},{"$f":"VLOOKUP(Input!J384,Start!$AK$2:$AL$5,2,0)","v":1},{"$f":"VLOOKUP(Input!K384,Start!$AK$2:$AL$5,2,0)","v":1},{"$f":"VLOOKUP(Input!L384,Start!$AK$2:$AL$5,2,0)","v":1},{"$f":"VLOOKUP(Input!M384,Start!$AK$2:$AL$5,2,0)","v":1},"PSar_MartinOn=1||0||0||3||N","PSar_MartinOn=1||0||0||3||N","PSar_MartinOn=1||0||0||3||N","PSar_MartinOn=1||0||0||3||N","PSar_MartinOn=1||0||0||3||N","PSar_MartinOn=1||0||0||3||N","PSar_MartinOn=1||0||0||3||N","PSar_MartinOn=1||0||0||3||N","PSar_MartinOn=1||0||0||3||N","PSar_MartinOn=1||0||0||3||N","PSar_MartinOn=1||0||0||3||N"]
["PSar_HedgeOn=0||0||0||3||N","PSar_HedgeOn=","||0||0||3||N","Open hedge on ",{"$f":"VLOOKUP(Input!C385,Start!$AK$2:$AL$5,2,0)","v":1},{"$f":"VLOOKUP(Input!D385,Start!$AK$2:$AL$5,2,0)","v":1},{"$f":"VLOOKUP(Input!E385,Start!$AK$2:$AL$5,2,0)","v":1},{"$f":"VLOOKUP(Input!F385,Start!$AK$2:$AL$5,2,0)","v":1},{"$f":"VLOOKUP(Input!G385,Start!$AK$2:$AL$5,2,0)","v":1},{"$f":"VLOOKUP(Input!H385,Start!$AK$2:$AL$5,2,0)","v":1},{"$f":"VLOOKUP(Input!I385,Start!$AK$2:$AL$5,2,0)","v":1},{"$f":"VLOOKUP(Input!J385,Start!$AK$2:$AL$5,2,0)","v":1},{"$f":"VLOOKUP(Input!K385,Start!$AK$2:$AL$5,2,0)","v":1},{"$f":"VLOOKUP(Input!L385,Start!$AK$2:$AL$5,2,0)","v":1},{"$f":"VLOOKUP(Input!M385,Start!$AK$2:$AL$5,2,0)","v":1},"PSar_HedgeOn=1||0||0||3||N","PSar_HedgeOn=1||0||0||3||N","PSar_HedgeOn=1||0||0||3||N","PSar_HedgeOn=1||0||0||3||N","PSar_HedgeOn=1||0||0||3||N","PSar_HedgeOn=1||0||0||3||N","PSar_HedgeOn=1||0||0||3||N","PSar_HedgeOn=1||0||0||3||N","PSar_HedgeOn=1||0||0||3||N","PSar_HedgeOn=1||0||0||3||N","PSar_HedgeOn=1||0||0||3||N"]
["PSar_CloseOn=0||0||0||4||N","PSar_CloseOn=","||0||0||4||N","Close on ",{"$f":"VLOOKUP(Input!C386,Start!$AM$2:$AN$6,2,0)","v":2},{"$f":"VLOOKUP(Input!D386,Start!$AM$2:$AN$6,2,0)","v":2},{"$f":"VLOOKUP(Input!E386,Start!$AM$2:$AN$6,2,0)","v":2},{"$f":"VLOOKUP(Input!F386,Start!$AM$2:$AN$6,2,0)","v":2},{"$f":"VLOOKUP(Input!G386,Start!$AM$2:$AN$6,2,0)","v":2},{"$f":"VLOOKUP(Input!H386,Start!$AM$2:$AN$6,2,0)","v":2},{"$f":"VLOOKUP(Input!I386,Start!$AM$2:$AN$6,2,0)","v":2},{"$f":"VLOOKUP(Input!J386,Start!$AM$2:$AN$6,2,0)","v":2},{"$f":"VLOOKUP(Input!K386,Start!$AM$2:$AN$6,2,0)","v":2},{"$f":"VLOOKUP(Input!L386,Start!$AM$2:$AN$6,2,0)","v":2},{"$f":"VLOOKUP(Input!M386,Start!$AM$2:$AN$6,2,0)","v":2},"PSar_CloseOn=2||0||0||4||N","PSar_CloseOn=2||0||0||4||N","PSar_CloseOn=2||0||0||4||N","PSar_CloseOn=2||0||0||4||N","PSar_CloseOn=2||0||0||4||N","PSar_CloseOn=2||0||0||4||N","PSar_CloseOn=2||0||0||4||N","PSar_CloseOn=2||0||0||4||N","PSar_CloseOn=2||0||0||4||N","PSar_CloseOn=2||0||0||4||N","PSar_CloseOn=2||0||0||4||N"]
["PSar_PartialCloseOn=0||0||0||3||N","PSar_PartialCloseOn=","||0||0||3||N","Partial close on ",{"$f":"VLOOKUP(Input!C387,Start!$AO$2:$AP$4,2,0)","v":1},{"$f":"VLOOKUP(Input!D387,Start!$AO$2:$AP$4,2,0)","v":1},{"$f":"VLOOKUP(Input!E387,Start!$AO$2:$AP$4,2,0)","v":1},{"$f":"VLOOKUP(Input!F387,Start!$AO$2:$AP$4,2,0)","v":1},{"$f":"VLOOKUP(Input!G387,Start!$AO$2:$AP$4,2,0)","v":1},{"$f":"VLOOKUP(Input!H387,Start!$AO$2:$AP$4,2,0)","v":1},{"$f":"VLOOKUP(Input!I387,Start!$AO$2:$AP$4,2,0)","v":1},{"$f":"VLOOKUP(Input!J387,Start!$AO$2:$AP$4,2,0)","v":1},{"$f":"VLOOKUP(Input!K387,Start!$AO$2:$AP$4,2,0)","v":1},{"$f":"VLOOKUP(Input!L387,Start!$AO$2:$AP$4,2,0)","v":1},{"$f":"VLOOKUP(Input!M387,Start!$AO$2:$AP$4,2,0)","v":1},"PSar_PartialCloseOn=1||0||0||3||N","PSar_PartialCloseOn=1||0||0||3||N","PSar_PartialCloseOn=1||0||0||3||N","PSar_PartialCloseOn=1||0||0||3||N","PSar_PartialCloseOn=1||0||0||3||N","PSar_PartialCloseOn=1||0||0||3||N","PSar_PartialCloseOn=1||0||0||3||N","PSar_PartialCloseOn=1||0||0||3||N","PSar_PartialCloseOn=1||0||0||3||N","PSar_PartialCloseOn=1||0||0||3||N","PSar_PartialCloseOn=1||0||0||3||N"]
["; MA Filter #1 properties","; MA Filter #1 properties","; MA Filter #1 properties","MA Filter #1 properties ",null,null,null,null,null,null,null,null,null,null,null,{"$f":"$A388","v":"; MA Filter #1 properties"},"; MA Filter #1 properties","; MA Filter #1 properties","; MA Filter #1 properties","; MA Filter #1 properties","; MA Filter #1 properties","; MA Filter #1 properties","; MA Filter #1 properties","; MA Filter #1 properties","; MA Filter #1 properties","; MA Filter #1 properties"]
["MA_Filter_1_Properties====================================================================================","MA_Filter_1_Properties====================================================================================","MA_Filter_1_Properties====================================================================================","MA Filter properties: ",null,null,null,null,null,null,null,null,null,null,null,"MA_Filter_1_Properties====================================================================================","MA_Filter_1_Properties====================================================================================","MA_Filter_1_Properties====================================================================================","MA_Filter_1_Properties====================================================================================","MA_Filter_1_Properties====================================================================================","MA_Filter_1_Properties====================================================================================","MA_Filter_1_Properties====================================================================================","MA_Filter_1_Properties====================================================================================","MA_Filter_1_Properties====================================================================================","MA_Filter_1_Properties====================================================================================","MA_Filter_1_Properties===================================================================================="]
["MA_Filter_1_Type=0||0||0||4||N",{"$f":"_xlfn.CONCAT(LEFT(TRIM(A390),FIND(\"=\",TRIM(A390))-1),\"=\")","v":"MA_Filter_1_Type="},{"$f":"_xlfn.CONCAT(\"|\",RIGHT(TRIM(A390),LEN(TRIM(A390))-SEARCH(\"|\",TRIM(A390))))","v":"||0||0||4||N"},"Type ",{"$f":"VLOOKUP(Input!C390,Start!$BQ$2:$BR$6,2,0)","v":1},{"$f":"VLOOKUP(Input!D390,Start!$BQ$2:$BR$6,2,0)","v":1},{"$f":"VLOOKUP(Input!E390,Start!$BQ$2:$BR$6,2,0)","v":1},{"$f":"VLOOKUP(Input!F390,Start!$BQ$2:$BR$6,2,0)","v":1},{"$f":"VLOOKUP(Input!G390,Start!$BQ$2:$BR$6,2,0)","v":1},{"$f":"VLOOKUP(Input!H390,Start!$BQ$2:$BR$6,2,0)","v":1},{"$f":"VLOOKUP(Input!I390,Start!$BQ$2:$BR$6,2,0)","v":1},{"$f":"VLOOKUP(Input!J390,Start!$BQ$2:$BR$6,2,0)","v":1},{"$f":"VLOOKUP(Input!K390,Start!$BQ$2:$BR$6,2,0)","v":1},{"$f":"VLOOKUP(Input!L390,Start!$BQ$2:$BR$6,2,0)","v":1},{"$f":"VLOOKUP(Input!M390,Start!$BQ$2:$BR$6,2,0)","v":1},{"$f":"_xlfn.CONCAT($B390,E390,$C390)","v":"MA_Filter_1_Type=1||0||0||4||N"},"MA_Filter_1_Type=1||0||0||4||N","MA_Filter_1_Type=1||0||0||4||N","MA_Filter_1_Type=1||0||0||4||N","MA_Filter_1_Type=1||0||0||4||N","MA_Filter_1_Type=1||0||0||4||N","MA_Filter_1_Type=1||0||0||4||N","MA_Filter_1_Type=1||0||0||4||N","MA_Filter_1_Type=1||0||0||4||N","MA_Filter_1_Type=1||0||0||4||N","MA_Filter_1_Type=1||0||0||4||N"]
["MA_Filter_1_TF=0||0||0||49153||N","MA_Filter_1_TF=","||0||0||49153||N","TimeFrame ",{"$f":"VLOOKUP(Input!C391,Start!$K$2:$L$22,2,0)","v":2},{"$f":"VLOOKUP(Input!D391,Start!$K$2:$L$22,2,0)","v":2},{"$f":"VLOOKUP(Input!E391,Start!$K$2:$L$22,2,0)","v":2},{"$f":"VLOOKUP(Input!F391,Start!$K$2:$L$22,2,0)","v":2},{"$f":"VLOOKUP(Input!G391,Start!$K$2:$L$22,2,0)","v":2},{"$f":"VLOOKUP(Input!H391,Start!$K$2:$L$22,2,0)","v":2},{"$f":"VLOOKUP(Input!I391,Start!$K$2:$L$22,2,0)","v":2},{"$f":"VLOOKUP(Input!J391,Start!$K$2:$L$22,2,0)","v":2},{"$f":"VLOOKUP(Input!K391,Start!$K$2:$L$22,2,0)","v":2},{"$f":"VLOOKUP(Input!L391,Start!$K$2:$L$22,2,0)","v":2},{"$f":"VLOOKUP(Input!M391,Start!$K$2:$L$22,2,0)","v":2},"MA_Filter_1_TF=2||0||0||49153||N","MA_Filter_1_TF=2||0||0||49153||N","MA_Filter_1_TF=2||0||0||49153||N","MA_Filter_1_TF=2||0||0||49153||N","MA_Filter_1_TF=2||0||0||49153||N","MA_Filter_1_TF=2||0||0||49153||N","MA_Filter_1_TF=2||0||0||49153||N","MA_Filter_1_TF=2||0||0||49153||N","MA_Filter_1_TF=2||0||0||49153||N","MA_Filter_1_TF=2||0||0||49153||N","MA_Filter_1_TF=2||0||0||49153||N"]
["MA_Filter_1_Period=50||50||1||500||N","MA_Filter_1_Period=","||50||1||500||N","MA Period ",{"$f":"Input!C392","v":0},{"$f":"Input!D392","v":0},{"$f":"Input!E392","v":0},{"$f":"Input!F392","v":0},{"$f":"Input!G392","v":0},{"$f":"Input!H392","v":0},{"$f":"Input!I392","v":0},{"$f":"Input!J392","v":0},{"$f":"Input!K392","v":0},{"$f":"Input!L392","v":0},{"$f":"Input!M392","v":0},"MA_Filter_1_Period=0||50||1||500||N","MA_Filter_1_Period=0||50||1||500||N","MA_Filter_1_Period=0||50||1||500||N","MA_Filter_1_Period=0||50||1||500||N","MA_Filter_1_Period=0||50||1||500||N","MA_Filter_1_Period=0||50||1||500||N","MA_Filter_1_Period=0||50||1||500||N","MA_Filter_1_Period=0||50||1||500||N","MA_Filter_1_Period=0||50||1||500||N","MA_Filter_1_Period=0||50||1||500||N","MA_Filter_1_Period=0||50||1||500||N"]
["MA_Filter_1_Method=1||0||0||3||N","MA_Filter_1_Method=","||0||0||3||N","MA Method ",{"$f":"VLOOKUP(Input!C393,Start!$BS$2:$BT$10,2,0)","v":3},{"$f":"VLOOKUP(Input!D393,Start!$BS$2:$BT$10,2,0)","v":3},{"$f":"VLOOKUP(Input!E393,Start!$BS$2:$BT$10,2,0)","v":3},{"$f":"VLOOKUP(Input!F393,Start!$BS$2:$BT$10,2,0)","v":3},{"$f":"VLOOKUP(Input!G393,Start!$BS$2:$BT$10,2,0)","v":3},{"$f":"VLOOKUP(Input!H393,Start!$BS$2:$BT$10,2,0)","v":3},{"$f":"VLOOKUP(Input!I393,Start!$BS$2:$BT$10,2,0)","v":3},{"$f":"VLOOKUP(Input!J393,Start!$BS$2:$BT$10,2,0)","v":3},{"$f":"VLOOKUP(Input!K393,Start!$BS$2:$BT$10,2,0)","v":3},{"$f":"VLOOKUP(Input!L393,Start!$BS$2:$BT$10,2,0)","v":3},{"$f":"VLOOKUP(Input!M393,Start!$BS$2:$BT$10,2,0)","v":3},"MA_Filter_1_Method=3||0||0||3||N","MA_Filter_1_Method=3||0||0||3||N","MA_Filter_1_Method=3||0||0||3||N","MA_Filter_1_Method=3||0||0||3||N","MA_Filter_1_Method=3||0||0||3||N","MA_Filter_1_Method=3||0||0||3||N","MA_Filter_1_Method=3||0||0||3||N","MA_Filter_1_Method=3||0||0||3||N","MA_Filter_1_Method=3||0||0||3||N","MA_Filter_1_Method=3||0||0||3||N","MA_Filter_1_Method=3||0||0||3||N"]
["MA_Filter_1_Price=1||1||0||7||N","MA_Filter_1_Price=","||1||0||7||N","Applied price ",{"$f":"VLOOKUP(Input!C394,Start!$AU$2:$AV$8,2,0)","v":2},{"$f":"VLOOKUP(Input!D394,Start!$AU$2:$AV$8,2,0)","v":2},{"$f":"VLOOKUP(Input!E394,Start!$AU$2:$AV$8,2,0)","v":2},{"$f":"VLOOKUP(Input!F394,Start!$AU$2:$AV$8,2,0)","v":2},{"$f":"VLOOKUP(Input!G394,Start!$AU$2:$AV$8,2,0)","v":2},{"$f":"VLOOKUP(Input!H394,Start!$AU$2:$AV$8,2,0)","v":2},{"$f":"VLOOKUP(Input!I394,Start!$AU$2:$AV$8,2,0)","v":2},{"$f":"VLOOKUP(Input!J394,Start!$AU$2:$AV$8,2,0)","v":2},{"$f":"VLOOKUP(Input!K394,Start!$AU$2:$AV$8,2,0)","v":2},{"$f":"VLOOKUP(Input!L394,Start!$AU$2:$AV$8,2,0)","v":2},{"$f":"VLOOKUP(Input!M394,Start!$AU$2:$AV$8,2,0)","v":2},"MA_Filter_1_Price=2||1||0||7||N","MA_Filter_1_Price=2||1||0||7||N","MA_Filter_1_Price=2||1||0||7||N","MA_Filter_1_Price=2||1||0||7||N","MA_Filter_1_Price=2||1||0||7||N","MA_Filter_1_Price=2||1||0||7||N","MA_Filter_1_Price=2||1||0||7||N","MA_Filter_1_Price=2||1||0||7||N","MA_Filter_1_Price=2||1||0||7||N","MA_Filter_1_Price=2||1||0||7||N","MA_Filter_1_Price=2||1||0||7||N"]
["MA_Filter_1_DistType=0||0||0||1||N","MA_Filter_1_DistType=","||0||0||1||N","Distance type ",{"$f":"VLOOKUP(Input!C395,Start!$BU$2:$BV$3,2,0)","v":1},{"$f":"VLOOKUP(Input!D395,Start!$BU$2:$BV$3,2,0)","v":1},{"$f":"VLOOKUP(Input!E395,Start!$BU$2:$BV$3,2,0)","v":1},{"$f":"VLOOKUP(Input!F395,Start!$BU$2:$BV$3,2,0)","v":1},{"$f":"VLOOKUP(Input!G395,Start!$BU$2:$BV$3,2,0)","v":1},{"$f":"VLOOKUP(Input!H395,Start!$BU$2:$BV$3,2,0)","v":1},{"$f":"VLOOKUP(Input!I395,Start!$BU$2:$BV$3,2,0)","v":1},{"$f":"VLOOKUP(Input!J395,Start!$BU$2:$BV$3,2,0)","v":1},{"$f":"VLOOKUP(Input!K395,Start!$BU$2:$BV$3,2,0)","v":1},{"$f":"VLOOKUP(Input!L395,Start!$BU$2:$BV$3,2,0)","v":1},{"$f":"VLOOKUP(Input!M395,Start!$BU$2:$BV$3,2,0)","v":1},"MA_Filter_1_DistType=1||0||0||1||N","MA_Filter_1_DistType=1||0||0||1||N","MA_Filter_1_DistType=1||0||0||1||N","MA_Filter_1_DistType=1||0||0||1||N","MA_Filter_1_DistType=1||0||0||1||N","MA_Filter_1_DistType=1||0||0||1||N","MA_Filter_1_DistType=1||0||0||1||N","MA_Filter_1_DistType=1||0||0||1||N","MA_Filter_1_DistType=1||0||0||1||N","MA_Filter_1_DistType=1||0||0||1||N","MA_Filter_1_DistType=1||0||0||1||N"]
["MA_Filter_1_DistCoef=0||0||0.000000||0.000000||N","MA_Filter_1_DistCoef=","||0||0.000000||0.000000||N","Points / Coefficient ",{"$f":"Input!C396","v":0},{"$f":"Input!D396","v":0},{"$f":"Input!E396","v":0},{"$f":"Input!F396","v":0},{"$f":"Input!G396","v":0},{"$f":"Input!H396","v":0},{"$f":"Input!I396","v":0},{"$f":"Input!J396","v":0},{"$f":"Input!K396","v":0},{"$f":"Input!L396","v":0},{"$f":"Input!M396","v":0},"MA_Filter_1_DistCoef=0||0||0.000000||0.000000||N","MA_Filter_1_DistCoef=0||0||0.000000||0.000000||N","MA_Filter_1_DistCoef=0||0||0.000000||0.000000||N","MA_Filter_1_DistCoef=0||0||0.000000||0.000000||N","MA_Filter_1_DistCoef=0||0||0.000000||0.000000||N","MA_Filter_1_DistCoef=0||0||0.000000||0.000000||N","MA_Filter_1_DistCoef=0||0||0.000000||0.000000||N","MA_Filter_1_DistCoef=0||0||0.000000||0.000000||N","MA_Filter_1_DistCoef=0||0||0.000000||0.000000||N","MA_Filter_1_DistCoef=0||0||0.000000||0.000000||N","MA_Filter_1_DistCoef=0||0||0.000000||0.000000||N"]
["MA_Filter_1_OpenOn=0||0||0||3||N","MA_Filter_1_OpenOn=","||0||0||3||N","Open on ",{"$f":"VLOOKUP(Input!C397,Start!$AK$2:$AL$5,2,0)","v":0},{"$f":"VLOOKUP(Input!D397,Start!$AK$2:$AL$5,2,0)","v":0},{"$f":"VLOOKUP(Input!E397,Start!$AK$2:$AL$5,2,0)","v":0},{"$f":"VLOOKUP(Input!F397,Start!$AK$2:$AL$5,2,0)","v":0},{"$f":"VLOOKUP(Input!G397,Start!$AK$2:$AL$5,2,0)","v":0},{"$f":"VLOOKUP(Input!H397,Start!$AK$2:$AL$5,2,0)","v":0},{"$f":"VLOOKUP(Input!I397,Start!$AK$2:$AL$5,2,0)","v":0},{"$f":"VLOOKUP(Input!J397,Start!$AK$2:$AL$5,2,0)","v":0},{"$f":"VLOOKUP(Input!K397,Start!$AK$2:$AL$5,2,0)","v":0},{"$f":"VLOOKUP(Input!L397,Start!$AK$2:$AL$5,2,0)","v":0},{"$f":"VLOOKUP(Input!M397,Start!$AK$2:$AL$5,2,0)","v":0},"MA_Filter_1_OpenOn=0||0||0||3||N","MA_Filter_1_OpenOn=0||0||0||3||N","MA_Filter_1_OpenOn=0||0||0||3||N","MA_Filter_1_OpenOn=0||0||0||3||N","MA_Filter_1_OpenOn=0||0||0||3||N","MA_Filter_1_OpenOn=0||0||0||3||N","MA_Filter_1_OpenOn=0||0||0||3||N","MA_Filter_1_OpenOn=0||0||0||3||N","MA_Filter_1_OpenOn=0||0||0||3||N","MA_Filter_1_OpenOn=0||0||0||3||N","MA_Filter_1_OpenOn=0||0||0||3||N"]
["MA_Filter_1_MartinOn=0||0||0||3||N","MA_Filter_1_MartinOn=","||0||0||3||N","Open martin on ",{"$f":"VLOOKUP(Input!C398,Start!$AK$2:$AL$5,2,0)","v":1},{"$f":"VLOOKUP(Input!D398,Start!$AK$2:$AL$5,2,0)","v":1},{"$f":"VLOOKUP(Input!E398,Start!$AK$2:$AL$5,2,0)","v":1},{"$f":"VLOOKUP(Input!F398,Start!$AK$2:$AL$5,2,0)","v":1},{"$f":"VLOOKUP(Input!G398,Start!$AK$2:$AL$5,2,0)","v":1},{"$f":"VLOOKUP(Input!H398,Start!$AK$2:$AL$5,2,0)","v":1},{"$f":"VLOOKUP(Input!I398,Start!$AK$2:$AL$5,2,0)","v":1},{"$f":"VLOOKUP(Input!J398,Start!$AK$2:$AL$5,2,0)","v":1},{"$f":"VLOOKUP(Input!K398,Start!$AK$2:$AL$5,2,0)","v":1},{"$f":"VLOOKUP(Input!L398,Start!$AK$2:$AL$5,2,0)","v":1},{"$f":"VLOOKUP(Input!M398,Start!$AK$2:$AL$5,2,0)","v":1},"MA_Filter_1_MartinOn=1||0||0||3||N","MA_Filter_1_MartinOn=1||0||0||3||N","MA_Filter_1_MartinOn=1||0||0||3||N","MA_Filter_1_MartinOn=1||0||0||3||N","MA_Filter_1_MartinOn=1||0||0||3||N","MA_Filter_1_MartinOn=1||0||0||3||N","MA_Filter_1_MartinOn=1||0||0||3||N","MA_Filter_1_MartinOn=1||0||0||3||N","MA_Filter_1_MartinOn=1||0||0||3||N","MA_Filter_1_MartinOn=1||0||0||3||N","MA_Filter_1_MartinOn=1||0||0||3||N"]
["MA_Filter_1_HedgeOn=0||0||0||3||N","MA_Filter_1_HedgeOn=","||0||0||3||N","Open hedge on ",{"$f":"VLOOKUP(Input!C399,Start!$AK$2:$AL$5,2,0)","v":1},{"$f":"VLOOKUP(Input!D399,Start!$AK$2:$AL$5,2,0)","v":1},{"$f":"VLOOKUP(Input!E399,Start!$AK$2:$AL$5,2,0)","v":1},{"$f":"VLOOKUP(Input!F399,Start!$AK$2:$AL$5,2,0)","v":1},{"$f":"VLOOKUP(Input!G399,Start!$AK$2:$AL$5,2,0)","v":1},{"$f":"VLOOKUP(Input!H399,Start!$AK$2:$AL$5,2,0)","v":1},{"$f":"VLOOKUP(Input!I399,Start!$AK$2:$AL$5,2,0)","v":1},{"$f":"VLOOKUP(Input!J399,Start!$AK$2:$AL$5,2,0)","v":1},{"$f":"VLOOKUP(Input!K399,Start!$AK$2:$AL$5,2,0)","v":1},{"$f":"VLOOKUP(Input!L399,Start!$AK$2:$AL$5,2,0)","v":1},{"$f":"VLOOKUP(Input!M399,Start!$AK$2:$AL$5,2,0)","v":1},"MA_Filter_1_HedgeOn=1||0||0||3||N","MA_Filter_1_HedgeOn=1||0||0||3||N","MA_Filter_1_HedgeOn=1||0||0||3||N","MA_Filter_1_HedgeOn=1||0||0||3||N","MA_Filter_1_HedgeOn=1||0||0||3||N","MA_Filter_1_HedgeOn=1||0||0||3||N","MA_Filter_1_HedgeOn=1||0||0||3||N","MA_Filter_1_HedgeOn=1||0||0||3||N","MA_Filter_1_HedgeOn=1||0||0||3||N","MA_Filter_1_HedgeOn=1||0||0||3||N","MA_Filter_1_HedgeOn=1||0||0||3||N"]
["MA_Filter_1_CloseOn=0||0||0||4||N","MA_Filter_1_CloseOn=","||0||0||4||N","Close on ",{"$f":"VLOOKUP(Input!C400,Start!$AM$2:$AN$6,2,0)","v":2},{"$f":"VLOOKUP(Input!D400,Start!$AM$2:$AN$6,2,0)","v":2},{"$f":"VLOOKUP(Input!E400,Start!$AM$2:$AN$6,2,0)","v":2},{"$f":"VLOOKUP(Input!F400,Start!$AM$2:$AN$6,2,0)","v":2},{"$f":"VLOOKUP(Input!G400,Start!$AM$2:$AN$6,2,0)","v":2},{"$f":"VLOOKUP(Input!H400,Start!$AM$2:$AN$6,2,0)","v":2},{"$f":"VLOOKUP(Input!I400,Start!$AM$2:$AN$6,2,0)","v":2},{"$f":"VLOOKUP(Input!J400,Start!$AM$2:$AN$6,2,0)","v":2},{"$f":"VLOOKUP(Input!K400,Start!$AM$2:$AN$6,2,0)","v":2},{"$f":"VLOOKUP(Input!L400,Start!$AM$2:$AN$6,2,0)","v":2},{"$f":"VLOOKUP(Input!M400,Start!$AM$2:$AN$6,2,0)","v":2},"MA_Filter_1_CloseOn=2||0||0||4||N","MA_Filter_1_CloseOn=2||0||0||4||N","MA_Filter_1_CloseOn=2||0||0||4||N","MA_Filter_1_CloseOn=2||0||0||4||N","MA_Filter_1_CloseOn=2||0||0||4||N","MA_Filter_1_CloseOn=2||0||0||4||N","MA_Filter_1_CloseOn=2||0||0||4||N","MA_Filter_1_CloseOn=2||0||0||4||N","MA_Filter_1_CloseOn=2||0||0||4||N","MA_Filter_1_CloseOn=2||0||0||4||N","MA_Filter_1_CloseOn=2||0||0||4||N"]
["MA_Filter_1_PartialCloseOn=0||0||0||3||N","MA_Filter_1_PartialCloseOn=","||0||0||3||N","Partial close on ",{"$f":"VLOOKUP(Input!C401,Start!$AO$2:$AP$4,2,0)","v":1},{"$f":"VLOOKUP(Input!D401,Start!$AO$2:$AP$4,2,0)","v":1},{"$f":"VLOOKUP(Input!E401,Start!$AO$2:$AP$4,2,0)","v":1},{"$f":"VLOOKUP(Input!F401,Start!$AO$2:$AP$4,2,0)","v":1},{"$f":"VLOOKUP(Input!G401,Start!$AO$2:$AP$4,2,0)","v":1},{"$f":"VLOOKUP(Input!H401,Start!$AO$2:$AP$4,2,0)","v":1},{"$f":"VLOOKUP(Input!I401,Start!$AO$2:$AP$4,2,0)","v":1},{"$f":"VLOOKUP(Input!J401,Start!$AO$2:$AP$4,2,0)","v":1},{"$f":"VLOOKUP(Input!K401,Start!$AO$2:$AP$4,2,0)","v":1},{"$f":"VLOOKUP(Input!L401,Start!$AO$2:$AP$4,2,0)","v":1},{"$f":"VLOOKUP(Input!M401,Start!$AO$2:$AP$4,2,0)","v":1},"MA_Filter_1_PartialCloseOn=1||0||0||3||N","MA_Filter_1_PartialCloseOn=1||0||0||3||N","MA_Filter_1_PartialCloseOn=1||0||0||3||N","MA_Filter_1_PartialCloseOn=1||0||0||3||N","MA_Filter_1_PartialCloseOn=1||0||0||3||N","MA_Filter_1_PartialCloseOn=1||0||0||3||N","MA_Filter_1_PartialCloseOn=1||0||0||3||N","MA_Filter_1_PartialCloseOn=1||0||0||3||N","MA_Filter_1_PartialCloseOn=1||0||0||3||N","MA_Filter_1_PartialCloseOn=1||0||0||3||N","MA_Filter_1_PartialCloseOn=1||0||0||3||N"]
["; MA Filter #2 properties","; MA Filter #2 properties","; MA Filter #2 properties","MA Filter #2 properties ",null,null,null,null,null,null,null,null,null,null,null,{"$f":"$A402","v":"; MA Filter #2 properties"},"; MA Filter #2 properties","; MA Filter #2 properties","; MA Filter #2 properties","; MA Filter #2 properties","; MA Filter #2 properties","; MA Filter #2 properties","; MA Filter #2 properties","; MA Filter #2 properties","; MA Filter #2 properties","; MA Filter #2 properties"]
["MA_Filter_2_Properties====================================================================================","MA_Filter_2_Properties====================================================================================","MA_Filter_2_Properties====================================================================================","MA Filter properties: ",null,null,null,null,null,null,null,null,null,null,null,"MA_Filter_2_Properties====================================================================================","MA_Filter_2_Properties====================================================================================","MA_Filter_2_Properties====================================================================================","MA_Filter_2_Properties====================================================================================","MA_Filter_2_Properties====================================================================================","MA_Filter_2_Properties====================================================================================","MA_Filter_2_Properties====================================================================================","MA_Filter_2_Properties====================================================================================","MA_Filter_2_Properties====================================================================================","MA_Filter_2_Properties====================================================================================","MA_Filter_2_Properties===================================================================================="]
["MA_Filter_2_Type=0||0||0||4||N",{"$f":"_xlfn.CONCAT(LEFT(TRIM(A404),FIND(\"=\",TRIM(A404))-1),\"=\")","v":"MA_Filter_2_Type="},{"$f":"_xlfn.CONCAT(\"|\",RIGHT(TRIM(A404),LEN(TRIM(A404))-SEARCH(\"|\",TRIM(A404))))","v":"||0||0||4||N"},"Type ",{"$f":"VLOOKUP(Input!C404,Start!$BQ$2:$BR$6,2,0)","v":1},{"$f":"VLOOKUP(Input!D404,Start!$BQ$2:$BR$6,2,0)","v":1},{"$f":"VLOOKUP(Input!E404,Start!$BQ$2:$BR$6,2,0)","v":1},{"$f":"VLOOKUP(Input!F404,Start!$BQ$2:$BR$6,2,0)","v":1},{"$f":"VLOOKUP(Input!G404,Start!$BQ$2:$BR$6,2,0)","v":1},{"$f":"VLOOKUP(Input!H404,Start!$BQ$2:$BR$6,2,0)","v":1},{"$f":"VLOOKUP(Input!I404,Start!$BQ$2:$BR$6,2,0)","v":1},{"$f":"VLOOKUP(Input!J404,Start!$BQ$2:$BR$6,2,0)","v":1},{"$f":"VLOOKUP(Input!K404,Start!$BQ$2:$BR$6,2,0)","v":1},{"$f":"VLOOKUP(Input!L404,Start!$BQ$2:$BR$6,2,0)","v":1},{"$f":"VLOOKUP(Input!M404,Start!$BQ$2:$BR$6,2,0)","v":1},{"$f":"_xlfn.CONCAT($B404,E404,$C404)","v":"MA_Filter_2_Type=1||0||0||4||N"},"MA_Filter_2_Type=1||0||0||4||N","MA_Filter_2_Type=1||0||0||4||N","MA_Filter_2_Type=1||0||0||4||N","MA_Filter_2_Type=1||0||0||4||N","MA_Filter_2_Type=1||0||0||4||N","MA_Filter_2_Type=1||0||0||4||N","MA_Filter_2_Type=1||0||0||4||N","MA_Filter_2_Type=1||0||0||4||N","MA_Filter_2_Type=1||0||0||4||N","MA_Filter_2_Type=1||0||0||4||N"]
["MA_Filter_2_TF=0||0||0||49153||N","MA_Filter_2_TF=","||0||0||49153||N","TimeFrame ",{"$f":"VLOOKUP(Input!C405,Start!$K$2:$L$22,2,0)","v":2},{"$f":"VLOOKUP(Input!D405,Start!$K$2:$L$22,2,0)","v":2},{"$f":"VLOOKUP(Input!E405,Start!$K$2:$L$22,2,0)","v":2},{"$f":"VLOOKUP(Input!F405,Start!$K$2:$L$22,2,0)","v":2},{"$f":"VLOOKUP(Input!G405,Start!$K$2:$L$22,2,0)","v":2},{"$f":"VLOOKUP(Input!H405,Start!$K$2:$L$22,2,0)","v":2},{"$f":"VLOOKUP(Input!I405,Start!$K$2:$L$22,2,0)","v":2},{"$f":"VLOOKUP(Input!J405,Start!$K$2:$L$22,2,0)","v":2},{"$f":"VLOOKUP(Input!K405,Start!$K$2:$L$22,2,0)","v":2},{"$f":"VLOOKUP(Input!L405,Start!$K$2:$L$22,2,0)","v":2},{"$f":"VLOOKUP(Input!M405,Start!$K$2:$L$22,2,0)","v":2},"MA_Filter_2_TF=2||0||0||49153||N","MA_Filter_2_TF=2||0||0||49153||N","MA_Filter_2_TF=2||0||0||49153||N","MA_Filter_2_TF=2||0||0||49153||N","MA_Filter_2_TF=2||0||0||49153||N","MA_Filter_2_TF=2||0||0||49153||N","MA_Filter_2_TF=2||0||0||49153||N","MA_Filter_2_TF=2||0||0||49153||N","MA_Filter_2_TF=2||0||0||49153||N","MA_Filter_2_TF=2||0||0||49153||N","MA_Filter_2_TF=2||0||0||49153||N"]
["MA_Filter_2_Period=50||50||1||500||N","MA_Filter_2_Period=","||50||1||500||N","MA Period ",{"$f":"Input!C406","v":0},{"$f":"Input!D406","v":0},{"$f":"Input!E406","v":0},{"$f":"Input!F406","v":0},{"$f":"Input!G406","v":0},{"$f":"Input!H406","v":0},{"$f":"Input!I406","v":0},{"$f":"Input!J406","v":0},{"$f":"Input!K406","v":0},{"$f":"Input!L406","v":0},{"$f":"Input!M406","v":0},"MA_Filter_2_Period=0||50||1||500||N","MA_Filter_2_Period=0||50||1||500||N","MA_Filter_2_Period=0||50||1||500||N","MA_Filter_2_Period=0||50||1||500||N","MA_Filter_2_Period=0||50||1||500||N","MA_Filter_2_Period=0||50||1||500||N","MA_Filter_2_Period=0||50||1||500||N","MA_Filter_2_Period=0||50||1||500||N","MA_Filter_2_Period=0||50||1||500||N","MA_Filter_2_Period=0||50||1||500||N","MA_Filter_2_Period=0||50||1||500||N"]
["MA_Filter_2_Method=1||0||0||3||N","MA_Filter_2_Method=","||0||0||3||N","MA Method ",{"$f":"VLOOKUP(Input!C407,Start!$BS$2:$BT$10,2,0)","v":3},{"$f":"VLOOKUP(Input!D407,Start!$BS$2:$BT$10,2,0)","v":3},{"$f":"VLOOKUP(Input!E407,Start!$BS$2:$BT$10,2,0)","v":3},{"$f":"VLOOKUP(Input!F407,Start!$BS$2:$BT$10,2,0)","v":3},{"$f":"VLOOKUP(Input!G407,Start!$BS$2:$BT$10,2,0)","v":3},{"$f":"VLOOKUP(Input!H407,Start!$BS$2:$BT$10,2,0)","v":3},{"$f":"VLOOKUP(Input!I407,Start!$BS$2:$BT$10,2,0)","v":3},{"$f":"VLOOKUP(Input!J407,Start!$BS$2:$BT$10,2,0)","v":3},{"$f":"VLOOKUP(Input!K407,Start!$BS$2:$BT$10,2,0)","v":3},{"$f":"VLOOKUP(Input!L407,Start!$BS$2:$BT$10,2,0)","v":3},{"$f":"VLOOKUP(Input!M407,Start!$BS$2:$BT$10,2,0)","v":3},"MA_Filter_2_Method=3||0||0||3||N","MA_Filter_2_Method=3||0||0||3||N","MA_Filter_2_Method=3||0||0||3||N","MA_Filter_2_Method=3||0||0||3||N","MA_Filter_2_Method=3||0||0||3||N","MA_Filter_2_Method=3||0||0||3||N","MA_Filter_2_Method=3||0||0||3||N","MA_Filter_2_Method=3||0||0||3||N","MA_Filter_2_Method=3||0||0||3||N","MA_Filter_2_Method=3||0||0||3||N","MA_Filter_2_Method=3||0||0||3||N"]
["MA_Filter_2_Price=1||1||0||7||N","MA_Filter_2_Price=","||1||0||7||N","Applied price ",{"$f":"VLOOKUP(Input!C408,Start!$AU$2:$AV$8,2,0)","v":2},{"$f":"VLOOKUP(Input!D408,Start!$AU$2:$AV$8,2,0)","v":2},{"$f":"VLOOKUP(Input!E408,Start!$AU$2:$AV$8,2,0)","v":2},{"$f":"VLOOKUP(Input!F408,Start!$AU$2:$AV$8,2,0)","v":2},{"$f":"VLOOKUP(Input!G408,Start!$AU$2:$AV$8,2,0)","v":2},{"$f":"VLOOKUP(Input!H408,Start!$AU$2:$AV$8,2,0)","v":2},{"$f":"VLOOKUP(Input!I408,Start!$AU$2:$AV$8,2,0)","v":2},{"$f":"VLOOKUP(Input!J408,Start!$AU$2:$AV$8,2,0)","v":2},{"$f":"VLOOKUP(Input!K408,Start!$AU$2:$AV$8,2,0)","v":2},{"$f":"VLOOKUP(Input!L408,Start!$AU$2:$AV$8,2,0)","v":2},{"$f":"VLOOKUP(Input!M408,Start!$AU$2:$AV$8,2,0)","v":2},"MA_Filter_2_Price=2||1||0||7||N","MA_Filter_2_Price=2||1||0||7||N","MA_Filter_2_Price=2||1||0||7||N","MA_Filter_2_Price=2||1||0||7||N","MA_Filter_2_Price=2||1||0||7||N","MA_Filter_2_Price=2||1||0||7||N","MA_Filter_2_Price=2||1||0||7||N","MA_Filter_2_Price=2||1||0||7||N","MA_Filter_2_Price=2||1||0||7||N","MA_Filter_2_Price=2||1||0||7||N","MA_Filter_2_Price=2||1||0||7||N"]
["MA_Filter_2_DistType=0||0||0||1||N","MA_Filter_2_DistType=","||0||0||1||N","Distance type ",{"$f":"VLOOKUP(Input!C409,Start!$BU$2:$BV$3,2,0)","v":1},{"$f":"VLOOKUP(Input!D409,Start!$BU$2:$BV$3,2,0)","v":1},{"$f":"VLOOKUP(Input!E409,Start!$BU$2:$BV$3,2,0)","v":1},{"$f":"VLOOKUP(Input!F409,Start!$BU$2:$BV$3,2,0)","v":1},{"$f":"VLOOKUP(Input!G409,Start!$BU$2:$BV$3,2,0)","v":1},{"$f":"VLOOKUP(Input!H409,Start!$BU$2:$BV$3,2,0)","v":1},{"$f":"VLOOKUP(Input!I409,Start!$BU$2:$BV$3,2,0)","v":1},{"$f":"VLOOKUP(Input!J409,Start!$BU$2:$BV$3,2,0)","v":1},{"$f":"VLOOKUP(Input!K409,Start!$BU$2:$BV$3,2,0)","v":1},{"$f":"VLOOKUP(Input!L409,Start!$BU$2:$BV$3,2,0)","v":1},{"$f":"VLOOKUP(Input!M409,Start!$BU$2:$BV$3,2,0)","v":1},"MA_Filter_2_DistType=1||0||0||1||N","MA_Filter_2_DistType=1||0||0||1||N","MA_Filter_2_DistType=1||0||0||1||N","MA_Filter_2_DistType=1||0||0||1||N","MA_Filter_2_DistType=1||0||0||1||N","MA_Filter_2_DistType=1||0||0||1||N","MA_Filter_2_DistType=1||0||0||1||N","MA_Filter_2_DistType=1||0||0||1||N","MA_Filter_2_DistType=1||0||0||1||N","MA_Filter_2_DistType=1||0||0||1||N","MA_Filter_2_DistType=1||0||0||1||N"]
["MA_Filter_2_DistCoef=0||0||0.000000||0.000000||N","MA_Filter_2_DistCoef=","||0||0.000000||0.000000||N","Points / Coefficient ",{"$f":"Input!C410","v":0},{"$f":"Input!D410","v":0},{"$f":"Input!E410","v":0},{"$f":"Input!F410","v":0},{"$f":"Input!G410","v":0},{"$f":"Input!H410","v":0},{"$f":"Input!I410","v":0},{"$f":"Input!J410","v":0},{"$f":"Input!K410","v":0},{"$f":"Input!L410","v":0},{"$f":"Input!M410","v":0},"MA_Filter_2_DistCoef=0||0||0.000000||0.000000||N","MA_Filter_2_DistCoef=0||0||0.000000||0.000000||N","MA_Filter_2_DistCoef=0||0||0.000000||0.000000||N","MA_Filter_2_DistCoef=0||0||0.000000||0.000000||N","MA_Filter_2_DistCoef=0||0||0.000000||0.000000||N","MA_Filter_2_DistCoef=0||0||0.000000||0.000000||N","MA_Filter_2_DistCoef=0||0||0.000000||0.000000||N","MA_Filter_2_DistCoef=0||0||0.000000||0.000000||N","MA_Filter_2_DistCoef=0||0||0.000000||0.000000||N","MA_Filter_2_DistCoef=0||0||0.000000||0.000000||N","MA_Filter_2_DistCoef=0||0||0.000000||0.000000||N"]
["MA_Filter_2_OpenOn=0||0||0||3||N","MA_Filter_2_OpenOn=","||0||0||3||N","Open on ",{"$f":"VLOOKUP(Input!C411,Start!$AK$2:$AL$5,2,0)","v":0},{"$f":"VLOOKUP(Input!D411,Start!$AK$2:$AL$5,2,0)","v":0},{"$f":"VLOOKUP(Input!E411,Start!$AK$2:$AL$5,2,0)","v":0},{"$f":"VLOOKUP(Input!F411,Start!$AK$2:$AL$5,2,0)","v":0},{"$f":"VLOOKUP(Input!G411,Start!$AK$2:$AL$5,2,0)","v":0},{"$f":"VLOOKUP(Input!H411,Start!$AK$2:$AL$5,2,0)","v":0},{"$f":"VLOOKUP(Input!I411,Start!$AK$2:$AL$5,2,0)","v":0},{"$f":"VLOOKUP(Input!J411,Start!$AK$2:$AL$5,2,0)","v":0},{"$f":"VLOOKUP(Input!K411,Start!$AK$2:$AL$5,2,0)","v":0},{"$f":"VLOOKUP(Input!L411,Start!$AK$2:$AL$5,2,0)","v":0},{"$f":"VLOOKUP(Input!M411,Start!$AK$2:$AL$5,2,0)","v":0},"MA_Filter_2_OpenOn=0||0||0||3||N","MA_Filter_2_OpenOn=0||0||0||3||N","MA_Filter_2_OpenOn=0||0||0||3||N","MA_Filter_2_OpenOn=0||0||0||3||N","MA_Filter_2_OpenOn=0||0||0||3||N","MA_Filter_2_OpenOn=0||0||0||3||N","MA_Filter_2_OpenOn=0||0||0||3||N","MA_Filter_2_OpenOn=0||0||0||3||N","MA_Filter_2_OpenOn=0||0||0||3||N","MA_Filter_2_OpenOn=0||0||0||3||N","MA_Filter_2_OpenOn=0||0||0||3||N"]
["MA_Filter_2_MartinOn=0||0||0||3||N","MA_Filter_2_MartinOn=","||0||0||3||N","Open martin on ",{"$f":"VLOOKUP(Input!C412,Start!$AK$2:$AL$5,2,0)","v":1},{"$f":"VLOOKUP(Input!D412,Start!$AK$2:$AL$5,2,0)","v":1},{"$f":"VLOOKUP(Input!E412,Start!$AK$2:$AL$5,2,0)","v":1},{"$f":"VLOOKUP(Input!F412,Start!$AK$2:$AL$5,2,0)","v":1},{"$f":"VLOOKUP(Input!G412,Start!$AK$2:$AL$5,2,0)","v":1},{"$f":"VLOOKUP(Input!H412,Start!$AK$2:$AL$5,2,0)","v":1},{"$f":"VLOOKUP(Input!I412,Start!$AK$2:$AL$5,2,0)","v":1},{"$f":"VLOOKUP(Input!J412,Start!$AK$2:$AL$5,2,0)","v":1},{"$f":"VLOOKUP(Input!K412,Start!$AK$2:$AL$5,2,0)","v":1},{"$f":"VLOOKUP(Input!L412,Start!$AK$2:$AL$5,2,0)","v":1},{"$f":"VLOOKUP(Input!M412,Start!$AK$2:$AL$5,2,0)","v":1},"MA_Filter_2_MartinOn=1||0||0||3||N","MA_Filter_2_MartinOn=1||0||0||3||N","MA_Filter_2_MartinOn=1||0||0||3||N","MA_Filter_2_MartinOn=1||0||0||3||N","MA_Filter_2_MartinOn=1||0||0||3||N","MA_Filter_2_MartinOn=1||0||0||3||N","MA_Filter_2_MartinOn=1||0||0||3||N","MA_Filter_2_MartinOn=1||0||0||3||N","MA_Filter_2_MartinOn=1||0||0||3||N","MA_Filter_2_MartinOn=1||0||0||3||N","MA_Filter_2_MartinOn=1||0||0||3||N"]
["MA_Filter_2_HedgeOn=0||0||0||3||N","MA_Filter_2_HedgeOn=","||0||0||3||N","Open hedge on ",{"$f":"VLOOKUP(Input!C413,Start!$AK$2:$AL$5,2,0)","v":1},{"$f":"VLOOKUP(Input!D413,Start!$AK$2:$AL$5,2,0)","v":1},{"$f":"VLOOKUP(Input!E413,Start!$AK$2:$AL$5,2,0)","v":1},{"$f":"VLOOKUP(Input!F413,Start!$AK$2:$AL$5,2,0)","v":1},{"$f":"VLOOKUP(Input!G413,Start!$AK$2:$AL$5,2,0)","v":1},{"$f":"VLOOKUP(Input!H413,Start!$AK$2:$AL$5,2,0)","v":1},{"$f":"VLOOKUP(Input!I413,Start!$AK$2:$AL$5,2,0)","v":1},{"$f":"VLOOKUP(Input!J413,Start!$AK$2:$AL$5,2,0)","v":1},{"$f":"VLOOKUP(Input!K413,Start!$AK$2:$AL$5,2,0)","v":1},{"$f":"VLOOKUP(Input!L413,Start!$AK$2:$AL$5,2,0)","v":1},{"$f":"VLOOKUP(Input!M413,Start!$AK$2:$AL$5,2,0)","v":1},"MA_Filter_2_HedgeOn=1||0||0||3||N","MA_Filter_2_HedgeOn=1||0||0||3||N","MA_Filter_2_HedgeOn=1||0||0||3||N","MA_Filter_2_HedgeOn=1||0||0||3||N","MA_Filter_2_HedgeOn=1||0||0||3||N","MA_Filter_2_HedgeOn=1||0||0||3||N","MA_Filter_2_HedgeOn=1||0||0||3||N","MA_Filter_2_HedgeOn=1||0||0||3||N","MA_Filter_2_HedgeOn=1||0||0||3||N","MA_Filter_2_HedgeOn=1||0||0||3||N","MA_Filter_2_HedgeOn=1||0||0||3||N"]
["MA_Filter_2_CloseOn=0||0||0||4||N","MA_Filter_2_CloseOn=","||0||0||4||N","Close on ",{"$f":"VLOOKUP(Input!C414,Start!$AM$2:$AN$6,2,0)","v":2},{"$f":"VLOOKUP(Input!D414,Start!$AM$2:$AN$6,2,0)","v":2},{"$f":"VLOOKUP(Input!E414,Start!$AM$2:$AN$6,2,0)","v":2},{"$f":"VLOOKUP(Input!F414,Start!$AM$2:$AN$6,2,0)","v":2},{"$f":"VLOOKUP(Input!G414,Start!$AM$2:$AN$6,2,0)","v":2},{"$f":"VLOOKUP(Input!H414,Start!$AM$2:$AN$6,2,0)","v":2},{"$f":"VLOOKUP(Input!I414,Start!$AM$2:$AN$6,2,0)","v":2},{"$f":"VLOOKUP(Input!J414,Start!$AM$2:$AN$6,2,0)","v":2},{"$f":"VLOOKUP(Input!K414,Start!$AM$2:$AN$6,2,0)","v":2},{"$f":"VLOOKUP(Input!L414,Start!$AM$2:$AN$6,2,0)","v":2},{"$f":"VLOOKUP(Input!M414,Start!$AM$2:$AN$6,2,0)","v":2},"MA_Filter_2_CloseOn=2||0||0||4||N","MA_Filter_2_CloseOn=2||0||0||4||N","MA_Filter_2_CloseOn=2||0||0||4||N","MA_Filter_2_CloseOn=2||0||0||4||N","MA_Filter_2_CloseOn=2||0||0||4||N","MA_Filter_2_CloseOn=2||0||0||4||N","MA_Filter_2_CloseOn=2||0||0||4||N","MA_Filter_2_CloseOn=2||0||0||4||N","MA_Filter_2_CloseOn=2||0||0||4||N","MA_Filter_2_CloseOn=2||0||0||4||N","MA_Filter_2_CloseOn=2||0||0||4||N"]
["MA_Filter_2_PartialCloseOn=0||0||0||3||N","MA_Filter_2_PartialCloseOn=","||0||0||3||N","Partial close on ",{"$f":"VLOOKUP(Input!C415,Start!$AO$2:$AP$4,2,0)","v":1},{"$f":"VLOOKUP(Input!D415,Start!$AO$2:$AP$4,2,0)","v":1},{"$f":"VLOOKUP(Input!E415,Start!$AO$2:$AP$4,2,0)","v":1},{"$f":"VLOOKUP(Input!F415,Start!$AO$2:$AP$4,2,0)","v":1},{"$f":"VLOOKUP(Input!G415,Start!$AO$2:$AP$4,2,0)","v":1},{"$f":"VLOOKUP(Input!H415,Start!$AO$2:$AP$4,2,0)","v":1},{"$f":"VLOOKUP(Input!I415,Start!$AO$2:$AP$4,2,0)","v":1},{"$f":"VLOOKUP(Input!J415,Start!$AO$2:$AP$4,2,0)","v":1},{"$f":"VLOOKUP(Input!K415,Start!$AO$2:$AP$4,2,0)","v":1},{"$f":"VLOOKUP(Input!L415,Start!$AO$2:$AP$4,2,0)","v":1},{"$f":"VLOOKUP(Input!M415,Start!$AO$2:$AP$4,2,0)","v":1},"MA_Filter_2_PartialCloseOn=1||0||0||3||N","MA_Filter_2_PartialCloseOn=1||0||0||3||N","MA_Filter_2_PartialCloseOn=1||0||0||3||N","MA_Filter_2_PartialCloseOn=1||0||0||3||N","MA_Filter_2_PartialCloseOn=1||0||0||3||N","MA_Filter_2_PartialCloseOn=1||0||0||3||N","MA_Filter_2_PartialCloseOn=1||0||0||3||N","MA_Filter_2_PartialCloseOn=1||0||0||3||N","MA_Filter_2_PartialCloseOn=1||0||0||3||N","MA_Filter_2_PartialCloseOn=1||0||0||3||N","MA_Filter_2_PartialCloseOn=1||0||0||3||N"]
["; MA Filter #3 properties","; MA Filter #3 properties","; MA Filter #3 properties","MA Filter #3 properties ",null,null,null,null,null,null,null,null,null,null,null,{"$f":"$A416","v":"; MA Filter #3 properties"},"; MA Filter #3 properties","; MA Filter #3 properties","; MA Filter #3 properties","; MA Filter #3 properties","; MA Filter #3 properties","; MA Filter #3 properties","; MA Filter #3 properties","; MA Filter #3 properties","; MA Filter #3 properties","; MA Filter #3 properties"]
["MA_Filter_3_Properties====================================================================================","MA_Filter_3_Properties====================================================================================","MA_Filter_3_Properties====================================================================================","MA Filter properties: ",null,null,null,null,null,null,null,null,null,null,null,"MA_Filter_3_Properties====================================================================================","MA_Filter_3_Properties====================================================================================","MA_Filter_3_Properties====================================================================================","MA_Filter_3_Properties====================================================================================","MA_Filter_3_Properties====================================================================================","MA_Filter_3_Properties====================================================================================","MA_Filter_3_Properties====================================================================================","MA_Filter_3_Properties====================================================================================","MA_Filter_3_Properties====================================================================================","MA_Filter_3_Properties====================================================================================","MA_Filter_3_Properties===================================================================================="]
["MA_Filter_3_Type=0||0||0||4||N",{"$f":"_xlfn.CONCAT(LEFT(TRIM(A418),FIND(\"=\",TRIM(A418))-1),\"=\")","v":"MA_Filter_3_Type="},{"$f":"_xlfn.CONCAT(\"|\",RIGHT(TRIM(A418),LEN(TRIM(A418))-SEARCH(\"|\",TRIM(A418))))","v":"||0||0||4||N"},"Type ",{"$f":"VLOOKUP(Input!C418,Start!$BQ$2:$BR$6,2,0)","v":1},{"$f":"VLOOKUP(Input!D418,Start!$BQ$2:$BR$6,2,0)","v":1},{"$f":"VLOOKUP(Input!E418,Start!$BQ$2:$BR$6,2,0)","v":1},{"$f":"VLOOKUP(Input!F418,Start!$BQ$2:$BR$6,2,0)","v":1},{"$f":"VLOOKUP(Input!G418,Start!$BQ$2:$BR$6,2,0)","v":1},{"$f":"VLOOKUP(Input!H418,Start!$BQ$2:$BR$6,2,0)","v":1},{"$f":"VLOOKUP(Input!I418,Start!$BQ$2:$BR$6,2,0)","v":1},{"$f":"VLOOKUP(Input!J418,Start!$BQ$2:$BR$6,2,0)","v":1},{"$f":"VLOOKUP(Input!K418,Start!$BQ$2:$BR$6,2,0)","v":1},{"$f":"VLOOKUP(Input!L418,Start!$BQ$2:$BR$6,2,0)","v":1},{"$f":"VLOOKUP(Input!M418,Start!$BQ$2:$BR$6,2,0)","v":1},{"$f":"_xlfn.CONCAT($B418,E418,$C418)","v":"MA_Filter_3_Type=1||0||0||4||N"},"MA_Filter_3_Type=1||0||0||4||N","MA_Filter_3_Type=1||0||0||4||N","MA_Filter_3_Type=1||0||0||4||N","MA_Filter_3_Type=1||0||0||4||N","MA_Filter_3_Type=1||0||0||4||N","MA_Filter_3_Type=1||0||0||4||N","MA_Filter_3_Type=1||0||0||4||N","MA_Filter_3_Type=1||0||0||4||N","MA_Filter_3_Type=1||0||0||4||N","MA_Filter_3_Type=1||0||0||4||N"]
["MA_Filter_3_TF=0||0||0||49153||N","MA_Filter_3_TF=","||0||0||49153||N","TimeFrame ",{"$f":"VLOOKUP(Input!C419,Start!$K$2:$L$22,2,0)","v":2},{"$f":"VLOOKUP(Input!D419,Start!$K$2:$L$22,2,0)","v":2},{"$f":"VLOOKUP(Input!E419,Start!$K$2:$L$22,2,0)","v":2},{"$f":"VLOOKUP(Input!F419,Start!$K$2:$L$22,2,0)","v":2},{"$f":"VLOOKUP(Input!G419,Start!$K$2:$L$22,2,0)","v":2},{"$f":"VLOOKUP(Input!H419,Start!$K$2:$L$22,2,0)","v":2},{"$f":"VLOOKUP(Input!I419,Start!$K$2:$L$22,2,0)","v":2},{"$f":"VLOOKUP(Input!J419,Start!$K$2:$L$22,2,0)","v":2},{"$f":"VLOOKUP(Input!K419,Start!$K$2:$L$22,2,0)","v":2},{"$f":"VLOOKUP(Input!L419,Start!$K$2:$L$22,2,0)","v":2},{"$f":"VLOOKUP(Input!M419,Start!$K$2:$L$22,2,0)","v":2},"MA_Filter_3_TF=2||0||0||49153||N","MA_Filter_3_TF=2||0||0||49153||N","MA_Filter_3_TF=2||0||0||49153||N","MA_Filter_3_TF=2||0||0||49153||N","MA_Filter_3_TF=2||0||0||49153||N","MA_Filter_3_TF=2||0||0||49153||N","MA_Filter_3_TF=2||0||0||49153||N","MA_Filter_3_TF=2||0||0||49153||N","MA_Filter_3_TF=2||0||0||49153||N","MA_Filter_3_TF=2||0||0||49153||N","MA_Filter_3_TF=2||0||0||49153||N"]
["MA_Filter_3_Period=50||50||1||500||N","MA_Filter_3_Period=","||50||1||500||N","MA Period ",{"$f":"Input!C420","v":0},{"$f":"Input!D420","v":0},{"$f":"Input!E420","v":0},{"$f":"Input!F420","v":0},{"$f":"Input!G420","v":0},{"$f":"Input!H420","v":0},{"$f":"Input!I420","v":0},{"$f":"Input!J420","v":0},{"$f":"Input!K420","v":0},{"$f":"Input!L420","v":0},{"$f":"Input!M420","v":0},"MA_Filter_3_Period=0||50||1||500||N","MA_Filter_3_Period=0||50||1||500||N","MA_Filter_3_Period=0||50||1||500||N","MA_Filter_3_Period=0||50||1||500||N","MA_Filter_3_Period=0||50||1||500||N","MA_Filter_3_Period=0||50||1||500||N","MA_Filter_3_Period=0||50||1||500||N","MA_Filter_3_Period=0||50||1||500||N","MA_Filter_3_Period=0||50||1||500||N","MA_Filter_3_Period=0||50||1||500||N","MA_Filter_3_Period=0||50||1||500||N"]
["MA_Filter_3_Method=1||0||0||3||N","MA_Filter_3_Method=","||0||0||3||N","MA Method ",{"$f":"VLOOKUP(Input!C421,Start!$BS$2:$BT$10,2,0)","v":3},{"$f":"VLOOKUP(Input!D421,Start!$BS$2:$BT$10,2,0)","v":3},{"$f":"VLOOKUP(Input!E421,Start!$BS$2:$BT$10,2,0)","v":3},{"$f":"VLOOKUP(Input!F421,Start!$BS$2:$BT$10,2,0)","v":3},{"$f":"VLOOKUP(Input!G421,Start!$BS$2:$BT$10,2,0)","v":3},{"$f":"VLOOKUP(Input!H421,Start!$BS$2:$BT$10,2,0)","v":3},{"$f":"VLOOKUP(Input!I421,Start!$BS$2:$BT$10,2,0)","v":3},{"$f":"VLOOKUP(Input!J421,Start!$BS$2:$BT$10,2,0)","v":3},{"$f":"VLOOKUP(Input!K421,Start!$BS$2:$BT$10,2,0)","v":3},{"$f":"VLOOKUP(Input!L421,Start!$BS$2:$BT$10,2,0)","v":3},{"$f":"VLOOKUP(Input!M421,Start!$BS$2:$BT$10,2,0)","v":3},"MA_Filter_3_Method=3||0||0||3||N","MA_Filter_3_Method=3||0||0||3||N","MA_Filter_3_Method=3||0||0||3||N","MA_Filter_3_Method=3||0||0||3||N","MA_Filter_3_Method=3||0||0||3||N","MA_Filter_3_Method=3||0||0||3||N","MA_Filter_3_Method=3||0||0||3||N","MA_Filter_3_Method=3||0||0||3||N","MA_Filter_3_Method=3||0||0||3||N","MA_Filter_3_Method=3||0||0||3||N","MA_Filter_3_Method=3||0||0||3||N"]
["MA_Filter_3_Price=1||1||0||7||N","MA_Filter_3_Price=","||1||0||7||N","Applied price ",{"$f":"VLOOKUP(Input!C422,Start!$AU$2:$AV$8,2,0)","v":2},{"$f":"VLOOKUP(Input!D422,Start!$AU$2:$AV$8,2,0)","v":2},{"$f":"VLOOKUP(Input!E422,Start!$AU$2:$AV$8,2,0)","v":2},{"$f":"VLOOKUP(Input!F422,Start!$AU$2:$AV$8,2,0)","v":2},{"$f":"VLOOKUP(Input!G422,Start!$AU$2:$AV$8,2,0)","v":2},{"$f":"VLOOKUP(Input!H422,Start!$AU$2:$AV$8,2,0)","v":2},{"$f":"VLOOKUP(Input!I422,Start!$AU$2:$AV$8,2,0)","v":2},{"$f":"VLOOKUP(Input!J422,Start!$AU$2:$AV$8,2,0)","v":2},{"$f":"VLOOKUP(Input!K422,Start!$AU$2:$AV$8,2,0)","v":2},{"$f":"VLOOKUP(Input!L422,Start!$AU$2:$AV$8,2,0)","v":2},{"$f":"VLOOKUP(Input!M422,Start!$AU$2:$AV$8,2,0)","v":2},"MA_Filter_3_Price=2||1||0||7||N","MA_Filter_3_Price=2||1||0||7||N","MA_Filter_3_Price=2||1||0||7||N","MA_Filter_3_Price=2||1||0||7||N","MA_Filter_3_Price=2||1||0||7||N","MA_Filter_3_Price=2||1||0||7||N","MA_Filter_3_Price=2||1||0||7||N","MA_Filter_3_Price=2||1||0||7||N","MA_Filter_3_Price=2||1||0||7||N","MA_Filter_3_Price=2||1||0||7||N","MA_Filter_3_Price=2||1||0||7||N"]
["MA_Filter_3_DistType=0||0||0||1||N","MA_Filter_3_DistType=","||0||0||1||N","Distance type ",{"$f":"VLOOKUP(Input!C423,Start!$BU$2:$BV$3,2,0)","v":1},{"$f":"VLOOKUP(Input!D423,Start!$BU$2:$BV$3,2,0)","v":1},{"$f":"VLOOKUP(Input!E423,Start!$BU$2:$BV$3,2,0)","v":1},{"$f":"VLOOKUP(Input!F423,Start!$BU$2:$BV$3,2,0)","v":1},{"$f":"VLOOKUP(Input!G423,Start!$BU$2:$BV$3,2,0)","v":1},{"$f":"VLOOKUP(Input!H423,Start!$BU$2:$BV$3,2,0)","v":1},{"$f":"VLOOKUP(Input!I423,Start!$BU$2:$BV$3,2,0)","v":1},{"$f":"VLOOKUP(Input!J423,Start!$BU$2:$BV$3,2,0)","v":1},{"$f":"VLOOKUP(Input!K423,Start!$BU$2:$BV$3,2,0)","v":1},{"$f":"VLOOKUP(Input!L423,Start!$BU$2:$BV$3,2,0)","v":1},{"$f":"VLOOKUP(Input!M423,Start!$BU$2:$BV$3,2,0)","v":1},"MA_Filter_3_DistType=1||0||0||1||N","MA_Filter_3_DistType=1||0||0||1||N","MA_Filter_3_DistType=1||0||0||1||N","MA_Filter_3_DistType=1||0||0||1||N","MA_Filter_3_DistType=1||0||0||1||N","MA_Filter_3_DistType=1||0||0||1||N","MA_Filter_3_DistType=1||0||0||1||N","MA_Filter_3_DistType=1||0||0||1||N","MA_Filter_3_DistType=1||0||0||1||N","MA_Filter_3_DistType=1||0||0||1||N","MA_Filter_3_DistType=1||0||0||1||N"]
["MA_Filter_3_DistCoef=0||0||0.000000||0.000000||N","MA_Filter_3_DistCoef=","||0||0.000000||0.000000||N","Points / Coefficient ",{"$f":"Input!C424","v":0},{"$f":"Input!D424","v":0},{"$f":"Input!E424","v":0},{"$f":"Input!F424","v":0},{"$f":"Input!G424","v":0},{"$f":"Input!H424","v":0},{"$f":"Input!I424","v":0},{"$f":"Input!J424","v":0},{"$f":"Input!K424","v":0},{"$f":"Input!L424","v":0},{"$f":"Input!M424","v":0},"MA_Filter_3_DistCoef=0||0||0.000000||0.000000||N","MA_Filter_3_DistCoef=0||0||0.000000||0.000000||N","MA_Filter_3_DistCoef=0||0||0.000000||0.000000||N","MA_Filter_3_DistCoef=0||0||0.000000||0.000000||N","MA_Filter_3_DistCoef=0||0||0.000000||0.000000||N","MA_Filter_3_DistCoef=0||0||0.000000||0.000000||N","MA_Filter_3_DistCoef=0||0||0.000000||0.000000||N","MA_Filter_3_DistCoef=0||0||0.000000||0.000000||N","MA_Filter_3_DistCoef=0||0||0.000000||0.000000||N","MA_Filter_3_DistCoef=0||0||0.000000||0.000000||N","MA_Filter_3_DistCoef=0||0||0.000000||0.000000||N"]
["MA_Filter_3_OpenOn=0||0||0||3||N","MA_Filter_3_OpenOn=","||0||0||3||N","Open on ",{"$f":"VLOOKUP(Input!C425,Start!$AK$2:$AL$5,2,0)","v":0},{"$f":"VLOOKUP(Input!D425,Start!$AK$2:$AL$5,2,0)","v":0},{"$f":"VLOOKUP(Input!E425,Start!$AK$2:$AL$5,2,0)","v":0},{"$f":"VLOOKUP(Input!F425,Start!$AK$2:$AL$5,2,0)","v":0},{"$f":"VLOOKUP(Input!G425,Start!$AK$2:$AL$5,2,0)","v":0},{"$f":"VLOOKUP(Input!H425,Start!$AK$2:$AL$5,2,0)","v":0},{"$f":"VLOOKUP(Input!I425,Start!$AK$2:$AL$5,2,0)","v":0},{"$f":"VLOOKUP(Input!J425,Start!$AK$2:$AL$5,2,0)","v":0},{"$f":"VLOOKUP(Input!K425,Start!$AK$2:$AL$5,2,0)","v":0},{"$f":"VLOOKUP(Input!L425,Start!$AK$2:$AL$5,2,0)","v":0},{"$f":"VLOOKUP(Input!M425,Start!$AK$2:$AL$5,2,0)","v":0},"MA_Filter_3_OpenOn=0||0||0||3||N","MA_Filter_3_OpenOn=0||0||0||3||N","MA_Filter_3_OpenOn=0||0||0||3||N","MA_Filter_3_OpenOn=0||0||0||3||N","MA_Filter_3_OpenOn=0||0||0||3||N","MA_Filter_3_OpenOn=0||0||0||3||N","MA_Filter_3_OpenOn=0||0||0||3||N","MA_Filter_3_OpenOn=0||0||0||3||N","MA_Filter_3_OpenOn=0||0||0||3||N","MA_Filter_3_OpenOn=0||0||0||3||N","MA_Filter_3_OpenOn=0||0||0||3||N"]
["MA_Filter_3_MartinOn=0||0||0||3||N","MA_Filter_3_MartinOn=","||0||0||3||N","Open martin on ",{"$f":"VLOOKUP(Input!C426,Start!$AK$2:$AL$5,2,0)","v":1},{"$f":"VLOOKUP(Input!D426,Start!$AK$2:$AL$5,2,0)","v":1},{"$f":"VLOOKUP(Input!E426,Start!$AK$2:$AL$5,2,0)","v":1},{"$f":"VLOOKUP(Input!F426,Start!$AK$2:$AL$5,2,0)","v":1},{"$f":"VLOOKUP(Input!G426,Start!$AK$2:$AL$5,2,0)","v":1},{"$f":"VLOOKUP(Input!H426,Start!$AK$2:$AL$5,2,0)","v":1},{"$f":"VLOOKUP(Input!I426,Start!$AK$2:$AL$5,2,0)","v":1},{"$f":"VLOOKUP(Input!J426,Start!$AK$2:$AL$5,2,0)","v":1},{"$f":"VLOOKUP(Input!K426,Start!$AK$2:$AL$5,2,0)","v":1},{"$f":"VLOOKUP(Input!L426,Start!$AK$2:$AL$5,2,0)","v":1},{"$f":"VLOOKUP(Input!M426,Start!$AK$2:$AL$5,2,0)","v":1},"MA_Filter_3_MartinOn=1||0||0||3||N","MA_Filter_3_MartinOn=1||0||0||3||N","MA_Filter_3_MartinOn=1||0||0||3||N","MA_Filter_3_MartinOn=1||0||0||3||N","MA_Filter_3_MartinOn=1||0||0||3||N","MA_Filter_3_MartinOn=1||0||0||3||N","MA_Filter_3_MartinOn=1||0||0||3||N","MA_Filter_3_MartinOn=1||0||0||3||N","MA_Filter_3_MartinOn=1||0||0||3||N","MA_Filter_3_MartinOn=1||0||0||3||N","MA_Filter_3_MartinOn=1||0||0||3||N"]
["MA_Filter_3_HedgeOn=0||0||0||3||N","MA_Filter_3_HedgeOn=","||0||0||3||N","Open hedge on ",{"$f":"VLOOKUP(Input!C427,Start!$AK$2:$AL$5,2,0)","v":1},{"$f":"VLOOKUP(Input!D427,Start!$AK$2:$AL$5,2,0)","v":1},{"$f":"VLOOKUP(Input!E427,Start!$AK$2:$AL$5,2,0)","v":1},{"$f":"VLOOKUP(Input!F427,Start!$AK$2:$AL$5,2,0)","v":1},{"$f":"VLOOKUP(Input!G427,Start!$AK$2:$AL$5,2,0)","v":1},{"$f":"VLOOKUP(Input!H427,Start!$AK$2:$AL$5,2,0)","v":1},{"$f":"VLOOKUP(Input!I427,Start!$AK$2:$AL$5,2,0)","v":1},{"$f":"VLOOKUP(Input!J427,Start!$AK$2:$AL$5,2,0)","v":1},{"$f":"VLOOKUP(Input!K427,Start!$AK$2:$AL$5,2,0)","v":1},{"$f":"VLOOKUP(Input!L427,Start!$AK$2:$AL$5,2,0)","v":1},{"$f":"VLOOKUP(Input!M427,Start!$AK$2:$AL$5,2,0)","v":1},"MA_Filter_3_HedgeOn=1||0||0||3||N","MA_Filter_3_HedgeOn=1||0||0||3||N","MA_Filter_3_HedgeOn=1||0||0||3||N","MA_Filter_3_HedgeOn=1||0||0||3||N","MA_Filter_3_HedgeOn=1||0||0||3||N","MA_Filter_3_HedgeOn=1||0||0||3||N","MA_Filter_3_HedgeOn=1||0||0||3||N","MA_Filter_3_HedgeOn=1||0||0||3||N","MA_Filter_3_HedgeOn=1||0||0||3||N","MA_Filter_3_HedgeOn=1||0||0||3||N","MA_Filter_3_HedgeOn=1||0||0||3||N"]
["MA_Filter_3_CloseOn=0||0||0||4||N","MA_Filter_3_CloseOn=","||0||0||4||N","Close on ",{"$f":"VLOOKUP(Input!C428,Start!$AM$2:$AN$6,2,0)","v":2},{"$f":"VLOOKUP(Input!D428,Start!$AM$2:$AN$6,2,0)","v":2},{"$f":"VLOOKUP(Input!E428,Start!$AM$2:$AN$6,2,0)","v":2},{"$f":"VLOOKUP(Input!F428,Start!$AM$2:$AN$6,2,0)","v":2},{"$f":"VLOOKUP(Input!G428,Start!$AM$2:$AN$6,2,0)","v":2},{"$f":"VLOOKUP(Input!H428,Start!$AM$2:$AN$6,2,0)","v":2},{"$f":"VLOOKUP(Input!I428,Start!$AM$2:$AN$6,2,0)","v":2},{"$f":"VLOOKUP(Input!J428,Start!$AM$2:$AN$6,2,0)","v":2},{"$f":"VLOOKUP(Input!K428,Start!$AM$2:$AN$6,2,0)","v":2},{"$f":"VLOOKUP(Input!L428,Start!$AM$2:$AN$6,2,0)","v":2},{"$f":"VLOOKUP(Input!M428,Start!$AM$2:$AN$6,2,0)","v":2},"MA_Filter_3_CloseOn=2||0||0||4||N","MA_Filter_3_CloseOn=2||0||0||4||N","MA_Filter_3_CloseOn=2||0||0||4||N","MA_Filter_3_CloseOn=2||0||0||4||N","MA_Filter_3_CloseOn=2||0||0||4||N","MA_Filter_3_CloseOn=2||0||0||4||N","MA_Filter_3_CloseOn=2||0||0||4||N","MA_Filter_3_CloseOn=2||0||0||4||N","MA_Filter_3_CloseOn=2||0||0||4||N","MA_Filter_3_CloseOn=2||0||0||4||N","MA_Filter_3_CloseOn=2||0||0||4||N"]
["MA_Filter_3_PartialCloseOn=0||0||0||3||N","MA_Filter_3_PartialCloseOn=","||0||0||3||N","Partial close on ",{"$f":"VLOOKUP(Input!C429,Start!$AO$2:$AP$4,2,0)","v":1},{"$f":"VLOOKUP(Input!D429,Start!$AO$2:$AP$4,2,0)","v":1},{"$f":"VLOOKUP(Input!E429,Start!$AO$2:$AP$4,2,0)","v":1},{"$f":"VLOOKUP(Input!F429,Start!$AO$2:$AP$4,2,0)","v":1},{"$f":"VLOOKUP(Input!G429,Start!$AO$2:$AP$4,2,0)","v":1},{"$f":"VLOOKUP(Input!H429,Start!$AO$2:$AP$4,2,0)","v":1},{"$f":"VLOOKUP(Input!I429,Start!$AO$2:$AP$4,2,0)","v":1},{"$f":"VLOOKUP(Input!J429,Start!$AO$2:$AP$4,2,0)","v":1},{"$f":"VLOOKUP(Input!K429,Start!$AO$2:$AP$4,2,0)","v":1},{"$f":"VLOOKUP(Input!L429,Start!$AO$2:$AP$4,2,0)","v":1},{"$f":"VLOOKUP(Input!M429,Start!$AO$2:$AP$4,2,0)","v":1},"MA_Filter_3_PartialCloseOn=1||0||0||3||N","MA_Filter_3_PartialCloseOn=1||0||0||3||N","MA_Filter_3_PartialCloseOn=1||0||0||3||N","MA_Filter_3_PartialCloseOn=1||0||0||3||N","MA_Filter_3_PartialCloseOn=1||0||0||3||N","MA_Filter_3_PartialCloseOn=1||0||0||3||N","MA_Filter_3_PartialCloseOn=1||0||0||3||N","MA_Filter_3_PartialCloseOn=1||0||0||3||N","MA_Filter_3_PartialCloseOn=1||0||0||3||N","MA_Filter_3_PartialCloseOn=1||0||0||3||N","MA_Filter_3_PartialCloseOn=1||0||0||3||N"]
["; ZZ properties","; ZZ properties","; ZZ properties","ZZ properties ",null,null,null,null,null,null,null,null,null,null,null,{"$f":"$A430","v":"; ZZ properties"},"; ZZ properties","; ZZ properties","; ZZ properties","; ZZ properties","; ZZ properties","; ZZ properties","; ZZ properties","; ZZ properties","; ZZ properties","; ZZ properties"]
["ZZ_Properties====================================================================================","ZZ_Properties====================================================================================","ZZ_Properties====================================================================================","ZZ propefties: ",null,null,null,null,null,null,null,null,null,null,null,"ZZ_Properties====================================================================================","ZZ_Properties====================================================================================","ZZ_Properties====================================================================================","ZZ_Properties====================================================================================","ZZ_Properties====================================================================================","ZZ_Properties====================================================================================","ZZ_Properties====================================================================================","ZZ_Properties====================================================================================","ZZ_Properties====================================================================================","ZZ_Properties====================================================================================","ZZ_Properties===================================================================================="]
["ZZ_Type=0||0||0||4||N",{"$f":"_xlfn.CONCAT(LEFT(TRIM(A432),FIND(\"=\",TRIM(A432))-1),\"=\")","v":"ZZ_Type="},{"$f":"_xlfn.CONCAT(\"|\",RIGHT(TRIM(A432),LEN(TRIM(A432))-SEARCH(\"|\",TRIM(A432))))","v":"||0||0||4||N"},"* ZZ filter type ",{"$f":"VLOOKUP(Input!C432,Start!$BW$2:$BX$6,2,0)","v":1},{"$f":"VLOOKUP(Input!D432,Start!$BW$2:$BX$6,2,0)","v":1},{"$f":"VLOOKUP(Input!E432,Start!$BW$2:$BX$6,2,0)","v":1},{"$f":"VLOOKUP(Input!F432,Start!$BW$2:$BX$6,2,0)","v":1},{"$f":"VLOOKUP(Input!G432,Start!$BW$2:$BX$6,2,0)","v":1},{"$f":"VLOOKUP(Input!H432,Start!$BW$2:$BX$6,2,0)","v":1},{"$f":"VLOOKUP(Input!I432,Start!$BW$2:$BX$6,2,0)","v":1},{"$f":"VLOOKUP(Input!J432,Start!$BW$2:$BX$6,2,0)","v":1},{"$f":"VLOOKUP(Input!K432,Start!$BW$2:$BX$6,2,0)","v":1},{"$f":"VLOOKUP(Input!L432,Start!$BW$2:$BX$6,2,0)","v":1},{"$f":"VLOOKUP(Input!M432,Start!$BW$2:$BX$6,2,0)","v":1},{"$f":"_xlfn.CONCAT($B432,E432,$C432)","v":"ZZ_Type=1||0||0||4||N"},"ZZ_Type=1||0||0||4||N","ZZ_Type=1||0||0||4||N","ZZ_Type=1||0||0||4||N","ZZ_Type=1||0||0||4||N","ZZ_Type=1||0||0||4||N","ZZ_Type=1||0||0||4||N","ZZ_Type=1||0||0||4||N","ZZ_Type=1||0||0||4||N","ZZ_Type=1||0||0||4||N","ZZ_Type=1||0||0||4||N"]
["ZZ_TF=0||0||0||49153||N","ZZ_TF=","||0||0||49153||N","TimeFrame ",{"$f":"VLOOKUP(Input!C433,Start!$K$2:$L$22,2,0)","v":2},{"$f":"VLOOKUP(Input!D433,Start!$K$2:$L$22,2,0)","v":2},{"$f":"VLOOKUP(Input!E433,Start!$K$2:$L$22,2,0)","v":2},{"$f":"VLOOKUP(Input!F433,Start!$K$2:$L$22,2,0)","v":2},{"$f":"VLOOKUP(Input!G433,Start!$K$2:$L$22,2,0)","v":2},{"$f":"VLOOKUP(Input!H433,Start!$K$2:$L$22,2,0)","v":2},{"$f":"VLOOKUP(Input!I433,Start!$K$2:$L$22,2,0)","v":2},{"$f":"VLOOKUP(Input!J433,Start!$K$2:$L$22,2,0)","v":2},{"$f":"VLOOKUP(Input!K433,Start!$K$2:$L$22,2,0)","v":2},{"$f":"VLOOKUP(Input!L433,Start!$K$2:$L$22,2,0)","v":2},{"$f":"VLOOKUP(Input!M433,Start!$K$2:$L$22,2,0)","v":2},"ZZ_TF=2||0||0||49153||N","ZZ_TF=2||0||0||49153||N","ZZ_TF=2||0||0||49153||N","ZZ_TF=2||0||0||49153||N","ZZ_TF=2||0||0||49153||N","ZZ_TF=2||0||0||49153||N","ZZ_TF=2||0||0||49153||N","ZZ_TF=2||0||0||49153||N","ZZ_TF=2||0||0||49153||N","ZZ_TF=2||0||0||49153||N","ZZ_TF=2||0||0||49153||N"]
["ZZ_Period=12||2||1||20||Y","ZZ_Period=","||2||1||20||Y","* Penod ",{"$f":"Input!C434","v":0},{"$f":"Input!D434","v":0},{"$f":"Input!E434","v":0},{"$f":"Input!F434","v":0},{"$f":"Input!G434","v":0},{"$f":"Input!H434","v":0},{"$f":"Input!I434","v":0},{"$f":"Input!J434","v":0},{"$f":"Input!K434","v":0},{"$f":"Input!L434","v":0},{"$f":"Input!M434","v":0},"ZZ_Period=0||2||1||20||Y","ZZ_Period=0||2||1||20||Y","ZZ_Period=0||2||1||20||Y","ZZ_Period=0||2||1||20||Y","ZZ_Period=0||2||1||20||Y","ZZ_Period=0||2||1||20||Y","ZZ_Period=0||2||1||20||Y","ZZ_Period=0||2||1||20||Y","ZZ_Period=0||2||1||20||Y","ZZ_Period=0||2||1||20||Y","ZZ_Period=0||2||1||20||Y"]
["ZZ_MinAmplitude=10||10||1||100||N","ZZ_MinAmplitude=","||10||1||100||N","• Min Amplitude ",{"$f":"Input!C435","v":0},{"$f":"Input!D435","v":0},{"$f":"Input!E435","v":0},{"$f":"Input!F435","v":0},{"$f":"Input!G435","v":0},{"$f":"Input!H435","v":0},{"$f":"Input!I435","v":0},{"$f":"Input!J435","v":0},{"$f":"Input!K435","v":0},{"$f":"Input!L435","v":0},{"$f":"Input!M435","v":0},"ZZ_MinAmplitude=0||10||1||100||N","ZZ_MinAmplitude=0||10||1||100||N","ZZ_MinAmplitude=0||10||1||100||N","ZZ_MinAmplitude=0||10||1||100||N","ZZ_MinAmplitude=0||10||1||100||N","ZZ_MinAmplitude=0||10||1||100||N","ZZ_MinAmplitude=0||10||1||100||N","ZZ_MinAmplitude=0||10||1||100||N","ZZ_MinAmplitude=0||10||1||100||N","ZZ_MinAmplitude=0||10||1||100||N","ZZ_MinAmplitude=0||10||1||100||N"]
["ZZ_MinMotion=0||0||1||10||N","ZZ_MinMotion=","||0||1||10||N","Min Motion ",{"$f":"Input!C436","v":0},{"$f":"Input!D436","v":0},{"$f":"Input!E436","v":0},{"$f":"Input!F436","v":0},{"$f":"Input!G436","v":0},{"$f":"Input!H436","v":0},{"$f":"Input!I436","v":0},{"$f":"Input!J436","v":0},{"$f":"Input!K436","v":0},{"$f":"Input!L436","v":0},{"$f":"Input!M436","v":0},"ZZ_MinMotion=0||0||1||10||N","ZZ_MinMotion=0||0||1||10||N","ZZ_MinMotion=0||0||1||10||N","ZZ_MinMotion=0||0||1||10||N","ZZ_MinMotion=0||0||1||10||N","ZZ_MinMotion=0||0||1||10||N","ZZ_MinMotion=0||0||1||10||N","ZZ_MinMotion=0||0||1||10||N","ZZ_MinMotion=0||0||1||10||N","ZZ_MinMotion=0||0||1||10||N","ZZ_MinMotion=0||0||1||10||N"]
["ZZ_DistanceType=0||0||0||2||N","ZZ_DistanceType=","||0||0||2||N","Distance type ",{"$f":"VLOOKUP(Input!C437,Start!$BY$2:$BZ$5,2,0)","v":1},{"$f":"VLOOKUP(Input!D437,Start!$BY$2:$BZ$5,2,0)","v":1},{"$f":"VLOOKUP(Input!E437,Start!$BY$2:$BZ$5,2,0)","v":1},{"$f":"VLOOKUP(Input!F437,Start!$BY$2:$BZ$5,2,0)","v":1},{"$f":"VLOOKUP(Input!G437,Start!$BY$2:$BZ$5,2,0)","v":1},{"$f":"VLOOKUP(Input!H437,Start!$BY$2:$BZ$5,2,0)","v":1},{"$f":"VLOOKUP(Input!I437,Start!$BY$2:$BZ$5,2,0)","v":1},{"$f":"VLOOKUP(Input!J437,Start!$BY$2:$BZ$5,2,0)","v":1},{"$f":"VLOOKUP(Input!K437,Start!$BY$2:$BZ$5,2,0)","v":1},{"$f":"VLOOKUP(Input!L437,Start!$BY$2:$BZ$5,2,0)","v":1},{"$f":"VLOOKUP(Input!M437,Start!$BY$2:$BZ$5,2,0)","v":1},"ZZ_DistanceType=1||0||0||2||N","ZZ_DistanceType=1||0||0||2||N","ZZ_DistanceType=1||0||0||2||N","ZZ_DistanceType=1||0||0||2||N","ZZ_DistanceType=1||0||0||2||N","ZZ_DistanceType=1||0||0||2||N","ZZ_DistanceType=1||0||0||2||N","ZZ_DistanceType=1||0||0||2||N","ZZ_DistanceType=1||0||0||2||N","ZZ_DistanceType=1||0||0||2||N","ZZ_DistanceType=1||0||0||2||N"]
["ZZ_SignalDistCoeff=0||0||0.000000||0.000000||N","ZZ_SignalDistCoeff=","||0||0.000000||0.000000||N","Points / Coefficient ",{"$f":"Input!C438","v":0},{"$f":"Input!D438","v":0},{"$f":"Input!E438","v":0},{"$f":"Input!F438","v":0},{"$f":"Input!G438","v":0},{"$f":"Input!H438","v":0},{"$f":"Input!I438","v":0},{"$f":"Input!J438","v":0},{"$f":"Input!K438","v":0},{"$f":"Input!L438","v":0},{"$f":"Input!M438","v":0},"ZZ_SignalDistCoeff=0||0||0.000000||0.000000||N","ZZ_SignalDistCoeff=0||0||0.000000||0.000000||N","ZZ_SignalDistCoeff=0||0||0.000000||0.000000||N","ZZ_SignalDistCoeff=0||0||0.000000||0.000000||N","ZZ_SignalDistCoeff=0||0||0.000000||0.000000||N","ZZ_SignalDistCoeff=0||0||0.000000||0.000000||N","ZZ_SignalDistCoeff=0||0||0.000000||0.000000||N","ZZ_SignalDistCoeff=0||0||0.000000||0.000000||N","ZZ_SignalDistCoeff=0||0||0.000000||0.000000||N","ZZ_SignalDistCoeff=0||0||0.000000||0.000000||N","ZZ_SignalDistCoeff=0||0||0.000000||0.000000||N"]
["ZZ_UsePrevExtremums=false||false||0||true||N","ZZ_UsePrevExtremums=","||false||0||true||N","Use previous unbroken artremums ",{"$f":"VLOOKUP(Input!C439,Start!$G$2:$H$3,2,0)","v":false},{"$f":"VLOOKUP(Input!D439,Start!$G$2:$H$3,2,0)","v":false},{"$f":"VLOOKUP(Input!E439,Start!$G$2:$H$3,2,0)","v":false},{"$f":"VLOOKUP(Input!F439,Start!$G$2:$H$3,2,0)","v":false},{"$f":"VLOOKUP(Input!G439,Start!$G$2:$H$3,2,0)","v":false},{"$f":"VLOOKUP(Input!H439,Start!$G$2:$H$3,2,0)","v":false},{"$f":"VLOOKUP(Input!I439,Start!$G$2:$H$3,2,0)","v":false},{"$f":"VLOOKUP(Input!J439,Start!$G$2:$H$3,2,0)","v":false},{"$f":"VLOOKUP(Input!K439,Start!$G$2:$H$3,2,0)","v":false},{"$f":"VLOOKUP(Input!L439,Start!$G$2:$H$3,2,0)","v":false},{"$f":"VLOOKUP(Input!M439,Start!$G$2:$H$3,2,0)","v":false},"ZZ_UsePrevExtremums=FALSE||false||0||true||N","ZZ_UsePrevExtremums=FALSE||false||0||true||N","ZZ_UsePrevExtremums=FALSE||false||0||true||N","ZZ_UsePrevExtremums=FALSE||false||0||true||N","ZZ_UsePrevExtremums=FALSE||false||0||true||N","ZZ_UsePrevExtremums=FALSE||false||0||true||N","ZZ_UsePrevExtremums=FALSE||false||0||true||N","ZZ_UsePrevExtremums=FALSE||false||0||true||N","ZZ_UsePrevExtremums=FALSE||false||0||true||N","ZZ_UsePrevExtremums=FALSE||false||0||true||N","ZZ_UsePrevExtremums=FALSE||false||0||true||N"]
["ZZ_Reverse=false||false||0||true||N","ZZ_Reverse=","||false||0||true||N","Reverse mode ",{"$f":"VLOOKUP(Input!C440,Start!$G$2:$H$3,2,0)","v":false},{"$f":"VLOOKUP(Input!D440,Start!$G$2:$H$3,2,0)","v":false},{"$f":"VLOOKUP(Input!E440,Start!$G$2:$H$3,2,0)","v":false},{"$f":"VLOOKUP(Input!F440,Start!$G$2:$H$3,2,0)","v":false},{"$f":"VLOOKUP(Input!G440,Start!$G$2:$H$3,2,0)","v":false},{"$f":"VLOOKUP(Input!H440,Start!$G$2:$H$3,2,0)","v":false},{"$f":"VLOOKUP(Input!I440,Start!$G$2:$H$3,2,0)","v":false},{"$f":"VLOOKUP(Input!J440,Start!$G$2:$H$3,2,0)","v":false},{"$f":"VLOOKUP(Input!K440,Start!$G$2:$H$3,2,0)","v":false},{"$f":"VLOOKUP(Input!L440,Start!$G$2:$H$3,2,0)","v":false},{"$f":"VLOOKUP(Input!M440,Start!$G$2:$H$3,2,0)","v":false},"ZZ_Reverse=FALSE||false||0||true||N","ZZ_Reverse=FALSE||false||0||true||N","ZZ_Reverse=FALSE||false||0||true||N","ZZ_Reverse=FALSE||false||0||true||N","ZZ_Reverse=FALSE||false||0||true||N","ZZ_Reverse=FALSE||false||0||true||N","ZZ_Reverse=FALSE||false||0||true||N","ZZ_Reverse=FALSE||false||0||true||N","ZZ_Reverse=FALSE||false||0||true||N","ZZ_Reverse=FALSE||false||0||true||N","ZZ_Reverse=FALSE||false||0||true||N"]
["ZZ_UseClosedBars=false||false||0||true||N","ZZ_UseClosedBars=","||false||0||true||N","• Use closed bars only ",{"$f":"VLOOKUP(Input!C441,Start!$G$2:$H$3,2,0)","v":false},{"$f":"VLOOKUP(Input!D441,Start!$G$2:$H$3,2,0)","v":false},{"$f":"VLOOKUP(Input!E441,Start!$G$2:$H$3,2,0)","v":false},{"$f":"VLOOKUP(Input!F441,Start!$G$2:$H$3,2,0)","v":false},{"$f":"VLOOKUP(Input!G441,Start!$G$2:$H$3,2,0)","v":false},{"$f":"VLOOKUP(Input!H441,Start!$G$2:$H$3,2,0)","v":false},{"$f":"VLOOKUP(Input!I441,Start!$G$2:$H$3,2,0)","v":false},{"$f":"VLOOKUP(Input!J441,Start!$G$2:$H$3,2,0)","v":false},{"$f":"VLOOKUP(Input!K441,Start!$G$2:$H$3,2,0)","v":false},{"$f":"VLOOKUP(Input!L441,Start!$G$2:$H$3,2,0)","v":false},{"$f":"VLOOKUP(Input!M441,Start!$G$2:$H$3,2,0)","v":false},"ZZ_UseClosedBars=FALSE||false||0||true||N","ZZ_UseClosedBars=FALSE||false||0||true||N","ZZ_UseClosedBars=FALSE||false||0||true||N","ZZ_UseClosedBars=FALSE||false||0||true||N","ZZ_UseClosedBars=FALSE||false||0||true||N","ZZ_UseClosedBars=FALSE||false||0||true||N","ZZ_UseClosedBars=FALSE||false||0||true||N","ZZ_UseClosedBars=FALSE||false||0||true||N","ZZ_UseClosedBars=FALSE||false||0||true||N","ZZ_UseClosedBars=FALSE||false||0||true||N","ZZ_UseClosedBars=FALSE||false||0||true||N"]
["ZZ_OpenOn=0||0||0||3||N","ZZ_OpenOn=","||0||0||3||N","Open on ",{"$f":"VLOOKUP(Input!C442,Start!$AK$2:$AL$5,2,0)","v":0},{"$f":"VLOOKUP(Input!D442,Start!$AK$2:$AL$5,2,0)","v":0},{"$f":"VLOOKUP(Input!E442,Start!$AK$2:$AL$5,2,0)","v":0},{"$f":"VLOOKUP(Input!F442,Start!$AK$2:$AL$5,2,0)","v":0},{"$f":"VLOOKUP(Input!G442,Start!$AK$2:$AL$5,2,0)","v":0},{"$f":"VLOOKUP(Input!H442,Start!$AK$2:$AL$5,2,0)","v":0},{"$f":"VLOOKUP(Input!I442,Start!$AK$2:$AL$5,2,0)","v":0},{"$f":"VLOOKUP(Input!J442,Start!$AK$2:$AL$5,2,0)","v":0},{"$f":"VLOOKUP(Input!K442,Start!$AK$2:$AL$5,2,0)","v":0},{"$f":"VLOOKUP(Input!L442,Start!$AK$2:$AL$5,2,0)","v":0},{"$f":"VLOOKUP(Input!M442,Start!$AK$2:$AL$5,2,0)","v":0},"ZZ_OpenOn=0||0||0||3||N","ZZ_OpenOn=0||0||0||3||N","ZZ_OpenOn=0||0||0||3||N","ZZ_OpenOn=0||0||0||3||N","ZZ_OpenOn=0||0||0||3||N","ZZ_OpenOn=0||0||0||3||N","ZZ_OpenOn=0||0||0||3||N","ZZ_OpenOn=0||0||0||3||N","ZZ_OpenOn=0||0||0||3||N","ZZ_OpenOn=0||0||0||3||N","ZZ_OpenOn=0||0||0||3||N"]
["ZZ_MartinOn=0||0||0||3||N","ZZ_MartinOn=","||0||0||3||N","* Open martin on ",{"$f":"VLOOKUP(Input!C443,Start!$AK$2:$AL$5,2,0)","v":1},{"$f":"VLOOKUP(Input!D443,Start!$AK$2:$AL$5,2,0)","v":1},{"$f":"VLOOKUP(Input!E443,Start!$AK$2:$AL$5,2,0)","v":1},{"$f":"VLOOKUP(Input!F443,Start!$AK$2:$AL$5,2,0)","v":1},{"$f":"VLOOKUP(Input!G443,Start!$AK$2:$AL$5,2,0)","v":1},{"$f":"VLOOKUP(Input!H443,Start!$AK$2:$AL$5,2,0)","v":1},{"$f":"VLOOKUP(Input!I443,Start!$AK$2:$AL$5,2,0)","v":1},{"$f":"VLOOKUP(Input!J443,Start!$AK$2:$AL$5,2,0)","v":1},{"$f":"VLOOKUP(Input!K443,Start!$AK$2:$AL$5,2,0)","v":1},{"$f":"VLOOKUP(Input!L443,Start!$AK$2:$AL$5,2,0)","v":1},{"$f":"VLOOKUP(Input!M443,Start!$AK$2:$AL$5,2,0)","v":1},"ZZ_MartinOn=1||0||0||3||N","ZZ_MartinOn=1||0||0||3||N","ZZ_MartinOn=1||0||0||3||N","ZZ_MartinOn=1||0||0||3||N","ZZ_MartinOn=1||0||0||3||N","ZZ_MartinOn=1||0||0||3||N","ZZ_MartinOn=1||0||0||3||N","ZZ_MartinOn=1||0||0||3||N","ZZ_MartinOn=1||0||0||3||N","ZZ_MartinOn=1||0||0||3||N","ZZ_MartinOn=1||0||0||3||N"]
["ZZ_HedgeOn=0||0||0||3||N","ZZ_HedgeOn=","||0||0||3||N","• Open hedge on ",{"$f":"VLOOKUP(Input!C444,Start!$AK$2:$AL$5,2,0)","v":1},{"$f":"VLOOKUP(Input!D444,Start!$AK$2:$AL$5,2,0)","v":1},{"$f":"VLOOKUP(Input!E444,Start!$AK$2:$AL$5,2,0)","v":1},{"$f":"VLOOKUP(Input!F444,Start!$AK$2:$AL$5,2,0)","v":1},{"$f":"VLOOKUP(Input!G444,Start!$AK$2:$AL$5,2,0)","v":1},{"$f":"VLOOKUP(Input!H444,Start!$AK$2:$AL$5,2,0)","v":1},{"$f":"VLOOKUP(Input!I444,Start!$AK$2:$AL$5,2,0)","v":1},{"$f":"VLOOKUP(Input!J444,Start!$AK$2:$AL$5,2,0)","v":1},{"$f":"VLOOKUP(Input!K444,Start!$AK$2:$AL$5,2,0)","v":1},{"$f":"VLOOKUP(Input!L444,Start!$AK$2:$AL$5,2,0)","v":1},{"$f":"VLOOKUP(Input!M444,Start!$AK$2:$AL$5,2,0)","v":1},"ZZ_HedgeOn=1||0||0||3||N","ZZ_HedgeOn=1||0||0||3||N","ZZ_HedgeOn=1||0||0||3||N","ZZ_HedgeOn=1||0||0||3||N","ZZ_HedgeOn=1||0||0||3||N","ZZ_HedgeOn=1||0||0||3||N","ZZ_HedgeOn=1||0||0||3||N","ZZ_HedgeOn=1||0||0||3||N","ZZ_HedgeOn=1||0||0||3||N","ZZ_HedgeOn=1||0||0||3||N","ZZ_HedgeOn=1||0||0||3||N"]
["ZZ_CloseOn=0||0||0||4||N","ZZ_CloseOn=","||0||0||4||N","Close on ",{"$f":"VLOOKUP(Input!C445,Start!$AM$2:$AN$6,2,0)","v":2},{"$f":"VLOOKUP(Input!D445,Start!$AM$2:$AN$6,2,0)","v":2},{"$f":"VLOOKUP(Input!E445,Start!$AM$2:$AN$6,2,0)","v":2},{"$f":"VLOOKUP(Input!F445,Start!$AM$2:$AN$6,2,0)","v":2},{"$f":"VLOOKUP(Input!G445,Start!$AM$2:$AN$6,2,0)","v":2},{"$f":"VLOOKUP(Input!H445,Start!$AM$2:$AN$6,2,0)","v":2},{"$f":"VLOOKUP(Input!I445,Start!$AM$2:$AN$6,2,0)","v":2},{"$f":"VLOOKUP(Input!J445,Start!$AM$2:$AN$6,2,0)","v":2},{"$f":"VLOOKUP(Input!K445,Start!$AM$2:$AN$6,2,0)","v":2},{"$f":"VLOOKUP(Input!L445,Start!$AM$2:$AN$6,2,0)","v":2},{"$f":"VLOOKUP(Input!M445,Start!$AM$2:$AN$6,2,0)","v":2},"ZZ_CloseOn=2||0||0||4||N","ZZ_CloseOn=2||0||0||4||N","ZZ_CloseOn=2||0||0||4||N","ZZ_CloseOn=2||0||0||4||N","ZZ_CloseOn=2||0||0||4||N","ZZ_CloseOn=2||0||0||4||N","ZZ_CloseOn=2||0||0||4||N","ZZ_CloseOn=2||0||0||4||N","ZZ_CloseOn=2||0||0||4||N","ZZ_CloseOn=2||0||0||4||N","ZZ_CloseOn=2||0||0||4||N"]
["ZZ_PartialCloseOn=0||0||0||3||N","ZZ_PartialCloseOn=","||0||0||3||N","• Partial close on ",{"$f":"VLOOKUP(Input!C446,Start!$AO$2:$AP$4,2,0)","v":1},{"$f":"VLOOKUP(Input!D446,Start!$AO$2:$AP$4,2,0)","v":1},{"$f":"VLOOKUP(Input!E446,Start!$AO$2:$AP$4,2,0)","v":1},{"$f":"VLOOKUP(Input!F446,Start!$AO$2:$AP$4,2,0)","v":1},{"$f":"VLOOKUP(Input!G446,Start!$AO$2:$AP$4,2,0)","v":1},{"$f":"VLOOKUP(Input!H446,Start!$AO$2:$AP$4,2,0)","v":1},{"$f":"VLOOKUP(Input!I446,Start!$AO$2:$AP$4,2,0)","v":1},{"$f":"VLOOKUP(Input!J446,Start!$AO$2:$AP$4,2,0)","v":1},{"$f":"VLOOKUP(Input!K446,Start!$AO$2:$AP$4,2,0)","v":1},{"$f":"VLOOKUP(Input!L446,Start!$AO$2:$AP$4,2,0)","v":1},{"$f":"VLOOKUP(Input!M446,Start!$AO$2:$AP$4,2,0)","v":1},"ZZ_PartialCloseOn=1||0||0||3||N","ZZ_PartialCloseOn=1||0||0||3||N","ZZ_PartialCloseOn=1||0||0||3||N","ZZ_PartialCloseOn=1||0||0||3||N","ZZ_PartialCloseOn=1||0||0||3||N","ZZ_PartialCloseOn=1||0||0||3||N","ZZ_PartialCloseOn=1||0||0||3||N","ZZ_PartialCloseOn=1||0||0||3||N","ZZ_PartialCloseOn=1||0||0||3||N","ZZ_PartialCloseOn=1||0||0||3||N","ZZ_PartialCloseOn=1||0||0||3||N"]
["ZZ_Visualization=---Visualization---","ZZ_Visualization=---Visualization---","ZZ_Visualization=---Visualization---","Visualization properties: ",null,null,null,null,null,null,null,null,null,null,null,{"$f":"$A447","v":"ZZ_Visualization=---Visualization---"},{"$f":"$A447","v":"ZZ_Visualization=---Visualization---"},{"$f":"$A447","v":"ZZ_Visualization=---Visualization---"},{"$f":"$A447","v":"ZZ_Visualization=---Visualization---"},{"$f":"$A447","v":"ZZ_Visualization=---Visualization---"},{"$f":"$A447","v":"ZZ_Visualization=---Visualization---"},{"$f":"$A447","v":"ZZ_Visualization=---Visualization---"},{"$f":"$A447","v":"ZZ_Visualization=---Visualization---"},{"$f":"$A447","v":"ZZ_Visualization=---Visualization---"},{"$f":"$A447","v":"ZZ_Visualization=---Visualization---"},{"$f":"$A447","v":"ZZ_Visualization=---Visualization---"}]
["ZZ_VisualizeLevels=true||false||0||true||N",{"$f":"_xlfn.CONCAT(LEFT(TRIM(A448),FIND(\"=\",TRIM(A448))-1),\"=\")","v":"ZZ_VisualizeLevels="},{"$f":"_xlfn.CONCAT(\"|\",RIGHT(TRIM(A448),LEN(TRIM(A448))-SEARCH(\"|\",TRIM(A448))))","v":"||false||0||true||N"},"• Visualize levels ",{"$f":"VLOOKUP(Input!C448,Start!$G$2:$H$3,2,0)","v":false},{"$f":"VLOOKUP(Input!D448,Start!$G$2:$H$3,2,0)","v":false},{"$f":"VLOOKUP(Input!E448,Start!$G$2:$H$3,2,0)","v":false},{"$f":"VLOOKUP(Input!F448,Start!$G$2:$H$3,2,0)","v":false},{"$f":"VLOOKUP(Input!G448,Start!$G$2:$H$3,2,0)","v":false},{"$f":"VLOOKUP(Input!H448,Start!$G$2:$H$3,2,0)","v":false},{"$f":"VLOOKUP(Input!I448,Start!$G$2:$H$3,2,0)","v":false},{"$f":"VLOOKUP(Input!J448,Start!$G$2:$H$3,2,0)","v":false},{"$f":"VLOOKUP(Input!K448,Start!$G$2:$H$3,2,0)","v":false},{"$f":"VLOOKUP(Input!L448,Start!$G$2:$H$3,2,0)","v":false},{"$f":"VLOOKUP(Input!M448,Start!$G$2:$H$3,2,0)","v":false},{"$f":"_xlfn.CONCAT($B448,E448,$C448)","v":"ZZ_VisualizeLevels=FALSE||false||0||true||N"},"ZZ_VisualizeLevels=FALSE||false||0||true||N","ZZ_VisualizeLevels=FALSE||false||0||true||N","ZZ_VisualizeLevels=FALSE||false||0||true||N","ZZ_VisualizeLevels=FALSE||false||0||true||N","ZZ_VisualizeLevels=FALSE||false||0||true||N","ZZ_VisualizeLevels=FALSE||false||0||true||N","ZZ_VisualizeLevels=FALSE||false||0||true||N","ZZ_VisualizeLevels=FALSE||false||0||true||N","ZZ_VisualizeLevels=FALSE||false||0||true||N","ZZ_VisualizeLevels=FALSE||false||0||true||N"]
["ZZ_FillRectangle=false||false||0||true||N","ZZ_FillRectangle=","||false||0||true||N","Fill rectangle ",{"$f":"VLOOKUP(Input!C449,Start!$G$2:$H$3,2,0)","v":false},{"$f":"VLOOKUP(Input!D449,Start!$G$2:$H$3,2,0)","v":false},{"$f":"VLOOKUP(Input!E449,Start!$G$2:$H$3,2,0)","v":false},{"$f":"VLOOKUP(Input!F449,Start!$G$2:$H$3,2,0)","v":false},{"$f":"VLOOKUP(Input!G449,Start!$G$2:$H$3,2,0)","v":false},{"$f":"VLOOKUP(Input!H449,Start!$G$2:$H$3,2,0)","v":false},{"$f":"VLOOKUP(Input!I449,Start!$G$2:$H$3,2,0)","v":false},{"$f":"VLOOKUP(Input!J449,Start!$G$2:$H$3,2,0)","v":false},{"$f":"VLOOKUP(Input!K449,Start!$G$2:$H$3,2,0)","v":false},{"$f":"VLOOKUP(Input!L449,Start!$G$2:$H$3,2,0)","v":false},{"$f":"VLOOKUP(Input!M449,Start!$G$2:$H$3,2,0)","v":false},"ZZ_FillRectangle=FALSE||false||0||true||N","ZZ_FillRectangle=FALSE||false||0||true||N","ZZ_FillRectangle=FALSE||false||0||true||N","ZZ_FillRectangle=FALSE||false||0||true||N","ZZ_FillRectangle=FALSE||false||0||true||N","ZZ_FillRectangle=FALSE||false||0||true||N","ZZ_FillRectangle=FALSE||false||0||true||N","ZZ_FillRectangle=FALSE||false||0||true||N","ZZ_FillRectangle=FALSE||false||0||true||N","ZZ_FillRectangle=FALSE||false||0||true||N","ZZ_FillRectangle=FALSE||false||0||true||N"]
["ZZ_ColorUP=11186720","ZZ_ColorUP=11186720","ZZ_ColorUP=11186720","D • color UP ",{"$f":"Input!C450","v":"LightSeaGreen"},{"$f":"Input!D450","v":"LightSeaGreen"},{"$f":"Input!E450","v":"LightSeaGreen"},{"$f":"Input!F450","v":"LightSeaGreen"},{"$f":"Input!G450","v":"LightSeaGreen"},{"$f":"Input!H450","v":"LightSeaGreen"},{"$f":"Input!I450","v":"LightSeaGreen"},{"$f":"Input!J450","v":"LightSeaGreen"},{"$f":"Input!K450","v":"LightSeaGreen"},{"$f":"Input!L450","v":"LightSeaGreen"},{"$f":"Input!M450","v":"LightSeaGreen"},{"$f":"_xlfn.CONCAT($B450,E450,$C450)","v":"ZZ_ColorUP=11186720LightSeaGreenZZ_ColorUP=11186720"},{"$f":"_xlfn.CONCAT($B450,F450,$C450)","v":"ZZ_ColorUP=11186720LightSeaGreenZZ_ColorUP=11186720"},{"$f":"_xlfn.CONCAT($B450,G450,$C450)","v":"ZZ_ColorUP=11186720LightSeaGreenZZ_ColorUP=11186720"},{"$f":"_xlfn.CONCAT($B450,H450,$C450)","v":"ZZ_ColorUP=11186720LightSeaGreenZZ_ColorUP=11186720"},{"$f":"_xlfn.CONCAT($B450,I450,$C450)","v":"ZZ_ColorUP=11186720LightSeaGreenZZ_ColorUP=11186720"},{"$f":"_xlfn.CONCAT($B450,J450,$C450)","v":"ZZ_ColorUP=11186720LightSeaGreenZZ_ColorUP=11186720"},{"$f":"_xlfn.CONCAT($B450,K450,$C450)","v":"ZZ_ColorUP=11186720LightSeaGreenZZ_ColorUP=11186720"},{"$f":"_xlfn.CONCAT($B450,L450,$C450)","v":"ZZ_ColorUP=11186720LightSeaGreenZZ_ColorUP=11186720"},{"$f":"_xlfn.CONCAT($B450,M450,$C450)","v":"ZZ_ColorUP=11186720LightSeaGreenZZ_ColorUP=11186720"},{"$f":"_xlfn.CONCAT($B450,N450,$C450)","v":"ZZ_ColorUP=11186720LightSeaGreenZZ_ColorUP=11186720"},{"$f":"_xlfn.CONCAT($B450,O450,$C450)","v":"ZZ_ColorUP=11186720LightSeaGreenZZ_ColorUP=11186720"}]
["ZZ_ColorDN=17919","ZZ_ColorDN=17919","ZZ_ColorDN=17919","color DN ",{"$f":"Input!C451","v":"OrangeRed"},{"$f":"Input!D451","v":"OrangeRed"},{"$f":"Input!E451","v":"OrangeRed"},{"$f":"Input!F451","v":"OrangeRed"},{"$f":"Input!G451","v":"OrangeRed"},{"$f":"Input!H451","v":"OrangeRed"},{"$f":"Input!I451","v":"OrangeRed"},{"$f":"Input!J451","v":"OrangeRed"},{"$f":"Input!K451","v":"OrangeRed"},{"$f":"Input!L451","v":"OrangeRed"},{"$f":"Input!M451","v":"OrangeRed"},{"$f":"_xlfn.CONCAT($B451,E451,$C451)","v":"ZZ_ColorDN=17919OrangeRedZZ_ColorDN=17919"},{"$f":"_xlfn.CONCAT($B451,F451,$C451)","v":"ZZ_ColorDN=17919OrangeRedZZ_ColorDN=17919"},{"$f":"_xlfn.CONCAT($B451,G451,$C451)","v":"ZZ_ColorDN=17919OrangeRedZZ_ColorDN=17919"},{"$f":"_xlfn.CONCAT($B451,H451,$C451)","v":"ZZ_ColorDN=17919OrangeRedZZ_ColorDN=17919"},{"$f":"_xlfn.CONCAT($B451,I451,$C451)","v":"ZZ_ColorDN=17919OrangeRedZZ_ColorDN=17919"},{"$f":"_xlfn.CONCAT($B451,J451,$C451)","v":"ZZ_ColorDN=17919OrangeRedZZ_ColorDN=17919"},{"$f":"_xlfn.CONCAT($B451,K451,$C451)","v":"ZZ_ColorDN=17919OrangeRedZZ_ColorDN=17919"},{"$f":"_xlfn.CONCAT($B451,L451,$C451)","v":"ZZ_ColorDN=17919OrangeRedZZ_ColorDN=17919"},{"$f":"_xlfn.CONCAT($B451,M451,$C451)","v":"ZZ_ColorDN=17919OrangeRedZZ_ColorDN=17919"},{"$f":"_xlfn.CONCAT($B451,N451,$C451)","v":"ZZ_ColorDN=17919OrangeRedZZ_ColorDN=17919"},{"$f":"_xlfn.CONCAT($B451,O451,$C451)","v":"ZZ_ColorDN=17919OrangeRedZZ_ColorDN=17919"}]
["; Volatility for MA and ZZ Filters distance","; Volatility for MA and ZZ Filters distance","; Volatility for MA and ZZ Filters distance","Volatility for MA and ZZ Filters distance ",null,null,null,null,null,null,null,null,null,null,null,{"$f":"$A452","v":"; Volatility for MA and ZZ Filters distance"},"; Volatility for MA and ZZ Filters distance","; Volatility for MA and ZZ Filters distance","; Volatility for MA and ZZ Filters distance","; Volatility for MA and ZZ Filters distance","; Volatility for MA and ZZ Filters distance","; Volatility for MA and ZZ Filters distance","; Volatility for MA and ZZ Filters distance","; Volatility for MA and ZZ Filters distance","; Volatility for MA and ZZ Filters distance","; Volatility for MA and ZZ Filters distance"]
["VolMA_Properties====================================================================================","VolMA_Properties====================================================================================","VolMA_Properties====================================================================================","Volatility for MA and ZZ Filters distance: ",null,null,null,null,null,null,null,null,null,null,null,"VolMA_Properties====================================================================================","VolMA_Properties====================================================================================","VolMA_Properties====================================================================================","VolMA_Properties====================================================================================","VolMA_Properties====================================================================================","VolMA_Properties====================================================================================","VolMA_Properties====================================================================================","VolMA_Properties====================================================================================","VolMA_Properties====================================================================================","VolMA_Properties====================================================================================","VolMA_Properties===================================================================================="]
["VolMA_Type=0||0||0||4||N",{"$f":"_xlfn.CONCAT(LEFT(TRIM(A454),FIND(\"=\",TRIM(A454))-1),\"=\")","v":"VolMA_Type="},{"$f":"_xlfn.CONCAT(\"|\",RIGHT(TRIM(A454),LEN(TRIM(A454))-SEARCH(\"|\",TRIM(A454))))","v":"||0||0||4||N"},"Volatility Indicator ",{"$f":"VLOOKUP(Input!C454,Start!$CA$2:$CB$7,2,0)","v":1},{"$f":"VLOOKUP(Input!D454,Start!$CA$2:$CB$7,2,0)","v":1},{"$f":"VLOOKUP(Input!E454,Start!$CA$2:$CB$7,2,0)","v":1},{"$f":"VLOOKUP(Input!F454,Start!$CA$2:$CB$7,2,0)","v":1},{"$f":"VLOOKUP(Input!G454,Start!$CA$2:$CB$7,2,0)","v":1},{"$f":"VLOOKUP(Input!H454,Start!$CA$2:$CB$7,2,0)","v":1},{"$f":"VLOOKUP(Input!I454,Start!$CA$2:$CB$7,2,0)","v":1},{"$f":"VLOOKUP(Input!J454,Start!$CA$2:$CB$7,2,0)","v":1},{"$f":"VLOOKUP(Input!K454,Start!$CA$2:$CB$7,2,0)","v":1},{"$f":"VLOOKUP(Input!L454,Start!$CA$2:$CB$7,2,0)","v":1},{"$f":"VLOOKUP(Input!M454,Start!$CA$2:$CB$7,2,0)","v":1},{"$f":"_xlfn.CONCAT($B454,E454,$C454)","v":"VolMA_Type=1||0||0||4||N"},"VolMA_Type=1||0||0||4||N","VolMA_Type=1||0||0||4||N","VolMA_Type=1||0||0||4||N","VolMA_Type=1||0||0||4||N","VolMA_Type=1||0||0||4||N","VolMA_Type=1||0||0||4||N","VolMA_Type=1||0||0||4||N","VolMA_Type=1||0||0||4||N","VolMA_Type=1||0||0||4||N","VolMA_Type=1||0||0||4||N"]
["VolMA_TF=0||0||0||49153||N","VolMA_TF=","||0||0||49153||N","TimeFrame ",{"$f":"VLOOKUP(Input!C455,Start!$K$2:$L$22,2,0)","v":2},{"$f":"VLOOKUP(Input!D455,Start!$K$2:$L$22,2,0)","v":2},{"$f":"VLOOKUP(Input!E455,Start!$K$2:$L$22,2,0)","v":2},{"$f":"VLOOKUP(Input!F455,Start!$K$2:$L$22,2,0)","v":2},{"$f":"VLOOKUP(Input!G455,Start!$K$2:$L$22,2,0)","v":2},{"$f":"VLOOKUP(Input!H455,Start!$K$2:$L$22,2,0)","v":2},{"$f":"VLOOKUP(Input!I455,Start!$K$2:$L$22,2,0)","v":2},{"$f":"VLOOKUP(Input!J455,Start!$K$2:$L$22,2,0)","v":2},{"$f":"VLOOKUP(Input!K455,Start!$K$2:$L$22,2,0)","v":2},{"$f":"VLOOKUP(Input!L455,Start!$K$2:$L$22,2,0)","v":2},{"$f":"VLOOKUP(Input!M455,Start!$K$2:$L$22,2,0)","v":2},"VolMA_TF=2||0||0||49153||N","VolMA_TF=2||0||0||49153||N","VolMA_TF=2||0||0||49153||N","VolMA_TF=2||0||0||49153||N","VolMA_TF=2||0||0||49153||N","VolMA_TF=2||0||0||49153||N","VolMA_TF=2||0||0||49153||N","VolMA_TF=2||0||0||49153||N","VolMA_TF=2||0||0||49153||N","VolMA_TF=2||0||0||49153||N","VolMA_TF=2||0||0||49153||N"]
["VolMA_Period=20||20||1||200||N","VolMA_Period=","||20||1||200||N","Indicator Period ",{"$f":"Input!C456","v":0},{"$f":"Input!D456","v":0},{"$f":"Input!E456","v":0},{"$f":"Input!F456","v":0},{"$f":"Input!G456","v":0},{"$f":"Input!H456","v":0},{"$f":"Input!I456","v":0},{"$f":"Input!J456","v":0},{"$f":"Input!K456","v":0},{"$f":"Input!L456","v":0},{"$f":"Input!M456","v":0},"VolMA_Period=0||20||1||200||N","VolMA_Period=0||20||1||200||N","VolMA_Period=0||20||1||200||N","VolMA_Period=0||20||1||200||N","VolMA_Period=0||20||1||200||N","VolMA_Period=0||20||1||200||N","VolMA_Period=0||20||1||200||N","VolMA_Period=0||20||1||200||N","VolMA_Period=0||20||1||200||N","VolMA_Period=0||20||1||200||N","VolMA_Period=0||20||1||200||N"]
["; Volatility Filter properties","; Volatility Filter properties","; Volatility Filter properties","Volatility Filter properties ",null,null,null,null,null,null,null,null,null,null,null,{"$f":"$A457","v":"; Volatility Filter properties"},"; Volatility Filter properties","; Volatility Filter properties","; Volatility Filter properties","; Volatility Filter properties","; Volatility Filter properties","; Volatility Filter properties","; Volatility Filter properties","; Volatility Filter properties","; Volatility Filter properties","; Volatility Filter properties"]
["VolFilter_Properties====================================================================================","VolFilter_Properties====================================================================================","VolFilter_Properties====================================================================================","Volatility Filter properties: ",null,null,null,null,null,null,null,null,null,null,null,"VolFilter_Properties====================================================================================","VolFilter_Properties====================================================================================","VolFilter_Properties====================================================================================","VolFilter_Properties====================================================================================","VolFilter_Properties====================================================================================","VolFilter_Properties====================================================================================","VolFilter_Properties====================================================================================","VolFilter_Properties====================================================================================","VolFilter_Properties====================================================================================","VolFilter_Properties====================================================================================","VolFilter_Properties===================================================================================="]
["VolFilter_Type=0||0||0||4||N",{"$f":"_xlfn.CONCAT(LEFT(TRIM(A459),FIND(\"=\",TRIM(A459))-1),\"=\")","v":"VolFilter_Type="},{"$f":"_xlfn.CONCAT(\"|\",RIGHT(TRIM(A459),LEN(TRIM(A459))-SEARCH(\"|\",TRIM(A459))))","v":"||0||0||4||N"},"Volatility Filter Indicator ",{"$f":"VLOOKUP(Input!C459,Start!$CA$2:$CB$7,2,0)","v":1},{"$f":"VLOOKUP(Input!D459,Start!$CA$2:$CB$7,2,0)","v":1},{"$f":"VLOOKUP(Input!E459,Start!$CA$2:$CB$7,2,0)","v":1},{"$f":"VLOOKUP(Input!F459,Start!$CA$2:$CB$7,2,0)","v":1},{"$f":"VLOOKUP(Input!G459,Start!$CA$2:$CB$7,2,0)","v":1},{"$f":"VLOOKUP(Input!H459,Start!$CA$2:$CB$7,2,0)","v":1},{"$f":"VLOOKUP(Input!I459,Start!$CA$2:$CB$7,2,0)","v":1},{"$f":"VLOOKUP(Input!J459,Start!$CA$2:$CB$7,2,0)","v":1},{"$f":"VLOOKUP(Input!K459,Start!$CA$2:$CB$7,2,0)","v":1},{"$f":"VLOOKUP(Input!L459,Start!$CA$2:$CB$7,2,0)","v":1},{"$f":"VLOOKUP(Input!M459,Start!$CA$2:$CB$7,2,0)","v":1},{"$f":"_xlfn.CONCAT($B459,E459,$C459)","v":"VolFilter_Type=1||0||0||4||N"},"VolFilter_Type=1||0||0||4||N","VolFilter_Type=1||0||0||4||N","VolFilter_Type=1||0||0||4||N","VolFilter_Type=1||0||0||4||N","VolFilter_Type=1||0||0||4||N","VolFilter_Type=1||0||0||4||N","VolFilter_Type=1||0||0||4||N","VolFilter_Type=1||0||0||4||N","VolFilter_Type=1||0||0||4||N","VolFilter_Type=1||0||0||4||N"]
["VolFilter_TF=0||0||0||49153||N","VolFilter_TF=","||0||0||49153||N","TimeFrame ",{"$f":"VLOOKUP(Input!C460,Start!$K$2:$L$22,2,0)","v":2},{"$f":"VLOOKUP(Input!D460,Start!$K$2:$L$22,2,0)","v":2},{"$f":"VLOOKUP(Input!E460,Start!$K$2:$L$22,2,0)","v":2},{"$f":"VLOOKUP(Input!F460,Start!$K$2:$L$22,2,0)","v":2},{"$f":"VLOOKUP(Input!G460,Start!$K$2:$L$22,2,0)","v":2},{"$f":"VLOOKUP(Input!H460,Start!$K$2:$L$22,2,0)","v":2},{"$f":"VLOOKUP(Input!I460,Start!$K$2:$L$22,2,0)","v":2},{"$f":"VLOOKUP(Input!J460,Start!$K$2:$L$22,2,0)","v":2},{"$f":"VLOOKUP(Input!K460,Start!$K$2:$L$22,2,0)","v":2},{"$f":"VLOOKUP(Input!L460,Start!$K$2:$L$22,2,0)","v":2},{"$f":"VLOOKUP(Input!M460,Start!$K$2:$L$22,2,0)","v":2},"VolFilter_TF=2||0||0||49153||N","VolFilter_TF=2||0||0||49153||N","VolFilter_TF=2||0||0||49153||N","VolFilter_TF=2||0||0||49153||N","VolFilter_TF=2||0||0||49153||N","VolFilter_TF=2||0||0||49153||N","VolFilter_TF=2||0||0||49153||N","VolFilter_TF=2||0||0||49153||N","VolFilter_TF=2||0||0||49153||N","VolFilter_TF=2||0||0||49153||N","VolFilter_TF=2||0||0||49153||N"]
["VolFilter_Period=20||20||1||200||N","VolFilter_Period=","||20||1||200||N","Indicator Period ",{"$f":"Input!C461","v":0},{"$f":"Input!D461","v":0},{"$f":"Input!E461","v":0},{"$f":"Input!F461","v":0},{"$f":"Input!G461","v":0},{"$f":"Input!H461","v":0},{"$f":"Input!I461","v":0},{"$f":"Input!J461","v":0},{"$f":"Input!K461","v":0},{"$f":"Input!L461","v":0},{"$f":"Input!M461","v":0},"VolFilter_Period=0||20||1||200||N","VolFilter_Period=0||20||1||200||N","VolFilter_Period=0||20||1||200||N","VolFilter_Period=0||20||1||200||N","VolFilter_Period=0||20||1||200||N","VolFilter_Period=0||20||1||200||N","VolFilter_Period=0||20||1||200||N","VolFilter_Period=0||20||1||200||N","VolFilter_Period=0||20||1||200||N","VolFilter_Period=0||20||1||200||N","VolFilter_Period=0||20||1||200||N"]
["VolFilter_Min=0||0||0.000000||0.000000||N","VolFilter_Min=","||0||0.000000||0.000000||N","Min Volatility (O - disable limit) ",{"$f":"Input!C462","v":0},{"$f":"Input!D462","v":0},{"$f":"Input!E462","v":0},{"$f":"Input!F462","v":0},{"$f":"Input!G462","v":0},{"$f":"Input!H462","v":0},{"$f":"Input!I462","v":0},{"$f":"Input!J462","v":0},{"$f":"Input!K462","v":0},{"$f":"Input!L462","v":0},{"$f":"Input!M462","v":0},"VolFilter_Min=0||0||0.000000||0.000000||N","VolFilter_Min=0||0||0.000000||0.000000||N","VolFilter_Min=0||0||0.000000||0.000000||N","VolFilter_Min=0||0||0.000000||0.000000||N","VolFilter_Min=0||0||0.000000||0.000000||N","VolFilter_Min=0||0||0.000000||0.000000||N","VolFilter_Min=0||0||0.000000||0.000000||N","VolFilter_Min=0||0||0.000000||0.000000||N","VolFilter_Min=0||0||0.000000||0.000000||N","VolFilter_Min=0||0||0.000000||0.000000||N","VolFilter_Min=0||0||0.000000||0.000000||N"]
["VolFilter_Max=0||0||0.000000||0.000000||N","VolFilter_Max=","||0||0.000000||0.000000||N","Max Volatility (O disable limit) ",{"$f":"Input!C463","v":0},{"$f":"Input!D463","v":0},{"$f":"Input!E463","v":0},{"$f":"Input!F463","v":0},{"$f":"Input!G463","v":0},{"$f":"Input!H463","v":0},{"$f":"Input!I463","v":0},{"$f":"Input!J463","v":0},{"$f":"Input!K463","v":0},{"$f":"Input!L463","v":0},{"$f":"Input!M463","v":0},"VolFilter_Max=0||0||0.000000||0.000000||N","VolFilter_Max=0||0||0.000000||0.000000||N","VolFilter_Max=0||0||0.000000||0.000000||N","VolFilter_Max=0||0||0.000000||0.000000||N","VolFilter_Max=0||0||0.000000||0.000000||N","VolFilter_Max=0||0||0.000000||0.000000||N","VolFilter_Max=0||0||0.000000||0.000000||N","VolFilter_Max=0||0||0.000000||0.000000||N","VolFilter_Max=0||0||0.000000||0.000000||N","VolFilter_Max=0||0||0.000000||0.000000||N","VolFilter_Max=0||0||0.000000||0.000000||N"]
["VolFilter_Smoothing_Mode=0||0||0||2||N","VolFilter_Smoothing_Mode=","||0||0||2||N","Smoothing Filter ",{"$f":"VLOOKUP(Input!C464,Start!$CC$2:$CD$4,2,0)","v":1},{"$f":"VLOOKUP(Input!D464,Start!$CC$2:$CD$4,2,0)","v":1},{"$f":"VLOOKUP(Input!E464,Start!$CC$2:$CD$4,2,0)","v":1},{"$f":"VLOOKUP(Input!F464,Start!$CC$2:$CD$4,2,0)","v":1},{"$f":"VLOOKUP(Input!G464,Start!$CC$2:$CD$4,2,0)","v":1},{"$f":"VLOOKUP(Input!H464,Start!$CC$2:$CD$4,2,0)","v":1},{"$f":"VLOOKUP(Input!I464,Start!$CC$2:$CD$4,2,0)","v":1},{"$f":"VLOOKUP(Input!J464,Start!$CC$2:$CD$4,2,0)","v":1},{"$f":"VLOOKUP(Input!K464,Start!$CC$2:$CD$4,2,0)","v":1},{"$f":"VLOOKUP(Input!L464,Start!$CC$2:$CD$4,2,0)","v":1},{"$f":"VLOOKUP(Input!M464,Start!$CC$2:$CD$4,2,0)","v":1},"VolFilter_Smoothing_Mode=1||0||0||2||N","VolFilter_Smoothing_Mode=1||0||0||2||N","VolFilter_Smoothing_Mode=1||0||0||2||N","VolFilter_Smoothing_Mode=1||0||0||2||N","VolFilter_Smoothing_Mode=1||0||0||2||N","VolFilter_Smoothing_Mode=1||0||0||2||N","VolFilter_Smoothing_Mode=1||0||0||2||N","VolFilter_Smoothing_Mode=1||0||0||2||N","VolFilter_Smoothing_Mode=1||0||0||2||N","VolFilter_Smoothing_Mode=1||0||0||2||N","VolFilter_Smoothing_Mode=1||0||0||2||N"]
["VolFilter_Smoothing_Period=20||20||1||200||N","VolFilter_Smoothing_Period=","||20||1||200||N","Smoothing Period ",{"$f":"Input!C465","v":0},{"$f":"Input!D465","v":0},{"$f":"Input!E465","v":0},{"$f":"Input!F465","v":0},{"$f":"Input!G465","v":0},{"$f":"Input!H465","v":0},{"$f":"Input!I465","v":0},{"$f":"Input!J465","v":0},{"$f":"Input!K465","v":0},{"$f":"Input!L465","v":0},{"$f":"Input!M465","v":0},"VolFilter_Smoothing_Period=0||20||1||200||N","VolFilter_Smoothing_Period=0||20||1||200||N","VolFilter_Smoothing_Period=0||20||1||200||N","VolFilter_Smoothing_Period=0||20||1||200||N","VolFilter_Smoothing_Period=0||20||1||200||N","VolFilter_Smoothing_Period=0||20||1||200||N","VolFilter_Smoothing_Period=0||20||1||200||N","VolFilter_Smoothing_Period=0||20||1||200||N","VolFilter_Smoothing_Period=0||20||1||200||N","VolFilter_Smoothing_Period=0||20||1||200||N","VolFilter_Smoothing_Period=0||20||1||200||N"]
["VolFilter_OpenOn=0||0||0||3||N","VolFilter_OpenOn=","||0||0||3||N","Open on ",{"$f":"VLOOKUP(Input!C466,Start!$AK$2:$AL$5,2,0)","v":0},{"$f":"VLOOKUP(Input!D466,Start!$AK$2:$AL$5,2,0)","v":0},{"$f":"VLOOKUP(Input!E466,Start!$AK$2:$AL$5,2,0)","v":0},{"$f":"VLOOKUP(Input!F466,Start!$AK$2:$AL$5,2,0)","v":0},{"$f":"VLOOKUP(Input!G466,Start!$AK$2:$AL$5,2,0)","v":0},{"$f":"VLOOKUP(Input!H466,Start!$AK$2:$AL$5,2,0)","v":0},{"$f":"VLOOKUP(Input!I466,Start!$AK$2:$AL$5,2,0)","v":0},{"$f":"VLOOKUP(Input!J466,Start!$AK$2:$AL$5,2,0)","v":0},{"$f":"VLOOKUP(Input!K466,Start!$AK$2:$AL$5,2,0)","v":0},{"$f":"VLOOKUP(Input!L466,Start!$AK$2:$AL$5,2,0)","v":0},{"$f":"VLOOKUP(Input!M466,Start!$AK$2:$AL$5,2,0)","v":0},"VolFilter_OpenOn=0||0||0||3||N","VolFilter_OpenOn=0||0||0||3||N","VolFilter_OpenOn=0||0||0||3||N","VolFilter_OpenOn=0||0||0||3||N","VolFilter_OpenOn=0||0||0||3||N","VolFilter_OpenOn=0||0||0||3||N","VolFilter_OpenOn=0||0||0||3||N","VolFilter_OpenOn=0||0||0||3||N","VolFilter_OpenOn=0||0||0||3||N","VolFilter_OpenOn=0||0||0||3||N","VolFilter_OpenOn=0||0||0||3||N"]
["VolFilter_MartinOn=0||0||0||3||N","VolFilter_MartinOn=","||0||0||3||N","Open martin on ",{"$f":"VLOOKUP(Input!C467,Start!$AK$2:$AL$5,2,0)","v":1},{"$f":"VLOOKUP(Input!D467,Start!$AK$2:$AL$5,2,0)","v":1},{"$f":"VLOOKUP(Input!E467,Start!$AK$2:$AL$5,2,0)","v":1},{"$f":"VLOOKUP(Input!F467,Start!$AK$2:$AL$5,2,0)","v":1},{"$f":"VLOOKUP(Input!G467,Start!$AK$2:$AL$5,2,0)","v":1},{"$f":"VLOOKUP(Input!H467,Start!$AK$2:$AL$5,2,0)","v":1},{"$f":"VLOOKUP(Input!I467,Start!$AK$2:$AL$5,2,0)","v":1},{"$f":"VLOOKUP(Input!J467,Start!$AK$2:$AL$5,2,0)","v":1},{"$f":"VLOOKUP(Input!K467,Start!$AK$2:$AL$5,2,0)","v":1},{"$f":"VLOOKUP(Input!L467,Start!$AK$2:$AL$5,2,0)","v":1},{"$f":"VLOOKUP(Input!M467,Start!$AK$2:$AL$5,2,0)","v":1},"VolFilter_MartinOn=1||0||0||3||N","VolFilter_MartinOn=1||0||0||3||N","VolFilter_MartinOn=1||0||0||3||N","VolFilter_MartinOn=1||0||0||3||N","VolFilter_MartinOn=1||0||0||3||N","VolFilter_MartinOn=1||0||0||3||N","VolFilter_MartinOn=1||0||0||3||N","VolFilter_MartinOn=1||0||0||3||N","VolFilter_MartinOn=1||0||0||3||N","VolFilter_MartinOn=1||0||0||3||N","VolFilter_MartinOn=1||0||0||3||N"]
["VolFilter_HedgeOn=0||0||0||3||N","VolFilter_HedgeOn=","||0||0||3||N","Open hedge on ",{"$f":"VLOOKUP(Input!C468,Start!$AK$2:$AL$5,2,0)","v":1},{"$f":"VLOOKUP(Input!D468,Start!$AK$2:$AL$5,2,0)","v":1},{"$f":"VLOOKUP(Input!E468,Start!$AK$2:$AL$5,2,0)","v":1},{"$f":"VLOOKUP(Input!F468,Start!$AK$2:$AL$5,2,0)","v":1},{"$f":"VLOOKUP(Input!G468,Start!$AK$2:$AL$5,2,0)","v":1},{"$f":"VLOOKUP(Input!H468,Start!$AK$2:$AL$5,2,0)","v":1},{"$f":"VLOOKUP(Input!I468,Start!$AK$2:$AL$5,2,0)","v":1},{"$f":"VLOOKUP(Input!J468,Start!$AK$2:$AL$5,2,0)","v":1},{"$f":"VLOOKUP(Input!K468,Start!$AK$2:$AL$5,2,0)","v":1},{"$f":"VLOOKUP(Input!L468,Start!$AK$2:$AL$5,2,0)","v":1},{"$f":"VLOOKUP(Input!M468,Start!$AK$2:$AL$5,2,0)","v":1},"VolFilter_HedgeOn=1||0||0||3||N","VolFilter_HedgeOn=1||0||0||3||N","VolFilter_HedgeOn=1||0||0||3||N","VolFilter_HedgeOn=1||0||0||3||N","VolFilter_HedgeOn=1||0||0||3||N","VolFilter_HedgeOn=1||0||0||3||N","VolFilter_HedgeOn=1||0||0||3||N","VolFilter_HedgeOn=1||0||0||3||N","VolFilter_HedgeOn=1||0||0||3||N","VolFilter_HedgeOn=1||0||0||3||N","VolFilter_HedgeOn=1||0||0||3||N"]
["VolFilter_CloseOn=0||0||0||4||N","VolFilter_CloseOn=","||0||0||4||N","Close on ",{"$f":"VLOOKUP(Input!C469,Start!$AM$2:$AN$6,2,0)","v":2},{"$f":"VLOOKUP(Input!D469,Start!$AM$2:$AN$6,2,0)","v":2},{"$f":"VLOOKUP(Input!E469,Start!$AM$2:$AN$6,2,0)","v":2},{"$f":"VLOOKUP(Input!F469,Start!$AM$2:$AN$6,2,0)","v":2},{"$f":"VLOOKUP(Input!G469,Start!$AM$2:$AN$6,2,0)","v":2},{"$f":"VLOOKUP(Input!H469,Start!$AM$2:$AN$6,2,0)","v":2},{"$f":"VLOOKUP(Input!I469,Start!$AM$2:$AN$6,2,0)","v":2},{"$f":"VLOOKUP(Input!J469,Start!$AM$2:$AN$6,2,0)","v":2},{"$f":"VLOOKUP(Input!K469,Start!$AM$2:$AN$6,2,0)","v":2},{"$f":"VLOOKUP(Input!L469,Start!$AM$2:$AN$6,2,0)","v":2},{"$f":"VLOOKUP(Input!M469,Start!$AM$2:$AN$6,2,0)","v":2},"VolFilter_CloseOn=2||0||0||4||N","VolFilter_CloseOn=2||0||0||4||N","VolFilter_CloseOn=2||0||0||4||N","VolFilter_CloseOn=2||0||0||4||N","VolFilter_CloseOn=2||0||0||4||N","VolFilter_CloseOn=2||0||0||4||N","VolFilter_CloseOn=2||0||0||4||N","VolFilter_CloseOn=2||0||0||4||N","VolFilter_CloseOn=2||0||0||4||N","VolFilter_CloseOn=2||0||0||4||N","VolFilter_CloseOn=2||0||0||4||N"]
["VolFilter_PartialCloseOn=0||0||0||3||N","VolFilter_PartialCloseOn=","||0||0||3||N","Partial close on ",{"$f":"VLOOKUP(Input!C470,Start!$AO$2:$AP$4,2,0)","v":1},{"$f":"VLOOKUP(Input!D470,Start!$AO$2:$AP$4,2,0)","v":1},{"$f":"VLOOKUP(Input!E470,Start!$AO$2:$AP$4,2,0)","v":1},{"$f":"VLOOKUP(Input!F470,Start!$AO$2:$AP$4,2,0)","v":1},{"$f":"VLOOKUP(Input!G470,Start!$AO$2:$AP$4,2,0)","v":1},{"$f":"VLOOKUP(Input!H470,Start!$AO$2:$AP$4,2,0)","v":1},{"$f":"VLOOKUP(Input!I470,Start!$AO$2:$AP$4,2,0)","v":1},{"$f":"VLOOKUP(Input!J470,Start!$AO$2:$AP$4,2,0)","v":1},{"$f":"VLOOKUP(Input!K470,Start!$AO$2:$AP$4,2,0)","v":1},{"$f":"VLOOKUP(Input!L470,Start!$AO$2:$AP$4,2,0)","v":1},{"$f":"VLOOKUP(Input!M470,Start!$AO$2:$AP$4,2,0)","v":1},"VolFilter_PartialCloseOn=1||0||0||3||N","VolFilter_PartialCloseOn=1||0||0||3||N","VolFilter_PartialCloseOn=1||0||0||3||N","VolFilter_PartialCloseOn=1||0||0||3||N","VolFilter_PartialCloseOn=1||0||0||3||N","VolFilter_PartialCloseOn=1||0||0||3||N","VolFilter_PartialCloseOn=1||0||0||3||N","VolFilter_PartialCloseOn=1||0||0||3||N","VolFilter_PartialCloseOn=1||0||0||3||N","VolFilter_PartialCloseOn=1||0||0||3||N","VolFilter_PartialCloseOn=1||0||0||3||N"]
["; FIBO #1 properties","; FIBO #1 properties","; FIBO #1 properties","FIBO #1 properties ",null,null,null,null,null,null,null,null,null,null,null,{"$f":"$A471","v":"; FIBO #1 properties"},"; FIBO #1 properties","; FIBO #1 properties","; FIBO #1 properties","; FIBO #1 properties","; FIBO #1 properties","; FIBO #1 properties","; FIBO #1 properties","; FIBO #1 properties","; FIBO #1 properties","; FIBO #1 properties"]
["FIBO_Properties====================================================================================","FIBO_Properties====================================================================================","FIBO_Properties====================================================================================","F180#I properties: ",null,null,null,null,null,null,null,null,null,null,null,"FIBO_Properties====================================================================================","FIBO_Properties====================================================================================","FIBO_Properties====================================================================================","FIBO_Properties====================================================================================","FIBO_Properties====================================================================================","FIBO_Properties====================================================================================","FIBO_Properties====================================================================================","FIBO_Properties====================================================================================","FIBO_Properties====================================================================================","FIBO_Properties====================================================================================","FIBO_Properties===================================================================================="]
["FIBO_Type=0||0||0||1||N",{"$f":"_xlfn.CONCAT(LEFT(TRIM(A473),FIND(\"=\",TRIM(A473))-1),\"=\")","v":"FIBO_Type="},{"$f":"_xlfn.CONCAT(\"|\",RIGHT(TRIM(A473),LEN(TRIM(A473))-SEARCH(\"|\",TRIM(A473))))","v":"||0||0||1||N"},"Type ",{"$f":"VLOOKUP(Input!C473,Start!$CE$2:$CF$5,2,0)","v":2},{"$f":"VLOOKUP(Input!D473,Start!$CE$2:$CF$5,2,0)","v":2},{"$f":"VLOOKUP(Input!E473,Start!$CE$2:$CF$5,2,0)","v":2},{"$f":"VLOOKUP(Input!F473,Start!$CE$2:$CF$5,2,0)","v":2},{"$f":"VLOOKUP(Input!G473,Start!$CE$2:$CF$5,2,0)","v":2},{"$f":"VLOOKUP(Input!H473,Start!$CE$2:$CF$5,2,0)","v":2},{"$f":"VLOOKUP(Input!I473,Start!$CE$2:$CF$5,2,0)","v":2},{"$f":"VLOOKUP(Input!J473,Start!$CE$2:$CF$5,2,0)","v":2},{"$f":"VLOOKUP(Input!K473,Start!$CE$2:$CF$5,2,0)","v":2},{"$f":"VLOOKUP(Input!L473,Start!$CE$2:$CF$5,2,0)","v":2},{"$f":"VLOOKUP(Input!M473,Start!$CE$2:$CF$5,2,0)","v":2},{"$f":"_xlfn.CONCAT($B473,E473,$C473)","v":"FIBO_Type=2||0||0||1||N"},"FIBO_Type=2||0||0||1||N","FIBO_Type=2||0||0||1||N","FIBO_Type=2||0||0||1||N","FIBO_Type=2||0||0||1||N","FIBO_Type=2||0||0||1||N","FIBO_Type=2||0||0||1||N","FIBO_Type=2||0||0||1||N","FIBO_Type=2||0||0||1||N","FIBO_Type=2||0||0||1||N","FIBO_Type=2||0||0||1||N"]
["FIBO_TF=16385||0||0||49153||N","FIBO_TF=","||0||0||49153||N","TimeFrame ",{"$f":"VLOOKUP(Input!C474,Start!$K$2:$L$22,2,0)","v":2},{"$f":"VLOOKUP(Input!D474,Start!$K$2:$L$22,2,0)","v":2},{"$f":"VLOOKUP(Input!E474,Start!$K$2:$L$22,2,0)","v":2},{"$f":"VLOOKUP(Input!F474,Start!$K$2:$L$22,2,0)","v":2},{"$f":"VLOOKUP(Input!G474,Start!$K$2:$L$22,2,0)","v":2},{"$f":"VLOOKUP(Input!H474,Start!$K$2:$L$22,2,0)","v":2},{"$f":"VLOOKUP(Input!I474,Start!$K$2:$L$22,2,0)","v":2},{"$f":"VLOOKUP(Input!J474,Start!$K$2:$L$22,2,0)","v":2},{"$f":"VLOOKUP(Input!K474,Start!$K$2:$L$22,2,0)","v":2},{"$f":"VLOOKUP(Input!L474,Start!$K$2:$L$22,2,0)","v":2},{"$f":"VLOOKUP(Input!M474,Start!$K$2:$L$22,2,0)","v":2},"FIBO_TF=2||0||0||49153||N","FIBO_TF=2||0||0||49153||N","FIBO_TF=2||0||0||49153||N","FIBO_TF=2||0||0||49153||N","FIBO_TF=2||0||0||49153||N","FIBO_TF=2||0||0||49153||N","FIBO_TF=2||0||0||49153||N","FIBO_TF=2||0||0||49153||N","FIBO_TF=2||0||0||49153||N","FIBO_TF=2||0||0||49153||N","FIBO_TF=2||0||0||49153||N"]
["FIBO_CheckInterval=1||0||0||10||N","FIBO_CheckInterval=","||0||0||10||N","Check Interval ",{"$f":"VLOOKUP(Input!C475,Start!$CG$2:$CH$12,2,0)","v":1},{"$f":"VLOOKUP(Input!D475,Start!$CG$2:$CH$12,2,0)","v":1},{"$f":"VLOOKUP(Input!E475,Start!$CG$2:$CH$12,2,0)","v":1},{"$f":"VLOOKUP(Input!F475,Start!$CG$2:$CH$12,2,0)","v":1},{"$f":"VLOOKUP(Input!G475,Start!$CG$2:$CH$12,2,0)","v":1},{"$f":"VLOOKUP(Input!H475,Start!$CG$2:$CH$12,2,0)","v":1},{"$f":"VLOOKUP(Input!I475,Start!$CG$2:$CH$12,2,0)","v":1},{"$f":"VLOOKUP(Input!J475,Start!$CG$2:$CH$12,2,0)","v":1},{"$f":"VLOOKUP(Input!K475,Start!$CG$2:$CH$12,2,0)","v":1},{"$f":"VLOOKUP(Input!L475,Start!$CG$2:$CH$12,2,0)","v":1},{"$f":"VLOOKUP(Input!M475,Start!$CG$2:$CH$12,2,0)","v":1},"FIBO_CheckInterval=1||0||0||10||N","FIBO_CheckInterval=1||0||0||10||N","FIBO_CheckInterval=1||0||0||10||N","FIBO_CheckInterval=1||0||0||10||N","FIBO_CheckInterval=1||0||0||10||N","FIBO_CheckInterval=1||0||0||10||N","FIBO_CheckInterval=1||0||0||10||N","FIBO_CheckInterval=1||0||0||10||N","FIBO_CheckInterval=1||0||0||10||N","FIBO_CheckInterval=1||0||0||10||N","FIBO_CheckInterval=1||0||0||10||N"]
["FIBO_Bars=120||120||1||1200||N","FIBO_Bars=","||120||1||1200||N","Bars for range calculation ",{"$f":"Input!C476","v":0},{"$f":"Input!D476","v":0},{"$f":"Input!E476","v":0},{"$f":"Input!F476","v":0},{"$f":"Input!G476","v":0},{"$f":"Input!H476","v":0},{"$f":"Input!I476","v":0},{"$f":"Input!J476","v":0},{"$f":"Input!K476","v":0},{"$f":"Input!L476","v":0},{"$f":"Input!M476","v":0},"FIBO_Bars=0||120||1||1200||N","FIBO_Bars=0||120||1||1200||N","FIBO_Bars=0||120||1||1200||N","FIBO_Bars=0||120||1||1200||N","FIBO_Bars=0||120||1||1200||N","FIBO_Bars=0||120||1||1200||N","FIBO_Bars=0||120||1||1200||N","FIBO_Bars=0||120||1||1200||N","FIBO_Bars=0||120||1||1200||N","FIBO_Bars=0||120||1||1200||N","FIBO_Bars=0||120||1||1200||N"]
["FIBO_Level=61.8||61.8||6.180000||618.000000||N","FIBO_Level=","||61.8||6.180000||618.000000||N","Fibo level ",{"$f":"Input!C477","v":0},{"$f":"Input!D477","v":0},{"$f":"Input!E477","v":0},{"$f":"Input!F477","v":0},{"$f":"Input!G477","v":0},{"$f":"Input!H477","v":0},{"$f":"Input!I477","v":0},{"$f":"Input!J477","v":0},{"$f":"Input!K477","v":0},{"$f":"Input!L477","v":0},{"$f":"Input!M477","v":0},"FIBO_Level=0||61.8||6.180000||618.000000||N","FIBO_Level=0||61.8||6.180000||618.000000||N","FIBO_Level=0||61.8||6.180000||618.000000||N","FIBO_Level=0||61.8||6.180000||618.000000||N","FIBO_Level=0||61.8||6.180000||618.000000||N","FIBO_Level=0||61.8||6.180000||618.000000||N","FIBO_Level=0||61.8||6.180000||618.000000||N","FIBO_Level=0||61.8||6.180000||618.000000||N","FIBO_Level=0||61.8||6.180000||618.000000||N","FIBO_Level=0||61.8||6.180000||618.000000||N","FIBO_Level=0||61.8||6.180000||618.000000||N"]
["FIBO_UseClosedBars=true||false||0||true||N","FIBO_UseClosedBars=","||false||0||true||N","Use closed bars only ",{"$f":"VLOOKUP(Input!C478,Start!$G$2:$H$3,2,0)","v":false},{"$f":"VLOOKUP(Input!D478,Start!$G$2:$H$3,2,0)","v":false},{"$f":"VLOOKUP(Input!E478,Start!$G$2:$H$3,2,0)","v":false},{"$f":"VLOOKUP(Input!F478,Start!$G$2:$H$3,2,0)","v":false},{"$f":"VLOOKUP(Input!G478,Start!$G$2:$H$3,2,0)","v":false},{"$f":"VLOOKUP(Input!H478,Start!$G$2:$H$3,2,0)","v":false},{"$f":"VLOOKUP(Input!I478,Start!$G$2:$H$3,2,0)","v":false},{"$f":"VLOOKUP(Input!J478,Start!$G$2:$H$3,2,0)","v":false},{"$f":"VLOOKUP(Input!K478,Start!$G$2:$H$3,2,0)","v":false},{"$f":"VLOOKUP(Input!L478,Start!$G$2:$H$3,2,0)","v":false},{"$f":"VLOOKUP(Input!M478,Start!$G$2:$H$3,2,0)","v":false},"FIBO_UseClosedBars=FALSE||false||0||true||N","FIBO_UseClosedBars=FALSE||false||0||true||N","FIBO_UseClosedBars=FALSE||false||0||true||N","FIBO_UseClosedBars=FALSE||false||0||true||N","FIBO_UseClosedBars=FALSE||false||0||true||N","FIBO_UseClosedBars=FALSE||false||0||true||N","FIBO_UseClosedBars=FALSE||false||0||true||N","FIBO_UseClosedBars=FALSE||false||0||true||N","FIBO_UseClosedBars=FALSE||false||0||true||N","FIBO_UseClosedBars=FALSE||false||0||true||N","FIBO_UseClosedBars=FALSE||false||0||true||N"]
["FIBO_OpenOn=0||0||0||3||N","FIBO_OpenOn=","||0||0||3||N","Open on ",{"$f":"VLOOKUP(Input!C479,Start!$AK$2:$AL$5,2,0)","v":0},{"$f":"VLOOKUP(Input!D479,Start!$AK$2:$AL$5,2,0)","v":0},{"$f":"VLOOKUP(Input!E479,Start!$AK$2:$AL$5,2,0)","v":0},{"$f":"VLOOKUP(Input!F479,Start!$AK$2:$AL$5,2,0)","v":0},{"$f":"VLOOKUP(Input!G479,Start!$AK$2:$AL$5,2,0)","v":0},{"$f":"VLOOKUP(Input!H479,Start!$AK$2:$AL$5,2,0)","v":0},{"$f":"VLOOKUP(Input!I479,Start!$AK$2:$AL$5,2,0)","v":0},{"$f":"VLOOKUP(Input!J479,Start!$AK$2:$AL$5,2,0)","v":0},{"$f":"VLOOKUP(Input!K479,Start!$AK$2:$AL$5,2,0)","v":0},{"$f":"VLOOKUP(Input!L479,Start!$AK$2:$AL$5,2,0)","v":0},{"$f":"VLOOKUP(Input!M479,Start!$AK$2:$AL$5,2,0)","v":0},"FIBO_OpenOn=0||0||0||3||N","FIBO_OpenOn=0||0||0||3||N","FIBO_OpenOn=0||0||0||3||N","FIBO_OpenOn=0||0||0||3||N","FIBO_OpenOn=0||0||0||3||N","FIBO_OpenOn=0||0||0||3||N","FIBO_OpenOn=0||0||0||3||N","FIBO_OpenOn=0||0||0||3||N","FIBO_OpenOn=0||0||0||3||N","FIBO_OpenOn=0||0||0||3||N","FIBO_OpenOn=0||0||0||3||N"]
["FIBO_MartinOn=0||0||0||3||N","FIBO_MartinOn=","||0||0||3||N","Open martin on ",{"$f":"VLOOKUP(Input!C480,Start!$AK$2:$AL$5,2,0)","v":1},{"$f":"VLOOKUP(Input!D480,Start!$AK$2:$AL$5,2,0)","v":1},{"$f":"VLOOKUP(Input!E480,Start!$AK$2:$AL$5,2,0)","v":1},{"$f":"VLOOKUP(Input!F480,Start!$AK$2:$AL$5,2,0)","v":1},{"$f":"VLOOKUP(Input!G480,Start!$AK$2:$AL$5,2,0)","v":1},{"$f":"VLOOKUP(Input!H480,Start!$AK$2:$AL$5,2,0)","v":1},{"$f":"VLOOKUP(Input!I480,Start!$AK$2:$AL$5,2,0)","v":1},{"$f":"VLOOKUP(Input!J480,Start!$AK$2:$AL$5,2,0)","v":1},{"$f":"VLOOKUP(Input!K480,Start!$AK$2:$AL$5,2,0)","v":1},{"$f":"VLOOKUP(Input!L480,Start!$AK$2:$AL$5,2,0)","v":1},{"$f":"VLOOKUP(Input!M480,Start!$AK$2:$AL$5,2,0)","v":1},"FIBO_MartinOn=1||0||0||3||N","FIBO_MartinOn=1||0||0||3||N","FIBO_MartinOn=1||0||0||3||N","FIBO_MartinOn=1||0||0||3||N","FIBO_MartinOn=1||0||0||3||N","FIBO_MartinOn=1||0||0||3||N","FIBO_MartinOn=1||0||0||3||N","FIBO_MartinOn=1||0||0||3||N","FIBO_MartinOn=1||0||0||3||N","FIBO_MartinOn=1||0||0||3||N","FIBO_MartinOn=1||0||0||3||N"]
["FIBO_HedgeOn=0||0||0||3||N","FIBO_HedgeOn=","||0||0||3||N","Open hedge on ",{"$f":"VLOOKUP(Input!C481,Start!$AK$2:$AL$5,2,0)","v":1},{"$f":"VLOOKUP(Input!D481,Start!$AK$2:$AL$5,2,0)","v":1},{"$f":"VLOOKUP(Input!E481,Start!$AK$2:$AL$5,2,0)","v":1},{"$f":"VLOOKUP(Input!F481,Start!$AK$2:$AL$5,2,0)","v":1},{"$f":"VLOOKUP(Input!G481,Start!$AK$2:$AL$5,2,0)","v":1},{"$f":"VLOOKUP(Input!H481,Start!$AK$2:$AL$5,2,0)","v":1},{"$f":"VLOOKUP(Input!I481,Start!$AK$2:$AL$5,2,0)","v":1},{"$f":"VLOOKUP(Input!J481,Start!$AK$2:$AL$5,2,0)","v":1},{"$f":"VLOOKUP(Input!K481,Start!$AK$2:$AL$5,2,0)","v":1},{"$f":"VLOOKUP(Input!L481,Start!$AK$2:$AL$5,2,0)","v":1},{"$f":"VLOOKUP(Input!M481,Start!$AK$2:$AL$5,2,0)","v":1},"FIBO_HedgeOn=1||0||0||3||N","FIBO_HedgeOn=1||0||0||3||N","FIBO_HedgeOn=1||0||0||3||N","FIBO_HedgeOn=1||0||0||3||N","FIBO_HedgeOn=1||0||0||3||N","FIBO_HedgeOn=1||0||0||3||N","FIBO_HedgeOn=1||0||0||3||N","FIBO_HedgeOn=1||0||0||3||N","FIBO_HedgeOn=1||0||0||3||N","FIBO_HedgeOn=1||0||0||3||N","FIBO_HedgeOn=1||0||0||3||N"]
["FIBO_CloseOn=0||0||0||4||N","FIBO_CloseOn=","||0||0||4||N","Close on ",{"$f":"VLOOKUP(Input!C482,Start!$AM$2:$AN$6,2,0)","v":2},{"$f":"VLOOKUP(Input!D482,Start!$AM$2:$AN$6,2,0)","v":2},{"$f":"VLOOKUP(Input!E482,Start!$AM$2:$AN$6,2,0)","v":2},{"$f":"VLOOKUP(Input!F482,Start!$AM$2:$AN$6,2,0)","v":2},{"$f":"VLOOKUP(Input!G482,Start!$AM$2:$AN$6,2,0)","v":2},{"$f":"VLOOKUP(Input!H482,Start!$AM$2:$AN$6,2,0)","v":2},{"$f":"VLOOKUP(Input!I482,Start!$AM$2:$AN$6,2,0)","v":2},{"$f":"VLOOKUP(Input!J482,Start!$AM$2:$AN$6,2,0)","v":2},{"$f":"VLOOKUP(Input!K482,Start!$AM$2:$AN$6,2,0)","v":2},{"$f":"VLOOKUP(Input!L482,Start!$AM$2:$AN$6,2,0)","v":2},{"$f":"VLOOKUP(Input!M482,Start!$AM$2:$AN$6,2,0)","v":2},"FIBO_CloseOn=2||0||0||4||N","FIBO_CloseOn=2||0||0||4||N","FIBO_CloseOn=2||0||0||4||N","FIBO_CloseOn=2||0||0||4||N","FIBO_CloseOn=2||0||0||4||N","FIBO_CloseOn=2||0||0||4||N","FIBO_CloseOn=2||0||0||4||N","FIBO_CloseOn=2||0||0||4||N","FIBO_CloseOn=2||0||0||4||N","FIBO_CloseOn=2||0||0||4||N","FIBO_CloseOn=2||0||0||4||N"]
["FIBO_PartialCloseOn=0||0||0||3||N","FIBO_PartialCloseOn=","||0||0||3||N","Partial close on ",{"$f":"VLOOKUP(Input!C483,Start!$AO$2:$AP$4,2,0)","v":1},{"$f":"VLOOKUP(Input!D483,Start!$AO$2:$AP$4,2,0)","v":1},{"$f":"VLOOKUP(Input!E483,Start!$AO$2:$AP$4,2,0)","v":1},{"$f":"VLOOKUP(Input!F483,Start!$AO$2:$AP$4,2,0)","v":1},{"$f":"VLOOKUP(Input!G483,Start!$AO$2:$AP$4,2,0)","v":1},{"$f":"VLOOKUP(Input!H483,Start!$AO$2:$AP$4,2,0)","v":1},{"$f":"VLOOKUP(Input!I483,Start!$AO$2:$AP$4,2,0)","v":1},{"$f":"VLOOKUP(Input!J483,Start!$AO$2:$AP$4,2,0)","v":1},{"$f":"VLOOKUP(Input!K483,Start!$AO$2:$AP$4,2,0)","v":1},{"$f":"VLOOKUP(Input!L483,Start!$AO$2:$AP$4,2,0)","v":1},{"$f":"VLOOKUP(Input!M483,Start!$AO$2:$AP$4,2,0)","v":1},"FIBO_PartialCloseOn=1||0||0||3||N","FIBO_PartialCloseOn=1||0||0||3||N","FIBO_PartialCloseOn=1||0||0||3||N","FIBO_PartialCloseOn=1||0||0||3||N","FIBO_PartialCloseOn=1||0||0||3||N","FIBO_PartialCloseOn=1||0||0||3||N","FIBO_PartialCloseOn=1||0||0||3||N","FIBO_PartialCloseOn=1||0||0||3||N","FIBO_PartialCloseOn=1||0||0||3||N","FIBO_PartialCloseOn=1||0||0||3||N","FIBO_PartialCloseOn=1||0||0||3||N"]
["; FIBO #2 properties","; FIBO #2 properties","; FIBO #2 properties","FIBO #2 properties ",null,null,null,null,null,null,null,null,null,null,null,{"$f":"$A484","v":"; FIBO #2 properties"},"; FIBO #2 properties","; FIBO #2 properties","; FIBO #2 properties","; FIBO #2 properties","; FIBO #2 properties","; FIBO #2 properties","; FIBO #2 properties","; FIBO #2 properties","; FIBO #2 properties","; FIBO #2 properties"]
["FIB2_Properties====================================================================================","FIB2_Properties====================================================================================","FIB2_Properties====================================================================================","FIBO properties: ",null,null,null,null,null,null,null,null,null,null,null,"FIB2_Properties====================================================================================","FIB2_Properties====================================================================================","FIB2_Properties====================================================================================","FIB2_Properties====================================================================================","FIB2_Properties====================================================================================","FIB2_Properties====================================================================================","FIB2_Properties====================================================================================","FIB2_Properties====================================================================================","FIB2_Properties====================================================================================","FIB2_Properties====================================================================================","FIB2_Properties===================================================================================="]
["FIB2_Type=0||0||0||2||N",{"$f":"_xlfn.CONCAT(LEFT(TRIM(A486),FIND(\"=\",TRIM(A486))-1),\"=\")","v":"FIB2_Type="},{"$f":"_xlfn.CONCAT(\"|\",RIGHT(TRIM(A486),LEN(TRIM(A486))-SEARCH(\"|\",TRIM(A486))))","v":"||0||0||2||N"},"Type ",{"$f":"VLOOKUP(Input!C486,Start!$CE$2:$CF$5,2,0)","v":2},{"$f":"VLOOKUP(Input!D486,Start!$CE$2:$CF$5,2,0)","v":2},{"$f":"VLOOKUP(Input!E486,Start!$CE$2:$CF$5,2,0)","v":2},{"$f":"VLOOKUP(Input!F486,Start!$CE$2:$CF$5,2,0)","v":2},{"$f":"VLOOKUP(Input!G486,Start!$CE$2:$CF$5,2,0)","v":2},{"$f":"VLOOKUP(Input!H486,Start!$CE$2:$CF$5,2,0)","v":2},{"$f":"VLOOKUP(Input!I486,Start!$CE$2:$CF$5,2,0)","v":2},{"$f":"VLOOKUP(Input!J486,Start!$CE$2:$CF$5,2,0)","v":2},{"$f":"VLOOKUP(Input!K486,Start!$CE$2:$CF$5,2,0)","v":2},{"$f":"VLOOKUP(Input!L486,Start!$CE$2:$CF$5,2,0)","v":2},{"$f":"VLOOKUP(Input!M486,Start!$CE$2:$CF$5,2,0)","v":2},{"$f":"_xlfn.CONCAT($B486,E486,$C486)","v":"FIB2_Type=2||0||0||2||N"},"FIB2_Type=2||0||0||2||N","FIB2_Type=2||0||0||2||N","FIB2_Type=2||0||0||2||N","FIB2_Type=2||0||0||2||N","FIB2_Type=2||0||0||2||N","FIB2_Type=2||0||0||2||N","FIB2_Type=2||0||0||2||N","FIB2_Type=2||0||0||2||N","FIB2_Type=2||0||0||2||N","FIB2_Type=2||0||0||2||N"]
["FIB2_TF=16385||0||0||49153||N","FIB2_TF=","||0||0||49153||N","TimeFrame ",{"$f":"VLOOKUP(Input!C487,Start!$K$2:$L$22,2,0)","v":2},{"$f":"VLOOKUP(Input!D487,Start!$K$2:$L$22,2,0)","v":2},{"$f":"VLOOKUP(Input!E487,Start!$K$2:$L$22,2,0)","v":2},{"$f":"VLOOKUP(Input!F487,Start!$K$2:$L$22,2,0)","v":2},{"$f":"VLOOKUP(Input!G487,Start!$K$2:$L$22,2,0)","v":2},{"$f":"VLOOKUP(Input!H487,Start!$K$2:$L$22,2,0)","v":2},{"$f":"VLOOKUP(Input!I487,Start!$K$2:$L$22,2,0)","v":2},{"$f":"VLOOKUP(Input!J487,Start!$K$2:$L$22,2,0)","v":2},{"$f":"VLOOKUP(Input!K487,Start!$K$2:$L$22,2,0)","v":2},{"$f":"VLOOKUP(Input!L487,Start!$K$2:$L$22,2,0)","v":2},{"$f":"VLOOKUP(Input!M487,Start!$K$2:$L$22,2,0)","v":2},"FIB2_TF=2||0||0||49153||N","FIB2_TF=2||0||0||49153||N","FIB2_TF=2||0||0||49153||N","FIB2_TF=2||0||0||49153||N","FIB2_TF=2||0||0||49153||N","FIB2_TF=2||0||0||49153||N","FIB2_TF=2||0||0||49153||N","FIB2_TF=2||0||0||49153||N","FIB2_TF=2||0||0||49153||N","FIB2_TF=2||0||0||49153||N","FIB2_TF=2||0||0||49153||N"]
["FIB2_CheckInterval=1||0||0||10||N","FIB2_CheckInterval=","||0||0||10||N","Check Interval ",{"$f":"VLOOKUP(Input!C488,Start!$CG$2:$CH$12,2,0)","v":1},{"$f":"VLOOKUP(Input!D488,Start!$CG$2:$CH$12,2,0)","v":1},{"$f":"VLOOKUP(Input!E488,Start!$CG$2:$CH$12,2,0)","v":1},{"$f":"VLOOKUP(Input!F488,Start!$CG$2:$CH$12,2,0)","v":1},{"$f":"VLOOKUP(Input!G488,Start!$CG$2:$CH$12,2,0)","v":1},{"$f":"VLOOKUP(Input!H488,Start!$CG$2:$CH$12,2,0)","v":1},{"$f":"VLOOKUP(Input!I488,Start!$CG$2:$CH$12,2,0)","v":1},{"$f":"VLOOKUP(Input!J488,Start!$CG$2:$CH$12,2,0)","v":1},{"$f":"VLOOKUP(Input!K488,Start!$CG$2:$CH$12,2,0)","v":1},{"$f":"VLOOKUP(Input!L488,Start!$CG$2:$CH$12,2,0)","v":1},{"$f":"VLOOKUP(Input!M488,Start!$CG$2:$CH$12,2,0)","v":1},"FIB2_CheckInterval=1||0||0||10||N","FIB2_CheckInterval=1||0||0||10||N","FIB2_CheckInterval=1||0||0||10||N","FIB2_CheckInterval=1||0||0||10||N","FIB2_CheckInterval=1||0||0||10||N","FIB2_CheckInterval=1||0||0||10||N","FIB2_CheckInterval=1||0||0||10||N","FIB2_CheckInterval=1||0||0||10||N","FIB2_CheckInterval=1||0||0||10||N","FIB2_CheckInterval=1||0||0||10||N","FIB2_CheckInterval=1||0||0||10||N"]
["FIB2_Bars=120||120||1||1200||N","FIB2_Bars=","||120||1||1200||N","Bars for range calculation ",{"$f":"Input!C489","v":0},{"$f":"Input!D489","v":0},{"$f":"Input!E489","v":0},{"$f":"Input!F489","v":0},{"$f":"Input!G489","v":0},{"$f":"Input!H489","v":0},{"$f":"Input!I489","v":0},{"$f":"Input!J489","v":0},{"$f":"Input!K489","v":0},{"$f":"Input!L489","v":0},{"$f":"Input!M489","v":0},"FIB2_Bars=0||120||1||1200||N","FIB2_Bars=0||120||1||1200||N","FIB2_Bars=0||120||1||1200||N","FIB2_Bars=0||120||1||1200||N","FIB2_Bars=0||120||1||1200||N","FIB2_Bars=0||120||1||1200||N","FIB2_Bars=0||120||1||1200||N","FIB2_Bars=0||120||1||1200||N","FIB2_Bars=0||120||1||1200||N","FIB2_Bars=0||120||1||1200||N","FIB2_Bars=0||120||1||1200||N"]
["FIB2_Level=61.8||61.8||6.180000||618.000000||N","FIB2_Level=","||61.8||6.180000||618.000000||N","Fibo level ",{"$f":"Input!C490","v":0},{"$f":"Input!D490","v":0},{"$f":"Input!E490","v":0},{"$f":"Input!F490","v":0},{"$f":"Input!G490","v":0},{"$f":"Input!H490","v":0},{"$f":"Input!I490","v":0},{"$f":"Input!J490","v":0},{"$f":"Input!K490","v":0},{"$f":"Input!L490","v":0},{"$f":"Input!M490","v":0},"FIB2_Level=0||61.8||6.180000||618.000000||N","FIB2_Level=0||61.8||6.180000||618.000000||N","FIB2_Level=0||61.8||6.180000||618.000000||N","FIB2_Level=0||61.8||6.180000||618.000000||N","FIB2_Level=0||61.8||6.180000||618.000000||N","FIB2_Level=0||61.8||6.180000||618.000000||N","FIB2_Level=0||61.8||6.180000||618.000000||N","FIB2_Level=0||61.8||6.180000||618.000000||N","FIB2_Level=0||61.8||6.180000||618.000000||N","FIB2_Level=0||61.8||6.180000||618.000000||N","FIB2_Level=0||61.8||6.180000||618.000000||N"]
["FIB2_UseClosedBars=true||false||0||true||N","FIB2_UseClosedBars=","||false||0||true||N","Use closed bars only ",{"$f":"VLOOKUP(Input!C491,Start!$G$2:$H$3,2,0)","v":false},{"$f":"VLOOKUP(Input!D491,Start!$G$2:$H$3,2,0)","v":false},{"$f":"VLOOKUP(Input!E491,Start!$G$2:$H$3,2,0)","v":false},{"$f":"VLOOKUP(Input!F491,Start!$G$2:$H$3,2,0)","v":false},{"$f":"VLOOKUP(Input!G491,Start!$G$2:$H$3,2,0)","v":false},{"$f":"VLOOKUP(Input!H491,Start!$G$2:$H$3,2,0)","v":false},{"$f":"VLOOKUP(Input!I491,Start!$G$2:$H$3,2,0)","v":false},{"$f":"VLOOKUP(Input!J491,Start!$G$2:$H$3,2,0)","v":false},{"$f":"VLOOKUP(Input!K491,Start!$G$2:$H$3,2,0)","v":false},{"$f":"VLOOKUP(Input!L491,Start!$G$2:$H$3,2,0)","v":false},{"$f":"VLOOKUP(Input!M491,Start!$G$2:$H$3,2,0)","v":false},"FIB2_UseClosedBars=FALSE||false||0||true||N","FIB2_UseClosedBars=FALSE||false||0||true||N","FIB2_UseClosedBars=FALSE||false||0||true||N","FIB2_UseClosedBars=FALSE||false||0||true||N","FIB2_UseClosedBars=FALSE||false||0||true||N","FIB2_UseClosedBars=FALSE||false||0||true||N","FIB2_UseClosedBars=FALSE||false||0||true||N","FIB2_UseClosedBars=FALSE||false||0||true||N","FIB2_UseClosedBars=FALSE||false||0||true||N","FIB2_UseClosedBars=FALSE||false||0||true||N","FIB2_UseClosedBars=FALSE||false||0||true||N"]
["FIB2_OpenOn=0||0||0||3||N","FIB2_OpenOn=","||0||0||3||N","Open on ",{"$f":"VLOOKUP(Input!C492,Start!$AK$2:$AL$5,2,0)","v":0},{"$f":"VLOOKUP(Input!D492,Start!$AK$2:$AL$5,2,0)","v":0},{"$f":"VLOOKUP(Input!E492,Start!$AK$2:$AL$5,2,0)","v":0},{"$f":"VLOOKUP(Input!F492,Start!$AK$2:$AL$5,2,0)","v":0},{"$f":"VLOOKUP(Input!G492,Start!$AK$2:$AL$5,2,0)","v":0},{"$f":"VLOOKUP(Input!H492,Start!$AK$2:$AL$5,2,0)","v":0},{"$f":"VLOOKUP(Input!I492,Start!$AK$2:$AL$5,2,0)","v":0},{"$f":"VLOOKUP(Input!J492,Start!$AK$2:$AL$5,2,0)","v":0},{"$f":"VLOOKUP(Input!K492,Start!$AK$2:$AL$5,2,0)","v":0},{"$f":"VLOOKUP(Input!L492,Start!$AK$2:$AL$5,2,0)","v":0},{"$f":"VLOOKUP(Input!M492,Start!$AK$2:$AL$5,2,0)","v":0},"FIB2_OpenOn=0||0||0||3||N","FIB2_OpenOn=0||0||0||3||N","FIB2_OpenOn=0||0||0||3||N","FIB2_OpenOn=0||0||0||3||N","FIB2_OpenOn=0||0||0||3||N","FIB2_OpenOn=0||0||0||3||N","FIB2_OpenOn=0||0||0||3||N","FIB2_OpenOn=0||0||0||3||N","FIB2_OpenOn=0||0||0||3||N","FIB2_OpenOn=0||0||0||3||N","FIB2_OpenOn=0||0||0||3||N"]
["FIB2_MartinOn=0||0||0||3||N","FIB2_MartinOn=","||0||0||3||N","Open martin on ",{"$f":"VLOOKUP(Input!C493,Start!$AK$2:$AL$5,2,0)","v":1},{"$f":"VLOOKUP(Input!D493,Start!$AK$2:$AL$5,2,0)","v":1},{"$f":"VLOOKUP(Input!E493,Start!$AK$2:$AL$5,2,0)","v":1},{"$f":"VLOOKUP(Input!F493,Start!$AK$2:$AL$5,2,0)","v":1},{"$f":"VLOOKUP(Input!G493,Start!$AK$2:$AL$5,2,0)","v":1},{"$f":"VLOOKUP(Input!H493,Start!$AK$2:$AL$5,2,0)","v":1},{"$f":"VLOOKUP(Input!I493,Start!$AK$2:$AL$5,2,0)","v":1},{"$f":"VLOOKUP(Input!J493,Start!$AK$2:$AL$5,2,0)","v":1},{"$f":"VLOOKUP(Input!K493,Start!$AK$2:$AL$5,2,0)","v":1},{"$f":"VLOOKUP(Input!L493,Start!$AK$2:$AL$5,2,0)","v":1},{"$f":"VLOOKUP(Input!M493,Start!$AK$2:$AL$5,2,0)","v":1},"FIB2_MartinOn=1||0||0||3||N","FIB2_MartinOn=1||0||0||3||N","FIB2_MartinOn=1||0||0||3||N","FIB2_MartinOn=1||0||0||3||N","FIB2_MartinOn=1||0||0||3||N","FIB2_MartinOn=1||0||0||3||N","FIB2_MartinOn=1||0||0||3||N","FIB2_MartinOn=1||0||0||3||N","FIB2_MartinOn=1||0||0||3||N","FIB2_MartinOn=1||0||0||3||N","FIB2_MartinOn=1||0||0||3||N"]
["FIB2_HedgeOn=0||0||0||3||N","FIB2_HedgeOn=","||0||0||3||N","Open hedge on ",{"$f":"VLOOKUP(Input!C494,Start!$AK$2:$AL$5,2,0)","v":1},{"$f":"VLOOKUP(Input!D494,Start!$AK$2:$AL$5,2,0)","v":1},{"$f":"VLOOKUP(Input!E494,Start!$AK$2:$AL$5,2,0)","v":1},{"$f":"VLOOKUP(Input!F494,Start!$AK$2:$AL$5,2,0)","v":1},{"$f":"VLOOKUP(Input!G494,Start!$AK$2:$AL$5,2,0)","v":1},{"$f":"VLOOKUP(Input!H494,Start!$AK$2:$AL$5,2,0)","v":1},{"$f":"VLOOKUP(Input!I494,Start!$AK$2:$AL$5,2,0)","v":1},{"$f":"VLOOKUP(Input!J494,Start!$AK$2:$AL$5,2,0)","v":1},{"$f":"VLOOKUP(Input!K494,Start!$AK$2:$AL$5,2,0)","v":1},{"$f":"VLOOKUP(Input!L494,Start!$AK$2:$AL$5,2,0)","v":1},{"$f":"VLOOKUP(Input!M494,Start!$AK$2:$AL$5,2,0)","v":1},"FIB2_HedgeOn=1||0||0||3||N","FIB2_HedgeOn=1||0||0||3||N","FIB2_HedgeOn=1||0||0||3||N","FIB2_HedgeOn=1||0||0||3||N","FIB2_HedgeOn=1||0||0||3||N","FIB2_HedgeOn=1||0||0||3||N","FIB2_HedgeOn=1||0||0||3||N","FIB2_HedgeOn=1||0||0||3||N","FIB2_HedgeOn=1||0||0||3||N","FIB2_HedgeOn=1||0||0||3||N","FIB2_HedgeOn=1||0||0||3||N"]
["FIB2_CloseOn=0||0||0||4||N","FIB2_CloseOn=","||0||0||4||N","Close on ",{"$f":"VLOOKUP(Input!C495,Start!$AM$2:$AN$6,2,0)","v":2},{"$f":"VLOOKUP(Input!D495,Start!$AM$2:$AN$6,2,0)","v":2},{"$f":"VLOOKUP(Input!E495,Start!$AM$2:$AN$6,2,0)","v":2},{"$f":"VLOOKUP(Input!F495,Start!$AM$2:$AN$6,2,0)","v":2},{"$f":"VLOOKUP(Input!G495,Start!$AM$2:$AN$6,2,0)","v":2},{"$f":"VLOOKUP(Input!H495,Start!$AM$2:$AN$6,2,0)","v":2},{"$f":"VLOOKUP(Input!I495,Start!$AM$2:$AN$6,2,0)","v":2},{"$f":"VLOOKUP(Input!J495,Start!$AM$2:$AN$6,2,0)","v":2},{"$f":"VLOOKUP(Input!K495,Start!$AM$2:$AN$6,2,0)","v":2},{"$f":"VLOOKUP(Input!L495,Start!$AM$2:$AN$6,2,0)","v":2},{"$f":"VLOOKUP(Input!M495,Start!$AM$2:$AN$6,2,0)","v":2},"FIB2_CloseOn=2||0||0||4||N","FIB2_CloseOn=2||0||0||4||N","FIB2_CloseOn=2||0||0||4||N","FIB2_CloseOn=2||0||0||4||N","FIB2_CloseOn=2||0||0||4||N","FIB2_CloseOn=2||0||0||4||N","FIB2_CloseOn=2||0||0||4||N","FIB2_CloseOn=2||0||0||4||N","FIB2_CloseOn=2||0||0||4||N","FIB2_CloseOn=2||0||0||4||N","FIB2_CloseOn=2||0||0||4||N"]
["FIB2_PartialCloseOn=0||0||0||3||N","FIB2_PartialCloseOn=","||0||0||3||N","Partial close on ",{"$f":"VLOOKUP(Input!C496,Start!$AO$2:$AP$4,2,0)","v":1},{"$f":"VLOOKUP(Input!D496,Start!$AO$2:$AP$4,2,0)","v":1},{"$f":"VLOOKUP(Input!E496,Start!$AO$2:$AP$4,2,0)","v":1},{"$f":"VLOOKUP(Input!F496,Start!$AO$2:$AP$4,2,0)","v":1},{"$f":"VLOOKUP(Input!G496,Start!$AO$2:$AP$4,2,0)","v":1},{"$f":"VLOOKUP(Input!H496,Start!$AO$2:$AP$4,2,0)","v":1},{"$f":"VLOOKUP(Input!I496,Start!$AO$2:$AP$4,2,0)","v":1},{"$f":"VLOOKUP(Input!J496,Start!$AO$2:$AP$4,2,0)","v":1},{"$f":"VLOOKUP(Input!K496,Start!$AO$2:$AP$4,2,0)","v":1},{"$f":"VLOOKUP(Input!L496,Start!$AO$2:$AP$4,2,0)","v":1},{"$f":"VLOOKUP(Input!M496,Start!$AO$2:$AP$4,2,0)","v":1},"FIB2_PartialCloseOn=1||0||0||3||N","FIB2_PartialCloseOn=1||0||0||3||N","FIB2_PartialCloseOn=1||0||0||3||N","FIB2_PartialCloseOn=1||0||0||3||N","FIB2_PartialCloseOn=1||0||0||3||N","FIB2_PartialCloseOn=1||0||0||3||N","FIB2_PartialCloseOn=1||0||0||3||N","FIB2_PartialCloseOn=1||0||0||3||N","FIB2_PartialCloseOn=1||0||0||3||N","FIB2_PartialCloseOn=1||0||0||3||N","FIB2_PartialCloseOn=1||0||0||3||N"]
["; Spread settings","; Spread settings","; Spread settings","Spread settings ",null,null,null,null,null,null,null,null,null,null,null,{"$f":"$A497","v":"; Spread settings"},"; Spread settings","; Spread settings","; Spread settings","; Spread settings","; Spread settings","; Spread settings","; Spread settings","; Spread settings","; Spread settings","; Spread settings"]
["Spread_Settings====================================================================================","Spread_Settings====================================================================================","Spread_Settings====================================================================================","Spread settings: ",null,null,null,null,null,null,null,null,null,null,null,"Spread_Settings====================================================================================","Spread_Settings====================================================================================","Spread_Settings====================================================================================","Spread_Settings====================================================================================","Spread_Settings====================================================================================","Spread_Settings====================================================================================","Spread_Settings====================================================================================","Spread_Settings====================================================================================","Spread_Settings====================================================================================","Spread_Settings====================================================================================","Spread_Settings===================================================================================="]
["Spread_MaxCurrent=0||0||0.000000||0.000000||N",{"$f":"_xlfn.CONCAT(LEFT(TRIM(A499),FIND(\"=\",TRIM(A499))-1),\"=\")","v":"Spread_MaxCurrent="},{"$f":"_xlfn.CONCAT(\"|\",RIGHT(TRIM(A499),LEN(TRIM(A499))-SEARCH(\"|\",TRIM(A499))))","v":"||0||0.000000||0.000000||N"},"Max current spread (O disable limit) ",{"$f":"Input!C499","v":0},{"$f":"Input!D499","v":0},{"$f":"Input!E499","v":0},{"$f":"Input!F499","v":0},{"$f":"Input!G499","v":0},{"$f":"Input!H499","v":0},{"$f":"Input!I499","v":0},{"$f":"Input!J499","v":0},{"$f":"Input!K499","v":0},{"$f":"Input!L499","v":0},{"$f":"Input!M499","v":0},{"$f":"_xlfn.CONCAT($B499,E499,$C499)","v":"Spread_MaxCurrent=0||0||0.000000||0.000000||N"},"Spread_MaxCurrent=0||0||0.000000||0.000000||N","Spread_MaxCurrent=0||0||0.000000||0.000000||N","Spread_MaxCurrent=0||0||0.000000||0.000000||N","Spread_MaxCurrent=0||0||0.000000||0.000000||N","Spread_MaxCurrent=0||0||0.000000||0.000000||N","Spread_MaxCurrent=0||0||0.000000||0.000000||N","Spread_MaxCurrent=0||0||0.000000||0.000000||N","Spread_MaxCurrent=0||0||0.000000||0.000000||N","Spread_MaxCurrent=0||0||0.000000||0.000000||N","Spread_MaxCurrent=0||0||0.000000||0.000000||N"]
["Spread_MaxAverage=0||0||0.000000||0.000000||N","Spread_MaxAverage=","||0||0.000000||0.000000||N","Max average spread (O - disable limit) ",{"$f":"Input!C500","v":0},{"$f":"Input!D500","v":0},{"$f":"Input!E500","v":0},{"$f":"Input!F500","v":0},{"$f":"Input!G500","v":0},{"$f":"Input!H500","v":0},{"$f":"Input!I500","v":0},{"$f":"Input!J500","v":0},{"$f":"Input!K500","v":0},{"$f":"Input!L500","v":0},{"$f":"Input!M500","v":0},"Spread_MaxAverage=0||0||0.000000||0.000000||N","Spread_MaxAverage=0||0||0.000000||0.000000||N","Spread_MaxAverage=0||0||0.000000||0.000000||N","Spread_MaxAverage=0||0||0.000000||0.000000||N","Spread_MaxAverage=0||0||0.000000||0.000000||N","Spread_MaxAverage=0||0||0.000000||0.000000||N","Spread_MaxAverage=0||0||0.000000||0.000000||N","Spread_MaxAverage=0||0||0.000000||0.000000||N","Spread_MaxAverage=0||0||0.000000||0.000000||N","Spread_MaxAverage=0||0||0.000000||0.000000||N","Spread_MaxAverage=0||0||0.000000||0.000000||N"]
["Spread_SecondsToAnalyze=30||30||1||300||N","Spread_SecondsToAnalyze=","||30||1||300||N","Seconds for averaging ",{"$f":"Input!C501","v":0},{"$f":"Input!D501","v":0},{"$f":"Input!E501","v":0},{"$f":"Input!F501","v":0},{"$f":"Input!G501","v":0},{"$f":"Input!H501","v":0},{"$f":"Input!I501","v":0},{"$f":"Input!J501","v":0},{"$f":"Input!K501","v":0},{"$f":"Input!L501","v":0},{"$f":"Input!M501","v":0},"Spread_SecondsToAnalyze=0||30||1||300||N","Spread_SecondsToAnalyze=0||30||1||300||N","Spread_SecondsToAnalyze=0||30||1||300||N","Spread_SecondsToAnalyze=0||30||1||300||N","Spread_SecondsToAnalyze=0||30||1||300||N","Spread_SecondsToAnalyze=0||30||1||300||N","Spread_SecondsToAnalyze=0||30||1||300||N","Spread_SecondsToAnalyze=0||30||1||300||N","Spread_SecondsToAnalyze=0||30||1||300||N","Spread_SecondsToAnalyze=0||30||1||300||N","Spread_SecondsToAnalyze=0||30||1||300||N"]
["; Time settings","; Time settings","; Time settings","Time settings ",null,null,null,null,null,null,null,null,null,null,null,{"$f":"$A502","v":"; Time settings"},"; Time settings","; Time settings","; Time settings","; Time settings","; Time settings","; Time settings","; Time settings","; Time settings","; Time settings","; Time settings"]
["Time_Settings====================================================================================","Time_Settings====================================================================================","Time_Settings====================================================================================","Time settings: ",null,null,null,null,null,null,null,null,null,null,null,"Time_Settings====================================================================================","Time_Settings====================================================================================","Time_Settings====================================================================================","Time_Settings====================================================================================","Time_Settings====================================================================================","Time_Settings====================================================================================","Time_Settings====================================================================================","Time_Settings====================================================================================","Time_Settings====================================================================================","Time_Settings====================================================================================","Time_Settings===================================================================================="]
["Time_ApplyTo=1||0||0||3||N",{"$f":"_xlfn.CONCAT(LEFT(TRIM(A504),FIND(\"=\",TRIM(A504))-1),\"=\")","v":"Time_ApplyTo="},{"$f":"_xlfn.CONCAT(\"|\",RIGHT(TRIM(A504),LEN(TRIM(A504))-SEARCH(\"|\",TRIM(A504))))","v":"||0||0||3||N"},"Apply schedule to ",{"$f":"VLOOKUP(Input!C504,Start!$CI$2:$CJ$5,2,0)","v":3},{"$f":"VLOOKUP(Input!D504,Start!$CI$2:$CJ$5,2,0)","v":3},{"$f":"VLOOKUP(Input!E504,Start!$CI$2:$CJ$5,2,0)","v":3},{"$f":"VLOOKUP(Input!F504,Start!$CI$2:$CJ$5,2,0)","v":3},{"$f":"VLOOKUP(Input!G504,Start!$CI$2:$CJ$5,2,0)","v":3},{"$f":"VLOOKUP(Input!H504,Start!$CI$2:$CJ$5,2,0)","v":3},{"$f":"VLOOKUP(Input!I504,Start!$CI$2:$CJ$5,2,0)","v":3},{"$f":"VLOOKUP(Input!J504,Start!$CI$2:$CJ$5,2,0)","v":3},{"$f":"VLOOKUP(Input!K504,Start!$CI$2:$CJ$5,2,0)","v":3},{"$f":"VLOOKUP(Input!L504,Start!$CI$2:$CJ$5,2,0)","v":3},{"$f":"VLOOKUP(Input!M504,Start!$CI$2:$CJ$5,2,0)","v":3},{"$f":"_xlfn.CONCAT($B504,E504,$C504)","v":"Time_ApplyTo=3||0||0||3||N"},"Time_ApplyTo=3||0||0||3||N","Time_ApplyTo=3||0||0||3||N","Time_ApplyTo=3||0||0||3||N","Time_ApplyTo=3||0||0||3||N","Time_ApplyTo=3||0||0||3||N","Time_ApplyTo=3||0||0||3||N","Time_ApplyTo=3||0||0||3||N","Time_ApplyTo=3||0||0||3||N","Time_ApplyTo=3||0||0||3||N","Time_ApplyTo=3||0||0||3||N"]
["Time_DST_Mode=2||0||0||4||N","Time_DST_Mode=","||0||0||4||N","DST mode ",{"$f":"VLOOKUP(Input!C505,Start!$CK$2:$CL$6,2,0)","v":1},{"$f":"VLOOKUP(Input!D505,Start!$CK$2:$CL$6,2,0)","v":1},{"$f":"VLOOKUP(Input!E505,Start!$CK$2:$CL$6,2,0)","v":1},{"$f":"VLOOKUP(Input!F505,Start!$CK$2:$CL$6,2,0)","v":1},{"$f":"VLOOKUP(Input!G505,Start!$CK$2:$CL$6,2,0)","v":1},{"$f":"VLOOKUP(Input!H505,Start!$CK$2:$CL$6,2,0)","v":1},{"$f":"VLOOKUP(Input!I505,Start!$CK$2:$CL$6,2,0)","v":1},{"$f":"VLOOKUP(Input!J505,Start!$CK$2:$CL$6,2,0)","v":1},{"$f":"VLOOKUP(Input!K505,Start!$CK$2:$CL$6,2,0)","v":1},{"$f":"VLOOKUP(Input!L505,Start!$CK$2:$CL$6,2,0)","v":1},{"$f":"VLOOKUP(Input!M505,Start!$CK$2:$CL$6,2,0)","v":1},"Time_DST_Mode=1||0||0||4||N","Time_DST_Mode=1||0||0||4||N","Time_DST_Mode=1||0||0||4||N","Time_DST_Mode=1||0||0||4||N","Time_DST_Mode=1||0||0||4||N","Time_DST_Mode=1||0||0||4||N","Time_DST_Mode=1||0||0||4||N","Time_DST_Mode=1||0||0||4||N","Time_DST_Mode=1||0||0||4||N","Time_DST_Mode=1||0||0||4||N","Time_DST_Mode=1||0||0||4||N"]
["Time_Manual_GMT_Offset=2||2||1||20||N","Time_Manual_GMT_Offset=","||2||1||20||N","GMT offset for StrategyTester ",{"$f":"Input!C506","v":0},{"$f":"Input!D506","v":0},{"$f":"Input!E506","v":0},{"$f":"Input!F506","v":0},{"$f":"Input!G506","v":0},{"$f":"Input!H506","v":0},{"$f":"Input!I506","v":0},{"$f":"Input!J506","v":0},{"$f":"Input!K506","v":0},{"$f":"Input!L506","v":0},{"$f":"Input!M506","v":0},"Time_Manual_GMT_Offset=0||2||1||20||N","Time_Manual_GMT_Offset=0||2||1||20||N","Time_Manual_GMT_Offset=0||2||1||20||N","Time_Manual_GMT_Offset=0||2||1||20||N","Time_Manual_GMT_Offset=0||2||1||20||N","Time_Manual_GMT_Offset=0||2||1||20||N","Time_Manual_GMT_Offset=0||2||1||20||N","Time_Manual_GMT_Offset=0||2||1||20||N","Time_Manual_GMT_Offset=0||2||1||20||N","Time_Manual_GMT_Offset=0||2||1||20||N","Time_Manual_GMT_Offset=0||2||1||20||N"]
["; Every Day","; Every Day","; Every Day","Every Day ",null,null,null,null,null,null,null,null,null,null,null,{"$f":"$A507","v":"; Every Day"},"; Every Day","; Every Day","; Every Day","; Every Day","; Every Day","; Every Day","; Every Day","; Every Day","; Every Day","; Every Day"]
["EveryDay_Properties===== Every Day ====","EveryDay_Properties===== Every Day ====","EveryDay_Properties===== Every Day ====","Every Day. ",null,null,null,null,null,null,null,null,null,null,null,"EveryDay_Properties===== Every Day ====","EveryDay_Properties===== Every Day ====","EveryDay_Properties===== Every Day ====","EveryDay_Properties===== Every Day ====","EveryDay_Properties===== Every Day ====","EveryDay_Properties===== Every Day ====","EveryDay_Properties===== Every Day ====","EveryDay_Properties===== Every Day ====","EveryDay_Properties===== Every Day ====","EveryDay_Properties===== Every Day ====","EveryDay_Properties===== Every Day ===="]
["EveryDay_StartHour=-1||-1||0||23||N",{"$f":"_xlfn.CONCAT(LEFT(TRIM(A509),FIND(\"=\",TRIM(A509))-1),\"=\")","v":"EveryDay_StartHour="},{"$f":"_xlfn.CONCAT(\"|\",RIGHT(TRIM(A509),LEN(TRIM(A509))-SEARCH(\"|\",TRIM(A509))))","v":"||-1||0||23||N"},"EveryDay start hour ",{"$f":"VLOOKUP(Input!C509,Start!$CM$2:$CN$27,2,0)","v":0},{"$f":"VLOOKUP(Input!D509,Start!$CM$2:$CN$27,2,0)","v":"-1"},{"$f":"VLOOKUP(Input!E509,Start!$CM$2:$CN$27,2,0)","v":0},{"$f":"VLOOKUP(Input!F509,Start!$CM$2:$CN$27,2,0)","v":0},{"$f":"VLOOKUP(Input!G509,Start!$CM$2:$CN$27,2,0)","v":0},{"$f":"VLOOKUP(Input!H509,Start!$CM$2:$CN$27,2,0)","v":0},{"$f":"VLOOKUP(Input!I509,Start!$CM$2:$CN$27,2,0)","v":0},{"$f":"VLOOKUP(Input!J509,Start!$CM$2:$CN$27,2,0)","v":0},{"$f":"VLOOKUP(Input!K509,Start!$CM$2:$CN$27,2,0)","v":0},{"$f":"VLOOKUP(Input!L509,Start!$CM$2:$CN$27,2,0)","v":0},{"$f":"VLOOKUP(Input!M509,Start!$CM$2:$CN$27,2,0)","v":0},{"$f":"_xlfn.CONCAT($B509,E509,$C509)","v":"EveryDay_StartHour=0||-1||0||23||N"},"EveryDay_StartHour=-1||-1||0||23||N","EveryDay_StartHour=0||-1||0||23||N","EveryDay_StartHour=0||-1||0||23||N","EveryDay_StartHour=0||-1||0||23||N","EveryDay_StartHour=0||-1||0||23||N","EveryDay_StartHour=0||-1||0||23||N","EveryDay_StartHour=0||-1||0||23||N","EveryDay_StartHour=0||-1||0||23||N","EveryDay_StartHour=0||-1||0||23||N","EveryDay_StartHour=0||-1||0||23||N"]
["EveryDay_StartMinute=0||0||0||55||N","EveryDay_StartMinute=","||0||0||55||N","EveryDay start minute ",{"$f":"VLOOKUP(Input!C510,Start!$CO$2:$CP$63,2,0)","v":0},{"$f":"VLOOKUP(Input!D510,Start!$CO$2:$CP$63,2,0)","v":0},{"$f":"VLOOKUP(Input!E510,Start!$CO$2:$CP$63,2,0)","v":0},{"$f":"VLOOKUP(Input!F510,Start!$CO$2:$CP$63,2,0)","v":0},{"$f":"VLOOKUP(Input!G510,Start!$CO$2:$CP$63,2,0)","v":0},{"$f":"VLOOKUP(Input!H510,Start!$CO$2:$CP$63,2,0)","v":0},{"$f":"VLOOKUP(Input!I510,Start!$CO$2:$CP$63,2,0)","v":0},{"$f":"VLOOKUP(Input!J510,Start!$CO$2:$CP$63,2,0)","v":0},{"$f":"VLOOKUP(Input!K510,Start!$CO$2:$CP$63,2,0)","v":0},{"$f":"VLOOKUP(Input!L510,Start!$CO$2:$CP$63,2,0)","v":0},{"$f":"VLOOKUP(Input!M510,Start!$CO$2:$CP$63,2,0)","v":0},"EveryDay_StartMinute=0||0||0||55||N","EveryDay_StartMinute=0||0||0||55||N","EveryDay_StartMinute=0||0||0||55||N","EveryDay_StartMinute=0||0||0||55||N","EveryDay_StartMinute=0||0||0||55||N","EveryDay_StartMinute=0||0||0||55||N","EveryDay_StartMinute=0||0||0||55||N","EveryDay_StartMinute=0||0||0||55||N","EveryDay_StartMinute=0||0||0||55||N","EveryDay_StartMinute=0||0||0||55||N","EveryDay_StartMinute=0||0||0||55||N"]
["EveryDay_EndHour=-1||-1||0||23||N","EveryDay_EndHour=","||-1||0||23||N","EveryDay end hour ",{"$f":"VLOOKUP(Input!C511,Start!$CM$2:$CN$27,2,0)","v":0},{"$f":"VLOOKUP(Input!D511,Start!$CM$2:$CN$27,2,0)","v":0},{"$f":"VLOOKUP(Input!E511,Start!$CM$2:$CN$27,2,0)","v":0},{"$f":"VLOOKUP(Input!F511,Start!$CM$2:$CN$27,2,0)","v":0},{"$f":"VLOOKUP(Input!G511,Start!$CM$2:$CN$27,2,0)","v":0},{"$f":"VLOOKUP(Input!H511,Start!$CM$2:$CN$27,2,0)","v":0},{"$f":"VLOOKUP(Input!I511,Start!$CM$2:$CN$27,2,0)","v":0},{"$f":"VLOOKUP(Input!J511,Start!$CM$2:$CN$27,2,0)","v":0},{"$f":"VLOOKUP(Input!K511,Start!$CM$2:$CN$27,2,0)","v":0},{"$f":"VLOOKUP(Input!L511,Start!$CM$2:$CN$27,2,0)","v":0},{"$f":"VLOOKUP(Input!M511,Start!$CM$2:$CN$27,2,0)","v":0},"EveryDay_EndHour=0||-1||0||23||N","EveryDay_EndHour=0||-1||0||23||N","EveryDay_EndHour=0||-1||0||23||N","EveryDay_EndHour=0||-1||0||23||N","EveryDay_EndHour=0||-1||0||23||N","EveryDay_EndHour=0||-1||0||23||N","EveryDay_EndHour=0||-1||0||23||N","EveryDay_EndHour=0||-1||0||23||N","EveryDay_EndHour=0||-1||0||23||N","EveryDay_EndHour=0||-1||0||23||N","EveryDay_EndHour=0||-1||0||23||N"]
["EveryDay_EndMinute=0||0||0||59||N","EveryDay_EndMinute=","||0||0||59||N","EveryDay end minute ",{"$f":"VLOOKUP(Input!C512,Start!$CO$2:$CP$63,2,0)","v":0},{"$f":"VLOOKUP(Input!D512,Start!$CO$2:$CP$63,2,0)","v":0},{"$f":"VLOOKUP(Input!E512,Start!$CO$2:$CP$63,2,0)","v":0},{"$f":"VLOOKUP(Input!F512,Start!$CO$2:$CP$63,2,0)","v":0},{"$f":"VLOOKUP(Input!G512,Start!$CO$2:$CP$63,2,0)","v":0},{"$f":"VLOOKUP(Input!H512,Start!$CO$2:$CP$63,2,0)","v":0},{"$f":"VLOOKUP(Input!I512,Start!$CO$2:$CP$63,2,0)","v":0},{"$f":"VLOOKUP(Input!J512,Start!$CO$2:$CP$63,2,0)","v":0},{"$f":"VLOOKUP(Input!K512,Start!$CO$2:$CP$63,2,0)","v":0},{"$f":"VLOOKUP(Input!L512,Start!$CO$2:$CP$63,2,0)","v":0},{"$f":"VLOOKUP(Input!M512,Start!$CO$2:$CP$63,2,0)","v":0},"EveryDay_EndMinute=0||0||0||59||N","EveryDay_EndMinute=0||0||0||59||N","EveryDay_EndMinute=0||0||0||59||N","EveryDay_EndMinute=0||0||0||59||N","EveryDay_EndMinute=0||0||0||59||N","EveryDay_EndMinute=0||0||0||59||N","EveryDay_EndMinute=0||0||0||59||N","EveryDay_EndMinute=0||0||0||59||N","EveryDay_EndMinute=0||0||0||59||N","EveryDay_EndMinute=0||0||0||59||N","EveryDay_EndMinute=0||0||0||59||N"]
["EveryDay_CloseHour=-1||-1||0||23||N","EveryDay_CloseHour=","||-1||0||23||N","EveryDay close hour ",{"$f":"VLOOKUP(Input!C513,Start!$CM$2:$CN$27,2,0)","v":0},{"$f":"VLOOKUP(Input!D513,Start!$CM$2:$CN$27,2,0)","v":0},{"$f":"VLOOKUP(Input!E513,Start!$CM$2:$CN$27,2,0)","v":0},{"$f":"VLOOKUP(Input!F513,Start!$CM$2:$CN$27,2,0)","v":0},{"$f":"VLOOKUP(Input!G513,Start!$CM$2:$CN$27,2,0)","v":0},{"$f":"VLOOKUP(Input!H513,Start!$CM$2:$CN$27,2,0)","v":0},{"$f":"VLOOKUP(Input!I513,Start!$CM$2:$CN$27,2,0)","v":0},{"$f":"VLOOKUP(Input!J513,Start!$CM$2:$CN$27,2,0)","v":0},{"$f":"VLOOKUP(Input!K513,Start!$CM$2:$CN$27,2,0)","v":0},{"$f":"VLOOKUP(Input!L513,Start!$CM$2:$CN$27,2,0)","v":0},{"$f":"VLOOKUP(Input!M513,Start!$CM$2:$CN$27,2,0)","v":0},"EveryDay_CloseHour=0||-1||0||23||N","EveryDay_CloseHour=0||-1||0||23||N","EveryDay_CloseHour=0||-1||0||23||N","EveryDay_CloseHour=0||-1||0||23||N","EveryDay_CloseHour=0||-1||0||23||N","EveryDay_CloseHour=0||-1||0||23||N","EveryDay_CloseHour=0||-1||0||23||N","EveryDay_CloseHour=0||-1||0||23||N","EveryDay_CloseHour=0||-1||0||23||N","EveryDay_CloseHour=0||-1||0||23||N","EveryDay_CloseHour=0||-1||0||23||N"]
["EveryDay_CloseMinute=0||0||0||55||N","EveryDay_CloseMinute=","||0||0||55||N","EveryDay close minute ",{"$f":"VLOOKUP(Input!C514,Start!$CO$2:$CP$63,2,0)","v":0},{"$f":"VLOOKUP(Input!D514,Start!$CO$2:$CP$63,2,0)","v":0},{"$f":"VLOOKUP(Input!E514,Start!$CO$2:$CP$63,2,0)","v":0},{"$f":"VLOOKUP(Input!F514,Start!$CO$2:$CP$63,2,0)","v":0},{"$f":"VLOOKUP(Input!G514,Start!$CO$2:$CP$63,2,0)","v":0},{"$f":"VLOOKUP(Input!H514,Start!$CO$2:$CP$63,2,0)","v":0},{"$f":"VLOOKUP(Input!I514,Start!$CO$2:$CP$63,2,0)","v":0},{"$f":"VLOOKUP(Input!J514,Start!$CO$2:$CP$63,2,0)","v":0},{"$f":"VLOOKUP(Input!K514,Start!$CO$2:$CP$63,2,0)","v":0},{"$f":"VLOOKUP(Input!L514,Start!$CO$2:$CP$63,2,0)","v":0},{"$f":"VLOOKUP(Input!M514,Start!$CO$2:$CP$63,2,0)","v":0},"EveryDay_CloseMinute=0||0||0||55||N","EveryDay_CloseMinute=0||0||0||55||N","EveryDay_CloseMinute=0||0||0||55||N","EveryDay_CloseMinute=0||0||0||55||N","EveryDay_CloseMinute=0||0||0||55||N","EveryDay_CloseMinute=0||0||0||55||N","EveryDay_CloseMinute=0||0||0||55||N","EveryDay_CloseMinute=0||0||0||55||N","EveryDay_CloseMinute=0||0||0||55||N","EveryDay_CloseMinute=0||0||0||55||N","EveryDay_CloseMinute=0||0||0||55||N"]
["; Friday and Monday","; Friday and Monday","; Friday and Monday","Friday and Monday ",null,null,null,null,null,null,null,null,null,null,null,{"$f":"$A515","v":"; Friday and Monday"},"; Friday and Monday","; Friday and Monday","; Friday and Monday","; Friday and Monday","; Friday and Monday","; Friday and Monday","; Friday and Monday","; Friday and Monday","; Friday and Monday","; Friday and Monday"]
["FridayMonday_Properties===== Friday and Monday ====","FridayMonday_Properties===== Friday and Monday ====","FridayMonday_Properties===== Friday and Monday ====","Friday and Monday. ",null,null,null,null,null,null,null,null,null,null,null,"FridayMonday_Properties===== Friday and Monday ====","FridayMonday_Properties===== Friday and Monday ====","FridayMonday_Properties===== Friday and Monday ====","FridayMonday_Properties===== Friday and Monday ====","FridayMonday_Properties===== Friday and Monday ====","FridayMonday_Properties===== Friday and Monday ====","FridayMonday_Properties===== Friday and Monday ====","FridayMonday_Properties===== Friday and Monday ====","FridayMonday_Properties===== Friday and Monday ====","FridayMonday_Properties===== Friday and Monday ====","FridayMonday_Properties===== Friday and Monday ===="]
["FridayStop_Hour=-1||-1||0||23||N",{"$f":"_xlfn.CONCAT(LEFT(TRIM(A517),FIND(\"=\",TRIM(A517))-1),\"=\")","v":"FridayStop_Hour="},{"$f":"_xlfn.CONCAT(\"|\",RIGHT(TRIM(A517),LEN(TRIM(A517))-SEARCH(\"|\",TRIM(A517))))","v":"||-1||0||23||N"},"Friday stop hour ",{"$f":"VLOOKUP(Input!C517,Start!$CM$2:$CN$27,2,0)","v":0},{"$f":"VLOOKUP(Input!D517,Start!$CM$2:$CN$27,2,0)","v":0},{"$f":"VLOOKUP(Input!E517,Start!$CM$2:$CN$27,2,0)","v":0},{"$f":"VLOOKUP(Input!F517,Start!$CM$2:$CN$27,2,0)","v":0},{"$f":"VLOOKUP(Input!G517,Start!$CM$2:$CN$27,2,0)","v":0},{"$f":"VLOOKUP(Input!H517,Start!$CM$2:$CN$27,2,0)","v":0},{"$f":"VLOOKUP(Input!I517,Start!$CM$2:$CN$27,2,0)","v":0},{"$f":"VLOOKUP(Input!J517,Start!$CM$2:$CN$27,2,0)","v":0},{"$f":"VLOOKUP(Input!K517,Start!$CM$2:$CN$27,2,0)","v":0},{"$f":"VLOOKUP(Input!L517,Start!$CM$2:$CN$27,2,0)","v":0},{"$f":"VLOOKUP(Input!M517,Start!$CM$2:$CN$27,2,0)","v":0},{"$f":"_xlfn.CONCAT($B517,E517,$C517)","v":"FridayStop_Hour=0||-1||0||23||N"},"FridayStop_Hour=0||-1||0||23||N","FridayStop_Hour=0||-1||0||23||N","FridayStop_Hour=0||-1||0||23||N","FridayStop_Hour=0||-1||0||23||N","FridayStop_Hour=0||-1||0||23||N","FridayStop_Hour=0||-1||0||23||N","FridayStop_Hour=0||-1||0||23||N","FridayStop_Hour=0||-1||0||23||N","FridayStop_Hour=0||-1||0||23||N","FridayStop_Hour=0||-1||0||23||N"]
["FridayStop_Minute=0||0||0||55||N","FridayStop_Minute=","||0||0||55||N","Friday stop minute ",{"$f":"VLOOKUP(Input!C518,Start!$CO$2:$CP$63,2,0)","v":0},{"$f":"VLOOKUP(Input!D518,Start!$CO$2:$CP$63,2,0)","v":0},{"$f":"VLOOKUP(Input!E518,Start!$CO$2:$CP$63,2,0)","v":0},{"$f":"VLOOKUP(Input!F518,Start!$CO$2:$CP$63,2,0)","v":0},{"$f":"VLOOKUP(Input!G518,Start!$CO$2:$CP$63,2,0)","v":0},{"$f":"VLOOKUP(Input!H518,Start!$CO$2:$CP$63,2,0)","v":0},{"$f":"VLOOKUP(Input!I518,Start!$CO$2:$CP$63,2,0)","v":0},{"$f":"VLOOKUP(Input!J518,Start!$CO$2:$CP$63,2,0)","v":0},{"$f":"VLOOKUP(Input!K518,Start!$CO$2:$CP$63,2,0)","v":0},{"$f":"VLOOKUP(Input!L518,Start!$CO$2:$CP$63,2,0)","v":0},{"$f":"VLOOKUP(Input!M518,Start!$CO$2:$CP$63,2,0)","v":0},"FridayStop_Minute=0||0||0||55||N","FridayStop_Minute=0||0||0||55||N","FridayStop_Minute=0||0||0||55||N","FridayStop_Minute=0||0||0||55||N","FridayStop_Minute=0||0||0||55||N","FridayStop_Minute=0||0||0||55||N","FridayStop_Minute=0||0||0||55||N","FridayStop_Minute=0||0||0||55||N","FridayStop_Minute=0||0||0||55||N","FridayStop_Minute=0||0||0||55||N","FridayStop_Minute=0||0||0||55||N"]
["FridayClose_Hour=-1||-1||0||23||N","FridayClose_Hour=","||-1||0||23||N","Friday close hour ",{"$f":"VLOOKUP(Input!C519,Start!$CM$2:$CN$27,2,0)","v":0},{"$f":"VLOOKUP(Input!D519,Start!$CM$2:$CN$27,2,0)","v":0},{"$f":"VLOOKUP(Input!E519,Start!$CM$2:$CN$27,2,0)","v":0},{"$f":"VLOOKUP(Input!F519,Start!$CM$2:$CN$27,2,0)","v":0},{"$f":"VLOOKUP(Input!G519,Start!$CM$2:$CN$27,2,0)","v":0},{"$f":"VLOOKUP(Input!H519,Start!$CM$2:$CN$27,2,0)","v":0},{"$f":"VLOOKUP(Input!I519,Start!$CM$2:$CN$27,2,0)","v":0},{"$f":"VLOOKUP(Input!J519,Start!$CM$2:$CN$27,2,0)","v":0},{"$f":"VLOOKUP(Input!K519,Start!$CM$2:$CN$27,2,0)","v":0},{"$f":"VLOOKUP(Input!L519,Start!$CM$2:$CN$27,2,0)","v":0},{"$f":"VLOOKUP(Input!M519,Start!$CM$2:$CN$27,2,0)","v":0},"FridayClose_Hour=0||-1||0||23||N","FridayClose_Hour=0||-1||0||23||N","FridayClose_Hour=0||-1||0||23||N","FridayClose_Hour=0||-1||0||23||N","FridayClose_Hour=0||-1||0||23||N","FridayClose_Hour=0||-1||0||23||N","FridayClose_Hour=0||-1||0||23||N","FridayClose_Hour=0||-1||0||23||N","FridayClose_Hour=0||-1||0||23||N","FridayClose_Hour=0||-1||0||23||N","FridayClose_Hour=0||-1||0||23||N"]
["FridayClose_Minute=0||0||0||55||N","FridayClose_Minute=","||0||0||55||N","Friday close minute ",{"$f":"VLOOKUP(Input!C520,Start!$CO$2:$CP$63,2,0)","v":0},{"$f":"VLOOKUP(Input!D520,Start!$CO$2:$CP$63,2,0)","v":0},{"$f":"VLOOKUP(Input!E520,Start!$CO$2:$CP$63,2,0)","v":0},{"$f":"VLOOKUP(Input!F520,Start!$CO$2:$CP$63,2,0)","v":0},{"$f":"VLOOKUP(Input!G520,Start!$CO$2:$CP$63,2,0)","v":0},{"$f":"VLOOKUP(Input!H520,Start!$CO$2:$CP$63,2,0)","v":0},{"$f":"VLOOKUP(Input!I520,Start!$CO$2:$CP$63,2,0)","v":0},{"$f":"VLOOKUP(Input!J520,Start!$CO$2:$CP$63,2,0)","v":0},{"$f":"VLOOKUP(Input!K520,Start!$CO$2:$CP$63,2,0)","v":0},{"$f":"VLOOKUP(Input!L520,Start!$CO$2:$CP$63,2,0)","v":0},{"$f":"VLOOKUP(Input!M520,Start!$CO$2:$CP$63,2,0)","v":0},"FridayClose_Minute=0||0||0||55||N","FridayClose_Minute=0||0||0||55||N","FridayClose_Minute=0||0||0||55||N","FridayClose_Minute=0||0||0||55||N","FridayClose_Minute=0||0||0||55||N","FridayClose_Minute=0||0||0||55||N","FridayClose_Minute=0||0||0||55||N","FridayClose_Minute=0||0||0||55||N","FridayClose_Minute=0||0||0||55||N","FridayClose_Minute=0||0||0||55||N","FridayClose_Minute=0||0||0||55||N"]
["MondayStart_Hour=-1||-1||0||23||N","MondayStart_Hour=","||-1||0||23||N","Monday start hour ",{"$f":"VLOOKUP(Input!C521,Start!$CM$2:$CN$27,2,0)","v":0},{"$f":"VLOOKUP(Input!D521,Start!$CM$2:$CN$27,2,0)","v":0},{"$f":"VLOOKUP(Input!E521,Start!$CM$2:$CN$27,2,0)","v":0},{"$f":"VLOOKUP(Input!F521,Start!$CM$2:$CN$27,2,0)","v":0},{"$f":"VLOOKUP(Input!G521,Start!$CM$2:$CN$27,2,0)","v":0},{"$f":"VLOOKUP(Input!H521,Start!$CM$2:$CN$27,2,0)","v":0},{"$f":"VLOOKUP(Input!I521,Start!$CM$2:$CN$27,2,0)","v":0},{"$f":"VLOOKUP(Input!J521,Start!$CM$2:$CN$27,2,0)","v":0},{"$f":"VLOOKUP(Input!K521,Start!$CM$2:$CN$27,2,0)","v":0},{"$f":"VLOOKUP(Input!L521,Start!$CM$2:$CN$27,2,0)","v":0},{"$f":"VLOOKUP(Input!M521,Start!$CM$2:$CN$27,2,0)","v":0},"MondayStart_Hour=0||-1||0||23||N","MondayStart_Hour=0||-1||0||23||N","MondayStart_Hour=0||-1||0||23||N","MondayStart_Hour=0||-1||0||23||N","MondayStart_Hour=0||-1||0||23||N","MondayStart_Hour=0||-1||0||23||N","MondayStart_Hour=0||-1||0||23||N","MondayStart_Hour=0||-1||0||23||N","MondayStart_Hour=0||-1||0||23||N","MondayStart_Hour=0||-1||0||23||N","MondayStart_Hour=0||-1||0||23||N"]
["MondayStart_Minute=0||0||0||55||N","MondayStart_Minute=","||0||0||55||N","Monday start minute ",{"$f":"VLOOKUP(Input!C522,Start!$CO$2:$CP$63,2,0)","v":0},{"$f":"VLOOKUP(Input!D522,Start!$CO$2:$CP$63,2,0)","v":0},{"$f":"VLOOKUP(Input!E522,Start!$CO$2:$CP$63,2,0)","v":0},{"$f":"VLOOKUP(Input!F522,Start!$CO$2:$CP$63,2,0)","v":0},{"$f":"VLOOKUP(Input!G522,Start!$CO$2:$CP$63,2,0)","v":0},{"$f":"VLOOKUP(Input!H522,Start!$CO$2:$CP$63,2,0)","v":0},{"$f":"VLOOKUP(Input!I522,Start!$CO$2:$CP$63,2,0)","v":0},{"$f":"VLOOKUP(Input!J522,Start!$CO$2:$CP$63,2,0)","v":0},{"$f":"VLOOKUP(Input!K522,Start!$CO$2:$CP$63,2,0)","v":0},{"$f":"VLOOKUP(Input!L522,Start!$CO$2:$CP$63,2,0)","v":0},{"$f":"VLOOKUP(Input!M522,Start!$CO$2:$CP$63,2,0)","v":0},"MondayStart_Minute=0||0||0||55||N","MondayStart_Minute=0||0||0||55||N","MondayStart_Minute=0||0||0||55||N","MondayStart_Minute=0||0||0||55||N","MondayStart_Minute=0||0||0||55||N","MondayStart_Minute=0||0||0||55||N","MondayStart_Minute=0||0||0||55||N","MondayStart_Minute=0||0||0||55||N","MondayStart_Minute=0||0||0||55||N","MondayStart_Minute=0||0||0||55||N","MondayStart_Minute=0||0||0||55||N"]
["; Custom Schedule","; Custom Schedule","; Custom Schedule","Custom Schedule ",null,null,null,null,null,null,null,null,null,null,null,{"$f":"$A523","v":"; Custom Schedule"},"; Custom Schedule","; Custom Schedule","; Custom Schedule","; Custom Schedule","; Custom Schedule","; Custom Schedule","; Custom Schedule","; Custom Schedule","; Custom Schedule","; Custom Schedule"]
["Custom_Schedule_Properties===== Custom Schedule ====","Custom_Schedule_Properties===== Custom Schedule ====","Custom_Schedule_Properties===== Custom Schedule ====","Custom Schedule: ",null,null,null,null,null,null,null,null,null,null,null,"Custom_Schedule_Properties===== Custom Schedule ====","Custom_Schedule_Properties===== Custom Schedule ====","Custom_Schedule_Properties===== Custom Schedule ====","Custom_Schedule_Properties===== Custom Schedule ====","Custom_Schedule_Properties===== Custom Schedule ====","Custom_Schedule_Properties===== Custom Schedule ====","Custom_Schedule_Properties===== Custom Schedule ====","Custom_Schedule_Properties===== Custom Schedule ====","Custom_Schedule_Properties===== Custom Schedule ====","Custom_Schedule_Properties===== Custom Schedule ====","Custom_Schedule_Properties===== Custom Schedule ===="]
["Custom_Schedule_On=false||false||0||true||N",{"$f":"_xlfn.CONCAT(LEFT(TRIM(A525),FIND(\"=\",TRIM(A525))-1),\"=\")","v":"Custom_Schedule_On="},{"$f":"_xlfn.CONCAT(\"|\",RIGHT(TRIM(A525),LEN(TRIM(A525))-SEARCH(\"|\",TRIM(A525))))","v":"||false||0||true||N"},"Enable Custom Schedule ",{"$f":"VLOOKUP(Input!C525,Start!$G$2:$H$3,2,0)","v":false},{"$f":"VLOOKUP(Input!D525,Start!$G$2:$H$3,2,0)","v":false},{"$f":"VLOOKUP(Input!E525,Start!$G$2:$H$3,2,0)","v":false},{"$f":"VLOOKUP(Input!F525,Start!$G$2:$H$3,2,0)","v":false},{"$f":"VLOOKUP(Input!G525,Start!$G$2:$H$3,2,0)","v":false},{"$f":"VLOOKUP(Input!H525,Start!$G$2:$H$3,2,0)","v":false},{"$f":"VLOOKUP(Input!I525,Start!$G$2:$H$3,2,0)","v":false},{"$f":"VLOOKUP(Input!J525,Start!$G$2:$H$3,2,0)","v":false},{"$f":"VLOOKUP(Input!K525,Start!$G$2:$H$3,2,0)","v":false},{"$f":"VLOOKUP(Input!L525,Start!$G$2:$H$3,2,0)","v":false},{"$f":"VLOOKUP(Input!M525,Start!$G$2:$H$3,2,0)","v":false},{"$f":"_xlfn.CONCAT($B525,E525,$C525)","v":"Custom_Schedule_On=FALSE||false||0||true||N"},"Custom_Schedule_On=FALSE||false||0||true||N","Custom_Schedule_On=FALSE||false||0||true||N","Custom_Schedule_On=FALSE||false||0||true||N","Custom_Schedule_On=FALSE||false||0||true||N","Custom_Schedule_On=FALSE||false||0||true||N","Custom_Schedule_On=FALSE||false||0||true||N","Custom_Schedule_On=FALSE||false||0||true||N","Custom_Schedule_On=FALSE||false||0||true||N","Custom_Schedule_On=FALSE||false||0||true||N","Custom_Schedule_On=FALSE||false||0||true||N"]
["Monday_StartHour=-1||-1||0||23||N","Monday_StartHour=","||-1||0||23||N","Monday start hour ",{"$f":"VLOOKUP(Input!C526,Start!$CM$2:$CN$27,2,0)","v":0},{"$f":"VLOOKUP(Input!D526,Start!$CM$2:$CN$27,2,0)","v":0},{"$f":"VLOOKUP(Input!E526,Start!$CM$2:$CN$27,2,0)","v":0},{"$f":"VLOOKUP(Input!F526,Start!$CM$2:$CN$27,2,0)","v":0},{"$f":"VLOOKUP(Input!G526,Start!$CM$2:$CN$27,2,0)","v":0},{"$f":"VLOOKUP(Input!H526,Start!$CM$2:$CN$27,2,0)","v":0},{"$f":"VLOOKUP(Input!I526,Start!$CM$2:$CN$27,2,0)","v":0},{"$f":"VLOOKUP(Input!J526,Start!$CM$2:$CN$27,2,0)","v":0},{"$f":"VLOOKUP(Input!K526,Start!$CM$2:$CN$27,2,0)","v":0},{"$f":"VLOOKUP(Input!L526,Start!$CM$2:$CN$27,2,0)","v":0},{"$f":"VLOOKUP(Input!M526,Start!$CM$2:$CN$27,2,0)","v":0},"Monday_StartHour=0||-1||0||23||N","Monday_StartHour=0||-1||0||23||N","Monday_StartHour=0||-1||0||23||N","Monday_StartHour=0||-1||0||23||N","Monday_StartHour=0||-1||0||23||N","Monday_StartHour=0||-1||0||23||N","Monday_StartHour=0||-1||0||23||N","Monday_StartHour=0||-1||0||23||N","Monday_StartHour=0||-1||0||23||N","Monday_StartHour=0||-1||0||23||N","Monday_StartHour=0||-1||0||23||N"]
["Monday_StartMinute=0||0||0||55||N","Monday_StartMinute=","||0||0||55||N","Monday start minute ",{"$f":"VLOOKUP(Input!C527,Start!$CO$2:$CP$63,2,0)","v":0},{"$f":"VLOOKUP(Input!D527,Start!$CO$2:$CP$63,2,0)","v":0},{"$f":"VLOOKUP(Input!E527,Start!$CO$2:$CP$63,2,0)","v":0},{"$f":"VLOOKUP(Input!F527,Start!$CO$2:$CP$63,2,0)","v":0},{"$f":"VLOOKUP(Input!G527,Start!$CO$2:$CP$63,2,0)","v":0},{"$f":"VLOOKUP(Input!H527,Start!$CO$2:$CP$63,2,0)","v":0},{"$f":"VLOOKUP(Input!I527,Start!$CO$2:$CP$63,2,0)","v":0},{"$f":"VLOOKUP(Input!J527,Start!$CO$2:$CP$63,2,0)","v":0},{"$f":"VLOOKUP(Input!K527,Start!$CO$2:$CP$63,2,0)","v":0},{"$f":"VLOOKUP(Input!L527,Start!$CO$2:$CP$63,2,0)","v":0},{"$f":"VLOOKUP(Input!M527,Start!$CO$2:$CP$63,2,0)","v":0},"Monday_StartMinute=0||0||0||55||N","Monday_StartMinute=0||0||0||55||N","Monday_StartMinute=0||0||0||55||N","Monday_StartMinute=0||0||0||55||N","Monday_StartMinute=0||0||0||55||N","Monday_StartMinute=0||0||0||55||N","Monday_StartMinute=0||0||0||55||N","Monday_StartMinute=0||0||0||55||N","Monday_StartMinute=0||0||0||55||N","Monday_StartMinute=0||0||0||55||N","Monday_StartMinute=0||0||0||55||N"]
["Monday_EndHour=-1||-1||0||23||N","Monday_EndHour=","||-1||0||23||N","Monday end hour ",{"$f":"VLOOKUP(Input!C528,Start!$CM$2:$CN$27,2,0)","v":0},{"$f":"VLOOKUP(Input!D528,Start!$CM$2:$CN$27,2,0)","v":0},{"$f":"VLOOKUP(Input!E528,Start!$CM$2:$CN$27,2,0)","v":0},{"$f":"VLOOKUP(Input!F528,Start!$CM$2:$CN$27,2,0)","v":0},{"$f":"VLOOKUP(Input!G528,Start!$CM$2:$CN$27,2,0)","v":0},{"$f":"VLOOKUP(Input!H528,Start!$CM$2:$CN$27,2,0)","v":0},{"$f":"VLOOKUP(Input!I528,Start!$CM$2:$CN$27,2,0)","v":0},{"$f":"VLOOKUP(Input!J528,Start!$CM$2:$CN$27,2,0)","v":0},{"$f":"VLOOKUP(Input!K528,Start!$CM$2:$CN$27,2,0)","v":0},{"$f":"VLOOKUP(Input!L528,Start!$CM$2:$CN$27,2,0)","v":0},{"$f":"VLOOKUP(Input!M528,Start!$CM$2:$CN$27,2,0)","v":0},"Monday_EndHour=0||-1||0||23||N","Monday_EndHour=0||-1||0||23||N","Monday_EndHour=0||-1||0||23||N","Monday_EndHour=0||-1||0||23||N","Monday_EndHour=0||-1||0||23||N","Monday_EndHour=0||-1||0||23||N","Monday_EndHour=0||-1||0||23||N","Monday_EndHour=0||-1||0||23||N","Monday_EndHour=0||-1||0||23||N","Monday_EndHour=0||-1||0||23||N","Monday_EndHour=0||-1||0||23||N"]
["Monday_EndMinute=0||0||0||55||N","Monday_EndMinute=","||0||0||55||N","Monday end minute ",{"$f":"VLOOKUP(Input!C529,Start!$CO$2:$CP$63,2,0)","v":0},{"$f":"VLOOKUP(Input!D529,Start!$CO$2:$CP$63,2,0)","v":0},{"$f":"VLOOKUP(Input!E529,Start!$CO$2:$CP$63,2,0)","v":0},{"$f":"VLOOKUP(Input!F529,Start!$CO$2:$CP$63,2,0)","v":0},{"$f":"VLOOKUP(Input!G529,Start!$CO$2:$CP$63,2,0)","v":0},{"$f":"VLOOKUP(Input!H529,Start!$CO$2:$CP$63,2,0)","v":0},{"$f":"VLOOKUP(Input!I529,Start!$CO$2:$CP$63,2,0)","v":0},{"$f":"VLOOKUP(Input!J529,Start!$CO$2:$CP$63,2,0)","v":0},{"$f":"VLOOKUP(Input!K529,Start!$CO$2:$CP$63,2,0)","v":0},{"$f":"VLOOKUP(Input!L529,Start!$CO$2:$CP$63,2,0)","v":0},{"$f":"VLOOKUP(Input!M529,Start!$CO$2:$CP$63,2,0)","v":0},"Monday_EndMinute=0||0||0||55||N","Monday_EndMinute=0||0||0||55||N","Monday_EndMinute=0||0||0||55||N","Monday_EndMinute=0||0||0||55||N","Monday_EndMinute=0||0||0||55||N","Monday_EndMinute=0||0||0||55||N","Monday_EndMinute=0||0||0||55||N","Monday_EndMinute=0||0||0||55||N","Monday_EndMinute=0||0||0||55||N","Monday_EndMinute=0||0||0||55||N","Monday_EndMinute=0||0||0||55||N"]
["Tuesday_StartHour=-1||-1||0||23||N","Tuesday_StartHour=","||-1||0||23||N","Tuesday start hour ",{"$f":"VLOOKUP(Input!C530,Start!$CM$2:$CN$27,2,0)","v":0},{"$f":"VLOOKUP(Input!D530,Start!$CM$2:$CN$27,2,0)","v":0},{"$f":"VLOOKUP(Input!E530,Start!$CM$2:$CN$27,2,0)","v":0},{"$f":"VLOOKUP(Input!F530,Start!$CM$2:$CN$27,2,0)","v":0},{"$f":"VLOOKUP(Input!G530,Start!$CM$2:$CN$27,2,0)","v":0},{"$f":"VLOOKUP(Input!H530,Start!$CM$2:$CN$27,2,0)","v":0},{"$f":"VLOOKUP(Input!I530,Start!$CM$2:$CN$27,2,0)","v":0},{"$f":"VLOOKUP(Input!J530,Start!$CM$2:$CN$27,2,0)","v":0},{"$f":"VLOOKUP(Input!K530,Start!$CM$2:$CN$27,2,0)","v":0},{"$f":"VLOOKUP(Input!L530,Start!$CM$2:$CN$27,2,0)","v":0},{"$f":"VLOOKUP(Input!M530,Start!$CM$2:$CN$27,2,0)","v":0},"Tuesday_StartHour=0||-1||0||23||N","Tuesday_StartHour=0||-1||0||23||N","Tuesday_StartHour=0||-1||0||23||N","Tuesday_StartHour=0||-1||0||23||N","Tuesday_StartHour=0||-1||0||23||N","Tuesday_StartHour=0||-1||0||23||N","Tuesday_StartHour=0||-1||0||23||N","Tuesday_StartHour=0||-1||0||23||N","Tuesday_StartHour=0||-1||0||23||N","Tuesday_StartHour=0||-1||0||23||N","Tuesday_StartHour=0||-1||0||23||N"]
["Tuesday_StartMinute=0||0||0||55||N","Tuesday_StartMinute=","||0||0||55||N","Tuesday start minute ",{"$f":"VLOOKUP(Input!C531,Start!$CO$2:$CP$63,2,0)","v":0},{"$f":"VLOOKUP(Input!D531,Start!$CO$2:$CP$63,2,0)","v":0},{"$f":"VLOOKUP(Input!E531,Start!$CO$2:$CP$63,2,0)","v":0},{"$f":"VLOOKUP(Input!F531,Start!$CO$2:$CP$63,2,0)","v":0},{"$f":"VLOOKUP(Input!G531,Start!$CO$2:$CP$63,2,0)","v":0},{"$f":"VLOOKUP(Input!H531,Start!$CO$2:$CP$63,2,0)","v":0},{"$f":"VLOOKUP(Input!I531,Start!$CO$2:$CP$63,2,0)","v":0},{"$f":"VLOOKUP(Input!J531,Start!$CO$2:$CP$63,2,0)","v":0},{"$f":"VLOOKUP(Input!K531,Start!$CO$2:$CP$63,2,0)","v":0},{"$f":"VLOOKUP(Input!L531,Start!$CO$2:$CP$63,2,0)","v":0},{"$f":"VLOOKUP(Input!M531,Start!$CO$2:$CP$63,2,0)","v":0},"Tuesday_StartMinute=0||0||0||55||N","Tuesday_StartMinute=0||0||0||55||N","Tuesday_StartMinute=0||0||0||55||N","Tuesday_StartMinute=0||0||0||55||N","Tuesday_StartMinute=0||0||0||55||N","Tuesday_StartMinute=0||0||0||55||N","Tuesday_StartMinute=0||0||0||55||N","Tuesday_StartMinute=0||0||0||55||N","Tuesday_StartMinute=0||0||0||55||N","Tuesday_StartMinute=0||0||0||55||N","Tuesday_StartMinute=0||0||0||55||N"]
["Tuesday_EndHour=-1||-1||0||23||N","Tuesday_EndHour=","||-1||0||23||N","Tuesday end hour ",{"$f":"VLOOKUP(Input!C532,Start!$CM$2:$CN$27,2,0)","v":0},{"$f":"VLOOKUP(Input!D532,Start!$CM$2:$CN$27,2,0)","v":0},{"$f":"VLOOKUP(Input!E532,Start!$CM$2:$CN$27,2,0)","v":0},{"$f":"VLOOKUP(Input!F532,Start!$CM$2:$CN$27,2,0)","v":0},{"$f":"VLOOKUP(Input!G532,Start!$CM$2:$CN$27,2,0)","v":0},{"$f":"VLOOKUP(Input!H532,Start!$CM$2:$CN$27,2,0)","v":0},{"$f":"VLOOKUP(Input!I532,Start!$CM$2:$CN$27,2,0)","v":0},{"$f":"VLOOKUP(Input!J532,Start!$CM$2:$CN$27,2,0)","v":0},{"$f":"VLOOKUP(Input!K532,Start!$CM$2:$CN$27,2,0)","v":0},{"$f":"VLOOKUP(Input!L532,Start!$CM$2:$CN$27,2,0)","v":0},{"$f":"VLOOKUP(Input!M532,Start!$CM$2:$CN$27,2,0)","v":0},"Tuesday_EndHour=0||-1||0||23||N","Tuesday_EndHour=0||-1||0||23||N","Tuesday_EndHour=0||-1||0||23||N","Tuesday_EndHour=0||-1||0||23||N","Tuesday_EndHour=0||-1||0||23||N","Tuesday_EndHour=0||-1||0||23||N","Tuesday_EndHour=0||-1||0||23||N","Tuesday_EndHour=0||-1||0||23||N","Tuesday_EndHour=0||-1||0||23||N","Tuesday_EndHour=0||-1||0||23||N","Tuesday_EndHour=0||-1||0||23||N"]
["Tuesday_EndMinute=0||0||0||55||N","Tuesday_EndMinute=","||0||0||55||N","Tuesday end minute ",{"$f":"VLOOKUP(Input!C533,Start!$CO$2:$CP$63,2,0)","v":0},{"$f":"VLOOKUP(Input!D533,Start!$CO$2:$CP$63,2,0)","v":0},{"$f":"VLOOKUP(Input!E533,Start!$CO$2:$CP$63,2,0)","v":0},{"$f":"VLOOKUP(Input!F533,Start!$CO$2:$CP$63,2,0)","v":0},{"$f":"VLOOKUP(Input!G533,Start!$CO$2:$CP$63,2,0)","v":0},{"$f":"VLOOKUP(Input!H533,Start!$CO$2:$CP$63,2,0)","v":0},{"$f":"VLOOKUP(Input!I533,Start!$CO$2:$CP$63,2,0)","v":0},{"$f":"VLOOKUP(Input!J533,Start!$CO$2:$CP$63,2,0)","v":0},{"$f":"VLOOKUP(Input!K533,Start!$CO$2:$CP$63,2,0)","v":0},{"$f":"VLOOKUP(Input!L533,Start!$CO$2:$CP$63,2,0)","v":0},{"$f":"VLOOKUP(Input!M533,Start!$CO$2:$CP$63,2,0)","v":0},"Tuesday_EndMinute=0||0||0||55||N","Tuesday_EndMinute=0||0||0||55||N","Tuesday_EndMinute=0||0||0||55||N","Tuesday_EndMinute=0||0||0||55||N","Tuesday_EndMinute=0||0||0||55||N","Tuesday_EndMinute=0||0||0||55||N","Tuesday_EndMinute=0||0||0||55||N","Tuesday_EndMinute=0||0||0||55||N","Tuesday_EndMinute=0||0||0||55||N","Tuesday_EndMinute=0||0||0||55||N","Tuesday_EndMinute=0||0||0||55||N"]
["Wednesday_StartHour=-1||-1||0||23||N","Wednesday_StartHour=","||-1||0||23||N","Wednesday start hour ",{"$f":"VLOOKUP(Input!C534,Start!$CM$2:$CN$27,2,0)","v":0},{"$f":"VLOOKUP(Input!D534,Start!$CM$2:$CN$27,2,0)","v":0},{"$f":"VLOOKUP(Input!E534,Start!$CM$2:$CN$27,2,0)","v":0},{"$f":"VLOOKUP(Input!F534,Start!$CM$2:$CN$27,2,0)","v":0},{"$f":"VLOOKUP(Input!G534,Start!$CM$2:$CN$27,2,0)","v":0},{"$f":"VLOOKUP(Input!H534,Start!$CM$2:$CN$27,2,0)","v":0},{"$f":"VLOOKUP(Input!I534,Start!$CM$2:$CN$27,2,0)","v":0},{"$f":"VLOOKUP(Input!J534,Start!$CM$2:$CN$27,2,0)","v":0},{"$f":"VLOOKUP(Input!K534,Start!$CM$2:$CN$27,2,0)","v":0},{"$f":"VLOOKUP(Input!L534,Start!$CM$2:$CN$27,2,0)","v":0},{"$f":"VLOOKUP(Input!M534,Start!$CM$2:$CN$27,2,0)","v":0},"Wednesday_StartHour=0||-1||0||23||N","Wednesday_StartHour=0||-1||0||23||N","Wednesday_StartHour=0||-1||0||23||N","Wednesday_StartHour=0||-1||0||23||N","Wednesday_StartHour=0||-1||0||23||N","Wednesday_StartHour=0||-1||0||23||N","Wednesday_StartHour=0||-1||0||23||N","Wednesday_StartHour=0||-1||0||23||N","Wednesday_StartHour=0||-1||0||23||N","Wednesday_StartHour=0||-1||0||23||N","Wednesday_StartHour=0||-1||0||23||N"]
["Wednesday_StartMinute=0||0||0||55||N","Wednesday_StartMinute=","||0||0||55||N","Wednesday start minute ",{"$f":"VLOOKUP(Input!C535,Start!$CO$2:$CP$63,2,0)","v":0},{"$f":"VLOOKUP(Input!D535,Start!$CO$2:$CP$63,2,0)","v":0},{"$f":"VLOOKUP(Input!E535,Start!$CO$2:$CP$63,2,0)","v":0},{"$f":"VLOOKUP(Input!F535,Start!$CO$2:$CP$63,2,0)","v":0},{"$f":"VLOOKUP(Input!G535,Start!$CO$2:$CP$63,2,0)","v":0},{"$f":"VLOOKUP(Input!H535,Start!$CO$2:$CP$63,2,0)","v":0},{"$f":"VLOOKUP(Input!I535,Start!$CO$2:$CP$63,2,0)","v":0},{"$f":"VLOOKUP(Input!J535,Start!$CO$2:$CP$63,2,0)","v":0},{"$f":"VLOOKUP(Input!K535,Start!$CO$2:$CP$63,2,0)","v":0},{"$f":"VLOOKUP(Input!L535,Start!$CO$2:$CP$63,2,0)","v":0},{"$f":"VLOOKUP(Input!M535,Start!$CO$2:$CP$63,2,0)","v":0},"Wednesday_StartMinute=0||0||0||55||N","Wednesday_StartMinute=0||0||0||55||N","Wednesday_StartMinute=0||0||0||55||N","Wednesday_StartMinute=0||0||0||55||N","Wednesday_StartMinute=0||0||0||55||N","Wednesday_StartMinute=0||0||0||55||N","Wednesday_StartMinute=0||0||0||55||N","Wednesday_StartMinute=0||0||0||55||N","Wednesday_StartMinute=0||0||0||55||N","Wednesday_StartMinute=0||0||0||55||N","Wednesday_StartMinute=0||0||0||55||N"]
["Wednesday_EndHour=-1||-1||0||23||N","Wednesday_EndHour=","||-1||0||23||N","Wednesday end hour ",{"$f":"VLOOKUP(Input!C536,Start!$CM$2:$CN$27,2,0)","v":0},{"$f":"VLOOKUP(Input!D536,Start!$CM$2:$CN$27,2,0)","v":0},{"$f":"VLOOKUP(Input!E536,Start!$CM$2:$CN$27,2,0)","v":0},{"$f":"VLOOKUP(Input!F536,Start!$CM$2:$CN$27,2,0)","v":0},{"$f":"VLOOKUP(Input!G536,Start!$CM$2:$CN$27,2,0)","v":0},{"$f":"VLOOKUP(Input!H536,Start!$CM$2:$CN$27,2,0)","v":0},{"$f":"VLOOKUP(Input!I536,Start!$CM$2:$CN$27,2,0)","v":0},{"$f":"VLOOKUP(Input!J536,Start!$CM$2:$CN$27,2,0)","v":0},{"$f":"VLOOKUP(Input!K536,Start!$CM$2:$CN$27,2,0)","v":0},{"$f":"VLOOKUP(Input!L536,Start!$CM$2:$CN$27,2,0)","v":0},{"$f":"VLOOKUP(Input!M536,Start!$CM$2:$CN$27,2,0)","v":0},"Wednesday_EndHour=0||-1||0||23||N","Wednesday_EndHour=0||-1||0||23||N","Wednesday_EndHour=0||-1||0||23||N","Wednesday_EndHour=0||-1||0||23||N","Wednesday_EndHour=0||-1||0||23||N","Wednesday_EndHour=0||-1||0||23||N","Wednesday_EndHour=0||-1||0||23||N","Wednesday_EndHour=0||-1||0||23||N","Wednesday_EndHour=0||-1||0||23||N","Wednesday_EndHour=0||-1||0||23||N","Wednesday_EndHour=0||-1||0||23||N"]
["Wednesday_EndMinute=0||0||0||55||N","Wednesday_EndMinute=","||0||0||55||N","Wednesday end minute ",{"$f":"VLOOKUP(Input!C537,Start!$CO$2:$CP$63,2,0)","v":0},{"$f":"VLOOKUP(Input!D537,Start!$CO$2:$CP$63,2,0)","v":0},{"$f":"VLOOKUP(Input!E537,Start!$CO$2:$CP$63,2,0)","v":0},{"$f":"VLOOKUP(Input!F537,Start!$CO$2:$CP$63,2,0)","v":0},{"$f":"VLOOKUP(Input!G537,Start!$CO$2:$CP$63,2,0)","v":0},{"$f":"VLOOKUP(Input!H537,Start!$CO$2:$CP$63,2,0)","v":0},{"$f":"VLOOKUP(Input!I537,Start!$CO$2:$CP$63,2,0)","v":0},{"$f":"VLOOKUP(Input!J537,Start!$CO$2:$CP$63,2,0)","v":0},{"$f":"VLOOKUP(Input!K537,Start!$CO$2:$CP$63,2,0)","v":0},{"$f":"VLOOKUP(Input!L537,Start!$CO$2:$CP$63,2,0)","v":0},{"$f":"VLOOKUP(Input!M537,Start!$CO$2:$CP$63,2,0)","v":0},"Wednesday_EndMinute=0||0||0||55||N","Wednesday_EndMinute=0||0||0||55||N","Wednesday_EndMinute=0||0||0||55||N","Wednesday_EndMinute=0||0||0||55||N","Wednesday_EndMinute=0||0||0||55||N","Wednesday_EndMinute=0||0||0||55||N","Wednesday_EndMinute=0||0||0||55||N","Wednesday_EndMinute=0||0||0||55||N","Wednesday_EndMinute=0||0||0||55||N","Wednesday_EndMinute=0||0||0||55||N","Wednesday_EndMinute=0||0||0||55||N"]
["Thursday_StartHour=-1||-1||0||23||N","Thursday_StartHour=","||-1||0||23||N","Thursday start hour ",{"$f":"VLOOKUP(Input!C538,Start!$CM$2:$CN$27,2,0)","v":0},{"$f":"VLOOKUP(Input!D538,Start!$CM$2:$CN$27,2,0)","v":0},{"$f":"VLOOKUP(Input!E538,Start!$CM$2:$CN$27,2,0)","v":0},{"$f":"VLOOKUP(Input!F538,Start!$CM$2:$CN$27,2,0)","v":0},{"$f":"VLOOKUP(Input!G538,Start!$CM$2:$CN$27,2,0)","v":0},{"$f":"VLOOKUP(Input!H538,Start!$CM$2:$CN$27,2,0)","v":0},{"$f":"VLOOKUP(Input!I538,Start!$CM$2:$CN$27,2,0)","v":0},{"$f":"VLOOKUP(Input!J538,Start!$CM$2:$CN$27,2,0)","v":0},{"$f":"VLOOKUP(Input!K538,Start!$CM$2:$CN$27,2,0)","v":0},{"$f":"VLOOKUP(Input!L538,Start!$CM$2:$CN$27,2,0)","v":0},{"$f":"VLOOKUP(Input!M538,Start!$CM$2:$CN$27,2,0)","v":0},"Thursday_StartHour=0||-1||0||23||N","Thursday_StartHour=0||-1||0||23||N","Thursday_StartHour=0||-1||0||23||N","Thursday_StartHour=0||-1||0||23||N","Thursday_StartHour=0||-1||0||23||N","Thursday_StartHour=0||-1||0||23||N","Thursday_StartHour=0||-1||0||23||N","Thursday_StartHour=0||-1||0||23||N","Thursday_StartHour=0||-1||0||23||N","Thursday_StartHour=0||-1||0||23||N","Thursday_StartHour=0||-1||0||23||N"]
["Thursday_StartMinute=0||0||0||55||N","Thursday_StartMinute=","||0||0||55||N","Thursday start minute ",{"$f":"VLOOKUP(Input!C539,Start!$CO$2:$CP$63,2,0)","v":0},{"$f":"VLOOKUP(Input!D539,Start!$CO$2:$CP$63,2,0)","v":0},{"$f":"VLOOKUP(Input!E539,Start!$CO$2:$CP$63,2,0)","v":0},{"$f":"VLOOKUP(Input!F539,Start!$CO$2:$CP$63,2,0)","v":0},{"$f":"VLOOKUP(Input!G539,Start!$CO$2:$CP$63,2,0)","v":0},{"$f":"VLOOKUP(Input!H539,Start!$CO$2:$CP$63,2,0)","v":0},{"$f":"VLOOKUP(Input!I539,Start!$CO$2:$CP$63,2,0)","v":0},{"$f":"VLOOKUP(Input!J539,Start!$CO$2:$CP$63,2,0)","v":0},{"$f":"VLOOKUP(Input!K539,Start!$CO$2:$CP$63,2,0)","v":0},{"$f":"VLOOKUP(Input!L539,Start!$CO$2:$CP$63,2,0)","v":0},{"$f":"VLOOKUP(Input!M539,Start!$CO$2:$CP$63,2,0)","v":0},"Thursday_StartMinute=0||0||0||55||N","Thursday_StartMinute=0||0||0||55||N","Thursday_StartMinute=0||0||0||55||N","Thursday_StartMinute=0||0||0||55||N","Thursday_StartMinute=0||0||0||55||N","Thursday_StartMinute=0||0||0||55||N","Thursday_StartMinute=0||0||0||55||N","Thursday_StartMinute=0||0||0||55||N","Thursday_StartMinute=0||0||0||55||N","Thursday_StartMinute=0||0||0||55||N","Thursday_StartMinute=0||0||0||55||N"]
["Thursday_EndHour=-1||-1||0||23||N","Thursday_EndHour=","||-1||0||23||N","Thursday end hour ",{"$f":"VLOOKUP(Input!C540,Start!$CM$2:$CN$27,2,0)","v":0},{"$f":"VLOOKUP(Input!D540,Start!$CM$2:$CN$27,2,0)","v":0},{"$f":"VLOOKUP(Input!E540,Start!$CM$2:$CN$27,2,0)","v":0},{"$f":"VLOOKUP(Input!F540,Start!$CM$2:$CN$27,2,0)","v":0},{"$f":"VLOOKUP(Input!G540,Start!$CM$2:$CN$27,2,0)","v":0},{"$f":"VLOOKUP(Input!H540,Start!$CM$2:$CN$27,2,0)","v":0},{"$f":"VLOOKUP(Input!I540,Start!$CM$2:$CN$27,2,0)","v":0},{"$f":"VLOOKUP(Input!J540,Start!$CM$2:$CN$27,2,0)","v":0},{"$f":"VLOOKUP(Input!K540,Start!$CM$2:$CN$27,2,0)","v":0},{"$f":"VLOOKUP(Input!L540,Start!$CM$2:$CN$27,2,0)","v":0},{"$f":"VLOOKUP(Input!M540,Start!$CM$2:$CN$27,2,0)","v":0},"Thursday_EndHour=0||-1||0||23||N","Thursday_EndHour=0||-1||0||23||N","Thursday_EndHour=0||-1||0||23||N","Thursday_EndHour=0||-1||0||23||N","Thursday_EndHour=0||-1||0||23||N","Thursday_EndHour=0||-1||0||23||N","Thursday_EndHour=0||-1||0||23||N","Thursday_EndHour=0||-1||0||23||N","Thursday_EndHour=0||-1||0||23||N","Thursday_EndHour=0||-1||0||23||N","Thursday_EndHour=0||-1||0||23||N"]
["Thursday_EndMinute=0||0||0||55||N","Thursday_EndMinute=","||0||0||55||N","Thursday end minute ",{"$f":"VLOOKUP(Input!C541,Start!$CO$2:$CP$63,2,0)","v":0},{"$f":"VLOOKUP(Input!D541,Start!$CO$2:$CP$63,2,0)","v":0},{"$f":"VLOOKUP(Input!E541,Start!$CO$2:$CP$63,2,0)","v":0},{"$f":"VLOOKUP(Input!F541,Start!$CO$2:$CP$63,2,0)","v":0},{"$f":"VLOOKUP(Input!G541,Start!$CO$2:$CP$63,2,0)","v":0},{"$f":"VLOOKUP(Input!H541,Start!$CO$2:$CP$63,2,0)","v":0},{"$f":"VLOOKUP(Input!I541,Start!$CO$2:$CP$63,2,0)","v":0},{"$f":"VLOOKUP(Input!J541,Start!$CO$2:$CP$63,2,0)","v":0},{"$f":"VLOOKUP(Input!K541,Start!$CO$2:$CP$63,2,0)","v":0},{"$f":"VLOOKUP(Input!L541,Start!$CO$2:$CP$63,2,0)","v":0},{"$f":"VLOOKUP(Input!M541,Start!$CO$2:$CP$63,2,0)","v":0},"Thursday_EndMinute=0||0||0||55||N","Thursday_EndMinute=0||0||0||55||N","Thursday_EndMinute=0||0||0||55||N","Thursday_EndMinute=0||0||0||55||N","Thursday_EndMinute=0||0||0||55||N","Thursday_EndMinute=0||0||0||55||N","Thursday_EndMinute=0||0||0||55||N","Thursday_EndMinute=0||0||0||55||N","Thursday_EndMinute=0||0||0||55||N","Thursday_EndMinute=0||0||0||55||N","Thursday_EndMinute=0||0||0||55||N"]
["Friday_StartHour=-1||-1||0||23||N","Friday_StartHour=","||-1||0||23||N","Friday start hour ",{"$f":"VLOOKUP(Input!C542,Start!$CM$2:$CN$27,2,0)","v":0},{"$f":"VLOOKUP(Input!D542,Start!$CM$2:$CN$27,2,0)","v":0},{"$f":"VLOOKUP(Input!E542,Start!$CM$2:$CN$27,2,0)","v":0},{"$f":"VLOOKUP(Input!F542,Start!$CM$2:$CN$27,2,0)","v":0},{"$f":"VLOOKUP(Input!G542,Start!$CM$2:$CN$27,2,0)","v":0},{"$f":"VLOOKUP(Input!H542,Start!$CM$2:$CN$27,2,0)","v":0},{"$f":"VLOOKUP(Input!I542,Start!$CM$2:$CN$27,2,0)","v":0},{"$f":"VLOOKUP(Input!J542,Start!$CM$2:$CN$27,2,0)","v":0},{"$f":"VLOOKUP(Input!K542,Start!$CM$2:$CN$27,2,0)","v":0},{"$f":"VLOOKUP(Input!L542,Start!$CM$2:$CN$27,2,0)","v":0},{"$f":"VLOOKUP(Input!M542,Start!$CM$2:$CN$27,2,0)","v":0},"Friday_StartHour=0||-1||0||23||N","Friday_StartHour=0||-1||0||23||N","Friday_StartHour=0||-1||0||23||N","Friday_StartHour=0||-1||0||23||N","Friday_StartHour=0||-1||0||23||N","Friday_StartHour=0||-1||0||23||N","Friday_StartHour=0||-1||0||23||N","Friday_StartHour=0||-1||0||23||N","Friday_StartHour=0||-1||0||23||N","Friday_StartHour=0||-1||0||23||N","Friday_StartHour=0||-1||0||23||N"]
["Friday_StartMinute=0||0||0||55||N","Friday_StartMinute=","||0||0||55||N","Friday start minute ",{"$f":"VLOOKUP(Input!C543,Start!$CO$2:$CP$63,2,0)","v":0},{"$f":"VLOOKUP(Input!D543,Start!$CO$2:$CP$63,2,0)","v":0},{"$f":"VLOOKUP(Input!E543,Start!$CO$2:$CP$63,2,0)","v":0},{"$f":"VLOOKUP(Input!F543,Start!$CO$2:$CP$63,2,0)","v":0},{"$f":"VLOOKUP(Input!G543,Start!$CO$2:$CP$63,2,0)","v":0},{"$f":"VLOOKUP(Input!H543,Start!$CO$2:$CP$63,2,0)","v":0},{"$f":"VLOOKUP(Input!I543,Start!$CO$2:$CP$63,2,0)","v":0},{"$f":"VLOOKUP(Input!J543,Start!$CO$2:$CP$63,2,0)","v":0},{"$f":"VLOOKUP(Input!K543,Start!$CO$2:$CP$63,2,0)","v":0},{"$f":"VLOOKUP(Input!L543,Start!$CO$2:$CP$63,2,0)","v":0},{"$f":"VLOOKUP(Input!M543,Start!$CO$2:$CP$63,2,0)","v":0},"Friday_StartMinute=0||0||0||55||N","Friday_StartMinute=0||0||0||55||N","Friday_StartMinute=0||0||0||55||N","Friday_StartMinute=0||0||0||55||N","Friday_StartMinute=0||0||0||55||N","Friday_StartMinute=0||0||0||55||N","Friday_StartMinute=0||0||0||55||N","Friday_StartMinute=0||0||0||55||N","Friday_StartMinute=0||0||0||55||N","Friday_StartMinute=0||0||0||55||N","Friday_StartMinute=0||0||0||55||N"]
["Friday_EndHour=-1||-1||0||23||N","Friday_EndHour=","||-1||0||23||N","Friday end hour ",{"$f":"VLOOKUP(Input!C544,Start!$CM$2:$CN$27,2,0)","v":0},{"$f":"VLOOKUP(Input!D544,Start!$CM$2:$CN$27,2,0)","v":0},{"$f":"VLOOKUP(Input!E544,Start!$CM$2:$CN$27,2,0)","v":0},{"$f":"VLOOKUP(Input!F544,Start!$CM$2:$CN$27,2,0)","v":0},{"$f":"VLOOKUP(Input!G544,Start!$CM$2:$CN$27,2,0)","v":0},{"$f":"VLOOKUP(Input!H544,Start!$CM$2:$CN$27,2,0)","v":0},{"$f":"VLOOKUP(Input!I544,Start!$CM$2:$CN$27,2,0)","v":0},{"$f":"VLOOKUP(Input!J544,Start!$CM$2:$CN$27,2,0)","v":0},{"$f":"VLOOKUP(Input!K544,Start!$CM$2:$CN$27,2,0)","v":0},{"$f":"VLOOKUP(Input!L544,Start!$CM$2:$CN$27,2,0)","v":0},{"$f":"VLOOKUP(Input!M544,Start!$CM$2:$CN$27,2,0)","v":0},"Friday_EndHour=0||-1||0||23||N","Friday_EndHour=0||-1||0||23||N","Friday_EndHour=0||-1||0||23||N","Friday_EndHour=0||-1||0||23||N","Friday_EndHour=0||-1||0||23||N","Friday_EndHour=0||-1||0||23||N","Friday_EndHour=0||-1||0||23||N","Friday_EndHour=0||-1||0||23||N","Friday_EndHour=0||-1||0||23||N","Friday_EndHour=0||-1||0||23||N","Friday_EndHour=0||-1||0||23||N"]
["Friday_EndMinute=0||0||0||55||N","Friday_EndMinute=","||0||0||55||N","Friday end minute ",{"$f":"VLOOKUP(Input!C545,Start!$CO$2:$CP$63,2,0)","v":0},{"$f":"VLOOKUP(Input!D545,Start!$CO$2:$CP$63,2,0)","v":0},{"$f":"VLOOKUP(Input!E545,Start!$CO$2:$CP$63,2,0)","v":0},{"$f":"VLOOKUP(Input!F545,Start!$CO$2:$CP$63,2,0)","v":0},{"$f":"VLOOKUP(Input!G545,Start!$CO$2:$CP$63,2,0)","v":0},{"$f":"VLOOKUP(Input!H545,Start!$CO$2:$CP$63,2,0)","v":0},{"$f":"VLOOKUP(Input!I545,Start!$CO$2:$CP$63,2,0)","v":0},{"$f":"VLOOKUP(Input!J545,Start!$CO$2:$CP$63,2,0)","v":0},{"$f":"VLOOKUP(Input!K545,Start!$CO$2:$CP$63,2,0)","v":0},{"$f":"VLOOKUP(Input!L545,Start!$CO$2:$CP$63,2,0)","v":0},{"$f":"VLOOKUP(Input!M545,Start!$CO$2:$CP$63,2,0)","v":0},"Friday_EndMinute=0||0||0||55||N","Friday_EndMinute=0||0||0||55||N","Friday_EndMinute=0||0||0||55||N","Friday_EndMinute=0||0||0||55||N","Friday_EndMinute=0||0||0||55||N","Friday_EndMinute=0||0||0||55||N","Friday_EndMinute=0||0||0||55||N","Friday_EndMinute=0||0||0||55||N","Friday_EndMinute=0||0||0||55||N","Friday_EndMinute=0||0||0||55||N","Friday_EndMinute=0||0||0||55||N"]
["; New Year Holidays","; New Year Holidays","; New Year Holidays","New Year Holidays ",null,null,null,null,null,null,null,null,null,null,null,{"$f":"$A546","v":"; New Year Holidays"},"; New Year Holidays","; New Year Holidays","; New Year Holidays","; New Year Holidays","; New Year Holidays","; New Year Holidays","; New Year Holidays","; New Year Holidays","; New Year Holidays","; New Year Holidays"]
["NewYear_Properties===== New Year Holidays ====","NewYear_Properties===== New Year Holidays ====","NewYear_Properties===== New Year Holidays ====","New Year Holidays: ",null,null,null,null,null,null,null,null,null,null,null,"NewYear_Properties===== New Year Holidays ====","NewYear_Properties===== New Year Holidays ====","NewYear_Properties===== New Year Holidays ====","NewYear_Properties===== New Year Holidays ====","NewYear_Properties===== New Year Holidays ====","NewYear_Properties===== New Year Holidays ====","NewYear_Properties===== New Year Holidays ====","NewYear_Properties===== New Year Holidays ====","NewYear_Properties===== New Year Holidays ====","NewYear_Properties===== New Year Holidays ====","NewYear_Properties===== New Year Holidays ===="]
["LastDecemberDay=0||0||1||10||N",{"$f":"_xlfn.CONCAT(LEFT(TRIM(A548),FIND(\"=\",TRIM(A548))-1),\"=\")","v":"LastDecemberDay="},{"$f":"_xlfn.CONCAT(\"|\",RIGHT(TRIM(A548),LEN(TRIM(A548))-SEARCH(\"|\",TRIM(A548))))","v":"||0||1||10||N"},"Last December day to trade (O - disable) ",{"$f":"Input!C548","v":0},{"$f":"Input!D548","v":0},{"$f":"Input!E548","v":0},{"$f":"Input!F548","v":0},{"$f":"Input!G548","v":0},{"$f":"Input!H548","v":0},{"$f":"Input!I548","v":0},{"$f":"Input!J548","v":0},{"$f":"Input!K548","v":0},{"$f":"Input!L548","v":0},{"$f":"Input!M548","v":0},{"$f":"_xlfn.CONCAT($B548,E548,$C548)","v":"LastDecemberDay=0||0||1||10||N"},"LastDecemberDay=0||0||1||10||N","LastDecemberDay=0||0||1||10||N","LastDecemberDay=0||0||1||10||N","LastDecemberDay=0||0||1||10||N","LastDecemberDay=0||0||1||10||N","LastDecemberDay=0||0||1||10||N","LastDecemberDay=0||0||1||10||N","LastDecemberDay=0||0||1||10||N","LastDecemberDay=0||0||1||10||N","LastDecemberDay=0||0||1||10||N"]
["FirstJanuaryDay=0||0||1||10||N","FirstJanuaryDay=","||0||1||10||N","First January day to trade (O disable) ",{"$f":"Input!C549","v":0},{"$f":"Input!D549","v":0},{"$f":"Input!E549","v":0},{"$f":"Input!F549","v":0},{"$f":"Input!G549","v":0},{"$f":"Input!H549","v":0},{"$f":"Input!I549","v":0},{"$f":"Input!J549","v":0},{"$f":"Input!K549","v":0},{"$f":"Input!L549","v":0},{"$f":"Input!M549","v":0},"FirstJanuaryDay=0||0||1||10||N","FirstJanuaryDay=0||0||1||10||N","FirstJanuaryDay=0||0||1||10||N","FirstJanuaryDay=0||0||1||10||N","FirstJanuaryDay=0||0||1||10||N","FirstJanuaryDay=0||0||1||10||N","FirstJanuaryDay=0||0||1||10||N","FirstJanuaryDay=0||0||1||10||N","FirstJanuaryDay=0||0||1||10||N","FirstJanuaryDay=0||0||1||10||N","FirstJanuaryDay=0||0||1||10||N"]
["; News settings","; News settings","; News settings","News settings ",null,null,null,null,null,null,null,null,null,null,null,{"$f":"$A550","v":"; News settings"},"; News settings","; News settings","; News settings","; News settings","; News settings","; News settings","; News settings","; News settings","; News settings","; News settings"]
["News_Properties====================================================================================","News_Properties====================================================================================","News_Properties====================================================================================","News properties: ",null,null,null,null,null,null,null,null,null,null,null,"News_Properties====================================================================================","News_Properties====================================================================================","News_Properties====================================================================================","News_Properties====================================================================================","News_Properties====================================================================================","News_Properties====================================================================================","News_Properties====================================================================================","News_Properties====================================================================================","News_Properties====================================================================================","News_Properties====================================================================================","News_Properties===================================================================================="]
["News_Mode=0||0||0||2||N",{"$f":"_xlfn.CONCAT(LEFT(TRIM(A552),FIND(\"=\",TRIM(A552))-1),\"=\")","v":"News_Mode="},{"$f":"_xlfn.CONCAT(\"|\",RIGHT(TRIM(A552),LEN(TRIM(A552))-SEARCH(\"|\",TRIM(A552))))","v":"||0||0||2||N"},"News filter mode ",{"$f":"VLOOKUP(Input!C552,Start!$CQ$2:$CR$4,2,0)","v":0},{"$f":"VLOOKUP(Input!D552,Start!$CQ$2:$CR$4,2,0)","v":0},{"$f":"VLOOKUP(Input!E552,Start!$CQ$2:$CR$4,2,0)","v":0},{"$f":"VLOOKUP(Input!F552,Start!$CQ$2:$CR$4,2,0)","v":0},{"$f":"VLOOKUP(Input!G552,Start!$CQ$2:$CR$4,2,0)","v":0},{"$f":"VLOOKUP(Input!H552,Start!$CQ$2:$CR$4,2,0)","v":0},{"$f":"VLOOKUP(Input!I552,Start!$CQ$2:$CR$4,2,0)","v":0},{"$f":"VLOOKUP(Input!J552,Start!$CQ$2:$CR$4,2,0)","v":0},{"$f":"VLOOKUP(Input!K552,Start!$CQ$2:$CR$4,2,0)","v":0},{"$f":"VLOOKUP(Input!L552,Start!$CQ$2:$CR$4,2,0)","v":0},{"$f":"VLOOKUP(Input!M552,Start!$CQ$2:$CR$4,2,0)","v":0},{"$f":"_xlfn.CONCAT($B552,E552,$C552)","v":"News_Mode=0||0||0||2||N"},"News_Mode=0||0||0||2||N","News_Mode=0||0||0||2||N","News_Mode=0||0||0||2||N","News_Mode=0||0||0||2||N","News_Mode=0||0||0||2||N","News_Mode=0||0||0||2||N","News_Mode=0||0||0||2||N","News_Mode=0||0||0||2||N","News_Mode=0||0||0||2||N","News_Mode=0||0||0||2||N"]
["News_Currencies=auto","News_Currencies=",{"$error":"#VALUE!"},"Currencies ",{"$f":"Input!C553","v":0},{"$f":"Input!D553","v":0},{"$f":"Input!E553","v":0},{"$f":"Input!F553","v":0},{"$f":"Input!G553","v":0},{"$f":"Input!H553","v":0},{"$f":"Input!I553","v":0},{"$f":"Input!J553","v":0},{"$f":"Input!K553","v":0},{"$f":"Input!L553","v":0},{"$f":"Input!M553","v":0},{"$error":"#VALUE!"},{"$error":"#VALUE!"},{"$error":"#VALUE!"},{"$error":"#VALUE!"},{"$error":"#VALUE!"},{"$error":"#VALUE!"},{"$error":"#VALUE!"},{"$error":"#VALUE!"},{"$error":"#VALUE!"},{"$error":"#VALUE!"},{"$error":"#VALUE!"}]
["News_Impact_H=true||false||0||true||N","News_Impact_H=","||false||0||true||N","High-impact ",{"$f":"VLOOKUP(Input!C554,Start!$G$2:$H$3,2,0)","v":false},{"$f":"VLOOKUP(Input!D554,Start!$G$2:$H$3,2,0)","v":false},{"$f":"VLOOKUP(Input!E554,Start!$G$2:$H$3,2,0)","v":false},{"$f":"VLOOKUP(Input!F554,Start!$G$2:$H$3,2,0)","v":false},{"$f":"VLOOKUP(Input!G554,Start!$G$2:$H$3,2,0)","v":false},{"$f":"VLOOKUP(Input!H554,Start!$G$2:$H$3,2,0)","v":false},{"$f":"VLOOKUP(Input!I554,Start!$G$2:$H$3,2,0)","v":false},{"$f":"VLOOKUP(Input!J554,Start!$G$2:$H$3,2,0)","v":false},{"$f":"VLOOKUP(Input!K554,Start!$G$2:$H$3,2,0)","v":false},{"$f":"VLOOKUP(Input!L554,Start!$G$2:$H$3,2,0)","v":false},{"$f":"VLOOKUP(Input!M554,Start!$G$2:$H$3,2,0)","v":false},"News_Impact_H=FALSE||false||0||true||N","News_Impact_H=FALSE||false||0||true||N","News_Impact_H=FALSE||false||0||true||N","News_Impact_H=FALSE||false||0||true||N","News_Impact_H=FALSE||false||0||true||N","News_Impact_H=FALSE||false||0||true||N","News_Impact_H=FALSE||false||0||true||N","News_Impact_H=FALSE||false||0||true||N","News_Impact_H=FALSE||false||0||true||N","News_Impact_H=FALSE||false||0||true||N","News_Impact_H=FALSE||false||0||true||N"]
["News_Impact_M=true||false||0||true||N","News_Impact_M=","||false||0||true||N","Medium impact ",{"$f":"VLOOKUP(Input!C555,Start!$G$2:$H$3,2,0)","v":false},{"$f":"VLOOKUP(Input!D555,Start!$G$2:$H$3,2,0)","v":false},{"$f":"VLOOKUP(Input!E555,Start!$G$2:$H$3,2,0)","v":false},{"$f":"VLOOKUP(Input!F555,Start!$G$2:$H$3,2,0)","v":false},{"$f":"VLOOKUP(Input!G555,Start!$G$2:$H$3,2,0)","v":false},{"$f":"VLOOKUP(Input!H555,Start!$G$2:$H$3,2,0)","v":false},{"$f":"VLOOKUP(Input!I555,Start!$G$2:$H$3,2,0)","v":false},{"$f":"VLOOKUP(Input!J555,Start!$G$2:$H$3,2,0)","v":false},{"$f":"VLOOKUP(Input!K555,Start!$G$2:$H$3,2,0)","v":false},{"$f":"VLOOKUP(Input!L555,Start!$G$2:$H$3,2,0)","v":false},{"$f":"VLOOKUP(Input!M555,Start!$G$2:$H$3,2,0)","v":false},"News_Impact_M=FALSE||false||0||true||N","News_Impact_M=FALSE||false||0||true||N","News_Impact_M=FALSE||false||0||true||N","News_Impact_M=FALSE||false||0||true||N","News_Impact_M=FALSE||false||0||true||N","News_Impact_M=FALSE||false||0||true||N","News_Impact_M=FALSE||false||0||true||N","News_Impact_M=FALSE||false||0||true||N","News_Impact_M=FALSE||false||0||true||N","News_Impact_M=FALSE||false||0||true||N","News_Impact_M=FALSE||false||0||true||N"]
["News_Impact_L=false||false||0||true||N","News_Impact_L=","||false||0||true||N","Low-impact ",{"$f":"VLOOKUP(Input!C556,Start!$G$2:$H$3,2,0)","v":false},{"$f":"VLOOKUP(Input!D556,Start!$G$2:$H$3,2,0)","v":false},{"$f":"VLOOKUP(Input!E556,Start!$G$2:$H$3,2,0)","v":false},{"$f":"VLOOKUP(Input!F556,Start!$G$2:$H$3,2,0)","v":false},{"$f":"VLOOKUP(Input!G556,Start!$G$2:$H$3,2,0)","v":false},{"$f":"VLOOKUP(Input!H556,Start!$G$2:$H$3,2,0)","v":false},{"$f":"VLOOKUP(Input!I556,Start!$G$2:$H$3,2,0)","v":false},{"$f":"VLOOKUP(Input!J556,Start!$G$2:$H$3,2,0)","v":false},{"$f":"VLOOKUP(Input!K556,Start!$G$2:$H$3,2,0)","v":false},{"$f":"VLOOKUP(Input!L556,Start!$G$2:$H$3,2,0)","v":false},{"$f":"VLOOKUP(Input!M556,Start!$G$2:$H$3,2,0)","v":false},"News_Impact_L=FALSE||false||0||true||N","News_Impact_L=FALSE||false||0||true||N","News_Impact_L=FALSE||false||0||true||N","News_Impact_L=FALSE||false||0||true||N","News_Impact_L=FALSE||false||0||true||N","News_Impact_L=FALSE||false||0||true||N","News_Impact_L=FALSE||false||0||true||N","News_Impact_L=FALSE||false||0||true||N","News_Impact_L=FALSE||false||0||true||N","News_Impact_L=FALSE||false||0||true||N","News_Impact_L=FALSE||false||0||true||N"]
["News_Impact_N=false||false||0||true||N","News_Impact_N=","||false||0||true||N","Holidays ",{"$f":"VLOOKUP(Input!C557,Start!$G$2:$H$3,2,0)","v":false},{"$f":"VLOOKUP(Input!D557,Start!$G$2:$H$3,2,0)","v":false},{"$f":"VLOOKUP(Input!E557,Start!$G$2:$H$3,2,0)","v":false},{"$f":"VLOOKUP(Input!F557,Start!$G$2:$H$3,2,0)","v":false},{"$f":"VLOOKUP(Input!G557,Start!$G$2:$H$3,2,0)","v":false},{"$f":"VLOOKUP(Input!H557,Start!$G$2:$H$3,2,0)","v":false},{"$f":"VLOOKUP(Input!I557,Start!$G$2:$H$3,2,0)","v":false},{"$f":"VLOOKUP(Input!J557,Start!$G$2:$H$3,2,0)","v":false},{"$f":"VLOOKUP(Input!K557,Start!$G$2:$H$3,2,0)","v":false},{"$f":"VLOOKUP(Input!L557,Start!$G$2:$H$3,2,0)","v":false},{"$f":"VLOOKUP(Input!M557,Start!$G$2:$H$3,2,0)","v":false},"News_Impact_N=FALSE||false||0||true||N","News_Impact_N=FALSE||false||0||true||N","News_Impact_N=FALSE||false||0||true||N","News_Impact_N=FALSE||false||0||true||N","News_Impact_N=FALSE||false||0||true||N","News_Impact_N=FALSE||false||0||true||N","News_Impact_N=FALSE||false||0||true||N","News_Impact_N=FALSE||false||0||true||N","News_Impact_N=FALSE||false||0||true||N","News_Impact_N=FALSE||false||0||true||N","News_Impact_N=FALSE||false||0||true||N"]
["News_FilterInclude=","News_FilterInclude=","News_FilterInclude=","Include key-words (comma separated) ",null,null,null,null,null,null,null,null,null,null,null,{"$f":"$A558","v":"News_FilterInclude="},{"$f":"$A558","v":"News_FilterInclude="},{"$f":"$A558","v":"News_FilterInclude="},{"$f":"$A558","v":"News_FilterInclude="},{"$f":"$A558","v":"News_FilterInclude="},{"$f":"$A558","v":"News_FilterInclude="},{"$f":"$A558","v":"News_FilterInclude="},{"$f":"$A558","v":"News_FilterInclude="},{"$f":"$A558","v":"News_FilterInclude="},{"$f":"$A558","v":"News_FilterInclude="},{"$f":"$A558","v":"News_FilterInclude="}]
["News_MinutesBefore=15||15||1||150||N",{"$f":"_xlfn.CONCAT(LEFT(TRIM(A559),FIND(\"=\",TRIM(A559))-1),\"=\")","v":"News_MinutesBefore="},{"$f":"_xlfn.CONCAT(\"|\",RIGHT(TRIM(A559),LEN(TRIM(A559))-SEARCH(\"|\",TRIM(A559))))","v":"||15||1||150||N"},"Minutes before ",{"$f":"Input!C559","v":0},{"$f":"Input!D559","v":0},{"$f":"Input!E559","v":0},{"$f":"Input!F559","v":0},{"$f":"Input!G559","v":0},{"$f":"Input!H559","v":0},{"$f":"Input!I559","v":0},{"$f":"Input!J559","v":0},{"$f":"Input!K559","v":0},{"$f":"Input!L559","v":0},{"$f":"Input!M559","v":0},{"$f":"_xlfn.CONCAT($B559,E559,$C559)","v":"News_MinutesBefore=0||15||1||150||N"},"News_MinutesBefore=0||15||1||150||N","News_MinutesBefore=0||15||1||150||N","News_MinutesBefore=0||15||1||150||N","News_MinutesBefore=0||15||1||150||N","News_MinutesBefore=0||15||1||150||N","News_MinutesBefore=0||15||1||150||N","News_MinutesBefore=0||15||1||150||N","News_MinutesBefore=0||15||1||150||N","News_MinutesBefore=0||15||1||150||N","News_MinutesBefore=0||15||1||150||N"]
["News_MinutesAfter=15||15||1||150||N","News_MinutesAfter=","||15||1||150||N","Minutes after ",{"$f":"Input!C560","v":0},{"$f":"Input!D560","v":0},{"$f":"Input!E560","v":0},{"$f":"Input!F560","v":0},{"$f":"Input!G560","v":0},{"$f":"Input!H560","v":0},{"$f":"Input!I560","v":0},{"$f":"Input!J560","v":0},{"$f":"Input!K560","v":0},{"$f":"Input!L560","v":0},{"$f":"Input!M560","v":0},"News_MinutesAfter=0||15||1||150||N","News_MinutesAfter=0||15||1||150||N","News_MinutesAfter=0||15||1||150||N","News_MinutesAfter=0||15||1||150||N","News_MinutesAfter=0||15||1||150||N","News_MinutesAfter=0||15||1||150||N","News_MinutesAfter=0||15||1||150||N","News_MinutesAfter=0||15||1||150||N","News_MinutesAfter=0||15||1||150||N","News_MinutesAfter=0||15||1||150||N","News_MinutesAfter=0||15||1||150||N"]
["News_OpenOn=0||0||0||3||N","News_OpenOn=","||0||0||3||N","Open on ",{"$f":"VLOOKUP(Input!C561,Start!$AK$2:$AL$5,2,0)","v":0},{"$f":"VLOOKUP(Input!D561,Start!$AK$2:$AL$5,2,0)","v":0},{"$f":"VLOOKUP(Input!E561,Start!$AK$2:$AL$5,2,0)","v":0},{"$f":"VLOOKUP(Input!F561,Start!$AK$2:$AL$5,2,0)","v":0},{"$f":"VLOOKUP(Input!G561,Start!$AK$2:$AL$5,2,0)","v":0},{"$f":"VLOOKUP(Input!H561,Start!$AK$2:$AL$5,2,0)","v":0},{"$f":"VLOOKUP(Input!I561,Start!$AK$2:$AL$5,2,0)","v":0},{"$f":"VLOOKUP(Input!J561,Start!$AK$2:$AL$5,2,0)","v":0},{"$f":"VLOOKUP(Input!K561,Start!$AK$2:$AL$5,2,0)","v":0},{"$f":"VLOOKUP(Input!L561,Start!$AK$2:$AL$5,2,0)","v":0},{"$f":"VLOOKUP(Input!M561,Start!$AK$2:$AL$5,2,0)","v":0},"News_OpenOn=0||0||0||3||N","News_OpenOn=0||0||0||3||N","News_OpenOn=0||0||0||3||N","News_OpenOn=0||0||0||3||N","News_OpenOn=0||0||0||3||N","News_OpenOn=0||0||0||3||N","News_OpenOn=0||0||0||3||N","News_OpenOn=0||0||0||3||N","News_OpenOn=0||0||0||3||N","News_OpenOn=0||0||0||3||N","News_OpenOn=0||0||0||3||N"]
["News_MartinOn=0||0||0||3||N","News_MartinOn=","||0||0||3||N","Open martin on ",{"$f":"VLOOKUP(Input!C562,Start!$AK$2:$AL$5,2,0)","v":1},{"$f":"VLOOKUP(Input!D562,Start!$AK$2:$AL$5,2,0)","v":1},{"$f":"VLOOKUP(Input!E562,Start!$AK$2:$AL$5,2,0)","v":1},{"$f":"VLOOKUP(Input!F562,Start!$AK$2:$AL$5,2,0)","v":1},{"$f":"VLOOKUP(Input!G562,Start!$AK$2:$AL$5,2,0)","v":1},{"$f":"VLOOKUP(Input!H562,Start!$AK$2:$AL$5,2,0)","v":1},{"$f":"VLOOKUP(Input!I562,Start!$AK$2:$AL$5,2,0)","v":1},{"$f":"VLOOKUP(Input!J562,Start!$AK$2:$AL$5,2,0)","v":1},{"$f":"VLOOKUP(Input!K562,Start!$AK$2:$AL$5,2,0)","v":1},{"$f":"VLOOKUP(Input!L562,Start!$AK$2:$AL$5,2,0)","v":1},{"$f":"VLOOKUP(Input!M562,Start!$AK$2:$AL$5,2,0)","v":1},"News_MartinOn=1||0||0||3||N","News_MartinOn=1||0||0||3||N","News_MartinOn=1||0||0||3||N","News_MartinOn=1||0||0||3||N","News_MartinOn=1||0||0||3||N","News_MartinOn=1||0||0||3||N","News_MartinOn=1||0||0||3||N","News_MartinOn=1||0||0||3||N","News_MartinOn=1||0||0||3||N","News_MartinOn=1||0||0||3||N","News_MartinOn=1||0||0||3||N"]
["News_HedgeOn=0||0||0||3||N","News_HedgeOn=","||0||0||3||N","Open hedge on ",{"$f":"VLOOKUP(Input!C563,Start!$AK$2:$AL$5,2,0)","v":1},{"$f":"VLOOKUP(Input!D563,Start!$AK$2:$AL$5,2,0)","v":1},{"$f":"VLOOKUP(Input!E563,Start!$AK$2:$AL$5,2,0)","v":1},{"$f":"VLOOKUP(Input!F563,Start!$AK$2:$AL$5,2,0)","v":1},{"$f":"VLOOKUP(Input!G563,Start!$AK$2:$AL$5,2,0)","v":1},{"$f":"VLOOKUP(Input!H563,Start!$AK$2:$AL$5,2,0)","v":1},{"$f":"VLOOKUP(Input!I563,Start!$AK$2:$AL$5,2,0)","v":1},{"$f":"VLOOKUP(Input!J563,Start!$AK$2:$AL$5,2,0)","v":1},{"$f":"VLOOKUP(Input!K563,Start!$AK$2:$AL$5,2,0)","v":1},{"$f":"VLOOKUP(Input!L563,Start!$AK$2:$AL$5,2,0)","v":1},{"$f":"VLOOKUP(Input!M563,Start!$AK$2:$AL$5,2,0)","v":1},"News_HedgeOn=1||0||0||3||N","News_HedgeOn=1||0||0||3||N","News_HedgeOn=1||0||0||3||N","News_HedgeOn=1||0||0||3||N","News_HedgeOn=1||0||0||3||N","News_HedgeOn=1||0||0||3||N","News_HedgeOn=1||0||0||3||N","News_HedgeOn=1||0||0||3||N","News_HedgeOn=1||0||0||3||N","News_HedgeOn=1||0||0||3||N","News_HedgeOn=1||0||0||3||N"]
["News_CloseOn=0||0||0||4||N","News_CloseOn=","||0||0||4||N","Close on ",{"$f":"VLOOKUP(Input!C564,Start!$AM$2:$AN$6,2,0)","v":2},{"$f":"VLOOKUP(Input!D564,Start!$AM$2:$AN$6,2,0)","v":2},{"$f":"VLOOKUP(Input!E564,Start!$AM$2:$AN$6,2,0)","v":2},{"$f":"VLOOKUP(Input!F564,Start!$AM$2:$AN$6,2,0)","v":2},{"$f":"VLOOKUP(Input!G564,Start!$AM$2:$AN$6,2,0)","v":2},{"$f":"VLOOKUP(Input!H564,Start!$AM$2:$AN$6,2,0)","v":2},{"$f":"VLOOKUP(Input!I564,Start!$AM$2:$AN$6,2,0)","v":2},{"$f":"VLOOKUP(Input!J564,Start!$AM$2:$AN$6,2,0)","v":2},{"$f":"VLOOKUP(Input!K564,Start!$AM$2:$AN$6,2,0)","v":2},{"$f":"VLOOKUP(Input!L564,Start!$AM$2:$AN$6,2,0)","v":2},{"$f":"VLOOKUP(Input!M564,Start!$AM$2:$AN$6,2,0)","v":2},"News_CloseOn=2||0||0||4||N","News_CloseOn=2||0||0||4||N","News_CloseOn=2||0||0||4||N","News_CloseOn=2||0||0||4||N","News_CloseOn=2||0||0||4||N","News_CloseOn=2||0||0||4||N","News_CloseOn=2||0||0||4||N","News_CloseOn=2||0||0||4||N","News_CloseOn=2||0||0||4||N","News_CloseOn=2||0||0||4||N","News_CloseOn=2||0||0||4||N"]
["News_PartialCloseOn=0||0||0||3||N","News_PartialCloseOn=","||0||0||3||N","Partial close on ",{"$f":"VLOOKUP(Input!C565,Start!$AO$2:$AP$4,2,0)","v":1},{"$f":"VLOOKUP(Input!D565,Start!$AO$2:$AP$4,2,0)","v":1},{"$f":"VLOOKUP(Input!E565,Start!$AO$2:$AP$4,2,0)","v":1},{"$f":"VLOOKUP(Input!F565,Start!$AO$2:$AP$4,2,0)","v":1},{"$f":"VLOOKUP(Input!G565,Start!$AO$2:$AP$4,2,0)","v":1},{"$f":"VLOOKUP(Input!H565,Start!$AO$2:$AP$4,2,0)","v":1},{"$f":"VLOOKUP(Input!I565,Start!$AO$2:$AP$4,2,0)","v":1},{"$f":"VLOOKUP(Input!J565,Start!$AO$2:$AP$4,2,0)","v":1},{"$f":"VLOOKUP(Input!K565,Start!$AO$2:$AP$4,2,0)","v":1},{"$f":"VLOOKUP(Input!L565,Start!$AO$2:$AP$4,2,0)","v":1},{"$f":"VLOOKUP(Input!M565,Start!$AO$2:$AP$4,2,0)","v":1},"News_PartialCloseOn=1||0||0||3||N","News_PartialCloseOn=1||0||0||3||N","News_PartialCloseOn=1||0||0||3||N","News_PartialCloseOn=1||0||0||3||N","News_PartialCloseOn=1||0||0||3||N","News_PartialCloseOn=1||0||0||3||N","News_PartialCloseOn=1||0||0||3||N","News_PartialCloseOn=1||0||0||3||N","News_PartialCloseOn=1||0||0||3||N","News_PartialCloseOn=1||0||0||3||N","News_PartialCloseOn=1||0||0||3||N"]
["News_Draw_Properties===== Visualization ====","News_Draw_Properties===== Visualization ====","News_Draw_Properties===== Visualization ====","Visualization properties: ",null,null,null,null,null,null,null,null,null,null,null,{"$f":"$A566","v":"News_Draw_Properties===== Visualization ===="},{"$f":"$A566","v":"News_Draw_Properties===== Visualization ===="},{"$f":"$A566","v":"News_Draw_Properties===== Visualization ===="},{"$f":"$A566","v":"News_Draw_Properties===== Visualization ===="},{"$f":"$A566","v":"News_Draw_Properties===== Visualization ===="},{"$f":"$A566","v":"News_Draw_Properties===== Visualization ===="},{"$f":"$A566","v":"News_Draw_Properties===== Visualization ===="},{"$f":"$A566","v":"News_Draw_Properties===== Visualization ===="},{"$f":"$A566","v":"News_Draw_Properties===== Visualization ===="},{"$f":"$A566","v":"News_Draw_Properties===== Visualization ===="},{"$f":"$A566","v":"News_Draw_Properties===== Visualization ===="}]
["News_ShowOnChart=true","News_ShowOnChart=true","News_ShowOnChart=true","Show on chart ",{"$f":"VLOOKUP(Input!C567,Start!$G$2:$H$3,2,0)","v":false},{"$f":"VLOOKUP(Input!D567,Start!$G$2:$H$3,2,0)","v":false},{"$f":"VLOOKUP(Input!E567,Start!$G$2:$H$3,2,0)","v":false},{"$f":"VLOOKUP(Input!F567,Start!$G$2:$H$3,2,0)","v":false},{"$f":"VLOOKUP(Input!G567,Start!$G$2:$H$3,2,0)","v":false},{"$f":"VLOOKUP(Input!H567,Start!$G$2:$H$3,2,0)","v":false},{"$f":"VLOOKUP(Input!I567,Start!$G$2:$H$3,2,0)","v":false},{"$f":"VLOOKUP(Input!J567,Start!$G$2:$H$3,2,0)","v":false},{"$f":"VLOOKUP(Input!K567,Start!$G$2:$H$3,2,0)","v":false},{"$f":"VLOOKUP(Input!L567,Start!$G$2:$H$3,2,0)","v":false},{"$f":"VLOOKUP(Input!M567,Start!$G$2:$H$3,2,0)","v":false},{"$f":"_xlfn.CONCAT($B567,E567,$C567)","v":"News_ShowOnChart=trueFALSENews_ShowOnChart=true"},{"$f":"_xlfn.CONCAT($B567,F567,$C567)","v":"News_ShowOnChart=trueFALSENews_ShowOnChart=true"},{"$f":"_xlfn.CONCAT($B567,G567,$C567)","v":"News_ShowOnChart=trueFALSENews_ShowOnChart=true"},{"$f":"_xlfn.CONCAT($B567,H567,$C567)","v":"News_ShowOnChart=trueFALSENews_ShowOnChart=true"},{"$f":"_xlfn.CONCAT($B567,I567,$C567)","v":"News_ShowOnChart=trueFALSENews_ShowOnChart=true"},{"$f":"_xlfn.CONCAT($B567,J567,$C567)","v":"News_ShowOnChart=trueFALSENews_ShowOnChart=true"},{"$f":"_xlfn.CONCAT($B567,K567,$C567)","v":"News_ShowOnChart=trueFALSENews_ShowOnChart=true"},{"$f":"_xlfn.CONCAT($B567,L567,$C567)","v":"News_ShowOnChart=trueFALSENews_ShowOnChart=true"},{"$f":"_xlfn.CONCAT($B567,M567,$C567)","v":"News_ShowOnChart=trueFALSENews_ShowOnChart=true"},{"$f":"_xlfn.CONCAT($B567,N567,$C567)","v":"News_ShowOnChart=trueFALSENews_ShowOnChart=true"},{"$f":"_xlfn.CONCAT($B567,O567,$C567)","v":"News_ShowOnChart=trueFALSENews_ShowOnChart=true"}]
["News_Style_History=0","News_Style_History=0","News_Style_History=0","Previous events line style ",{"$f":"VLOOKUP(Input!C568,Start!$CS$2:$CT$6,2,0)","v":1},{"$f":"VLOOKUP(Input!D568,Start!$CS$2:$CT$6,2,0)","v":1},{"$f":"VLOOKUP(Input!E568,Start!$CS$2:$CT$6,2,0)","v":1},{"$f":"VLOOKUP(Input!F568,Start!$CS$2:$CT$6,2,0)","v":1},{"$f":"VLOOKUP(Input!G568,Start!$CS$2:$CT$6,2,0)","v":1},{"$f":"VLOOKUP(Input!H568,Start!$CS$2:$CT$6,2,0)","v":1},{"$f":"VLOOKUP(Input!I568,Start!$CS$2:$CT$6,2,0)","v":1},{"$f":"VLOOKUP(Input!J568,Start!$CS$2:$CT$6,2,0)","v":1},{"$f":"VLOOKUP(Input!K568,Start!$CS$2:$CT$6,2,0)","v":1},{"$f":"VLOOKUP(Input!L568,Start!$CS$2:$CT$6,2,0)","v":1},{"$f":"VLOOKUP(Input!M568,Start!$CS$2:$CT$6,2,0)","v":1},{"$f":"_xlfn.CONCAT($B568,E568,$C568)","v":"News_Style_History=01News_Style_History=0"},"News_Style_History=01News_Style_History=0","News_Style_History=01News_Style_History=0","News_Style_History=01News_Style_History=0","News_Style_History=01News_Style_History=0","News_Style_History=01News_Style_History=0","News_Style_History=01News_Style_History=0","News_Style_History=01News_Style_History=0","News_Style_History=01News_Style_History=0","News_Style_History=01News_Style_History=0","News_Style_History=01News_Style_History=0"]
["News_Style_Future=3","News_Style_Future=3","News_Style_Future=3","Future events line style ",{"$f":"VLOOKUP(Input!C569,Start!$CS$2:$CT$6,2,0)","v":1},{"$f":"VLOOKUP(Input!D569,Start!$CS$2:$CT$6,2,0)","v":1},{"$f":"VLOOKUP(Input!E569,Start!$CS$2:$CT$6,2,0)","v":1},{"$f":"VLOOKUP(Input!F569,Start!$CS$2:$CT$6,2,0)","v":1},{"$f":"VLOOKUP(Input!G569,Start!$CS$2:$CT$6,2,0)","v":1},{"$f":"VLOOKUP(Input!H569,Start!$CS$2:$CT$6,2,0)","v":1},{"$f":"VLOOKUP(Input!I569,Start!$CS$2:$CT$6,2,0)","v":1},{"$f":"VLOOKUP(Input!J569,Start!$CS$2:$CT$6,2,0)","v":1},{"$f":"VLOOKUP(Input!K569,Start!$CS$2:$CT$6,2,0)","v":1},{"$f":"VLOOKUP(Input!L569,Start!$CS$2:$CT$6,2,0)","v":1},{"$f":"VLOOKUP(Input!M569,Start!$CS$2:$CT$6,2,0)","v":1},"News_Style_Future=31News_Style_Future=3","News_Style_Future=31News_Style_Future=3","News_Style_Future=31News_Style_Future=3","News_Style_Future=31News_Style_Future=3","News_Style_Future=31News_Style_Future=3","News_Style_Future=31News_Style_Future=3","News_Style_Future=31News_Style_Future=3","News_Style_Future=31News_Style_Future=3","News_Style_Future=31News_Style_Future=3","News_Style_Future=31News_Style_Future=3","News_Style_Future=31News_Style_Future=3"]
["News_Color_ImpactH=255","News_Color_ImpactH=255","News_Color_ImpactH=255","High impact color ",{"$f":"Input!C570","v":"Red"},{"$f":"Input!D570","v":"Red"},{"$f":"Input!E570","v":"Red"},{"$f":"Input!F570","v":"Red"},{"$f":"Input!G570","v":"Red"},{"$f":"Input!H570","v":"Red"},{"$f":"Input!I570","v":"Red"},{"$f":"Input!J570","v":"Red"},{"$f":"Input!K570","v":"Red"},{"$f":"Input!L570","v":"Red"},{"$f":"Input!M570","v":"Red"},{"$f":"_xlfn.CONCAT($B570,E570,$C570)","v":"News_Color_ImpactH=255RedNews_Color_ImpactH=255"},{"$f":"_xlfn.CONCAT($B570,F570,$C570)","v":"News_Color_ImpactH=255RedNews_Color_ImpactH=255"},{"$f":"_xlfn.CONCAT($B570,G570,$C570)","v":"News_Color_ImpactH=255RedNews_Color_ImpactH=255"},{"$f":"_xlfn.CONCAT($B570,H570,$C570)","v":"News_Color_ImpactH=255RedNews_Color_ImpactH=255"},{"$f":"_xlfn.CONCAT($B570,I570,$C570)","v":"News_Color_ImpactH=255RedNews_Color_ImpactH=255"},{"$f":"_xlfn.CONCAT($B570,J570,$C570)","v":"News_Color_ImpactH=255RedNews_Color_ImpactH=255"},{"$f":"_xlfn.CONCAT($B570,K570,$C570)","v":"News_Color_ImpactH=255RedNews_Color_ImpactH=255"},{"$f":"_xlfn.CONCAT($B570,L570,$C570)","v":"News_Color_ImpactH=255RedNews_Color_ImpactH=255"},{"$f":"_xlfn.CONCAT($B570,M570,$C570)","v":"News_Color_ImpactH=255RedNews_Color_ImpactH=255"},{"$f":"_xlfn.CONCAT($B570,N570,$C570)","v":"News_Color_ImpactH=255RedNews_Color_ImpactH=255"},{"$f":"_xlfn.CONCAT($B570,O570,$C570)","v":"News_Color_ImpactH=255RedNews_Color_ImpactH=255"}]
["News_Color_ImpactM=65535","News_Color_ImpactM=65535","News_Color_ImpactM=65535","Medium impact color ",{"$f":"Input!C571","v":"Yellow"},{"$f":"Input!D571","v":"Yellow"},{"$f":"Input!E571","v":"Yellow"},{"$f":"Input!F571","v":"Yellow"},{"$f":"Input!G571","v":"Yellow"},{"$f":"Input!H571","v":"Yellow"},{"$f":"Input!I571","v":"Yellow"},{"$f":"Input!J571","v":"Yellow"},{"$f":"Input!K571","v":"Yellow"},{"$f":"Input!L571","v":"Yellow"},{"$f":"Input!M571","v":"Yellow"},{"$f":"_xlfn.CONCAT($B571,E571,$C571)","v":"News_Color_ImpactM=65535YellowNews_Color_ImpactM=65535"},"News_Color_ImpactM=65535YellowNews_Color_ImpactM=65535","News_Color_ImpactM=65535YellowNews_Color_ImpactM=65535","News_Color_ImpactM=65535YellowNews_Color_ImpactM=65535","News_Color_ImpactM=65535YellowNews_Color_ImpactM=65535","News_Color_ImpactM=65535YellowNews_Color_ImpactM=65535","News_Color_ImpactM=65535YellowNews_Color_ImpactM=65535","News_Color_ImpactM=65535YellowNews_Color_ImpactM=65535","News_Color_ImpactM=65535YellowNews_Color_ImpactM=65535","News_Color_ImpactM=65535YellowNews_Color_ImpactM=65535","News_Color_ImpactM=65535YellowNews_Color_ImpactM=65535"]
["News_Color_ImpactL=32768","News_Color_ImpactL=32768","News_Color_ImpactL=32768","Low impact color ",{"$f":"Input!C572","v":"Green"},{"$f":"Input!D572","v":"Green"},{"$f":"Input!E572","v":"Green"},{"$f":"Input!F572","v":"Green"},{"$f":"Input!G572","v":"Green"},{"$f":"Input!H572","v":"Green"},{"$f":"Input!I572","v":"Green"},{"$f":"Input!J572","v":"Green"},{"$f":"Input!K572","v":"Green"},{"$f":"Input!L572","v":"Green"},{"$f":"Input!M572","v":"Green"},"News_Color_ImpactL=32768GreenNews_Color_ImpactL=32768","News_Color_ImpactL=32768GreenNews_Color_ImpactL=32768","News_Color_ImpactL=32768GreenNews_Color_ImpactL=32768","News_Color_ImpactL=32768GreenNews_Color_ImpactL=32768","News_Color_ImpactL=32768GreenNews_Color_ImpactL=32768","News_Color_ImpactL=32768GreenNews_Color_ImpactL=32768","News_Color_ImpactL=32768GreenNews_Color_ImpactL=32768","News_Color_ImpactL=32768GreenNews_Color_ImpactL=32768","News_Color_ImpactL=32768GreenNews_Color_ImpactL=32768","News_Color_ImpactL=32768GreenNews_Color_ImpactL=32768","News_Color_ImpactL=32768GreenNews_Color_ImpactL=32768"]
["News_Color_ImpactN=12632256","News_Color_ImpactN=12632256","News_Color_ImpactN=12632256","No impact (holidays) color ",{"$f":"Input!C573","v":"Silver"},{"$f":"Input!D573","v":"Silver"},{"$f":"Input!E573","v":"Silver"},{"$f":"Input!F573","v":"Silver"},{"$f":"Input!G573","v":"Silver"},{"$f":"Input!H573","v":"Silver"},{"$f":"Input!I573","v":"Silver"},{"$f":"Input!J573","v":"Silver"},{"$f":"Input!K573","v":"Silver"},{"$f":"Input!L573","v":"Silver"},{"$f":"Input!M573","v":"Silver"},"News_Color_ImpactN=12632256SilverNews_Color_ImpactN=12632256","News_Color_ImpactN=12632256SilverNews_Color_ImpactN=12632256","News_Color_ImpactN=12632256SilverNews_Color_ImpactN=12632256","News_Color_ImpactN=12632256SilverNews_Color_ImpactN=12632256","News_Color_ImpactN=12632256SilverNews_Color_ImpactN=12632256","News_Color_ImpactN=12632256SilverNews_Color_ImpactN=12632256","News_Color_ImpactN=12632256SilverNews_Color_ImpactN=12632256","News_Color_ImpactN=12632256SilverNews_Color_ImpactN=12632256","News_Color_ImpactN=12632256SilverNews_Color_ImpactN=12632256","News_Color_ImpactN=12632256SilverNews_Color_ImpactN=12632256","News_Color_ImpactN=12632256SilverNews_Color_ImpactN=12632256"]
["; Lines settings","; Lines settings","; Lines settings","Lines settings ",null,null,null,null,null,null,null,null,null,null,null,{"$f":"$A574","v":"; Lines settings"},"; Lines settings","; Lines settings","; Lines settings","; Lines settings","; Lines settings","; Lines settings","; Lines settings","; Lines settings","; Lines settings","; Lines settings"]
["Lines_Settings====================================================================================","Lines_Settings====================================================================================","Lines_Settings====================================================================================","Lines settings: ",null,null,null,null,null,null,null,null,null,null,null,"Lines_Settings====================================================================================","Lines_Settings====================================================================================","Lines_Settings====================================================================================","Lines_Settings====================================================================================","Lines_Settings====================================================================================","Lines_Settings====================================================================================","Lines_Settings====================================================================================","Lines_Settings====================================================================================","Lines_Settings====================================================================================","Lines_Settings====================================================================================","Lines_Settings===================================================================================="]
["NextOrder_Width=1","NextOrder_Width=1","NextOrder_Width=1","NextOrder width (O - don't draw) ",{"$f":"Input!C576","v":0},{"$f":"Input!D576","v":0},{"$f":"Input!E576","v":0},{"$f":"Input!F576","v":0},{"$f":"Input!G576","v":0},{"$f":"Input!H576","v":0},{"$f":"Input!I576","v":0},{"$f":"Input!J576","v":0},{"$f":"Input!K576","v":0},{"$f":"Input!L576","v":0},{"$f":"Input!M576","v":0},{"$f":"_xlfn.CONCAT($B576,E576,$C576)","v":"NextOrder_Width=10NextOrder_Width=1"},{"$f":"_xlfn.CONCAT($B576,F576,$C576)","v":"NextOrder_Width=10NextOrder_Width=1"},{"$f":"_xlfn.CONCAT($B576,G576,$C576)","v":"NextOrder_Width=10NextOrder_Width=1"},{"$f":"_xlfn.CONCAT($B576,H576,$C576)","v":"NextOrder_Width=10NextOrder_Width=1"},{"$f":"_xlfn.CONCAT($B576,I576,$C576)","v":"NextOrder_Width=10NextOrder_Width=1"},{"$f":"_xlfn.CONCAT($B576,J576,$C576)","v":"NextOrder_Width=10NextOrder_Width=1"},{"$f":"_xlfn.CONCAT($B576,K576,$C576)","v":"NextOrder_Width=10NextOrder_Width=1"},{"$f":"_xlfn.CONCAT($B576,L576,$C576)","v":"NextOrder_Width=10NextOrder_Width=1"},{"$f":"_xlfn.CONCAT($B576,M576,$C576)","v":"NextOrder_Width=10NextOrder_Width=1"},{"$f":"_xlfn.CONCAT($B576,N576,$C576)","v":"NextOrder_Width=10NextOrder_Width=1"},{"$f":"_xlfn.CONCAT($B576,O576,$C576)","v":"NextOrder_Width=10NextOrder_Width=1"}]
["NextOrder_Style=2","NextOrder_Style=2","NextOrder_Style=2","NextOrder style ",{"$f":"VLOOKUP(Input!C577,Start!$CS$2:$CT$6,2,0)","v":1},{"$f":"VLOOKUP(Input!D577,Start!$CS$2:$CT$6,2,0)","v":1},{"$f":"VLOOKUP(Input!E577,Start!$CS$2:$CT$6,2,0)","v":1},{"$f":"VLOOKUP(Input!F577,Start!$CS$2:$CT$6,2,0)","v":1},{"$f":"VLOOKUP(Input!G577,Start!$CS$2:$CT$6,2,0)","v":1},{"$f":"VLOOKUP(Input!H577,Start!$CS$2:$CT$6,2,0)","v":1},{"$f":"VLOOKUP(Input!I577,Start!$CS$2:$CT$6,2,0)","v":1},{"$f":"VLOOKUP(Input!J577,Start!$CS$2:$CT$6,2,0)","v":1},{"$f":"VLOOKUP(Input!K577,Start!$CS$2:$CT$6,2,0)","v":1},{"$f":"VLOOKUP(Input!L577,Start!$CS$2:$CT$6,2,0)","v":1},{"$f":"VLOOKUP(Input!M577,Start!$CS$2:$CT$6,2,0)","v":1},{"$f":"_xlfn.CONCAT($B577,E577,$C577)","v":"NextOrder_Style=21NextOrder_Style=2"},{"$f":"_xlfn.CONCAT($B577,F577,$C577)","v":"NextOrder_Style=21NextOrder_Style=2"},{"$f":"_xlfn.CONCAT($B577,G577,$C577)","v":"NextOrder_Style=21NextOrder_Style=2"},{"$f":"_xlfn.CONCAT($B577,H577,$C577)","v":"NextOrder_Style=21NextOrder_Style=2"},{"$f":"_xlfn.CONCAT($B577,I577,$C577)","v":"NextOrder_Style=21NextOrder_Style=2"},{"$f":"_xlfn.CONCAT($B577,J577,$C577)","v":"NextOrder_Style=21NextOrder_Style=2"},{"$f":"_xlfn.CONCAT($B577,K577,$C577)","v":"NextOrder_Style=21NextOrder_Style=2"},{"$f":"_xlfn.CONCAT($B577,L577,$C577)","v":"NextOrder_Style=21NextOrder_Style=2"},{"$f":"_xlfn.CONCAT($B577,M577,$C577)","v":"NextOrder_Style=21NextOrder_Style=2"},{"$f":"_xlfn.CONCAT($B577,N577,$C577)","v":"NextOrder_Style=21NextOrder_Style=2"},{"$f":"_xlfn.CONCAT($B577,O577,$C577)","v":"NextOrder_Style=21NextOrder_Style=2"}]
["NextOrder_ColorB=65280","NextOrder_ColorB=65280","NextOrder_ColorB=65280","NextOrder color BUY ",{"$f":"Input!C578","v":"Lime"},{"$f":"Input!D578","v":"Lime"},{"$f":"Input!E578","v":"Lime"},{"$f":"Input!F578","v":"Lime"},{"$f":"Input!G578","v":"Lime"},{"$f":"Input!H578","v":"Lime"},{"$f":"Input!I578","v":"Lime"},{"$f":"Input!J578","v":"Lime"},{"$f":"Input!K578","v":"Lime"},{"$f":"Input!L578","v":"Lime"},{"$f":"Input!M578","v":"Lime"},{"$f":"_xlfn.CONCAT($B578,E578,$C578)","v":"NextOrder_ColorB=65280LimeNextOrder_ColorB=65280"},"NextOrder_ColorB=65280LimeNextOrder_ColorB=65280","NextOrder_ColorB=65280LimeNextOrder_ColorB=65280","NextOrder_ColorB=65280LimeNextOrder_ColorB=65280","NextOrder_ColorB=65280LimeNextOrder_ColorB=65280","NextOrder_ColorB=65280LimeNextOrder_ColorB=65280","NextOrder_ColorB=65280LimeNextOrder_ColorB=65280","NextOrder_ColorB=65280LimeNextOrder_ColorB=65280","NextOrder_ColorB=65280LimeNextOrder_ColorB=65280","NextOrder_ColorB=65280LimeNextOrder_ColorB=65280","NextOrder_ColorB=65280LimeNextOrder_ColorB=65280"]
["NextOrder_ColorS=255","NextOrder_ColorS=255","NextOrder_ColorS=255","NextOrder color SELL ",{"$f":"Input!C579","v":"Red"},{"$f":"Input!D579","v":"Red"},{"$f":"Input!E579","v":"Red"},{"$f":"Input!F579","v":"Red"},{"$f":"Input!G579","v":"Red"},{"$f":"Input!H579","v":"Red"},{"$f":"Input!I579","v":"Red"},{"$f":"Input!J579","v":"Red"},{"$f":"Input!K579","v":"Red"},{"$f":"Input!L579","v":"Red"},{"$f":"Input!M579","v":"Red"},"NextOrder_ColorS=255RedNextOrder_ColorS=255","NextOrder_ColorS=255RedNextOrder_ColorS=255","NextOrder_ColorS=255RedNextOrder_ColorS=255","NextOrder_ColorS=255RedNextOrder_ColorS=255","NextOrder_ColorS=255RedNextOrder_ColorS=255","NextOrder_ColorS=255RedNextOrder_ColorS=255","NextOrder_ColorS=255RedNextOrder_ColorS=255","NextOrder_ColorS=255RedNextOrder_ColorS=255","NextOrder_ColorS=255RedNextOrder_ColorS=255","NextOrder_ColorS=255RedNextOrder_ColorS=255","NextOrder_ColorS=255RedNextOrder_ColorS=255"]
["StopLoss_Width=1","StopLoss_Width=1","StopLoss_Width=1","StopLoss width (O - don't draw) ",{"$f":"Input!C580","v":0},{"$f":"Input!D580","v":0},{"$f":"Input!E580","v":0},{"$f":"Input!F580","v":0},{"$f":"Input!G580","v":0},{"$f":"Input!H580","v":0},{"$f":"Input!I580","v":0},{"$f":"Input!J580","v":0},{"$f":"Input!K580","v":0},{"$f":"Input!L580","v":0},{"$f":"Input!M580","v":0},"StopLoss_Width=10StopLoss_Width=1","StopLoss_Width=10StopLoss_Width=1","StopLoss_Width=10StopLoss_Width=1","StopLoss_Width=10StopLoss_Width=1","StopLoss_Width=10StopLoss_Width=1","StopLoss_Width=10StopLoss_Width=1","StopLoss_Width=10StopLoss_Width=1","StopLoss_Width=10StopLoss_Width=1","StopLoss_Width=10StopLoss_Width=1","StopLoss_Width=10StopLoss_Width=1","StopLoss_Width=10StopLoss_Width=1"]
["StopLoss_Style=1","StopLoss_Style=1","StopLoss_Style=1","StopLoss style ",{"$f":"VLOOKUP(Input!C581,Start!$CS$2:$CT$6,2,0)","v":1},{"$f":"VLOOKUP(Input!D581,Start!$CS$2:$CT$6,2,0)","v":1},{"$f":"VLOOKUP(Input!E581,Start!$CS$2:$CT$6,2,0)","v":1},{"$f":"VLOOKUP(Input!F581,Start!$CS$2:$CT$6,2,0)","v":1},{"$f":"VLOOKUP(Input!G581,Start!$CS$2:$CT$6,2,0)","v":1},{"$f":"VLOOKUP(Input!H581,Start!$CS$2:$CT$6,2,0)","v":1},{"$f":"VLOOKUP(Input!I581,Start!$CS$2:$CT$6,2,0)","v":1},{"$f":"VLOOKUP(Input!J581,Start!$CS$2:$CT$6,2,0)","v":1},{"$f":"VLOOKUP(Input!K581,Start!$CS$2:$CT$6,2,0)","v":1},{"$f":"VLOOKUP(Input!L581,Start!$CS$2:$CT$6,2,0)","v":1},{"$f":"VLOOKUP(Input!M581,Start!$CS$2:$CT$6,2,0)","v":1},{"$f":"_xlfn.CONCAT($B581,E581,$C581)","v":"StopLoss_Style=11StopLoss_Style=1"},{"$f":"_xlfn.CONCAT($B581,F581,$C581)","v":"StopLoss_Style=11StopLoss_Style=1"},{"$f":"_xlfn.CONCAT($B581,G581,$C581)","v":"StopLoss_Style=11StopLoss_Style=1"},{"$f":"_xlfn.CONCAT($B581,H581,$C581)","v":"StopLoss_Style=11StopLoss_Style=1"},{"$f":"_xlfn.CONCAT($B581,I581,$C581)","v":"StopLoss_Style=11StopLoss_Style=1"},{"$f":"_xlfn.CONCAT($B581,J581,$C581)","v":"StopLoss_Style=11StopLoss_Style=1"},{"$f":"_xlfn.CONCAT($B581,K581,$C581)","v":"StopLoss_Style=11StopLoss_Style=1"},{"$f":"_xlfn.CONCAT($B581,L581,$C581)","v":"StopLoss_Style=11StopLoss_Style=1"},{"$f":"_xlfn.CONCAT($B581,M581,$C581)","v":"StopLoss_Style=11StopLoss_Style=1"},{"$f":"_xlfn.CONCAT($B581,N581,$C581)","v":"StopLoss_Style=11StopLoss_Style=1"},{"$f":"_xlfn.CONCAT($B581,O581,$C581)","v":"StopLoss_Style=11StopLoss_Style=1"}]
["StopLoss_ColorB=16711935","StopLoss_ColorB=16711935","StopLoss_ColorB=16711935","StopLoss color BUY ",{"$f":"Input!C582","v":"Magenta"},{"$f":"Input!D582","v":"Magenta"},{"$f":"Input!E582","v":"Magenta"},{"$f":"Input!F582","v":"Magenta"},{"$f":"Input!G582","v":"Magenta"},{"$f":"Input!H582","v":"Magenta"},{"$f":"Input!I582","v":"Magenta"},{"$f":"Input!J582","v":"Magenta"},{"$f":"Input!K582","v":"Magenta"},{"$f":"Input!L582","v":"Magenta"},{"$f":"Input!M582","v":"Magenta"},{"$f":"_xlfn.CONCAT($B582,E582,$C582)","v":"StopLoss_ColorB=16711935MagentaStopLoss_ColorB=16711935"},"StopLoss_ColorB=16711935MagentaStopLoss_ColorB=16711935","StopLoss_ColorB=16711935MagentaStopLoss_ColorB=16711935","StopLoss_ColorB=16711935MagentaStopLoss_ColorB=16711935","StopLoss_ColorB=16711935MagentaStopLoss_ColorB=16711935","StopLoss_ColorB=16711935MagentaStopLoss_ColorB=16711935","StopLoss_ColorB=16711935MagentaStopLoss_ColorB=16711935","StopLoss_ColorB=16711935MagentaStopLoss_ColorB=16711935","StopLoss_ColorB=16711935MagentaStopLoss_ColorB=16711935","StopLoss_ColorB=16711935MagentaStopLoss_ColorB=16711935","StopLoss_ColorB=16711935MagentaStopLoss_ColorB=16711935"]
["StopLoss_ColorS=16711935","StopLoss_ColorS=16711935","StopLoss_ColorS=16711935","StopLoss color SELL ",{"$f":"Input!C583","v":"Magenta"},{"$f":"Input!D583","v":"Magenta"},{"$f":"Input!E583","v":"Magenta"},{"$f":"Input!F583","v":"Magenta"},{"$f":"Input!G583","v":"Magenta"},{"$f":"Input!H583","v":"Magenta"},{"$f":"Input!I583","v":"Magenta"},{"$f":"Input!J583","v":"Magenta"},{"$f":"Input!K583","v":"Magenta"},{"$f":"Input!L583","v":"Magenta"},{"$f":"Input!M583","v":"Magenta"},"StopLoss_ColorS=16711935MagentaStopLoss_ColorS=16711935","StopLoss_ColorS=16711935MagentaStopLoss_ColorS=16711935","StopLoss_ColorS=16711935MagentaStopLoss_ColorS=16711935","StopLoss_ColorS=16711935MagentaStopLoss_ColorS=16711935","StopLoss_ColorS=16711935MagentaStopLoss_ColorS=16711935","StopLoss_ColorS=16711935MagentaStopLoss_ColorS=16711935","StopLoss_ColorS=16711935MagentaStopLoss_ColorS=16711935","StopLoss_ColorS=16711935MagentaStopLoss_ColorS=16711935","StopLoss_ColorS=16711935MagentaStopLoss_ColorS=16711935","StopLoss_ColorS=16711935MagentaStopLoss_ColorS=16711935","StopLoss_ColorS=16711935MagentaStopLoss_ColorS=16711935"]
["BreakEven_Width=1","BreakEven_Width=1","BreakEven_Width=1","8reakEven width (O - don't draw) ",{"$f":"Input!C584","v":0},{"$f":"Input!D584","v":0},{"$f":"Input!E584","v":0},{"$f":"Input!F584","v":0},{"$f":"Input!G584","v":0},{"$f":"Input!H584","v":0},{"$f":"Input!I584","v":0},{"$f":"Input!J584","v":0},{"$f":"Input!K584","v":0},{"$f":"Input!L584","v":0},{"$f":"Input!M584","v":0},"BreakEven_Width=10BreakEven_Width=1","BreakEven_Width=10BreakEven_Width=1","BreakEven_Width=10BreakEven_Width=1","BreakEven_Width=10BreakEven_Width=1","BreakEven_Width=10BreakEven_Width=1","BreakEven_Width=10BreakEven_Width=1","BreakEven_Width=10BreakEven_Width=1","BreakEven_Width=10BreakEven_Width=1","BreakEven_Width=10BreakEven_Width=1","BreakEven_Width=10BreakEven_Width=1","BreakEven_Width=10BreakEven_Width=1"]
["BreakEven_Style=0","BreakEven_Style=0","BreakEven_Style=0","8reakEven style ",{"$f":"VLOOKUP(Input!C585,Start!$CS$2:$CT$6,2,0)","v":1},{"$f":"VLOOKUP(Input!D585,Start!$CS$2:$CT$6,2,0)","v":1},{"$f":"VLOOKUP(Input!E585,Start!$CS$2:$CT$6,2,0)","v":1},{"$f":"VLOOKUP(Input!F585,Start!$CS$2:$CT$6,2,0)","v":1},{"$f":"VLOOKUP(Input!G585,Start!$CS$2:$CT$6,2,0)","v":1},{"$f":"VLOOKUP(Input!H585,Start!$CS$2:$CT$6,2,0)","v":1},{"$f":"VLOOKUP(Input!I585,Start!$CS$2:$CT$6,2,0)","v":1},{"$f":"VLOOKUP(Input!J585,Start!$CS$2:$CT$6,2,0)","v":1},{"$f":"VLOOKUP(Input!K585,Start!$CS$2:$CT$6,2,0)","v":1},{"$f":"VLOOKUP(Input!L585,Start!$CS$2:$CT$6,2,0)","v":1},{"$f":"VLOOKUP(Input!M585,Start!$CS$2:$CT$6,2,0)","v":1},{"$f":"_xlfn.CONCAT($B585,E585,$C585)","v":"BreakEven_Style=01BreakEven_Style=0"},{"$f":"_xlfn.CONCAT($B585,F585,$C585)","v":"BreakEven_Style=01BreakEven_Style=0"},{"$f":"_xlfn.CONCAT($B585,G585,$C585)","v":"BreakEven_Style=01BreakEven_Style=0"},{"$f":"_xlfn.CONCAT($B585,H585,$C585)","v":"BreakEven_Style=01BreakEven_Style=0"},{"$f":"_xlfn.CONCAT($B585,I585,$C585)","v":"BreakEven_Style=01BreakEven_Style=0"},{"$f":"_xlfn.CONCAT($B585,J585,$C585)","v":"BreakEven_Style=01BreakEven_Style=0"},{"$f":"_xlfn.CONCAT($B585,K585,$C585)","v":"BreakEven_Style=01BreakEven_Style=0"},{"$f":"_xlfn.CONCAT($B585,L585,$C585)","v":"BreakEven_Style=01BreakEven_Style=0"},{"$f":"_xlfn.CONCAT($B585,M585,$C585)","v":"BreakEven_Style=01BreakEven_Style=0"},{"$f":"_xlfn.CONCAT($B585,N585,$C585)","v":"BreakEven_Style=01BreakEven_Style=0"},{"$f":"_xlfn.CONCAT($B585,O585,$C585)","v":"BreakEven_Style=01BreakEven_Style=0"}]
["BreakEven_ColorB=65471","BreakEven_ColorB=65471","BreakEven_ColorB=65471","8reakEven color BUY ",{"$f":"Input!C586","v":"191,255,0"},{"$f":"Input!D586","v":"191,255,0"},{"$f":"Input!E586","v":"191,255,0"},{"$f":"Input!F586","v":"191,255,0"},{"$f":"Input!G586","v":"191,255,0"},{"$f":"Input!H586","v":"191,255,0"},{"$f":"Input!I586","v":"191,255,0"},{"$f":"Input!J586","v":"191,255,0"},{"$f":"Input!K586","v":"191,255,0"},{"$f":"Input!L586","v":"191,255,0"},{"$f":"Input!M586","v":"191,255,0"},{"$f":"_xlfn.CONCAT($B586,E586,$C586)","v":"BreakEven_ColorB=65471191,255,0BreakEven_ColorB=65471"},"BreakEven_ColorB=65471191,255,0BreakEven_ColorB=65471","BreakEven_ColorB=65471191,255,0BreakEven_ColorB=65471","BreakEven_ColorB=65471191,255,0BreakEven_ColorB=65471","BreakEven_ColorB=65471191,255,0BreakEven_ColorB=65471","BreakEven_ColorB=65471191,255,0BreakEven_ColorB=65471","BreakEven_ColorB=65471191,255,0BreakEven_ColorB=65471","BreakEven_ColorB=65471191,255,0BreakEven_ColorB=65471","BreakEven_ColorB=65471191,255,0BreakEven_ColorB=65471","BreakEven_ColorB=65471191,255,0BreakEven_ColorB=65471","BreakEven_ColorB=65471191,255,0BreakEven_ColorB=65471"]
["BreakEven_ColorS=33023","BreakEven_ColorS=33023","BreakEven_ColorS=33023","8reakEven color SELL ",{"$f":"Input!C587","v":"255,128,0"},{"$f":"Input!D587","v":"255,128,0"},{"$f":"Input!E587","v":"255,128,0"},{"$f":"Input!F587","v":"255,128,0"},{"$f":"Input!G587","v":"255,128,0"},{"$f":"Input!H587","v":"255,128,0"},{"$f":"Input!I587","v":"255,128,0"},{"$f":"Input!J587","v":"255,128,0"},{"$f":"Input!K587","v":"255,128,0"},{"$f":"Input!L587","v":"255,128,0"},{"$f":"Input!M587","v":"255,128,0"},"BreakEven_ColorS=33023255,128,0BreakEven_ColorS=33023","BreakEven_ColorS=33023255,128,0BreakEven_ColorS=33023","BreakEven_ColorS=33023255,128,0BreakEven_ColorS=33023","BreakEven_ColorS=33023255,128,0BreakEven_ColorS=33023","BreakEven_ColorS=33023255,128,0BreakEven_ColorS=33023","BreakEven_ColorS=33023255,128,0BreakEven_ColorS=33023","BreakEven_ColorS=33023255,128,0BreakEven_ColorS=33023","BreakEven_ColorS=33023255,128,0BreakEven_ColorS=33023","BreakEven_ColorS=33023255,128,0BreakEven_ColorS=33023","BreakEven_ColorS=33023255,128,0BreakEven_ColorS=33023","BreakEven_ColorS=33023255,128,0BreakEven_ColorS=33023"]
["TakeProfit_Width=1","TakeProfit_Width=1","TakeProfit_Width=1","TakeProfit width (O - don't draw) ",{"$f":"Input!C588","v":0},{"$f":"Input!D588","v":0},{"$f":"Input!E588","v":0},{"$f":"Input!F588","v":0},{"$f":"Input!G588","v":0},{"$f":"Input!H588","v":0},{"$f":"Input!I588","v":0},{"$f":"Input!J588","v":0},{"$f":"Input!K588","v":0},{"$f":"Input!L588","v":0},{"$f":"Input!M588","v":0},"TakeProfit_Width=10TakeProfit_Width=1","TakeProfit_Width=10TakeProfit_Width=1","TakeProfit_Width=10TakeProfit_Width=1","TakeProfit_Width=10TakeProfit_Width=1","TakeProfit_Width=10TakeProfit_Width=1","TakeProfit_Width=10TakeProfit_Width=1","TakeProfit_Width=10TakeProfit_Width=1","TakeProfit_Width=10TakeProfit_Width=1","TakeProfit_Width=10TakeProfit_Width=1","TakeProfit_Width=10TakeProfit_Width=1","TakeProfit_Width=10TakeProfit_Width=1"]
["TakeProfit_Style=4","TakeProfit_Style=4","TakeProfit_Style=4","TakeProfit style ",{"$f":"VLOOKUP(Input!C589,Start!$CS$2:$CT$6,2,0)","v":1},{"$f":"VLOOKUP(Input!D589,Start!$CS$2:$CT$6,2,0)","v":1},{"$f":"VLOOKUP(Input!E589,Start!$CS$2:$CT$6,2,0)","v":1},{"$f":"VLOOKUP(Input!F589,Start!$CS$2:$CT$6,2,0)","v":1},{"$f":"VLOOKUP(Input!G589,Start!$CS$2:$CT$6,2,0)","v":1},{"$f":"VLOOKUP(Input!H589,Start!$CS$2:$CT$6,2,0)","v":1},{"$f":"VLOOKUP(Input!I589,Start!$CS$2:$CT$6,2,0)","v":1},{"$f":"VLOOKUP(Input!J589,Start!$CS$2:$CT$6,2,0)","v":1},{"$f":"VLOOKUP(Input!K589,Start!$CS$2:$CT$6,2,0)","v":1},{"$f":"VLOOKUP(Input!L589,Start!$CS$2:$CT$6,2,0)","v":1},{"$f":"VLOOKUP(Input!M589,Start!$CS$2:$CT$6,2,0)","v":1},{"$f":"_xlfn.CONCAT($B589,E589,$C589)","v":"TakeProfit_Style=41TakeProfit_Style=4"},{"$f":"_xlfn.CONCAT($B589,F589,$C589)","v":"TakeProfit_Style=41TakeProfit_Style=4"},{"$f":"_xlfn.CONCAT($B589,G589,$C589)","v":"TakeProfit_Style=41TakeProfit_Style=4"},{"$f":"_xlfn.CONCAT($B589,H589,$C589)","v":"TakeProfit_Style=41TakeProfit_Style=4"},{"$f":"_xlfn.CONCAT($B589,I589,$C589)","v":"TakeProfit_Style=41TakeProfit_Style=4"},{"$f":"_xlfn.CONCAT($B589,J589,$C589)","v":"TakeProfit_Style=41TakeProfit_Style=4"},{"$f":"_xlfn.CONCAT($B589,K589,$C589)","v":"TakeProfit_Style=41TakeProfit_Style=4"},{"$f":"_xlfn.CONCAT($B589,L589,$C589)","v":"TakeProfit_Style=41TakeProfit_Style=4"},{"$f":"_xlfn.CONCAT($B589,M589,$C589)","v":"TakeProfit_Style=41TakeProfit_Style=4"},{"$f":"_xlfn.CONCAT($B589,N589,$C589)","v":"TakeProfit_Style=41TakeProfit_Style=4"},{"$f":"_xlfn.CONCAT($B589,O589,$C589)","v":"TakeProfit_Style=41TakeProfit_Style=4"}]
["TakeProfit_ColorB=65280","TakeProfit_ColorB=65280","TakeProfit_ColorB=65280","TakeProfit color BUY ",{"$f":"Input!C590","v":"Lime"},{"$f":"Input!D590","v":"Lime"},{"$f":"Input!E590","v":"Lime"},{"$f":"Input!F590","v":"Lime"},{"$f":"Input!G590","v":"Lime"},{"$f":"Input!H590","v":"Lime"},{"$f":"Input!I590","v":"Lime"},{"$f":"Input!J590","v":"Lime"},{"$f":"Input!K590","v":"Lime"},{"$f":"Input!L590","v":"Lime"},{"$f":"Input!M590","v":"Lime"},{"$f":"_xlfn.CONCAT($B590,E590,$C590)","v":"TakeProfit_ColorB=65280LimeTakeProfit_ColorB=65280"},"TakeProfit_ColorB=65280LimeTakeProfit_ColorB=65280","TakeProfit_ColorB=65280LimeTakeProfit_ColorB=65280","TakeProfit_ColorB=65280LimeTakeProfit_ColorB=65280","TakeProfit_ColorB=65280LimeTakeProfit_ColorB=65280","TakeProfit_ColorB=65280LimeTakeProfit_ColorB=65280","TakeProfit_ColorB=65280LimeTakeProfit_ColorB=65280","TakeProfit_ColorB=65280LimeTakeProfit_ColorB=65280","TakeProfit_ColorB=65280LimeTakeProfit_ColorB=65280","TakeProfit_ColorB=65280LimeTakeProfit_ColorB=65280","TakeProfit_ColorB=65280LimeTakeProfit_ColorB=65280"]
["TakeProfit_ColorS=255","TakeProfit_ColorS=255","TakeProfit_ColorS=255","TakeProfit color SELL ",{"$f":"Input!C591","v":"Red"},{"$f":"Input!D591","v":"Red"},{"$f":"Input!E591","v":"Red"},{"$f":"Input!F591","v":"Red"},{"$f":"Input!G591","v":"Red"},{"$f":"Input!H591","v":"Red"},{"$f":"Input!I591","v":"Red"},{"$f":"Input!J591","v":"Red"},{"$f":"Input!K591","v":"Red"},{"$f":"Input!L591","v":"Red"},{"$f":"Input!M591","v":"Red"},"TakeProfit_ColorS=255RedTakeProfit_ColorS=255","TakeProfit_ColorS=255RedTakeProfit_ColorS=255","TakeProfit_ColorS=255RedTakeProfit_ColorS=255","TakeProfit_ColorS=255RedTakeProfit_ColorS=255","TakeProfit_ColorS=255RedTakeProfit_ColorS=255","TakeProfit_ColorS=255RedTakeProfit_ColorS=255","TakeProfit_ColorS=255RedTakeProfit_ColorS=255","TakeProfit_ColorS=255RedTakeProfit_ColorS=255","TakeProfit_ColorS=255RedTakeProfit_ColorS=255","TakeProfit_ColorS=255RedTakeProfit_ColorS=255","TakeProfit_ColorS=255RedTakeProfit_ColorS=255"]
["; GUI settings","; GUI settings","; GUI settings","GU I settings ",null,null,null,null,null,null,null,null,null,null,null,{"$f":"$A592","v":"; GUI settings"},"; GUI settings","; GUI settings","; GUI settings","; GUI settings","; GUI settings","; GUI settings","; GUI settings","; GUI settings","; GUI settings","; GUI settings"]
["GUI_Settings====================================================================================","GUI_Settings====================================================================================","GUI_Settings====================================================================================","GUI settings: ",null,null,null,null,null,null,null,null,null,null,null,"GUI_Settings====================================================================================","GUI_Settings====================================================================================","GUI_Settings====================================================================================","GUI_Settings====================================================================================","GUI_Settings====================================================================================","GUI_Settings====================================================================================","GUI_Settings====================================================================================","GUI_Settings====================================================================================","GUI_Settings====================================================================================","GUI_Settings====================================================================================","GUI_Settings===================================================================================="]
["GUI_Enabled=true","GUI_Enabled=true","GUI_Enabled=true","Enable panel ",{"$f":"VLOOKUP(Input!C594,Start!$G$2:$H$3,2,0)","v":false},{"$f":"VLOOKUP(Input!D594,Start!$G$2:$H$3,2,0)","v":false},{"$f":"VLOOKUP(Input!E594,Start!$G$2:$H$3,2,0)","v":false},{"$f":"VLOOKUP(Input!F594,Start!$G$2:$H$3,2,0)","v":false},{"$f":"VLOOKUP(Input!G594,Start!$G$2:$H$3,2,0)","v":false},{"$f":"VLOOKUP(Input!H594,Start!$G$2:$H$3,2,0)","v":false},{"$f":"VLOOKUP(Input!I594,Start!$G$2:$H$3,2,0)","v":false},{"$f":"VLOOKUP(Input!J594,Start!$G$2:$H$3,2,0)","v":false},{"$f":"VLOOKUP(Input!K594,Start!$G$2:$H$3,2,0)","v":false},{"$f":"VLOOKUP(Input!L594,Start!$G$2:$H$3,2,0)","v":false},{"$f":"VLOOKUP(Input!M594,Start!$G$2:$H$3,2,0)","v":false},{"$f":"_xlfn.CONCAT($B594,E594,$C594)","v":"GUI_Enabled=trueFALSEGUI_Enabled=true"},{"$f":"_xlfn.CONCAT($B594,F594,$C594)","v":"GUI_Enabled=trueFALSEGUI_Enabled=true"},{"$f":"_xlfn.CONCAT($B594,G594,$C594)","v":"GUI_Enabled=trueFALSEGUI_Enabled=true"},{"$f":"_xlfn.CONCAT($B594,H594,$C594)","v":"GUI_Enabled=trueFALSEGUI_Enabled=true"},{"$f":"_xlfn.CONCAT($B594,I594,$C594)","v":"GUI_Enabled=trueFALSEGUI_Enabled=true"},{"$f":"_xlfn.CONCAT($B594,J594,$C594)","v":"GUI_Enabled=trueFALSEGUI_Enabled=true"},{"$f":"_xlfn.CONCAT($B594,K594,$C594)","v":"GUI_Enabled=trueFALSEGUI_Enabled=true"},{"$f":"_xlfn.CONCAT($B594,L594,$C594)","v":"GUI_Enabled=trueFALSEGUI_Enabled=true"},{"$f":"_xlfn.CONCAT($B594,M594,$C594)","v":"GUI_Enabled=trueFALSEGUI_Enabled=true"},{"$f":"_xlfn.CONCAT($B594,N594,$C594)","v":"GUI_Enabled=trueFALSEGUI_Enabled=true"},{"$f":"_xlfn.CONCAT($B594,O594,$C594)","v":"GUI_Enabled=trueFALSEGUI_Enabled=true"}]
["GUI_FontName=Segoe UI","GUI_FontName=Segoe UI","GUI_FontName=Segoe UI","Font name ",{"$f":"Input!C595","v":"Segoe UI"},{"$f":"Input!D595","v":"Segoe UI"},{"$f":"Input!E595","v":"Segoe UI"},{"$f":"Input!F595","v":"Segoe UI"},{"$f":"Input!G595","v":"Segoe UI"},{"$f":"Input!H595","v":"Segoe UI"},{"$f":"Input!I595","v":"Segoe UI"},{"$f":"Input!J595","v":"Segoe UI"},{"$f":"Input!K595","v":"Segoe UI"},{"$f":"Input!L595","v":"Segoe UI"},{"$f":"Input!M595","v":"Segoe UI"},{"$f":"_xlfn.CONCAT($B595,E595,$C595)","v":"GUI_FontName=Segoe UISegoe UIGUI_FontName=Segoe UI"},"GUI_FontName=Segoe UISegoe UIGUI_FontName=Segoe UI","GUI_FontName=Segoe UISegoe UIGUI_FontName=Segoe UI","GUI_FontName=Segoe UISegoe UIGUI_FontName=Segoe UI","GUI_FontName=Segoe UISegoe UIGUI_FontName=Segoe UI","GUI_FontName=Segoe UISegoe UIGUI_FontName=Segoe UI","GUI_FontName=Segoe UISegoe UIGUI_FontName=Segoe UI","GUI_FontName=Segoe UISegoe UIGUI_FontName=Segoe UI","GUI_FontName=Segoe UISegoe UIGUI_FontName=Segoe UI","GUI_FontName=Segoe UISegoe UIGUI_FontName=Segoe UI","GUI_FontName=Segoe UISegoe UIGUI_FontName=Segoe UI"]
["GUI_Color_Text=0","GUI_Color_Text=0","GUI_Color_Text=0","Buttons text color ",{"$f":"Input!C596","v":"Black"},{"$f":"Input!D596","v":"Black"},{"$f":"Input!E596","v":"Black"},{"$f":"Input!F596","v":"Black"},{"$f":"Input!G596","v":"Black"},{"$f":"Input!H596","v":"Black"},{"$f":"Input!I596","v":"Black"},{"$f":"Input!J596","v":"Black"},{"$f":"Input!K596","v":"Black"},{"$f":"Input!L596","v":"Black"},{"$f":"Input!M596","v":"Black"},"GUI_Color_Text=0BlackGUI_Color_Text=0","GUI_Color_Text=0BlackGUI_Color_Text=0","GUI_Color_Text=0BlackGUI_Color_Text=0","GUI_Color_Text=0BlackGUI_Color_Text=0","GUI_Color_Text=0BlackGUI_Color_Text=0","GUI_Color_Text=0BlackGUI_Color_Text=0","GUI_Color_Text=0BlackGUI_Color_Text=0","GUI_Color_Text=0BlackGUI_Color_Text=0","GUI_Color_Text=0BlackGUI_Color_Text=0","GUI_Color_Text=0BlackGUI_Color_Text=0","GUI_Color_Text=0BlackGUI_Color_Text=0"]
["GUI_Window_Alpha=255","GUI_Window_Alpha=255","GUI_Window_Alpha=255","Window transparency (0 255) ",{"$f":"Input!C597","v":"255"},{"$f":"Input!D597","v":"255"},{"$f":"Input!E597","v":"255"},{"$f":"Input!F597","v":"255"},{"$f":"Input!G597","v":"255"},{"$f":"Input!H597","v":"255"},{"$f":"Input!I597","v":"255"},{"$f":"Input!J597","v":"255"},{"$f":"Input!K597","v":"255"},{"$f":"Input!L597","v":"255"},{"$f":"Input!M597","v":"255"},"GUI_Window_Alpha=255255GUI_Window_Alpha=255","GUI_Window_Alpha=255255GUI_Window_Alpha=255","GUI_Window_Alpha=255255GUI_Window_Alpha=255","GUI_Window_Alpha=255255GUI_Window_Alpha=255","GUI_Window_Alpha=255255GUI_Window_Alpha=255","GUI_Window_Alpha=255255GUI_Window_Alpha=255","GUI_Window_Alpha=255255GUI_Window_Alpha=255","GUI_Window_Alpha=255255GUI_Window_Alpha=255","GUI_Window_Alpha=255255GUI_Window_Alpha=255","GUI_Window_Alpha=255255GUI_Window_Alpha=255","GUI_Window_Alpha=255255GUI_Window_Alpha=255"]
["GUI_ShowSignals=true","GUI_ShowSignals=true","GUI_ShowSignals=true","Show signals ",{"$f":"VLOOKUP(Input!C598,Start!$G$2:$H$3,2,0)","v":false},{"$f":"VLOOKUP(Input!D598,Start!$G$2:$H$3,2,0)","v":false},{"$f":"VLOOKUP(Input!E598,Start!$G$2:$H$3,2,0)","v":false},{"$f":"VLOOKUP(Input!F598,Start!$G$2:$H$3,2,0)","v":false},{"$f":"VLOOKUP(Input!G598,Start!$G$2:$H$3,2,0)","v":false},{"$f":"VLOOKUP(Input!H598,Start!$G$2:$H$3,2,0)","v":false},{"$f":"VLOOKUP(Input!I598,Start!$G$2:$H$3,2,0)","v":false},{"$f":"VLOOKUP(Input!J598,Start!$G$2:$H$3,2,0)","v":false},{"$f":"VLOOKUP(Input!K598,Start!$G$2:$H$3,2,0)","v":false},{"$f":"VLOOKUP(Input!L598,Start!$G$2:$H$3,2,0)","v":false},{"$f":"VLOOKUP(Input!M598,Start!$G$2:$H$3,2,0)","v":false},{"$f":"_xlfn.CONCAT($B598,E598,$C598)","v":"GUI_ShowSignals=trueFALSEGUI_ShowSignals=true"},{"$f":"_xlfn.CONCAT($B598,F598,$C598)","v":"GUI_ShowSignals=trueFALSEGUI_ShowSignals=true"},{"$f":"_xlfn.CONCAT($B598,G598,$C598)","v":"GUI_ShowSignals=trueFALSEGUI_ShowSignals=true"},{"$f":"_xlfn.CONCAT($B598,H598,$C598)","v":"GUI_ShowSignals=trueFALSEGUI_ShowSignals=true"},{"$f":"_xlfn.CONCAT($B598,I598,$C598)","v":"GUI_ShowSignals=trueFALSEGUI_ShowSignals=true"},{"$f":"_xlfn.CONCAT($B598,J598,$C598)","v":"GUI_ShowSignals=trueFALSEGUI_ShowSignals=true"},{"$f":"_xlfn.CONCAT($B598,K598,$C598)","v":"GUI_ShowSignals=trueFALSEGUI_ShowSignals=true"},{"$f":"_xlfn.CONCAT($B598,L598,$C598)","v":"GUI_ShowSignals=trueFALSEGUI_ShowSignals=true"},{"$f":"_xlfn.CONCAT($B598,M598,$C598)","v":"GUI_ShowSignals=trueFALSEGUI_ShowSignals=true"},{"$f":"_xlfn.CONCAT($B598,N598,$C598)","v":"GUI_ShowSignals=trueFALSEGUI_ShowSignals=true"},{"$f":"_xlfn.CONCAT($B598,O598,$C598)","v":"GUI_ShowSignals=trueFALSEGUI_ShowSignals=true"}]
["GUI_Color_Signal=13350833","GUI_Color_Signal=13350833","GUI_Color_Signal=13350833","Signals background color ",{"$f":"Input!C599","v":"177,183,203"},{"$f":"Input!D599","v":"177,183,203"},{"$f":"Input!E599","v":"177,183,203"},{"$f":"Input!F599","v":"177,183,203"},{"$f":"Input!G599","v":"177,183,203"},{"$f":"Input!H599","v":"177,183,203"},{"$f":"Input!I599","v":"177,183,203"},{"$f":"Input!J599","v":"177,183,203"},{"$f":"Input!K599","v":"177,183,203"},{"$f":"Input!L599","v":"177,183,203"},{"$f":"Input!M599","v":"177,183,203"},{"$f":"_xlfn.CONCAT($B599,E599,$C599)","v":"GUI_Color_Signal=13350833177,183,203GUI_Color_Signal=13350833"},"GUI_Color_Signal=13350833177,183,203GUI_Color_Signal=13350833","GUI_Color_Signal=13350833177,183,203GUI_Color_Signal=13350833","GUI_Color_Signal=13350833177,183,203GUI_Color_Signal=13350833","GUI_Color_Signal=13350833177,183,203GUI_Color_Signal=13350833","GUI_Color_Signal=13350833177,183,203GUI_Color_Signal=13350833","GUI_Color_Signal=13350833177,183,203GUI_Color_Signal=13350833","GUI_Color_Signal=13350833177,183,203GUI_Color_Signal=13350833","GUI_Color_Signal=13350833177,183,203GUI_Color_Signal=13350833","GUI_Color_Signal=13350833177,183,203GUI_Color_Signal=13350833","GUI_Color_Signal=13350833177,183,203GUI_Color_Signal=13350833"]
["GUI_Color_SignalText=0","GUI_Color_SignalText=0","GUI_Color_SignalText=0","Signals text color ",{"$f":"Input!C600","v":"Black"},{"$f":"Input!D600","v":"Black"},{"$f":"Input!E600","v":"Black"},{"$f":"Input!F600","v":"Black"},{"$f":"Input!G600","v":"Black"},{"$f":"Input!H600","v":"Black"},{"$f":"Input!I600","v":"Black"},{"$f":"Input!J600","v":"Black"},{"$f":"Input!K600","v":"Black"},{"$f":"Input!L600","v":"Black"},{"$f":"Input!M600","v":"Black"},"GUI_Color_SignalText=0BlackGUI_Color_SignalText=0","GUI_Color_SignalText=0BlackGUI_Color_SignalText=0","GUI_Color_SignalText=0BlackGUI_Color_SignalText=0","GUI_Color_SignalText=0BlackGUI_Color_SignalText=0","GUI_Color_SignalText=0BlackGUI_Color_SignalText=0","GUI_Color_SignalText=0BlackGUI_Color_SignalText=0","GUI_Color_SignalText=0BlackGUI_Color_SignalText=0","GUI_Color_SignalText=0BlackGUI_Color_SignalText=0","GUI_Color_SignalText=0BlackGUI_Color_SignalText=0","GUI_Color_SignalText=0BlackGUI_Color_SignalText=0","GUI_Color_SignalText=0BlackGUI_Color_SignalText=0"]
["GUI_Color_B_Back=16777184","GUI_Color_B_Back=16777184","GUI_Color_B_Back=16777184","Buy background color ",{"$f":"Input!C601","v":"LightCyan"},{"$f":"Input!D601","v":"LightCyan"},{"$f":"Input!E601","v":"LightCyan"},{"$f":"Input!F601","v":"LightCyan"},{"$f":"Input!G601","v":"LightCyan"},{"$f":"Input!H601","v":"LightCyan"},{"$f":"Input!I601","v":"LightCyan"},{"$f":"Input!J601","v":"LightCyan"},{"$f":"Input!K601","v":"LightCyan"},{"$f":"Input!L601","v":"LightCyan"},{"$f":"Input!M601","v":"LightCyan"},"GUI_Color_B_Back=16777184LightCyanGUI_Color_B_Back=16777184","GUI_Color_B_Back=16777184LightCyanGUI_Color_B_Back=16777184","GUI_Color_B_Back=16777184LightCyanGUI_Color_B_Back=16777184","GUI_Color_B_Back=16777184LightCyanGUI_Color_B_Back=16777184","GUI_Color_B_Back=16777184LightCyanGUI_Color_B_Back=16777184","GUI_Color_B_Back=16777184LightCyanGUI_Color_B_Back=16777184","GUI_Color_B_Back=16777184LightCyanGUI_Color_B_Back=16777184","GUI_Color_B_Back=16777184LightCyanGUI_Color_B_Back=16777184","GUI_Color_B_Back=16777184LightCyanGUI_Color_B_Back=16777184","GUI_Color_B_Back=16777184LightCyanGUI_Color_B_Back=16777184","GUI_Color_B_Back=16777184LightCyanGUI_Color_B_Back=16777184"]
["GUI_Color_B_Button=15130800","GUI_Color_B_Button=15130800","GUI_Color_B_Button=15130800","Buy buttons color ",{"$f":"Input!C602","v":"PowderBlue"},{"$f":"Input!D602","v":"PowderBlue"},{"$f":"Input!E602","v":"PowderBlue"},{"$f":"Input!F602","v":"PowderBlue"},{"$f":"Input!G602","v":"PowderBlue"},{"$f":"Input!H602","v":"PowderBlue"},{"$f":"Input!I602","v":"PowderBlue"},{"$f":"Input!J602","v":"PowderBlue"},{"$f":"Input!K602","v":"PowderBlue"},{"$f":"Input!L602","v":"PowderBlue"},{"$f":"Input!M602","v":"PowderBlue"},"GUI_Color_B_Button=15130800PowderBlueGUI_Color_B_Button=15130800","GUI_Color_B_Button=15130800PowderBlueGUI_Color_B_Button=15130800","GUI_Color_B_Button=15130800PowderBlueGUI_Color_B_Button=15130800","GUI_Color_B_Button=15130800PowderBlueGUI_Color_B_Button=15130800","GUI_Color_B_Button=15130800PowderBlueGUI_Color_B_Button=15130800","GUI_Color_B_Button=15130800PowderBlueGUI_Color_B_Button=15130800","GUI_Color_B_Button=15130800PowderBlueGUI_Color_B_Button=15130800","GUI_Color_B_Button=15130800PowderBlueGUI_Color_B_Button=15130800","GUI_Color_B_Button=15130800PowderBlueGUI_Color_B_Button=15130800","GUI_Color_B_Button=15130800PowderBlueGUI_Color_B_Button=15130800","GUI_Color_B_Button=15130800PowderBlueGUI_Color_B_Button=15130800"]
["GUI_Color_B_ButtonP=16748574","GUI_Color_B_ButtonP=16748574","GUI_Color_B_ButtonP=16748574","Buy pressed buttons color ",{"$f":"Input!C603","v":"DodgerBlue"},{"$f":"Input!D603","v":"DodgerBlue"},{"$f":"Input!E603","v":"DodgerBlue"},{"$f":"Input!F603","v":"DodgerBlue"},{"$f":"Input!G603","v":"DodgerBlue"},{"$f":"Input!H603","v":"DodgerBlue"},{"$f":"Input!I603","v":"DodgerBlue"},{"$f":"Input!J603","v":"DodgerBlue"},{"$f":"Input!K603","v":"DodgerBlue"},{"$f":"Input!L603","v":"DodgerBlue"},{"$f":"Input!M603","v":"DodgerBlue"},"GUI_Color_B_ButtonP=16748574DodgerBlueGUI_Color_B_ButtonP=16748574","GUI_Color_B_ButtonP=16748574DodgerBlueGUI_Color_B_ButtonP=16748574","GUI_Color_B_ButtonP=16748574DodgerBlueGUI_Color_B_ButtonP=16748574","GUI_Color_B_ButtonP=16748574DodgerBlueGUI_Color_B_ButtonP=16748574","GUI_Color_B_ButtonP=16748574DodgerBlueGUI_Color_B_ButtonP=16748574","GUI_Color_B_ButtonP=16748574DodgerBlueGUI_Color_B_ButtonP=16748574","GUI_Color_B_ButtonP=16748574DodgerBlueGUI_Color_B_ButtonP=16748574","GUI_Color_B_ButtonP=16748574DodgerBlueGUI_Color_B_ButtonP=16748574","GUI_Color_B_ButtonP=16748574DodgerBlueGUI_Color_B_ButtonP=16748574","GUI_Color_B_ButtonP=16748574DodgerBlueGUI_Color_B_ButtonP=16748574","GUI_Color_B_ButtonP=16748574DodgerBlueGUI_Color_B_ButtonP=16748574"]
["GUI_Color_B_Border=15570276","GUI_Color_B_Border=15570276","GUI_Color_B_Border=15570276","Buy buttons borders color ",{"$f":"Input!C604","v":"CornflowerBlue"},{"$f":"Input!D604","v":"CornflowerBlue"},{"$f":"Input!E604","v":"CornflowerBlue"},{"$f":"Input!F604","v":"CornflowerBlue"},{"$f":"Input!G604","v":"CornflowerBlue"},{"$f":"Input!H604","v":"CornflowerBlue"},{"$f":"Input!I604","v":"CornflowerBlue"},{"$f":"Input!J604","v":"CornflowerBlue"},{"$f":"Input!K604","v":"CornflowerBlue"},{"$f":"Input!L604","v":"CornflowerBlue"},{"$f":"Input!M604","v":"CornflowerBlue"},"GUI_Color_B_Border=15570276CornflowerBlueGUI_Color_B_Border=15570276","GUI_Color_B_Border=15570276CornflowerBlueGUI_Color_B_Border=15570276","GUI_Color_B_Border=15570276CornflowerBlueGUI_Color_B_Border=15570276","GUI_Color_B_Border=15570276CornflowerBlueGUI_Color_B_Border=15570276","GUI_Color_B_Border=15570276CornflowerBlueGUI_Color_B_Border=15570276","GUI_Color_B_Border=15570276CornflowerBlueGUI_Color_B_Border=15570276","GUI_Color_B_Border=15570276CornflowerBlueGUI_Color_B_Border=15570276","GUI_Color_B_Border=15570276CornflowerBlueGUI_Color_B_Border=15570276","GUI_Color_B_Border=15570276CornflowerBlueGUI_Color_B_Border=15570276","GUI_Color_B_Border=15570276CornflowerBlueGUI_Color_B_Border=15570276","GUI_Color_B_Border=15570276CornflowerBlueGUI_Color_B_Border=15570276"]
["GUI_Color_B_Text=0","GUI_Color_B_Text=0","GUI_Color_B_Text=0","Buy text color ",{"$f":"Input!C605","v":"Black"},{"$f":"Input!D605","v":"Black"},{"$f":"Input!E605","v":"Black"},{"$f":"Input!F605","v":"Black"},{"$f":"Input!G605","v":"Black"},{"$f":"Input!H605","v":"Black"},{"$f":"Input!I605","v":"Black"},{"$f":"Input!J605","v":"Black"},{"$f":"Input!K605","v":"Black"},{"$f":"Input!L605","v":"Black"},{"$f":"Input!M605","v":"Black"},"GUI_Color_B_Text=0BlackGUI_Color_B_Text=0","GUI_Color_B_Text=0BlackGUI_Color_B_Text=0","GUI_Color_B_Text=0BlackGUI_Color_B_Text=0","GUI_Color_B_Text=0BlackGUI_Color_B_Text=0","GUI_Color_B_Text=0BlackGUI_Color_B_Text=0","GUI_Color_B_Text=0BlackGUI_Color_B_Text=0","GUI_Color_B_Text=0BlackGUI_Color_B_Text=0","GUI_Color_B_Text=0BlackGUI_Color_B_Text=0","GUI_Color_B_Text=0BlackGUI_Color_B_Text=0","GUI_Color_B_Text=0BlackGUI_Color_B_Text=0","GUI_Color_B_Text=0BlackGUI_Color_B_Text=0"]
["GUI_Color_S_Back=16118015","GUI_Color_S_Back=16118015","GUI_Color_S_Back=16118015","Sell background color ",{"$f":"Input!C606","v":"LavenderBlush"},{"$f":"Input!D606","v":"LavenderBlush"},{"$f":"Input!E606","v":"LavenderBlush"},{"$f":"Input!F606","v":"LavenderBlush"},{"$f":"Input!G606","v":"LavenderBlush"},{"$f":"Input!H606","v":"LavenderBlush"},{"$f":"Input!I606","v":"LavenderBlush"},{"$f":"Input!J606","v":"LavenderBlush"},{"$f":"Input!K606","v":"LavenderBlush"},{"$f":"Input!L606","v":"LavenderBlush"},{"$f":"Input!M606","v":"LavenderBlush"},"GUI_Color_S_Back=16118015LavenderBlushGUI_Color_S_Back=16118015","GUI_Color_S_Back=16118015LavenderBlushGUI_Color_S_Back=16118015","GUI_Color_S_Back=16118015LavenderBlushGUI_Color_S_Back=16118015","GUI_Color_S_Back=16118015LavenderBlushGUI_Color_S_Back=16118015","GUI_Color_S_Back=16118015LavenderBlushGUI_Color_S_Back=16118015","GUI_Color_S_Back=16118015LavenderBlushGUI_Color_S_Back=16118015","GUI_Color_S_Back=16118015LavenderBlushGUI_Color_S_Back=16118015","GUI_Color_S_Back=16118015LavenderBlushGUI_Color_S_Back=16118015","GUI_Color_S_Back=16118015LavenderBlushGUI_Color_S_Back=16118015","GUI_Color_S_Back=16118015LavenderBlushGUI_Color_S_Back=16118015","GUI_Color_S_Back=16118015LavenderBlushGUI_Color_S_Back=16118015"]
["GUI_Color_S_Button=12695295","GUI_Color_S_Button=12695295","GUI_Color_S_Button=12695295","Sell buttons color ",{"$f":"Input!C607","v":"LightPink"},{"$f":"Input!D607","v":"LightPink"},{"$f":"Input!E607","v":"LightPink"},{"$f":"Input!F607","v":"LightPink"},{"$f":"Input!G607","v":"LightPink"},{"$f":"Input!H607","v":"LightPink"},{"$f":"Input!I607","v":"LightPink"},{"$f":"Input!J607","v":"LightPink"},{"$f":"Input!K607","v":"LightPink"},{"$f":"Input!L607","v":"LightPink"},{"$f":"Input!M607","v":"LightPink"},"GUI_Color_S_Button=12695295LightPinkGUI_Color_S_Button=12695295","GUI_Color_S_Button=12695295LightPinkGUI_Color_S_Button=12695295","GUI_Color_S_Button=12695295LightPinkGUI_Color_S_Button=12695295","GUI_Color_S_Button=12695295LightPinkGUI_Color_S_Button=12695295","GUI_Color_S_Button=12695295LightPinkGUI_Color_S_Button=12695295","GUI_Color_S_Button=12695295LightPinkGUI_Color_S_Button=12695295","GUI_Color_S_Button=12695295LightPinkGUI_Color_S_Button=12695295","GUI_Color_S_Button=12695295LightPinkGUI_Color_S_Button=12695295","GUI_Color_S_Button=12695295LightPinkGUI_Color_S_Button=12695295","GUI_Color_S_Button=12695295LightPinkGUI_Color_S_Button=12695295","GUI_Color_S_Button=12695295LightPinkGUI_Color_S_Button=12695295"]
["GUI_Color_S_ButtonP=17919","GUI_Color_S_ButtonP=17919","GUI_Color_S_ButtonP=17919","Sell pressed buttons color ",{"$f":"Input!C608","v":"OrangeRed"},{"$f":"Input!D608","v":"OrangeRed"},{"$f":"Input!E608","v":"OrangeRed"},{"$f":"Input!F608","v":"OrangeRed"},{"$f":"Input!G608","v":"OrangeRed"},{"$f":"Input!H608","v":"OrangeRed"},{"$f":"Input!I608","v":"OrangeRed"},{"$f":"Input!J608","v":"OrangeRed"},{"$f":"Input!K608","v":"OrangeRed"},{"$f":"Input!L608","v":"OrangeRed"},{"$f":"Input!M608","v":"OrangeRed"},"GUI_Color_S_ButtonP=17919OrangeRedGUI_Color_S_ButtonP=17919","GUI_Color_S_ButtonP=17919OrangeRedGUI_Color_S_ButtonP=17919","GUI_Color_S_ButtonP=17919OrangeRedGUI_Color_S_ButtonP=17919","GUI_Color_S_ButtonP=17919OrangeRedGUI_Color_S_ButtonP=17919","GUI_Color_S_ButtonP=17919OrangeRedGUI_Color_S_ButtonP=17919","GUI_Color_S_ButtonP=17919OrangeRedGUI_Color_S_ButtonP=17919","GUI_Color_S_ButtonP=17919OrangeRedGUI_Color_S_ButtonP=17919","GUI_Color_S_ButtonP=17919OrangeRedGUI_Color_S_ButtonP=17919","GUI_Color_S_ButtonP=17919OrangeRedGUI_Color_S_ButtonP=17919","GUI_Color_S_ButtonP=17919OrangeRedGUI_Color_S_ButtonP=17919","GUI_Color_S_ButtonP=17919OrangeRedGUI_Color_S_ButtonP=17919"]
["GUI_Color_S_Border=8421616","GUI_Color_S_Border=8421616","GUI_Color_S_Border=8421616","Sell buttons borders color ",{"$f":"Input!C609","v":"LightCoral"},{"$f":"Input!D609","v":"LightCoral"},{"$f":"Input!E609","v":"LightCoral"},{"$f":"Input!F609","v":"LightCoral"},{"$f":"Input!G609","v":"LightCoral"},{"$f":"Input!H609","v":"LightCoral"},{"$f":"Input!I609","v":"LightCoral"},{"$f":"Input!J609","v":"LightCoral"},{"$f":"Input!K609","v":"LightCoral"},{"$f":"Input!L609","v":"LightCoral"},{"$f":"Input!M609","v":"LightCoral"},"GUI_Color_S_Border=8421616LightCoralGUI_Color_S_Border=8421616","GUI_Color_S_Border=8421616LightCoralGUI_Color_S_Border=8421616","GUI_Color_S_Border=8421616LightCoralGUI_Color_S_Border=8421616","GUI_Color_S_Border=8421616LightCoralGUI_Color_S_Border=8421616","GUI_Color_S_Border=8421616LightCoralGUI_Color_S_Border=8421616","GUI_Color_S_Border=8421616LightCoralGUI_Color_S_Border=8421616","GUI_Color_S_Border=8421616LightCoralGUI_Color_S_Border=8421616","GUI_Color_S_Border=8421616LightCoralGUI_Color_S_Border=8421616","GUI_Color_S_Border=8421616LightCoralGUI_Color_S_Border=8421616","GUI_Color_S_Border=8421616LightCoralGUI_Color_S_Border=8421616","GUI_Color_S_Border=8421616LightCoralGUI_Color_S_Border=8421616"]
["GUI_Color_S_Text=0","GUI_Color_S_Text=0","GUI_Color_S_Text=0","Sell text color ",{"$f":"Input!C610","v":"Black"},{"$f":"Input!D610","v":"Black"},{"$f":"Input!E610","v":"Black"},{"$f":"Input!F610","v":"Black"},{"$f":"Input!G610","v":"Black"},{"$f":"Input!H610","v":"Black"},{"$f":"Input!I610","v":"Black"},{"$f":"Input!J610","v":"Black"},{"$f":"Input!K610","v":"Black"},{"$f":"Input!L610","v":"Black"},{"$f":"Input!M610","v":"Black"},"GUI_Color_S_Text=0BlackGUI_Color_S_Text=0","GUI_Color_S_Text=0BlackGUI_Color_S_Text=0","GUI_Color_S_Text=0BlackGUI_Color_S_Text=0","GUI_Color_S_Text=0BlackGUI_Color_S_Text=0","GUI_Color_S_Text=0BlackGUI_Color_S_Text=0","GUI_Color_S_Text=0BlackGUI_Color_S_Text=0","GUI_Color_S_Text=0BlackGUI_Color_S_Text=0","GUI_Color_S_Text=0BlackGUI_Color_S_Text=0","GUI_Color_S_Text=0BlackGUI_Color_S_Text=0","GUI_Color_S_Text=0BlackGUI_Color_S_Text=0","GUI_Color_S_Text=0BlackGUI_Color_S_Text=0"]
["; Show orders","; Show orders","; Show orders","Show orders ",null,null,null,null,null,null,null,null,null,null,null,{"$f":"$A611","v":"; Show orders"},"; Show orders","; Show orders","; Show orders","; Show orders","; Show orders","; Show orders","; Show orders","; Show orders","; Show orders","; Show orders"]
["ShowOrders_Settings====================================================================================","ShowOrders_Settings====================================================================================","ShowOrders_Settings====================================================================================","Show Orders settings: ",null,null,null,null,null,null,null,null,null,null,null,"ShowOrders_Settings====================================================================================","ShowOrders_Settings====================================================================================","ShowOrders_Settings====================================================================================","ShowOrders_Settings====================================================================================","ShowOrders_Settings====================================================================================","ShowOrders_Settings====================================================================================","ShowOrders_Settings====================================================================================","ShowOrders_Settings====================================================================================","ShowOrders_Settings====================================================================================","ShowOrders_Settings====================================================================================","ShowOrders_Settings===================================================================================="]
["Show_Opened=0||0||0||3||N",{"$f":"_xlfn.CONCAT(LEFT(TRIM(A613),FIND(\"=\",TRIM(A613))-1),\"=\")","v":"Show_Opened="},{"$f":"_xlfn.CONCAT(\"|\",RIGHT(TRIM(A613),LEN(TRIM(A613))-SEARCH(\"|\",TRIM(A613))))","v":"||0||0||3||N"},"Show OPENED deals ",{"$f":"VLOOKUP(Input!C613,Start!$CU$2:$CV$5,2,0)","v":1},{"$f":"VLOOKUP(Input!D613,Start!$CU$2:$CV$5,2,0)","v":1},{"$f":"VLOOKUP(Input!E613,Start!$CU$2:$CV$5,2,0)","v":1},{"$f":"VLOOKUP(Input!F613,Start!$CU$2:$CV$5,2,0)","v":1},{"$f":"VLOOKUP(Input!G613,Start!$CU$2:$CV$5,2,0)","v":1},{"$f":"VLOOKUP(Input!H613,Start!$CU$2:$CV$5,2,0)","v":1},{"$f":"VLOOKUP(Input!I613,Start!$CU$2:$CV$5,2,0)","v":1},{"$f":"VLOOKUP(Input!J613,Start!$CU$2:$CV$5,2,0)","v":1},{"$f":"VLOOKUP(Input!K613,Start!$CU$2:$CV$5,2,0)","v":1},{"$f":"VLOOKUP(Input!L613,Start!$CU$2:$CV$5,2,0)","v":1},{"$f":"VLOOKUP(Input!M613,Start!$CU$2:$CV$5,2,0)","v":1},{"$f":"_xlfn.CONCAT($B613,E613,$C613)","v":"Show_Opened=1||0||0||3||N"},"Show_Opened=1||0||0||3||N","Show_Opened=1||0||0||3||N","Show_Opened=1||0||0||3||N","Show_Opened=1||0||0||3||N","Show_Opened=1||0||0||3||N","Show_Opened=1||0||0||3||N","Show_Opened=1||0||0||3||N","Show_Opened=1||0||0||3||N","Show_Opened=1||0||0||3||N","Show_Opened=1||0||0||3||N"]
["Show_Closed=false||false||0||true||N","Show_Closed=","||false||0||true||N","Show CLOSED deals ",{"$f":"VLOOKUP(Input!C614,Start!$G$2:$H$3,2,0)","v":false},{"$f":"VLOOKUP(Input!D614,Start!$G$2:$H$3,2,0)","v":false},{"$f":"VLOOKUP(Input!E614,Start!$G$2:$H$3,2,0)","v":false},{"$f":"VLOOKUP(Input!F614,Start!$G$2:$H$3,2,0)","v":false},{"$f":"VLOOKUP(Input!G614,Start!$G$2:$H$3,2,0)","v":false},{"$f":"VLOOKUP(Input!H614,Start!$G$2:$H$3,2,0)","v":false},{"$f":"VLOOKUP(Input!I614,Start!$G$2:$H$3,2,0)","v":false},{"$f":"VLOOKUP(Input!J614,Start!$G$2:$H$3,2,0)","v":false},{"$f":"VLOOKUP(Input!K614,Start!$G$2:$H$3,2,0)","v":false},{"$f":"VLOOKUP(Input!L614,Start!$G$2:$H$3,2,0)","v":false},{"$f":"VLOOKUP(Input!M614,Start!$G$2:$H$3,2,0)","v":false},"Show_Closed=FALSE||false||0||true||N","Show_Closed=FALSE||false||0||true||N","Show_Closed=FALSE||false||0||true||N","Show_Closed=FALSE||false||0||true||N","Show_Closed=FALSE||false||0||true||N","Show_Closed=FALSE||false||0||true||N","Show_Closed=FALSE||false||0||true||N","Show_Closed=FALSE||false||0||true||N","Show_Closed=FALSE||false||0||true||N","Show_Closed=FALSE||false||0||true||N","Show_Closed=FALSE||false||0||true||N"]
["Show_Pending=false||false||0||true||N","Show_Pending=","||false||0||true||N","Show PENDING orders ",{"$f":"VLOOKUP(Input!C615,Start!$G$2:$H$3,2,0)","v":false},{"$f":"VLOOKUP(Input!D615,Start!$G$2:$H$3,2,0)","v":false},{"$f":"VLOOKUP(Input!E615,Start!$G$2:$H$3,2,0)","v":false},{"$f":"VLOOKUP(Input!F615,Start!$G$2:$H$3,2,0)","v":false},{"$f":"VLOOKUP(Input!G615,Start!$G$2:$H$3,2,0)","v":false},{"$f":"VLOOKUP(Input!H615,Start!$G$2:$H$3,2,0)","v":false},{"$f":"VLOOKUP(Input!I615,Start!$G$2:$H$3,2,0)","v":false},{"$f":"VLOOKUP(Input!J615,Start!$G$2:$H$3,2,0)","v":false},{"$f":"VLOOKUP(Input!K615,Start!$G$2:$H$3,2,0)","v":false},{"$f":"VLOOKUP(Input!L615,Start!$G$2:$H$3,2,0)","v":false},{"$f":"VLOOKUP(Input!M615,Start!$G$2:$H$3,2,0)","v":false},"Show_Pending=FALSE||false||0||true||N","Show_Pending=FALSE||false||0||true||N","Show_Pending=FALSE||false||0||true||N","Show_Pending=FALSE||false||0||true||N","Show_Pending=FALSE||false||0||true||N","Show_Pending=FALSE||false||0||true||N","Show_Pending=FALSE||false||0||true||N","Show_Pending=FALSE||false||0||true||N","Show_Pending=FALSE||false||0||true||N","Show_Pending=FALSE||false||0||true||N","Show_Pending=FALSE||false||0||true||N"]
["MaxHistoryDeals=500||500||1||5000||N","MaxHistoryDeals=","||500||1||5000||N","Max history deals (O - disable limit) ",{"$f":"Input!C616","v":0},{"$f":"Input!D616","v":0},{"$f":"Input!E616","v":0},{"$f":"Input!F616","v":0},{"$f":"Input!G616","v":0},{"$f":"Input!H616","v":0},{"$f":"Input!I616","v":0},{"$f":"Input!J616","v":0},{"$f":"Input!K616","v":0},{"$f":"Input!L616","v":0},{"$f":"Input!M616","v":0},"MaxHistoryDeals=0||500||1||5000||N","MaxHistoryDeals=0||500||1||5000||N","MaxHistoryDeals=0||500||1||5000||N","MaxHistoryDeals=0||500||1||5000||N","MaxHistoryDeals=0||500||1||5000||N","MaxHistoryDeals=0||500||1||5000||N","MaxHistoryDeals=0||500||1||5000||N","MaxHistoryDeals=0||500||1||5000||N","MaxHistoryDeals=0||500||1||5000||N","MaxHistoryDeals=0||500||1||5000||N","MaxHistoryDeals=0||500||1||5000||N"]
["Color_Properties=","Color_Properties=","Color_Properties=","Main Color properties: ",null,null,null,null,null,null,null,null,null,null,null,{"$f":"$A617","v":"Color_Properties="},{"$f":"$A617","v":"Color_Properties="},{"$f":"$A617","v":"Color_Properties="},{"$f":"$A617","v":"Color_Properties="},{"$f":"$A617","v":"Color_Properties="},{"$f":"$A617","v":"Color_Properties="},{"$f":"$A617","v":"Color_Properties="},{"$f":"$A617","v":"Color_Properties="},{"$f":"$A617","v":"Color_Properties="},{"$f":"$A617","v":"Color_Properties="},{"$f":"$A617","v":"Color_Properties="}]
["Color_B_Open=16748574","Color_B_Open=16748574","Color_B_Open=16748574","BUYS open arrows ",{"$f":"Input!C618","v":"DodgerBlue"},{"$f":"Input!D618","v":"DodgerBlue"},{"$f":"Input!E618","v":"DodgerBlue"},{"$f":"Input!F618","v":"DodgerBlue"},{"$f":"Input!G618","v":"DodgerBlue"},{"$f":"Input!H618","v":"DodgerBlue"},{"$f":"Input!I618","v":"DodgerBlue"},{"$f":"Input!J618","v":"DodgerBlue"},{"$f":"Input!K618","v":"DodgerBlue"},{"$f":"Input!L618","v":"DodgerBlue"},{"$f":"Input!M618","v":"DodgerBlue"},{"$f":"_xlfn.CONCAT($B618,E618,$C618)","v":"Color_B_Open=16748574DodgerBlueColor_B_Open=16748574"},"Color_B_Open=16748574DodgerBlueColor_B_Open=16748574","Color_B_Open=16748574DodgerBlueColor_B_Open=16748574","Color_B_Open=16748574DodgerBlueColor_B_Open=16748574","Color_B_Open=16748574DodgerBlueColor_B_Open=16748574","Color_B_Open=16748574DodgerBlueColor_B_Open=16748574","Color_B_Open=16748574DodgerBlueColor_B_Open=16748574","Color_B_Open=16748574DodgerBlueColor_B_Open=16748574","Color_B_Open=16748574DodgerBlueColor_B_Open=16748574","Color_B_Open=16748574DodgerBlueColor_B_Open=16748574","Color_B_Open=16748574DodgerBlueColor_B_Open=16748574"]
["Color_B=16748574","Color_B=16748574","Color_B=16748574","Profitable BUYS ",{"$f":"Input!C619","v":"DodgerBlue"},{"$f":"Input!D619","v":"DodgerBlue"},{"$f":"Input!E619","v":"DodgerBlue"},{"$f":"Input!F619","v":"DodgerBlue"},{"$f":"Input!G619","v":"DodgerBlue"},{"$f":"Input!H619","v":"DodgerBlue"},{"$f":"Input!I619","v":"DodgerBlue"},{"$f":"Input!J619","v":"DodgerBlue"},{"$f":"Input!K619","v":"DodgerBlue"},{"$f":"Input!L619","v":"DodgerBlue"},{"$f":"Input!M619","v":"DodgerBlue"},"Color_B=16748574DodgerBlueColor_B=16748574","Color_B=16748574DodgerBlueColor_B=16748574","Color_B=16748574DodgerBlueColor_B=16748574","Color_B=16748574DodgerBlueColor_B=16748574","Color_B=16748574DodgerBlueColor_B=16748574","Color_B=16748574DodgerBlueColor_B=16748574","Color_B=16748574DodgerBlueColor_B=16748574","Color_B=16748574DodgerBlueColor_B=16748574","Color_B=16748574DodgerBlueColor_B=16748574","Color_B=16748574DodgerBlueColor_B=16748574","Color_B=16748574DodgerBlueColor_B=16748574"]
["Color_B_Loss=15130800","Color_B_Loss=15130800","Color_B_Loss=15130800","Losing BUYS ",{"$f":"Input!C620","v":"PowderBlue"},{"$f":"Input!D620","v":"PowderBlue"},{"$f":"Input!E620","v":"PowderBlue"},{"$f":"Input!F620","v":"PowderBlue"},{"$f":"Input!G620","v":"PowderBlue"},{"$f":"Input!H620","v":"PowderBlue"},{"$f":"Input!I620","v":"PowderBlue"},{"$f":"Input!J620","v":"PowderBlue"},{"$f":"Input!K620","v":"PowderBlue"},{"$f":"Input!L620","v":"PowderBlue"},{"$f":"Input!M620","v":"PowderBlue"},"Color_B_Loss=15130800PowderBlueColor_B_Loss=15130800","Color_B_Loss=15130800PowderBlueColor_B_Loss=15130800","Color_B_Loss=15130800PowderBlueColor_B_Loss=15130800","Color_B_Loss=15130800PowderBlueColor_B_Loss=15130800","Color_B_Loss=15130800PowderBlueColor_B_Loss=15130800","Color_B_Loss=15130800PowderBlueColor_B_Loss=15130800","Color_B_Loss=15130800PowderBlueColor_B_Loss=15130800","Color_B_Loss=15130800PowderBlueColor_B_Loss=15130800","Color_B_Loss=15130800PowderBlueColor_B_Loss=15130800","Color_B_Loss=15130800PowderBlueColor_B_Loss=15130800","Color_B_Loss=15130800PowderBlueColor_B_Loss=15130800"]
["Color_S_Open=17919","Color_S_Open=17919","Color_S_Open=17919","SELLs open arrcws ",{"$f":"Input!C621","v":"OrangeRed"},{"$f":"Input!D621","v":"OrangeRed"},{"$f":"Input!E621","v":"OrangeRed"},{"$f":"Input!F621","v":"OrangeRed"},{"$f":"Input!G621","v":"OrangeRed"},{"$f":"Input!H621","v":"OrangeRed"},{"$f":"Input!I621","v":"OrangeRed"},{"$f":"Input!J621","v":"OrangeRed"},{"$f":"Input!K621","v":"OrangeRed"},{"$f":"Input!L621","v":"OrangeRed"},{"$f":"Input!M621","v":"OrangeRed"},"Color_S_Open=17919OrangeRedColor_S_Open=17919","Color_S_Open=17919OrangeRedColor_S_Open=17919","Color_S_Open=17919OrangeRedColor_S_Open=17919","Color_S_Open=17919OrangeRedColor_S_Open=17919","Color_S_Open=17919OrangeRedColor_S_Open=17919","Color_S_Open=17919OrangeRedColor_S_Open=17919","Color_S_Open=17919OrangeRedColor_S_Open=17919","Color_S_Open=17919OrangeRedColor_S_Open=17919","Color_S_Open=17919OrangeRedColor_S_Open=17919","Color_S_Open=17919OrangeRedColor_S_Open=17919","Color_S_Open=17919OrangeRedColor_S_Open=17919"]
["Color_S=17919","Color_S=17919","Color_S=17919","Profitable SELLs ",{"$f":"Input!C622","v":"OrangeRed"},{"$f":"Input!D622","v":"OrangeRed"},{"$f":"Input!E622","v":"OrangeRed"},{"$f":"Input!F622","v":"OrangeRed"},{"$f":"Input!G622","v":"OrangeRed"},{"$f":"Input!H622","v":"OrangeRed"},{"$f":"Input!I622","v":"OrangeRed"},{"$f":"Input!J622","v":"OrangeRed"},{"$f":"Input!K622","v":"OrangeRed"},{"$f":"Input!L622","v":"OrangeRed"},{"$f":"Input!M622","v":"OrangeRed"},"Color_S=17919OrangeRedColor_S=17919","Color_S=17919OrangeRedColor_S=17919","Color_S=17919OrangeRedColor_S=17919","Color_S=17919OrangeRedColor_S=17919","Color_S=17919OrangeRedColor_S=17919","Color_S=17919OrangeRedColor_S=17919","Color_S=17919OrangeRedColor_S=17919","Color_S=17919OrangeRedColor_S=17919","Color_S=17919OrangeRedColor_S=17919","Color_S=17919OrangeRedColor_S=17919","Color_S=17919OrangeRedColor_S=17919"]
["Color_S_Loss=12695295","Color_S_Loss=12695295","Color_S_Loss=12695295","Losing SELLs ",{"$f":"Input!C623","v":"LightPink"},{"$f":"Input!D623","v":"LightPink"},{"$f":"Input!E623","v":"LightPink"},{"$f":"Input!F623","v":"LightPink"},{"$f":"Input!G623","v":"LightPink"},{"$f":"Input!H623","v":"LightPink"},{"$f":"Input!I623","v":"LightPink"},{"$f":"Input!J623","v":"LightPink"},{"$f":"Input!K623","v":"LightPink"},{"$f":"Input!L623","v":"LightPink"},{"$f":"Input!M623","v":"LightPink"},"Color_S_Loss=12695295LightPinkColor_S_Loss=12695295","Color_S_Loss=12695295LightPinkColor_S_Loss=12695295","Color_S_Loss=12695295LightPinkColor_S_Loss=12695295","Color_S_Loss=12695295LightPinkColor_S_Loss=12695295","Color_S_Loss=12695295LightPinkColor_S_Loss=12695295","Color_S_Loss=12695295LightPinkColor_S_Loss=12695295","Color_S_Loss=12695295LightPinkColor_S_Loss=12695295","Color_S_Loss=12695295LightPinkColor_S_Loss=12695295","Color_S_Loss=12695295LightPinkColor_S_Loss=12695295","Color_S_Loss=12695295LightPinkColor_S_Loss=12695295","Color_S_Loss=12695295LightPinkColor_S_Loss=12695295"]
["Profit_Properties=","Profit_Properties=","Profit_Properties=","Profit properties: ",null,null,null,null,null,null,null,null,null,null,null,{"$f":"$A624","v":"Profit_Properties="},{"$f":"$A624","v":"Profit_Properties="},{"$f":"$A624","v":"Profit_Properties="},{"$f":"$A624","v":"Profit_Properties="},{"$f":"$A624","v":"Profit_Properties="},{"$f":"$A624","v":"Profit_Properties="},{"$f":"$A624","v":"Profit_Properties="},{"$f":"$A624","v":"Profit_Properties="},{"$f":"$A624","v":"Profit_Properties="},{"$f":"$A624","v":"Profit_Properties="},{"$f":"$A624","v":"Profit_Properties="}]
["Profit_ShowInMoney=false||false||0||true||N",{"$f":"_xlfn.CONCAT(LEFT(TRIM(A625),FIND(\"=\",TRIM(A625))-1),\"=\")","v":"Profit_ShowInMoney="},{"$f":"_xlfn.CONCAT(\"|\",RIGHT(TRIM(A625),LEN(TRIM(A625))-SEARCH(\"|\",TRIM(A625))))","v":"||false||0||true||N"},"Show profit in money ",{"$f":"VLOOKUP(Input!C625,Start!$G$2:$H$3,2,0)","v":false},{"$f":"VLOOKUP(Input!D625,Start!$G$2:$H$3,2,0)","v":false},{"$f":"VLOOKUP(Input!E625,Start!$G$2:$H$3,2,0)","v":false},{"$f":"VLOOKUP(Input!F625,Start!$G$2:$H$3,2,0)","v":false},{"$f":"VLOOKUP(Input!G625,Start!$G$2:$H$3,2,0)","v":false},{"$f":"VLOOKUP(Input!H625,Start!$G$2:$H$3,2,0)","v":false},{"$f":"VLOOKUP(Input!I625,Start!$G$2:$H$3,2,0)","v":false},{"$f":"VLOOKUP(Input!J625,Start!$G$2:$H$3,2,0)","v":false},{"$f":"VLOOKUP(Input!K625,Start!$G$2:$H$3,2,0)","v":false},{"$f":"VLOOKUP(Input!L625,Start!$G$2:$H$3,2,0)","v":false},{"$f":"VLOOKUP(Input!M625,Start!$G$2:$H$3,2,0)","v":false},{"$f":"_xlfn.CONCAT($B625,E625,$C625)","v":"Profit_ShowInMoney=FALSE||false||0||true||N"},"Profit_ShowInMoney=FALSE||false||0||true||N","Profit_ShowInMoney=FALSE||false||0||true||N","Profit_ShowInMoney=FALSE||false||0||true||N","Profit_ShowInMoney=FALSE||false||0||true||N","Profit_ShowInMoney=FALSE||false||0||true||N","Profit_ShowInMoney=FALSE||false||0||true||N","Profit_ShowInMoney=FALSE||false||0||true||N","Profit_ShowInMoney=FALSE||false||0||true||N","Profit_ShowInMoney=FALSE||false||0||true||N","Profit_ShowInMoney=FALSE||false||0||true||N"]
["Profit_ShowInPoints=false||false||0||true||N","Profit_ShowInPoints=","||false||0||true||N","Show profit in points ",{"$f":"VLOOKUP(Input!C626,Start!$G$2:$H$3,2,0)","v":false},{"$f":"VLOOKUP(Input!D626,Start!$G$2:$H$3,2,0)","v":false},{"$f":"VLOOKUP(Input!E626,Start!$G$2:$H$3,2,0)","v":false},{"$f":"VLOOKUP(Input!F626,Start!$G$2:$H$3,2,0)","v":false},{"$f":"VLOOKUP(Input!G626,Start!$G$2:$H$3,2,0)","v":false},{"$f":"VLOOKUP(Input!H626,Start!$G$2:$H$3,2,0)","v":false},{"$f":"VLOOKUP(Input!I626,Start!$G$2:$H$3,2,0)","v":false},{"$f":"VLOOKUP(Input!J626,Start!$G$2:$H$3,2,0)","v":false},{"$f":"VLOOKUP(Input!K626,Start!$G$2:$H$3,2,0)","v":false},{"$f":"VLOOKUP(Input!L626,Start!$G$2:$H$3,2,0)","v":false},{"$f":"VLOOKUP(Input!M626,Start!$G$2:$H$3,2,0)","v":false},"Profit_ShowInPoints=FALSE||false||0||true||N","Profit_ShowInPoints=FALSE||false||0||true||N","Profit_ShowInPoints=FALSE||false||0||true||N","Profit_ShowInPoints=FALSE||false||0||true||N","Profit_ShowInPoints=FALSE||false||0||true||N","Profit_ShowInPoints=FALSE||false||0||true||N","Profit_ShowInPoints=FALSE||false||0||true||N","Profit_ShowInPoints=FALSE||false||0||true||N","Profit_ShowInPoints=FALSE||false||0||true||N","Profit_ShowInPoints=FALSE||false||0||true||N","Profit_ShowInPoints=FALSE||false||0||true||N"]
["Profit_ShowInPercents=false||false||0||true||N","Profit_ShowInPercents=","||false||0||true||N","Show profit in percents ",{"$f":"VLOOKUP(Input!C627,Start!$G$2:$H$3,2,0)","v":false},{"$f":"VLOOKUP(Input!D627,Start!$G$2:$H$3,2,0)","v":false},{"$f":"VLOOKUP(Input!E627,Start!$G$2:$H$3,2,0)","v":false},{"$f":"VLOOKUP(Input!F627,Start!$G$2:$H$3,2,0)","v":false},{"$f":"VLOOKUP(Input!G627,Start!$G$2:$H$3,2,0)","v":false},{"$f":"VLOOKUP(Input!H627,Start!$G$2:$H$3,2,0)","v":false},{"$f":"VLOOKUP(Input!I627,Start!$G$2:$H$3,2,0)","v":false},{"$f":"VLOOKUP(Input!J627,Start!$G$2:$H$3,2,0)","v":false},{"$f":"VLOOKUP(Input!K627,Start!$G$2:$H$3,2,0)","v":false},{"$f":"VLOOKUP(Input!L627,Start!$G$2:$H$3,2,0)","v":false},{"$f":"VLOOKUP(Input!M627,Start!$G$2:$H$3,2,0)","v":false},"Profit_ShowInPercents=FALSE||false||0||true||N","Profit_ShowInPercents=FALSE||false||0||true||N","Profit_ShowInPercents=FALSE||false||0||true||N","Profit_ShowInPercents=FALSE||false||0||true||N","Profit_ShowInPercents=FALSE||false||0||true||N","Profit_ShowInPercents=FALSE||false||0||true||N","Profit_ShowInPercents=FALSE||false||0||true||N","Profit_ShowInPercents=FALSE||false||0||true||N","Profit_ShowInPercents=FALSE||false||0||true||N","Profit_ShowInPercents=FALSE||false||0||true||N","Profit_ShowInPercents=FALSE||false||0||true||N"]
["Profit_Aggregate=false||false||0||true||N","Profit_Aggregate=","||false||0||true||N","Aggregate profit for opened positions ",{"$f":"VLOOKUP(Input!C628,Start!$G$2:$H$3,2,0)","v":false},{"$f":"VLOOKUP(Input!D628,Start!$G$2:$H$3,2,0)","v":false},{"$f":"VLOOKUP(Input!E628,Start!$G$2:$H$3,2,0)","v":false},{"$f":"VLOOKUP(Input!F628,Start!$G$2:$H$3,2,0)","v":false},{"$f":"VLOOKUP(Input!G628,Start!$G$2:$H$3,2,0)","v":false},{"$f":"VLOOKUP(Input!H628,Start!$G$2:$H$3,2,0)","v":false},{"$f":"VLOOKUP(Input!I628,Start!$G$2:$H$3,2,0)","v":false},{"$f":"VLOOKUP(Input!J628,Start!$G$2:$H$3,2,0)","v":false},{"$f":"VLOOKUP(Input!K628,Start!$G$2:$H$3,2,0)","v":false},{"$f":"VLOOKUP(Input!L628,Start!$G$2:$H$3,2,0)","v":false},{"$f":"VLOOKUP(Input!M628,Start!$G$2:$H$3,2,0)","v":false},"Profit_Aggregate=FALSE||false||0||true||N","Profit_Aggregate=FALSE||false||0||true||N","Profit_Aggregate=FALSE||false||0||true||N","Profit_Aggregate=FALSE||false||0||true||N","Profit_Aggregate=FALSE||false||0||true||N","Profit_Aggregate=FALSE||false||0||true||N","Profit_Aggregate=FALSE||false||0||true||N","Profit_Aggregate=FALSE||false||0||true||N","Profit_Aggregate=FALSE||false||0||true||N","Profit_Aggregate=FALSE||false||0||true||N","Profit_Aggregate=FALSE||false||0||true||N"]
["ProfitDigitsToShow=1||1||1||10||N","ProfitDigitsToShow=","||1||1||10||N","Number of digits to show ",{"$f":"Input!C629","v":0},{"$f":"Input!D629","v":0},{"$f":"Input!E629","v":0},{"$f":"Input!F629","v":0},{"$f":"Input!G629","v":0},{"$f":"Input!H629","v":0},{"$f":"Input!I629","v":0},{"$f":"Input!J629","v":0},{"$f":"Input!K629","v":0},{"$f":"Input!L629","v":0},{"$f":"Input!M629","v":0},"ProfitDigitsToShow=0||1||1||10||N","ProfitDigitsToShow=0||1||1||10||N","ProfitDigitsToShow=0||1||1||10||N","ProfitDigitsToShow=0||1||1||10||N","ProfitDigitsToShow=0||1||1||10||N","ProfitDigitsToShow=0||1||1||10||N","ProfitDigitsToShow=0||1||1||10||N","ProfitDigitsToShow=0||1||1||10||N","ProfitDigitsToShow=0||1||1||10||N","ProfitDigitsToShow=0||1||1||10||N","ProfitDigitsToShow=0||1||1||10||N"]
["Font=Arial","Font=Arial","Font=Arial","Font ",{"$f":"Input!C630","v":"Arial"},{"$f":"Input!D630","v":"Arial"},{"$f":"Input!E630","v":"Arial"},{"$f":"Input!F630","v":"Arial"},{"$f":"Input!G630","v":"Arial"},{"$f":"Input!H630","v":"Arial"},{"$f":"Input!I630","v":"Arial"},{"$f":"Input!J630","v":"Arial"},{"$f":"Input!K630","v":"Arial"},{"$f":"Input!L630","v":"Arial"},{"$f":"Input!M630","v":"Arial"},{"$f":"_xlfn.CONCAT($B630,E630,$C630)","v":"Font=ArialArialFont=Arial"},{"$f":"_xlfn.CONCAT($B630,F630,$C630)","v":"Font=ArialArialFont=Arial"},{"$f":"_xlfn.CONCAT($B630,G630,$C630)","v":"Font=ArialArialFont=Arial"},{"$f":"_xlfn.CONCAT($B630,H630,$C630)","v":"Font=ArialArialFont=Arial"},{"$f":"_xlfn.CONCAT($B630,I630,$C630)","v":"Font=ArialArialFont=Arial"},{"$f":"_xlfn.CONCAT($B630,J630,$C630)","v":"Font=ArialArialFont=Arial"},{"$f":"_xlfn.CONCAT($B630,K630,$C630)","v":"Font=ArialArialFont=Arial"},{"$f":"_xlfn.CONCAT($B630,L630,$C630)","v":"Font=ArialArialFont=Arial"},{"$f":"_xlfn.CONCAT($B630,M630,$C630)","v":"Font=ArialArialFont=Arial"},{"$f":"_xlfn.CONCAT($B630,N630,$C630)","v":"Font=ArialArialFont=Arial"},{"$f":"_xlfn.CONCAT($B630,O630,$C630)","v":"Font=ArialArialFont=Arial"}]
["FontSize=9||9||1||90||N",{"$f":"_xlfn.CONCAT(LEFT(TRIM(A631),FIND(\"=\",TRIM(A631))-1),\"=\")","v":"FontSize="},{"$f":"_xlfn.CONCAT(\"|\",RIGHT(TRIM(A631),LEN(TRIM(A631))-SEARCH(\"|\",TRIM(A631))))","v":"||9||1||90||N"},"Font size ",{"$f":"Input!C631","v":0},{"$f":"Input!D631","v":0},{"$f":"Input!E631","v":0},{"$f":"Input!F631","v":0},{"$f":"Input!G631","v":0},{"$f":"Input!H631","v":0},{"$f":"Input!I631","v":0},{"$f":"Input!J631","v":0},{"$f":"Input!K631","v":0},{"$f":"Input!L631","v":0},{"$f":"Input!M631","v":0},{"$f":"_xlfn.CONCAT($B631,E631,$C631)","v":"FontSize=0||9||1||90||N"},{"$f":"_xlfn.CONCAT($B631,F631,$C631)","v":"FontSize=0||9||1||90||N"},{"$f":"_xlfn.CONCAT($B631,G631,$C631)","v":"FontSize=0||9||1||90||N"},{"$f":"_xlfn.CONCAT($B631,H631,$C631)","v":"FontSize=0||9||1||90||N"},{"$f":"_xlfn.CONCAT($B631,I631,$C631)","v":"FontSize=0||9||1||90||N"},{"$f":"_xlfn.CONCAT($B631,J631,$C631)","v":"FontSize=0||9||1||90||N"},{"$f":"_xlfn.CONCAT($B631,K631,$C631)","v":"FontSize=0||9||1||90||N"},{"$f":"_xlfn.CONCAT($B631,L631,$C631)","v":"FontSize=0||9||1||90||N"},{"$f":"_xlfn.CONCAT($B631,M631,$C631)","v":"FontSize=0||9||1||90||N"},{"$f":"_xlfn.CONCAT($B631,N631,$C631)","v":"FontSize=0||9||1||90||N"},{"$f":"_xlfn.CONCAT($B631,O631,$C631)","v":"FontSize=0||9||1||90||N"}]
["Style_Properties=","Style_Properties=","Style_Properties=","Style properties: ",null,null,null,null,null,null,null,null,null,null,null,{"$f":"$A632","v":"Style_Properties="},{"$f":"$A632","v":"Style_Properties="},{"$f":"$A632","v":"Style_Properties="},{"$f":"$A632","v":"Style_Properties="},{"$f":"$A632","v":"Style_Properties="},{"$f":"$A632","v":"Style_Properties="},{"$f":"$A632","v":"Style_Properties="},{"$f":"$A632","v":"Style_Properties="},{"$f":"$A632","v":"Style_Properties="},{"$f":"$A632","v":"Style_Properties="},{"$f":"$A632","v":"Style_Properties="}]
["Open_Close_Line_Width=1||1||1||10||N",{"$f":"_xlfn.CONCAT(LEFT(TRIM(A633),FIND(\"=\",TRIM(A633))-1),\"=\")","v":"Open_Close_Line_Width="},{"$f":"_xlfn.CONCAT(\"|\",RIGHT(TRIM(A633),LEN(TRIM(A633))-SEARCH(\"|\",TRIM(A633))))","v":"||1||1||10||N"},"Open- Close lines width (O don't draw) ",{"$f":"Input!C633","v":0},{"$f":"Input!D633","v":0},{"$f":"Input!E633","v":0},{"$f":"Input!F633","v":0},{"$f":"Input!G633","v":0},{"$f":"Input!H633","v":0},{"$f":"Input!I633","v":0},{"$f":"Input!J633","v":0},{"$f":"Input!K633","v":0},{"$f":"Input!L633","v":0},{"$f":"Input!M633","v":0},{"$f":"_xlfn.CONCAT($B633,E633,$C633)","v":"Open_Close_Line_Width=0||1||1||10||N"},"Open_Close_Line_Width=0||1||1||10||N","Open_Close_Line_Width=0||1||1||10||N","Open_Close_Line_Width=0||1||1||10||N","Open_Close_Line_Width=0||1||1||10||N","Open_Close_Line_Width=0||1||1||10||N","Open_Close_Line_Width=0||1||1||10||N","Open_Close_Line_Width=0||1||1||10||N","Open_Close_Line_Width=0||1||1||10||N","Open_Close_Line_Width=0||1||1||10||N","Open_Close_Line_Width=0||1||1||10||N"]
["Open_Close_Line_Style=2||0||0||4||N","Open_Close_Line_Style=","||0||0||4||N","Open-Close lines style ",{"$f":"VLOOKUP(Input!C634,Start!$CS$2:$CT$6,2,0)","v":1},{"$f":"VLOOKUP(Input!D634,Start!$CS$2:$CT$6,2,0)","v":1},{"$f":"VLOOKUP(Input!E634,Start!$CS$2:$CT$6,2,0)","v":1},{"$f":"VLOOKUP(Input!F634,Start!$CS$2:$CT$6,2,0)","v":1},{"$f":"VLOOKUP(Input!G634,Start!$CS$2:$CT$6,2,0)","v":1},{"$f":"VLOOKUP(Input!H634,Start!$CS$2:$CT$6,2,0)","v":1},{"$f":"VLOOKUP(Input!I634,Start!$CS$2:$CT$6,2,0)","v":1},{"$f":"VLOOKUP(Input!J634,Start!$CS$2:$CT$6,2,0)","v":1},{"$f":"VLOOKUP(Input!K634,Start!$CS$2:$CT$6,2,0)","v":1},{"$f":"VLOOKUP(Input!L634,Start!$CS$2:$CT$6,2,0)","v":1},{"$f":"VLOOKUP(Input!M634,Start!$CS$2:$CT$6,2,0)","v":1},"Open_Close_Line_Style=1||0||0||4||N","Open_Close_Line_Style=1||0||0||4||N","Open_Close_Line_Style=1||0||0||4||N","Open_Close_Line_Style=1||0||0||4||N","Open_Close_Line_Style=1||0||0||4||N","Open_Close_Line_Style=1||0||0||4||N","Open_Close_Line_Style=1||0||0||4||N","Open_Close_Line_Style=1||0||0||4||N","Open_Close_Line_Style=1||0||0||4||N","Open_Close_Line_Style=1||0||0||4||N","Open_Close_Line_Style=1||0||0||4||N"]
["Open_PriceLabel_Width=0||0||1||10||N","Open_PriceLabel_Width=","||0||1||10||N","Open price labels width (O don't draw) ",{"$f":"Input!C635","v":0},{"$f":"Input!D635","v":0},{"$f":"Input!E635","v":0},{"$f":"Input!F635","v":0},{"$f":"Input!G635","v":0},{"$f":"Input!H635","v":0},{"$f":"Input!I635","v":0},{"$f":"Input!J635","v":0},{"$f":"Input!K635","v":0},{"$f":"Input!L635","v":0},{"$f":"Input!M635","v":0},"Open_PriceLabel_Width=0||0||1||10||N","Open_PriceLabel_Width=0||0||1||10||N","Open_PriceLabel_Width=0||0||1||10||N","Open_PriceLabel_Width=0||0||1||10||N","Open_PriceLabel_Width=0||0||1||10||N","Open_PriceLabel_Width=0||0||1||10||N","Open_PriceLabel_Width=0||0||1||10||N","Open_PriceLabel_Width=0||0||1||10||N","Open_PriceLabel_Width=0||0||1||10||N","Open_PriceLabel_Width=0||0||1||10||N","Open_PriceLabel_Width=0||0||1||10||N"]
["Close_PriceLabel_Width=0||0||1||10||N","Close_PriceLabel_Width=","||0||1||10||N","Close price labels width (O - don't draw) ",{"$f":"Input!C636","v":0},{"$f":"Input!D636","v":0},{"$f":"Input!E636","v":0},{"$f":"Input!F636","v":0},{"$f":"Input!G636","v":0},{"$f":"Input!H636","v":0},{"$f":"Input!I636","v":0},{"$f":"Input!J636","v":0},{"$f":"Input!K636","v":0},{"$f":"Input!L636","v":0},{"$f":"Input!M636","v":0},"Close_PriceLabel_Width=0||0||1||10||N","Close_PriceLabel_Width=0||0||1||10||N","Close_PriceLabel_Width=0||0||1||10||N","Close_PriceLabel_Width=0||0||1||10||N","Close_PriceLabel_Width=0||0||1||10||N","Close_PriceLabel_Width=0||0||1||10||N","Close_PriceLabel_Width=0||0||1||10||N","Close_PriceLabel_Width=0||0||1||10||N","Close_PriceLabel_Width=0||0||1||10||N","Close_PriceLabel_Width=0||0||1||10||N","Close_PriceLabel_Width=0||0||1||10||N"]
["SL_TP_Dashes_Show=false||false||0||true||N","SL_TP_Dashes_Show=","||false||0||true||N","Show SL and TP dashes ",{"$f":"VLOOKUP(Input!C637,Start!$G$2:$H$3,2,0)","v":false},{"$f":"VLOOKUP(Input!D637,Start!$G$2:$H$3,2,0)","v":false},{"$f":"VLOOKUP(Input!E637,Start!$G$2:$H$3,2,0)","v":false},{"$f":"VLOOKUP(Input!F637,Start!$G$2:$H$3,2,0)","v":false},{"$f":"VLOOKUP(Input!G637,Start!$G$2:$H$3,2,0)","v":false},{"$f":"VLOOKUP(Input!H637,Start!$G$2:$H$3,2,0)","v":false},{"$f":"VLOOKUP(Input!I637,Start!$G$2:$H$3,2,0)","v":false},{"$f":"VLOOKUP(Input!J637,Start!$G$2:$H$3,2,0)","v":false},{"$f":"VLOOKUP(Input!K637,Start!$G$2:$H$3,2,0)","v":false},{"$f":"VLOOKUP(Input!L637,Start!$G$2:$H$3,2,0)","v":false},{"$f":"VLOOKUP(Input!M637,Start!$G$2:$H$3,2,0)","v":false},"SL_TP_Dashes_Show=FALSE||false||0||true||N","SL_TP_Dashes_Show=FALSE||false||0||true||N","SL_TP_Dashes_Show=FALSE||false||0||true||N","SL_TP_Dashes_Show=FALSE||false||0||true||N","SL_TP_Dashes_Show=FALSE||false||0||true||N","SL_TP_Dashes_Show=FALSE||false||0||true||N","SL_TP_Dashes_Show=FALSE||false||0||true||N","SL_TP_Dashes_Show=FALSE||false||0||true||N","SL_TP_Dashes_Show=FALSE||false||0||true||N","SL_TP_Dashes_Show=FALSE||false||0||true||N","SL_TP_Dashes_Show=FALSE||false||0||true||N"]
["SL_TP_Lines_Width=0||0||1||10||N","SL_TP_Lines_Width=","||0||1||10||N","SL and TP vertical lines width (O - don't draw) ",{"$f":"Input!C638","v":0},{"$f":"Input!D638","v":0},{"$f":"Input!E638","v":0},{"$f":"Input!F638","v":0},{"$f":"Input!G638","v":0},{"$f":"Input!H638","v":0},{"$f":"Input!I638","v":0},{"$f":"Input!J638","v":0},{"$f":"Input!K638","v":0},{"$f":"Input!L638","v":0},{"$f":"Input!M638","v":0},"SL_TP_Lines_Width=0||0||1||10||N","SL_TP_Lines_Width=0||0||1||10||N","SL_TP_Lines_Width=0||0||1||10||N","SL_TP_Lines_Width=0||0||1||10||N","SL_TP_Lines_Width=0||0||1||10||N","SL_TP_Lines_Width=0||0||1||10||N","SL_TP_Lines_Width=0||0||1||10||N","SL_TP_Lines_Width=0||0||1||10||N","SL_TP_Lines_Width=0||0||1||10||N","SL_TP_Lines_Width=0||0||1||10||N","SL_TP_Lines_Width=0||0||1||10||N"]
["SL_TP_Lines_Style=2||0||0||4||N","SL_TP_Lines_Style=","||0||0||4||N","SL and TP vertical lines style ",{"$f":"Input!C639","v":0},{"$f":"Input!D639","v":0},{"$f":"Input!E639","v":0},{"$f":"Input!F639","v":0},{"$f":"Input!G639","v":0},{"$f":"Input!H639","v":0},{"$f":"Input!I639","v":0},{"$f":"Input!J639","v":0},{"$f":"Input!K639","v":0},{"$f":"Input!L639","v":0},{"$f":"Input!M639","v":0},"SL_TP_Lines_Style=0||0||0||4||N","SL_TP_Lines_Style=0||0||0||4||N","SL_TP_Lines_Style=0||0||0||4||N","SL_TP_Lines_Style=0||0||0||4||N","SL_TP_Lines_Style=0||0||0||4||N","SL_TP_Lines_Style=0||0||0||4||N","SL_TP_Lines_Style=0||0||0||4||N","SL_TP_Lines_Style=0||0||0||4||N","SL_TP_Lines_Style=0||0||0||4||N","SL_TP_Lines_Style=0||0||0||4||N","SL_TP_Lines_Style=0||0||0||4||N"]
["Expiration_Width=0||0||1||10||N","Expiration_Width=","||0||1||10||N","Expiration lines width (O - don't draw) ",{"$f":"VLOOKUP(Input!C640,Start!$CS$2:$CT$6,2,0)","v":1},{"$f":"VLOOKUP(Input!D640,Start!$CS$2:$CT$6,2,0)","v":1},{"$f":"VLOOKUP(Input!E640,Start!$CS$2:$CT$6,2,0)","v":1},{"$f":"VLOOKUP(Input!F640,Start!$CS$2:$CT$6,2,0)","v":1},{"$f":"VLOOKUP(Input!G640,Start!$CS$2:$CT$6,2,0)","v":1},{"$f":"VLOOKUP(Input!H640,Start!$CS$2:$CT$6,2,0)","v":1},{"$f":"VLOOKUP(Input!I640,Start!$CS$2:$CT$6,2,0)","v":1},{"$f":"VLOOKUP(Input!J640,Start!$CS$2:$CT$6,2,0)","v":1},{"$f":"VLOOKUP(Input!K640,Start!$CS$2:$CT$6,2,0)","v":1},{"$f":"VLOOKUP(Input!L640,Start!$CS$2:$CT$6,2,0)","v":1},{"$f":"VLOOKUP(Input!M640,Start!$CS$2:$CT$6,2,0)","v":1},"Expiration_Width=1||0||1||10||N","Expiration_Width=1||0||1||10||N","Expiration_Width=1||0||1||10||N","Expiration_Width=1||0||1||10||N","Expiration_Width=1||0||1||10||N","Expiration_Width=1||0||1||10||N","Expiration_Width=1||0||1||10||N","Expiration_Width=1||0||1||10||N","Expiration_Width=1||0||1||10||N","Expiration_Width=1||0||1||10||N","Expiration_Width=1||0||1||10||N"]
["Expiration_Style=2||0||0||4||N","Expiration_Style=","||0||0||4||N","Expiration lines style ",{"$f":"Input!C641","v":0},{"$f":"Input!D641","v":0},{"$f":"Input!E641","v":0},{"$f":"Input!F641","v":0},{"$f":"Input!G641","v":0},{"$f":"Input!H641","v":0},{"$f":"Input!I641","v":0},{"$f":"Input!J641","v":0},{"$f":"Input!K641","v":0},{"$f":"Input!L641","v":0},{"$f":"Input!M641","v":0},"Expiration_Style=0||0||0||4||N","Expiration_Style=0||0||0||4||N","Expiration_Style=0||0||0||4||N","Expiration_Style=0||0||0||4||N","Expiration_Style=0||0||0||4||N","Expiration_Style=0||0||0||4||N","Expiration_Style=0||0||0||4||N","Expiration_Style=0||0||0||4||N","Expiration_Style=0||0||0||4||N","Expiration_Style=0||0||0||4||N","Expiration_Style=0||0||0||4||N"]
["; Notifications settings","; Notifications settings","; Notifications settings","Notifications settings ",null,null,null,null,null,null,null,null,null,null,null,{"$f":"$A642","v":"; Notifications settings"},"; Notifications settings","; Notifications settings","; Notifications settings","; Notifications settings","; Notifications settings","; Notifications settings","; Notifications settings","; Notifications settings","; Notifications settings","; Notifications settings"]
["Notifications_Settings====================================================================================","Notifications_Settings====================================================================================","Notifications_Settings====================================================================================","Notifications settings: ",null,null,null,null,null,null,null,null,null,null,null,"Notifications_Settings====================================================================================","Notifications_Settings====================================================================================","Notifications_Settings====================================================================================","Notifications_Settings====================================================================================","Notifications_Settings====================================================================================","Notifications_Settings====================================================================================","Notifications_Settings====================================================================================","Notifications_Settings====================================================================================","Notifications_Settings====================================================================================","Notifications_Settings====================================================================================","Notifications_Settings===================================================================================="]
["MessagesToGrammy=false||false||0||true||N",{"$f":"_xlfn.CONCAT(LEFT(TRIM(A644),FIND(\"=\",TRIM(A644))-1),\"=\")","v":"MessagesToGrammy="},{"$f":"_xlfn.CONCAT(\"|\",RIGHT(TRIM(A644),LEN(TRIM(A644))-SEARCH(\"|\",TRIM(A644))))","v":"||false||0||true||N"},"Enable messages to Grammy ",{"$f":"VLOOKUP(Input!C644,Start!$G$2:$H$3,2,0)","v":false},{"$f":"VLOOKUP(Input!D644,Start!$G$2:$H$3,2,0)","v":false},{"$f":"VLOOKUP(Input!E644,Start!$G$2:$H$3,2,0)","v":false},{"$f":"VLOOKUP(Input!F644,Start!$G$2:$H$3,2,0)","v":false},{"$f":"VLOOKUP(Input!G644,Start!$G$2:$H$3,2,0)","v":false},{"$f":"VLOOKUP(Input!H644,Start!$G$2:$H$3,2,0)","v":false},{"$f":"VLOOKUP(Input!I644,Start!$G$2:$H$3,2,0)","v":false},{"$f":"VLOOKUP(Input!J644,Start!$G$2:$H$3,2,0)","v":false},{"$f":"VLOOKUP(Input!K644,Start!$G$2:$H$3,2,0)","v":false},{"$f":"VLOOKUP(Input!L644,Start!$G$2:$H$3,2,0)","v":false},{"$f":"VLOOKUP(Input!M644,Start!$G$2:$H$3,2,0)","v":false},{"$f":"_xlfn.CONCAT($B644,E644,$C644)","v":"MessagesToGrammy=FALSE||false||0||true||N"},{"$f":"_xlfn.CONCAT($B644,F644,$C644)","v":"MessagesToGrammy=FALSE||false||0||true||N"},{"$f":"_xlfn.CONCAT($B644,G644,$C644)","v":"MessagesToGrammy=FALSE||false||0||true||N"},{"$f":"_xlfn.CONCAT($B644,H644,$C644)","v":"MessagesToGrammy=FALSE||false||0||true||N"},{"$f":"_xlfn.CONCAT($B644,I644,$C644)","v":"MessagesToGrammy=FALSE||false||0||true||N"},{"$f":"_xlfn.CONCAT($B644,J644,$C644)","v":"MessagesToGrammy=FALSE||false||0||true||N"},{"$f":"_xlfn.CONCAT($B644,K644,$C644)","v":"MessagesToGrammy=FALSE||false||0||true||N"},{"$f":"_xlfn.CONCAT($B644,L644,$C644)","v":"MessagesToGrammy=FALSE||false||0||true||N"},{"$f":"_xlfn.CONCAT($B644,M644,$C644)","v":"MessagesToGrammy=FALSE||false||0||true||N"},{"$f":"_xlfn.CONCAT($B644,N644,$C644)","v":"MessagesToGrammy=FALSE||false||0||true||N"},{"$f":"_xlfn.CONCAT($B644,O644,$C644)","v":"MessagesToGrammy=FALSE||false||0||true||N"}]
["Alerts_Enabled=false","Alerts_Enabled=false","Alerts_Enabled=false","Enable alert on first signal ",{"$f":"VLOOKUP(Input!C645,Start!$G$2:$H$3,2,0)","v":false},{"$f":"VLOOKUP(Input!D645,Start!$G$2:$H$3,2,0)","v":false},{"$f":"VLOOKUP(Input!E645,Start!$G$2:$H$3,2,0)","v":false},{"$f":"VLOOKUP(Input!F645,Start!$G$2:$H$3,2,0)","v":false},{"$f":"VLOOKUP(Input!G645,Start!$G$2:$H$3,2,0)","v":false},{"$f":"VLOOKUP(Input!H645,Start!$G$2:$H$3,2,0)","v":false},{"$f":"VLOOKUP(Input!I645,Start!$G$2:$H$3,2,0)","v":false},{"$f":"VLOOKUP(Input!J645,Start!$G$2:$H$3,2,0)","v":false},{"$f":"VLOOKUP(Input!K645,Start!$G$2:$H$3,2,0)","v":false},{"$f":"VLOOKUP(Input!L645,Start!$G$2:$H$3,2,0)","v":false},{"$f":"VLOOKUP(Input!M645,Start!$G$2:$H$3,2,0)","v":false},{"$f":"_xlfn.CONCAT($B645,E645,$C645)","v":"Alerts_Enabled=falseFALSEAlerts_Enabled=false"},"Alerts_Enabled=falseFALSEAlerts_Enabled=false","Alerts_Enabled=falseFALSEAlerts_Enabled=false","Alerts_Enabled=falseFALSEAlerts_Enabled=false","Alerts_Enabled=falseFALSEAlerts_Enabled=false","Alerts_Enabled=falseFALSEAlerts_Enabled=false","Alerts_Enabled=falseFALSEAlerts_Enabled=false","Alerts_Enabled=falseFALSEAlerts_Enabled=false","Alerts_Enabled=falseFALSEAlerts_Enabled=false","Alerts_Enabled=falseFALSEAlerts_Enabled=false","Alerts_Enabled=falseFALSEAlerts_Enabled=false"]
["Sounds_Enabled=false","Sounds_Enabled=false","Sounds_Enabled=false","Enable sounds ",{"$f":"VLOOKUP(Input!C646,Start!$G$2:$H$3,2,0)","v":false},{"$f":"VLOOKUP(Input!D646,Start!$G$2:$H$3,2,0)","v":false},{"$f":"VLOOKUP(Input!E646,Start!$G$2:$H$3,2,0)","v":false},{"$f":"VLOOKUP(Input!F646,Start!$G$2:$H$3,2,0)","v":false},{"$f":"VLOOKUP(Input!G646,Start!$G$2:$H$3,2,0)","v":false},{"$f":"VLOOKUP(Input!H646,Start!$G$2:$H$3,2,0)","v":false},{"$f":"VLOOKUP(Input!I646,Start!$G$2:$H$3,2,0)","v":false},{"$f":"VLOOKUP(Input!J646,Start!$G$2:$H$3,2,0)","v":false},{"$f":"VLOOKUP(Input!K646,Start!$G$2:$H$3,2,0)","v":false},{"$f":"VLOOKUP(Input!L646,Start!$G$2:$H$3,2,0)","v":false},{"$f":"VLOOKUP(Input!M646,Start!$G$2:$H$3,2,0)","v":false},"Sounds_Enabled=falseFALSESounds_Enabled=false","Sounds_Enabled=falseFALSESounds_Enabled=false","Sounds_Enabled=falseFALSESounds_Enabled=false","Sounds_Enabled=falseFALSESounds_Enabled=false","Sounds_Enabled=falseFALSESounds_Enabled=false","Sounds_Enabled=falseFALSESounds_Enabled=false","Sounds_Enabled=falseFALSESounds_Enabled=false","Sounds_Enabled=falseFALSESounds_Enabled=false","Sounds_Enabled=falseFALSESounds_Enabled=false","Sounds_Enabled=falseFALSESounds_Enabled=false","Sounds_Enabled=falseFALSESounds_Enabled=false"]
["Sounds_OpenFirst=expert.wav","Sounds_OpenFirst=expert.wav","Sounds_OpenFirst=expert.wav","First signal sound name ",{"$f":"Input!C647","v":"expert.wav"},{"$f":"Input!D647","v":"expert.wav"},{"$f":"Input!E647","v":"expert.wav"},{"$f":"Input!F647","v":"expert.wav"},{"$f":"Input!G647","v":"expert.wav"},{"$f":"Input!H647","v":"expert.wav"},{"$f":"Input!I647","v":"expert.wav"},{"$f":"Input!J647","v":"expert.wav"},{"$f":"Input!K647","v":"expert.wav"},{"$f":"Input!L647","v":"expert.wav"},{"$f":"Input!M647","v":"expert.wav"},"Sounds_OpenFirst=expert.wavexpert.wavSounds_OpenFirst=expert.wav","Sounds_OpenFirst=expert.wavexpert.wavSounds_OpenFirst=expert.wav","Sounds_OpenFirst=expert.wavexpert.wavSounds_OpenFirst=expert.wav","Sounds_OpenFirst=expert.wavexpert.wavSounds_OpenFirst=expert.wav","Sounds_OpenFirst=expert.wavexpert.wavSounds_OpenFirst=expert.wav","Sounds_OpenFirst=expert.wavexpert.wavSounds_OpenFirst=expert.wav","Sounds_OpenFirst=expert.wavexpert.wavSounds_OpenFirst=expert.wav","Sounds_OpenFirst=expert.wavexpert.wavSounds_OpenFirst=expert.wav","Sounds_OpenFirst=expert.wavexpert.wavSounds_OpenFirst=expert.wav","Sounds_OpenFirst=expert.wavexpert.wavSounds_OpenFirst=expert.wav","Sounds_OpenFirst=expert.wavexpert.wavSounds_OpenFirst=expert.wav"]
["Sounds_OpenMartin=alert2.wav","Sounds_OpenMartin=alert2.wav","Sounds_OpenMartin=alert2.wav","Martin opening sound name ",{"$f":"Input!C648","v":"alert2.wav"},{"$f":"Input!D648","v":"alert2.wav"},{"$f":"Input!E648","v":"alert2.wav"},{"$f":"Input!F648","v":"alert2.wav"},{"$f":"Input!G648","v":"alert2.wav"},{"$f":"Input!H648","v":"alert2.wav"},{"$f":"Input!I648","v":"alert2.wav"},{"$f":"Input!J648","v":"alert2.wav"},{"$f":"Input!K648","v":"alert2.wav"},{"$f":"Input!L648","v":"alert2.wav"},{"$f":"Input!M648","v":"alert2.wav"},"Sounds_OpenMartin=alert2.wavalert2.wavSounds_OpenMartin=alert2.wav","Sounds_OpenMartin=alert2.wavalert2.wavSounds_OpenMartin=alert2.wav","Sounds_OpenMartin=alert2.wavalert2.wavSounds_OpenMartin=alert2.wav","Sounds_OpenMartin=alert2.wavalert2.wavSounds_OpenMartin=alert2.wav","Sounds_OpenMartin=alert2.wavalert2.wavSounds_OpenMartin=alert2.wav","Sounds_OpenMartin=alert2.wavalert2.wavSounds_OpenMartin=alert2.wav","Sounds_OpenMartin=alert2.wavalert2.wavSounds_OpenMartin=alert2.wav","Sounds_OpenMartin=alert2.wavalert2.wavSounds_OpenMartin=alert2.wav","Sounds_OpenMartin=alert2.wavalert2.wavSounds_OpenMartin=alert2.wav","Sounds_OpenMartin=alert2.wavalert2.wavSounds_OpenMartin=alert2.wav","Sounds_OpenMartin=alert2.wavalert2.wavSounds_OpenMartin=alert2.wav"]
["Sounds_OpenAntiMartin=alert2.wav","Sounds_OpenAntiMartin=alert2.wav","Sounds_OpenAntiMartin=alert2.wav","Anti-martin opening sound name ",{"$f":"Input!C649","v":"alert2.wav"},{"$f":"Input!D649","v":"alert2.wav"},{"$f":"Input!E649","v":"alert2.wav"},{"$f":"Input!F649","v":"alert2.wav"},{"$f":"Input!G649","v":"alert2.wav"},{"$f":"Input!H649","v":"alert2.wav"},{"$f":"Input!I649","v":"alert2.wav"},{"$f":"Input!J649","v":"alert2.wav"},{"$f":"Input!K649","v":"alert2.wav"},{"$f":"Input!L649","v":"alert2.wav"},{"$f":"Input!M649","v":"alert2.wav"},"Sounds_OpenAntiMartin=alert2.wavalert2.wavSounds_OpenAntiMartin=alert2.wav","Sounds_OpenAntiMartin=alert2.wavalert2.wavSounds_OpenAntiMartin=alert2.wav","Sounds_OpenAntiMartin=alert2.wavalert2.wavSounds_OpenAntiMartin=alert2.wav","Sounds_OpenAntiMartin=alert2.wavalert2.wavSounds_OpenAntiMartin=alert2.wav","Sounds_OpenAntiMartin=alert2.wavalert2.wavSounds_OpenAntiMartin=alert2.wav","Sounds_OpenAntiMartin=alert2.wavalert2.wavSounds_OpenAntiMartin=alert2.wav","Sounds_OpenAntiMartin=alert2.wavalert2.wavSounds_OpenAntiMartin=alert2.wav","Sounds_OpenAntiMartin=alert2.wavalert2.wavSounds_OpenAntiMartin=alert2.wav","Sounds_OpenAntiMartin=alert2.wavalert2.wavSounds_OpenAntiMartin=alert2.wav","Sounds_OpenAntiMartin=alert2.wavalert2.wavSounds_OpenAntiMartin=alert2.wav","Sounds_OpenAntiMartin=alert2.wavalert2.wavSounds_OpenAntiMartin=alert2.wav"]
["Sounds_Close=alert.wav","Sounds_Close=alert.wav","Sounds_Close=alert.wav","Closing sound name ",{"$f":"Input!C650","v":"alert.wav"},{"$f":"Input!D650","v":"alert.wav"},{"$f":"Input!E650","v":"alert.wav"},{"$f":"Input!F650","v":"alert.wav"},{"$f":"Input!G650","v":"alert.wav"},{"$f":"Input!H650","v":"alert.wav"},{"$f":"Input!I650","v":"alert.wav"},{"$f":"Input!J650","v":"alert.wav"},{"$f":"Input!K650","v":"alert.wav"},{"$f":"Input!L650","v":"alert.wav"},{"$f":"Input!M650","v":"alert.wav"},"Sounds_Close=alert.wavalert.wavSounds_Close=alert.wav","Sounds_Close=alert.wavalert.wavSounds_Close=alert.wav","Sounds_Close=alert.wavalert.wavSounds_Close=alert.wav","Sounds_Close=alert.wavalert.wavSounds_Close=alert.wav","Sounds_Close=alert.wavalert.wavSounds_Close=alert.wav","Sounds_Close=alert.wavalert.wavSounds_Close=alert.wav","Sounds_Close=alert.wavalert.wavSounds_Close=alert.wav","Sounds_Close=alert.wavalert.wavSounds_Close=alert.wav","Sounds_Close=alert.wavalert.wavSounds_Close=alert.wav","Sounds_Close=alert.wavalert.wavSounds_Close=alert.wav","Sounds_Close=alert.wavalert.wavSounds_Close=alert.wav"]
["; Tester and Optimization settings","; Tester and Optimization settings","; Tester and Optimization settings","Tester and Optimization settings ",null,null,null,null,null,null,null,null,null,null,null,{"$f":"$A651","v":"; Tester and Optimization settings"},"; Tester and Optimization settings","; Tester and Optimization settings","; Tester and Optimization settings","; Tester and Optimization settings","; Tester and Optimization settings","; Tester and Optimization settings","; Tester and Optimization settings","; Tester and Optimization settings","; Tester and Optimization settings","; Tester and Optimization settings"]
["Optimization_Settings====================================================================================","Optimization_Settings====================================================================================","Optimization_Settings====================================================================================","Tester and Optimization settings: ",null,null,null,null,null,null,null,null,null,null,null,"Optimization_Settings====================================================================================","Optimization_Settings====================================================================================","Optimization_Settings====================================================================================","Optimization_Settings====================================================================================","Optimization_Settings====================================================================================","Optimization_Settings====================================================================================","Optimization_Settings====================================================================================","Optimization_Settings====================================================================================","Optimization_Settings====================================================================================","Optimization_Settings====================================================================================","Optimization_Settings===================================================================================="]
["TesterWithdrawal_Header===== Tester withdrawal ====","TesterWithdrawal_Header===== Tester withdrawal ====","TesterWithdrawal_Header===== Tester withdrawal ====","Tester withdrawal: ",null,null,null,null,null,null,null,null,null,null,null,"TesterWithdrawal_Header===== Tester withdrawal ====","TesterWithdrawal_Header===== Tester withdrawal ====","TesterWithdrawal_Header===== Tester withdrawal ====","TesterWithdrawal_Header===== Tester withdrawal ====","TesterWithdrawal_Header===== Tester withdrawal ====","TesterWithdrawal_Header===== Tester withdrawal ====","TesterWithdrawal_Header===== Tester withdrawal ====","TesterWithdrawal_Header===== Tester withdrawal ====","TesterWithdrawal_Header===== Tester withdrawal ====","TesterWithdrawal_Header===== Tester withdrawal ====","TesterWithdrawal_Header===== Tester withdrawal ===="]
["TesterWithdrawal_Type=0||0||0||2||N",{"$f":"_xlfn.CONCAT(LEFT(TRIM(A654),FIND(\"=\",TRIM(A654))-1),\"=\")","v":"TesterWithdrawal_Type="},{"$f":"_xlfn.CONCAT(\"|\",RIGHT(TRIM(A654),LEN(TRIM(A654))-SEARCH(\"|\",TRIM(A654))))","v":"||0||0||2||N"},"Withdrawal type ",{"$f":"VLOOKUP(Input!C654,Start!$CW$2:$CX$4,2,0)","v":1},{"$f":"VLOOKUP(Input!D654,Start!$CW$2:$CX$4,2,0)","v":1},{"$f":"VLOOKUP(Input!E654,Start!$CW$2:$CX$4,2,0)","v":1},{"$f":"VLOOKUP(Input!F654,Start!$CW$2:$CX$4,2,0)","v":1},{"$f":"VLOOKUP(Input!G654,Start!$CW$2:$CX$4,2,0)","v":1},{"$f":"VLOOKUP(Input!H654,Start!$CW$2:$CX$4,2,0)","v":1},{"$f":"VLOOKUP(Input!I654,Start!$CW$2:$CX$4,2,0)","v":1},{"$f":"VLOOKUP(Input!J654,Start!$CW$2:$CX$4,2,0)","v":1},{"$f":"VLOOKUP(Input!K654,Start!$CW$2:$CX$4,2,0)","v":1},{"$f":"VLOOKUP(Input!L654,Start!$CW$2:$CX$4,2,0)","v":1},{"$f":"VLOOKUP(Input!M654,Start!$CW$2:$CX$4,2,0)","v":1},{"$f":"_xlfn.CONCAT($B654,E654,$C654)","v":"TesterWithdrawal_Type=1||0||0||2||N"},"TesterWithdrawal_Type=1||0||0||2||N","TesterWithdrawal_Type=1||0||0||2||N","TesterWithdrawal_Type=1||0||0||2||N","TesterWithdrawal_Type=1||0||0||2||N","TesterWithdrawal_Type=1||0||0||2||N","TesterWithdrawal_Type=1||0||0||2||N","TesterWithdrawal_Type=1||0||0||2||N","TesterWithdrawal_Type=1||0||0||2||N","TesterWithdrawal_Type=1||0||0||2||N","TesterWithdrawal_Type=1||0||0||2||N"]
["TesterWithdrawal_Frequency=2||0||0||4||N","TesterWithdrawal_Frequency=","||0||0||4||N","Withdrawal frequency ",{"$f":"VLOOKUP(Input!C655,Start!$CY$2:$CZ$6,2,0)","v":1},{"$f":"VLOOKUP(Input!D655,Start!$CY$2:$CZ$6,2,0)","v":1},{"$f":"VLOOKUP(Input!E655,Start!$CY$2:$CZ$6,2,0)","v":1},{"$f":"VLOOKUP(Input!F655,Start!$CY$2:$CZ$6,2,0)","v":1},{"$f":"VLOOKUP(Input!G655,Start!$CY$2:$CZ$6,2,0)","v":1},{"$f":"VLOOKUP(Input!H655,Start!$CY$2:$CZ$6,2,0)","v":1},{"$f":"VLOOKUP(Input!I655,Start!$CY$2:$CZ$6,2,0)","v":1},{"$f":"VLOOKUP(Input!J655,Start!$CY$2:$CZ$6,2,0)","v":1},{"$f":"VLOOKUP(Input!K655,Start!$CY$2:$CZ$6,2,0)","v":1},{"$f":"VLOOKUP(Input!L655,Start!$CY$2:$CZ$6,2,0)","v":1},{"$f":"VLOOKUP(Input!M655,Start!$CY$2:$CZ$6,2,0)","v":1},"TesterWithdrawal_Frequency=1||0||0||4||N","TesterWithdrawal_Frequency=1||0||0||4||N","TesterWithdrawal_Frequency=1||0||0||4||N","TesterWithdrawal_Frequency=1||0||0||4||N","TesterWithdrawal_Frequency=1||0||0||4||N","TesterWithdrawal_Frequency=1||0||0||4||N","TesterWithdrawal_Frequency=1||0||0||4||N","TesterWithdrawal_Frequency=1||0||0||4||N","TesterWithdrawal_Frequency=1||0||0||4||N","TesterWithdrawal_Frequency=1||0||0||4||N","TesterWithdrawal_Frequency=1||0||0||4||N"]
["TesterWithdrawal_Size=50||50||5.000000||500.000000||N","TesterWithdrawal_Size=","||50||5.000000||500.000000||N","Withdrawal size or amount) ",{"$f":"Input!C656","v":0},{"$f":"Input!D656","v":0},{"$f":"Input!E656","v":0},{"$f":"Input!F656","v":0},{"$f":"Input!G656","v":0},{"$f":"Input!H656","v":0},{"$f":"Input!I656","v":0},{"$f":"Input!J656","v":0},{"$f":"Input!K656","v":0},{"$f":"Input!L656","v":0},{"$f":"Input!M656","v":0},"TesterWithdrawal_Size=0||50||5.000000||500.000000||N","TesterWithdrawal_Size=0||50||5.000000||500.000000||N","TesterWithdrawal_Size=0||50||5.000000||500.000000||N","TesterWithdrawal_Size=0||50||5.000000||500.000000||N","TesterWithdrawal_Size=0||50||5.000000||500.000000||N","TesterWithdrawal_Size=0||50||5.000000||500.000000||N","TesterWithdrawal_Size=0||50||5.000000||500.000000||N","TesterWithdrawal_Size=0||50||5.000000||500.000000||N","TesterWithdrawal_Size=0||50||5.000000||500.000000||N","TesterWithdrawal_Size=0||50||5.000000||500.000000||N","TesterWithdrawal_Size=0||50||5.000000||500.000000||N"]
["InpEquityRecorder===== Optimization criterion ====","InpEquityRecorder===== Optimization criterion ====","InpEquityRecorder===== Optimization criterion ====","Optimization criterion: ",null,null,null,null,null,null,null,null,null,null,null,{"$f":"$A657","v":"InpEquityRecorder===== Optimization criterion ===="},{"$f":"$A657","v":"InpEquityRecorder===== Optimization criterion ===="},{"$f":"$A657","v":"InpEquityRecorder===== Optimization criterion ===="},{"$f":"$A657","v":"InpEquityRecorder===== Optimization criterion ===="},{"$f":"$A657","v":"InpEquityRecorder===== Optimization criterion ===="},{"$f":"$A657","v":"InpEquityRecorder===== Optimization criterion ===="},{"$f":"$A657","v":"InpEquityRecorder===== Optimization criterion ===="},{"$f":"$A657","v":"InpEquityRecorder===== Optimization criterion ===="},{"$f":"$A657","v":"InpEquityRecorder===== Optimization criterion ===="},{"$f":"$A657","v":"InpEquityRecorder===== Optimization criterion ===="},{"$f":"$A657","v":"InpEquityRecorder===== Optimization criterion ===="}]
["InpEquityRecorderType=1","InpEquityRecorderType=1","InpEquityRecorderType=1","Custom optimization criterion ",{"$f":"VLOOKUP(Input!C658,Start!$DA$2:$DB$4,2,0)","v":1},{"$f":"VLOOKUP(Input!D658,Start!$DA$2:$DB$4,2,0)","v":1},{"$f":"VLOOKUP(Input!E658,Start!$DA$2:$DB$4,2,0)","v":1},{"$f":"VLOOKUP(Input!F658,Start!$DA$2:$DB$4,2,0)","v":1},{"$f":"VLOOKUP(Input!G658,Start!$DA$2:$DB$4,2,0)","v":1},{"$f":"VLOOKUP(Input!H658,Start!$DA$2:$DB$4,2,0)","v":1},{"$f":"VLOOKUP(Input!I658,Start!$DA$2:$DB$4,2,0)","v":1},{"$f":"VLOOKUP(Input!J658,Start!$DA$2:$DB$4,2,0)","v":1},{"$f":"VLOOKUP(Input!K658,Start!$DA$2:$DB$4,2,0)","v":1},{"$f":"VLOOKUP(Input!L658,Start!$DA$2:$DB$4,2,0)","v":1},{"$f":"VLOOKUP(Input!M658,Start!$DA$2:$DB$4,2,0)","v":1},{"$f":"_xlfn.CONCAT($B658,E658,$C658)","v":"InpEquityRecorderType=11InpEquityRecorderType=1"},"InpEquityRecorderType=11InpEquityRecorderType=1","InpEquityRecorderType=11InpEquityRecorderType=1","InpEquityRecorderType=11InpEquityRecorderType=1","InpEquityRecorderType=11InpEquityRecorderType=1","InpEquityRecorderType=11InpEquityRecorderType=1","InpEquityRecorderType=11InpEquityRecorderType=1","InpEquityRecorderType=11InpEquityRecorderType=1","InpEquityRecorderType=11InpEquityRecorderType=1","InpEquityRecorderType=11InpEquityRecorderType=1","InpEquityRecorderType=11InpEquityRecorderType=1"]
["InpEquityRecorderCorr=0","InpEquityRecorderCorr=0","InpEquityRecorderCorr=0","Correlation type ",{"$f":"VLOOKUP(Input!C659,Start!$DC$2:$DD$3,2,0)","v":1},{"$f":"VLOOKUP(Input!D659,Start!$DC$2:$DD$3,2,0)","v":1},{"$f":"VLOOKUP(Input!E659,Start!$DC$2:$DD$3,2,0)","v":1},{"$f":"VLOOKUP(Input!F659,Start!$DC$2:$DD$3,2,0)","v":1},{"$f":"VLOOKUP(Input!G659,Start!$DC$2:$DD$3,2,0)","v":1},{"$f":"VLOOKUP(Input!H659,Start!$DC$2:$DD$3,2,0)","v":1},{"$f":"VLOOKUP(Input!I659,Start!$DC$2:$DD$3,2,0)","v":1},{"$f":"VLOOKUP(Input!J659,Start!$DC$2:$DD$3,2,0)","v":1},{"$f":"VLOOKUP(Input!K659,Start!$DC$2:$DD$3,2,0)","v":1},{"$f":"VLOOKUP(Input!L659,Start!$DC$2:$DD$3,2,0)","v":1},{"$f":"VLOOKUP(Input!M659,Start!$DC$2:$DD$3,2,0)","v":1},"InpEquityRecorderCorr=01InpEquityRecorderCorr=0","InpEquityRecorderCorr=01InpEquityRecorderCorr=0","InpEquityRecorderCorr=01InpEquityRecorderCorr=0","InpEquityRecorderCorr=01InpEquityRecorderCorr=0","InpEquityRecorderCorr=01InpEquityRecorderCorr=0","InpEquityRecorderCorr=01InpEquityRecorderCorr=0","InpEquityRecorderCorr=01InpEquityRecorderCorr=0","InpEquityRecorderCorr=01InpEquityRecorderCorr=0","InpEquityRecorderCorr=01InpEquityRecorderCorr=0","InpEquityRecorderCorr=01InpEquityRecorderCorr=0","InpEquityRecorderCorr=01InpEquityRecorderCorr=0"]

{"sheet":"Output SET File Generator","index":3,"n_rows":659,"n_cols":13,"rows_kept":659,"cut":false,"hidden":true,"merged":[]}
[]
[]
[]
[]
[null,"Set Name","Fibo"]
[null,"Set Version","Default Setting","Version 1","Version 2","Version 3","Version 4","Version 5","Version 6","Version 7","Version 8","Version 9","Version 10"]
["; Binance properties","Binance properties"]
["BinanceTradeConnector_Settings====================================================================================","8inanceTradeConnector settings:"]
["CustomStartBalance=0||0||0.000000||0.000000||N","Custom account balance (O use real 8inance balance)",0,{"$f":"IF(Input!D9=\"\",Input!$C9,Input!D9)","v":0},{"$f":"IF(Input!E9=\"\",Input!$C9,Input!E9)","v":0},{"$f":"IF(Input!F9=\"\",Input!$C9,Input!F9)","v":0},{"$f":"IF(Input!G9=\"\",Input!$C9,Input!G9)","v":0},{"$f":"IF(Input!H9=\"\",Input!$C9,Input!H9)","v":0},{"$f":"IF(Input!I9=\"\",Input!$C9,Input!I9)","v":0},{"$f":"IF(Input!J9=\"\",Input!$C9,Input!J9)","v":0},{"$f":"IF(Input!K9=\"\",Input!$C9,Input!K9)","v":0},{"$f":"IF(Input!L9=\"\",Input!$C9,Input!L9)","v":0},{"$f":"IF(Input!M9=\"\",Input!$C9,Input!M9)","v":0}]
["ShowVirtualInfoOnChart=false||false||0||true||N","Show virtual info on the chart",false,{"$f":"IF(Input!D10=\"\",Input!$C10,Input!D10)","v":false},{"$f":"IF(Input!E10=\"\",Input!$C10,Input!E10)","v":false},{"$f":"IF(Input!F10=\"\",Input!$C10,Input!F10)","v":false},{"$f":"IF(Input!G10=\"\",Input!$C10,Input!G10)","v":false},{"$f":"IF(Input!H10=\"\",Input!$C10,Input!H10)","v":false},{"$f":"IF(Input!I10=\"\",Input!$C10,Input!I10)","v":false},{"$f":"IF(Input!J10=\"\",Input!$C10,Input!J10)","v":false},{"$f":"IF(Input!K10=\"\",Input!$C10,Input!K10)","v":false},{"$f":"IF(Input!L10=\"\",Input!$C10,Input!L10)","v":false},{"$f":"IF(Input!M10=\"\",Input!$C10,Input!M10)","v":false}]
["SaveVirtualStateOnEveryChange=true||false||0||true||N","Save virtual state on every change",true,{"$f":"IF(Input!D11=\"\",Input!$C11,Input!D11)","v":true},{"$f":"IF(Input!E11=\"\",Input!$C11,Input!E11)","v":true},{"$f":"IF(Input!F11=\"\",Input!$C11,Input!F11)","v":true},{"$f":"IF(Input!G11=\"\",Input!$C11,Input!G11)","v":true},{"$f":"IF(Input!H11=\"\",Input!$C11,Input!H11)","v":true},{"$f":"IF(Input!I11=\"\",Input!$C11,Input!I11)","v":true},{"$f":"IF(Input!J11=\"\",Input!$C11,Input!J11)","v":true},{"$f":"IF(Input!K11=\"\",Input!$C11,Input!K11)","v":true},{"$f":"IF(Input!L11=\"\",Input!$C11,Input!L11)","v":true},{"$f":"IF(Input!M11=\"\",Input!$C11,Input!M11)","v":true}]
["SendAlertsToGrammy=true||false||0||true||N","Send alerts to Grammy",true,{"$f":"IF(Input!D12=\"\",Input!$C12,Input!D12)","v":true},{"$f":"IF(Input!E12=\"\",Input!$C12,Input!E12)","v":true},{"$f":"IF(Input!F12=\"\",Input!$C12,Input!F12)","v":true},{"$f":"IF(Input!G12=\"\",Input!$C12,Input!G12)","v":true},{"$f":"IF(Input!H12=\"\",Input!$C12,Input!H12)","v":true},{"$f":"IF(Input!I12=\"\",Input!$C12,Input!I12)","v":true},{"$f":"IF(Input!J12=\"\",Input!$C12,Input!J12)","v":true},{"$f":"IF(Input!K12=\"\",Input!$C12,Input!K12)","v":true},{"$f":"IF(Input!L12=\"\",Input!$C12,Input!L12)","v":true},{"$f":"IF(Input!M12=\"\",Input!$C12,Input!M12)","v":true}]
["; Expert properties","Expert properties"]
["Expert_Properties====================================================================================","Expert properties:"]
["Expert_Id=3040||3040||1||30400||N","Expert Id"]
["Expert_Comment=CP","Expert Comment"]
["SetDescription=","Set description (write your notes here)",null,{"$f":"IF(Input!D17=\"\",Input!$C17,Input!D17)","v":0},{"$f":"IF(Input!E17=\"\",Input!$C17,Input!E17)","v":0},{"$f":"IF(Input!F17=\"\",Input!$C17,Input!F17)","v":0},{"$f":"IF(Input!G17=\"\",Input!$C17,Input!G17)","v":0},{"$f":"IF(Input!H17=\"\",Input!$C17,Input!H17)","v":0},{"$f":"IF(Input!I17=\"\",Input!$C17,Input!I17)","v":0},{"$f":"IF(Input!J17=\"\",Input!$C17,Input!J17)","v":0},{"$f":"IF(Input!K17=\"\",Input!$C17,Input!K17)","v":0},{"$f":"IF(Input!L17=\"\",Input!$C17,Input!L17)","v":0},{"$f":"IF(Input!M17=\"\",Input!$C17,Input!M17)","v":0}]
["TradeDirection=0||-1||0||1||N","Trade direction","Both (Buy & Sell)",{"$f":"IF(Input!D18=\"\",Input!$C18,Input!D18)","v":"Both (Buy & Sell)"},{"$f":"IF(Input!E18=\"\",Input!$C18,Input!E18)","v":"Both (Buy & Sell)"},{"$f":"IF(Input!F18=\"\",Input!$C18,Input!F18)","v":"Both (Buy & Sell)"},{"$f":"IF(Input!G18=\"\",Input!$C18,Input!G18)","v":"Both (Buy & Sell)"},{"$f":"IF(Input!H18=\"\",Input!$C18,Input!H18)","v":"Both (Buy & Sell)"},{"$f":"IF(Input!I18=\"\",Input!$C18,Input!I18)","v":"Both (Buy & Sell)"},{"$f":"IF(Input!J18=\"\",Input!$C18,Input!J18)","v":"Both (Buy & Sell)"},{"$f":"IF(Input!K18=\"\",Input!$C18,Input!K18)","v":"Both (Buy & Sell)"},{"$f":"IF(Input!L18=\"\",Input!$C18,Input!L18)","v":"Both (Buy & Sell)"},{"$f":"IF(Input!M18=\"\",Input!$C18,Input!M18)","v":"Both (Buy & Sell)"}]
["Signal_TimeFrame=0||0||0||1||N","Signal TimeFrame","2 Minutes ",{"$f":"IF(Input!D19=\"\",Input!$C19,Input!D19)","v":"2 Minutes "},{"$f":"IF(Input!E19=\"\",Input!$C19,Input!E19)","v":"2 Minutes "},{"$f":"IF(Input!F19=\"\",Input!$C19,Input!F19)","v":"2 Minutes "},{"$f":"IF(Input!G19=\"\",Input!$C19,Input!G19)","v":"2 Minutes "},{"$f":"IF(Input!H19=\"\",Input!$C19,Input!H19)","v":"2 Minutes "},{"$f":"IF(Input!I19=\"\",Input!$C19,Input!I19)","v":"2 Minutes "},{"$f":"IF(Input!J19=\"\",Input!$C19,Input!J19)","v":"2 Minutes "},{"$f":"IF(Input!K19=\"\",Input!$C19,Input!K19)","v":"2 Minutes "},{"$f":"IF(Input!L19=\"\",Input!$C19,Input!L19)","v":"2 Minutes "},{"$f":"IF(Input!M19=\"\",Input!$C19,Input!M19)","v":"2 Minutes "}]
["NewDealOnNewBar=false||false||0||true||N","New deal on the new bar",false,{"$f":"IF(Input!D20=\"\",Input!$C20,Input!D20)","v":false},{"$f":"IF(Input!E20=\"\",Input!$C20,Input!E20)","v":false},{"$f":"IF(Input!F20=\"\",Input!$C20,Input!F20)","v":false},{"$f":"IF(Input!G20=\"\",Input!$C20,Input!G20)","v":false},{"$f":"IF(Input!H20=\"\",Input!$C20,Input!H20)","v":false},{"$f":"IF(Input!I20=\"\",Input!$C20,Input!I20)","v":false},{"$f":"IF(Input!J20=\"\",Input!$C20,Input!J20)","v":false},{"$f":"IF(Input!K20=\"\",Input!$C20,Input!K20)","v":false},{"$f":"IF(Input!L20=\"\",Input!$C20,Input!L20)","v":false},{"$f":"IF(Input!M20=\"\",Input!$C20,Input!M20)","v":false}]
["MaxFloatingLoss1=0||0||0.000000||0.000000||N","Max floating loss (1st trade) (account currency) (O disable",0,{"$f":"IF(Input!D21=\"\",Input!$C21,Input!D21)","v":0},{"$f":"IF(Input!E21=\"\",Input!$C21,Input!E21)","v":0},{"$f":"IF(Input!F21=\"\",Input!$C21,Input!F21)","v":0},{"$f":"IF(Input!G21=\"\",Input!$C21,Input!G21)","v":0},{"$f":"IF(Input!H21=\"\",Input!$C21,Input!H21)","v":0},{"$f":"IF(Input!I21=\"\",Input!$C21,Input!I21)","v":0},{"$f":"IF(Input!J21=\"\",Input!$C21,Input!J21)","v":0},{"$f":"IF(Input!K21=\"\",Input!$C21,Input!K21)","v":0},{"$f":"IF(Input!L21=\"\",Input!$C21,Input!L21)","v":0},{"$f":"IF(Input!M21=\"\",Input!$C21,Input!M21)","v":0}]
["MaxFloatingLoss=0||0||0.000000||0.000000||N","Max floating loss (martin trade) (account currency) (O - disa",0,{"$f":"IF(Input!D22=\"\",Input!$C22,Input!D22)","v":0},{"$f":"IF(Input!E22=\"\",Input!$C22,Input!E22)","v":0},{"$f":"IF(Input!F22=\"\",Input!$C22,Input!F22)","v":0},{"$f":"IF(Input!G22=\"\",Input!$C22,Input!G22)","v":0},{"$f":"IF(Input!H22=\"\",Input!$C22,Input!H22)","v":0},{"$f":"IF(Input!I22=\"\",Input!$C22,Input!I22)","v":0},{"$f":"IF(Input!J22=\"\",Input!$C22,Input!J22)","v":0},{"$f":"IF(Input!K22=\"\",Input!$C22,Input!K22)","v":0},{"$f":"IF(Input!L22=\"\",Input!$C22,Input!L22)","v":0},{"$f":"IF(Input!M22=\"\",Input!$C22,Input!M22)","v":0}]
["MinMarginLevel1=0||0||0.000000||0.000000||N","Min margin level % (1st trade) (O disable limit)",0,{"$f":"IF(Input!D23=\"\",Input!$C23,Input!D23)","v":0},{"$f":"IF(Input!E23=\"\",Input!$C23,Input!E23)","v":0},{"$f":"IF(Input!F23=\"\",Input!$C23,Input!F23)","v":0},{"$f":"IF(Input!G23=\"\",Input!$C23,Input!G23)","v":0},{"$f":"IF(Input!H23=\"\",Input!$C23,Input!H23)","v":0},{"$f":"IF(Input!I23=\"\",Input!$C23,Input!I23)","v":0},{"$f":"IF(Input!J23=\"\",Input!$C23,Input!J23)","v":0},{"$f":"IF(Input!K23=\"\",Input!$C23,Input!K23)","v":0},{"$f":"IF(Input!L23=\"\",Input!$C23,Input!L23)","v":0},{"$f":"IF(Input!M23=\"\",Input!$C23,Input!M23)","v":0}]
["MinMarginLevel=0||0||0.000000||0.000000||N","Min margin level % (martin trade) (O - disable limit)",0,{"$f":"IF(Input!D24=\"\",Input!$C24,Input!D24)","v":0},{"$f":"IF(Input!E24=\"\",Input!$C24,Input!E24)","v":0},{"$f":"IF(Input!F24=\"\",Input!$C24,Input!F24)","v":0},{"$f":"IF(Input!G24=\"\",Input!$C24,Input!G24)","v":0},{"$f":"IF(Input!H24=\"\",Input!$C24,Input!H24)","v":0},{"$f":"IF(Input!I24=\"\",Input!$C24,Input!I24)","v":0},{"$f":"IF(Input!J24=\"\",Input!$C24,Input!J24)","v":0},{"$f":"IF(Input!K24=\"\",Input!$C24,Input!K24)","v":0},{"$f":"IF(Input!L24=\"\",Input!$C24,Input!L24)","v":0},{"$f":"IF(Input!M24=\"\",Input!$C24,Input!M24)","v":0}]
["UseCustomCommission=0||0||0.000000||0.000000||N","Custom commission (in account currency per lot) (O disable)",0,{"$f":"IF(Input!D25=\"\",Input!$C25,Input!D25)","v":0},{"$f":"IF(Input!E25=\"\",Input!$C25,Input!E25)","v":0},{"$f":"IF(Input!F25=\"\",Input!$C25,Input!F25)","v":0},{"$f":"IF(Input!G25=\"\",Input!$C25,Input!G25)","v":0},{"$f":"IF(Input!H25=\"\",Input!$C25,Input!H25)","v":0},{"$f":"IF(Input!I25=\"\",Input!$C25,Input!I25)","v":0},{"$f":"IF(Input!J25=\"\",Input!$C25,Input!J25)","v":0},{"$f":"IF(Input!K25=\"\",Input!$C25,Input!K25)","v":0},{"$f":"IF(Input!L25=\"\",Input!$C25,Input!L25)","v":0},{"$f":"IF(Input!M25=\"\",Input!$C25,Input!M25)","v":0}]
["ManageManual=false||false||0||true||N","Manage manual trades",false,{"$f":"IF(Input!D26=\"\",Input!$C26,Input!D26)","v":false},{"$f":"IF(Input!E26=\"\",Input!$C26,Input!E26)","v":false},{"$f":"IF(Input!F26=\"\",Input!$C26,Input!F26)","v":false},{"$f":"IF(Input!G26=\"\",Input!$C26,Input!G26)","v":false},{"$f":"IF(Input!H26=\"\",Input!$C26,Input!H26)","v":false},{"$f":"IF(Input!I26=\"\",Input!$C26,Input!I26)","v":false},{"$f":"IF(Input!J26=\"\",Input!$C26,Input!J26)","v":false},{"$f":"IF(Input!K26=\"\",Input!$C26,Input!K26)","v":false},{"$f":"IF(Input!L26=\"\",Input!$C26,Input!L26)","v":false},{"$f":"IF(Input!M26=\"\",Input!$C26,Input!M26)","v":false}]
["; Lot properties","Lot properties"]
["Lot_Properties====================================================================================","Lot properties:"]
["Lot_Type=0||0||0||4||N","Lot type","Risk per trade ",{"$f":"IF(Input!D29=\"\",Input!$C29,Input!D29)","v":"Risk per trade "},{"$f":"IF(Input!E29=\"\",Input!$C29,Input!E29)","v":"Risk per trade "},{"$f":"IF(Input!F29=\"\",Input!$C29,Input!F29)","v":"Risk per trade "},{"$f":"IF(Input!G29=\"\",Input!$C29,Input!G29)","v":"Risk per trade "},{"$f":"IF(Input!H29=\"\",Input!$C29,Input!H29)","v":"Risk per trade "},{"$f":"IF(Input!I29=\"\",Input!$C29,Input!I29)","v":"Risk per trade "},{"$f":"IF(Input!J29=\"\",Input!$C29,Input!J29)","v":"Risk per trade "},{"$f":"IF(Input!K29=\"\",Input!$C29,Input!K29)","v":"Risk per trade "},{"$f":"IF(Input!L29=\"\",Input!$C29,Input!L29)","v":"Risk per trade "},{"$f":"IF(Input!M29=\"\",Input!$C29,Input!M29)","v":"Risk per trade "}]
["Lot_Per_1000=0.01||0.01||0.001000||0.100000||N","Lot size (fixed/per IDDD)",null,{"$f":"IF(Input!D30=\"\",Input!$C30,Input!D30)","v":0},{"$f":"IF(Input!E30=\"\",Input!$C30,Input!E30)","v":0},{"$f":"IF(Input!F30=\"\",Input!$C30,Input!F30)","v":0},{"$f":"IF(Input!G30=\"\",Input!$C30,Input!G30)","v":0},{"$f":"IF(Input!H30=\"\",Input!$C30,Input!H30)","v":0},{"$f":"IF(Input!I30=\"\",Input!$C30,Input!I30)","v":0},{"$f":"IF(Input!J30=\"\",Input!$C30,Input!J30)","v":0},{"$f":"IF(Input!K30=\"\",Input!$C30,Input!K30)","v":0},{"$f":"IF(Input!L30=\"\",Input!$C30,Input!L30)","v":0},{"$f":"IF(Input!M30=\"\",Input!$C30,Input!M30)","v":0}]
["Lot_Risk=0||0||0.000000||0.000000||N","Lot risk %",0,{"$f":"IF(Input!D31=\"\",Input!$C31,Input!D31)","v":0},{"$f":"IF(Input!E31=\"\",Input!$C31,Input!E31)","v":0},{"$f":"IF(Input!F31=\"\",Input!$C31,Input!F31)","v":0},{"$f":"IF(Input!G31=\"\",Input!$C31,Input!G31)","v":0},{"$f":"IF(Input!H31=\"\",Input!$C31,Input!H31)","v":0},{"$f":"IF(Input!I31=\"\",Input!$C31,Input!I31)","v":0},{"$f":"IF(Input!J31=\"\",Input!$C31,Input!J31)","v":0},{"$f":"IF(Input!K31=\"\",Input!$C31,Input!K31)","v":0},{"$f":"IF(Input!L31=\"\",Input!$C31,Input!L31)","v":0},{"$f":"IF(Input!M31=\"\",Input!$C31,Input!M31)","v":0}]
["Lot_Max=0||0||0.000000||0.000000||N","Max lot (O - disable limit)",0,{"$f":"IF(Input!D32=\"\",Input!$C32,Input!D32)","v":0},{"$f":"IF(Input!E32=\"\",Input!$C32,Input!E32)","v":0},{"$f":"IF(Input!F32=\"\",Input!$C32,Input!F32)","v":0},{"$f":"IF(Input!G32=\"\",Input!$C32,Input!G32)","v":0},{"$f":"IF(Input!H32=\"\",Input!$C32,Input!H32)","v":0},{"$f":"IF(Input!I32=\"\",Input!$C32,Input!I32)","v":0},{"$f":"IF(Input!J32=\"\",Input!$C32,Input!J32)","v":0},{"$f":"IF(Input!K32=\"\",Input!$C32,Input!K32)","v":0},{"$f":"IF(Input!L32=\"\",Input!$C32,Input!L32)","v":0},{"$f":"IF(Input!M32=\"\",Input!$C32,Input!M32)","v":0}]
["Lot_MaxPer1000=0||0||0.000000||0.000000||N","Max lot per 1000 (O disable limit)",0,{"$f":"IF(Input!D33=\"\",Input!$C33,Input!D33)","v":0},{"$f":"IF(Input!E33=\"\",Input!$C33,Input!E33)","v":0},{"$f":"IF(Input!F33=\"\",Input!$C33,Input!F33)","v":0},{"$f":"IF(Input!G33=\"\",Input!$C33,Input!G33)","v":0},{"$f":"IF(Input!H33=\"\",Input!$C33,Input!H33)","v":0},{"$f":"IF(Input!I33=\"\",Input!$C33,Input!I33)","v":0},{"$f":"IF(Input!J33=\"\",Input!$C33,Input!J33)","v":0},{"$f":"IF(Input!K33=\"\",Input!$C33,Input!K33)","v":0},{"$f":"IF(Input!L33=\"\",Input!$C33,Input!L33)","v":0},{"$f":"IF(Input!M33=\"\",Input!$C33,Input!M33)","v":0}]
["; Hedge properties","Hedge prope rties "]
["Hedge_Properties====================================================================================","Hedge properties: "]
["AllowHedge=false||false||0||true||N","Allow hedge ",false,{"$f":"IF(Input!D36=\"\",Input!$C36,Input!D36)","v":false},{"$f":"IF(Input!E36=\"\",Input!$C36,Input!E36)","v":false},{"$f":"IF(Input!F36=\"\",Input!$C36,Input!F36)","v":false},{"$f":"IF(Input!G36=\"\",Input!$C36,Input!G36)","v":false},{"$f":"IF(Input!H36=\"\",Input!$C36,Input!H36)","v":false},{"$f":"IF(Input!I36=\"\",Input!$C36,Input!I36)","v":false},{"$f":"IF(Input!J36=\"\",Input!$C36,Input!J36)","v":false},{"$f":"IF(Input!K36=\"\",Input!$C36,Input!K36)","v":false},{"$f":"IF(Input!L36=\"\",Input!$C36,Input!L36)","v":false},{"$f":"IF(Input!M36=\"\",Input!$C36,Input!M36)","v":false}]
["IncreaseHedge_After=0||0||1||10||N","Increase hedge lot after order # (O disable) ",0,{"$f":"IF(Input!D37=\"\",Input!$C37,Input!D37)","v":0},{"$f":"IF(Input!E37=\"\",Input!$C37,Input!E37)","v":0},{"$f":"IF(Input!F37=\"\",Input!$C37,Input!F37)","v":0},{"$f":"IF(Input!G37=\"\",Input!$C37,Input!G37)","v":0},{"$f":"IF(Input!H37=\"\",Input!$C37,Input!H37)","v":0},{"$f":"IF(Input!I37=\"\",Input!$C37,Input!I37)","v":0},{"$f":"IF(Input!J37=\"\",Input!$C37,Input!J37)","v":0},{"$f":"IF(Input!K37=\"\",Input!$C37,Input!K37)","v":0},{"$f":"IF(Input!L37=\"\",Input!$C37,Input!L37)","v":0},{"$f":"IF(Input!M37=\"\",Input!$C37,Input!M37)","v":0}]
["IncreaseHedge_Coefficient=0||2.5||0.250000||25.000000||N","ncrease lot coefficient ",0,{"$f":"IF(Input!D38=\"\",Input!$C38,Input!D38)","v":0},{"$f":"IF(Input!E38=\"\",Input!$C38,Input!E38)","v":0},{"$f":"IF(Input!F38=\"\",Input!$C38,Input!F38)","v":0},{"$f":"IF(Input!G38=\"\",Input!$C38,Input!G38)","v":0},{"$f":"IF(Input!H38=\"\",Input!$C38,Input!H38)","v":0},{"$f":"IF(Input!I38=\"\",Input!$C38,Input!I38)","v":0},{"$f":"IF(Input!J38=\"\",Input!$C38,Input!J38)","v":0},{"$f":"IF(Input!K38=\"\",Input!$C38,Input!K38)","v":0},{"$f":"IF(Input!L38=\"\",Input!$C38,Input!L38)","v":0},{"$f":"IF(Input!M38=\"\",Input!$C38,Input!M38)","v":0}]
["IncreaseHedge_Mode=0||0||0||2||N","Apply coefficient to ","First ooposite lat ",{"$f":"IF(Input!D39=\"\",Input!$C39,Input!D39)","v":"First ooposite lat "},{"$f":"IF(Input!E39=\"\",Input!$C39,Input!E39)","v":"First ooposite lat "},{"$f":"IF(Input!F39=\"\",Input!$C39,Input!F39)","v":"First ooposite lat "},{"$f":"IF(Input!G39=\"\",Input!$C39,Input!G39)","v":"First ooposite lat "},{"$f":"IF(Input!H39=\"\",Input!$C39,Input!H39)","v":"First ooposite lat "},{"$f":"IF(Input!I39=\"\",Input!$C39,Input!I39)","v":"First ooposite lat "},{"$f":"IF(Input!J39=\"\",Input!$C39,Input!J39)","v":"First ooposite lat "},{"$f":"IF(Input!K39=\"\",Input!$C39,Input!K39)","v":"First ooposite lat "},{"$f":"IF(Input!L39=\"\",Input!$C39,Input!L39)","v":"First ooposite lat "},{"$f":"IF(Input!M39=\"\",Input!$C39,Input!M39)","v":"First ooposite lat "}]
["AutoHedge_AfterOrder=0||0||1||10||N","Auto-hedge after order (O - disable) ",0,{"$f":"IF(Input!D40=\"\",Input!$C40,Input!D40)","v":0},{"$f":"IF(Input!E40=\"\",Input!$C40,Input!E40)","v":0},{"$f":"IF(Input!F40=\"\",Input!$C40,Input!F40)","v":0},{"$f":"IF(Input!G40=\"\",Input!$C40,Input!G40)","v":0},{"$f":"IF(Input!H40=\"\",Input!$C40,Input!H40)","v":0},{"$f":"IF(Input!I40=\"\",Input!$C40,Input!I40)","v":0},{"$f":"IF(Input!J40=\"\",Input!$C40,Input!J40)","v":0},{"$f":"IF(Input!K40=\"\",Input!$C40,Input!K40)","v":0},{"$f":"IF(Input!L40=\"\",Input!$C40,Input!L40)","v":0},{"$f":"IF(Input!M40=\"\",Input!$C40,Input!M40)","v":0}]
["AutoHedge_MaxOrders=1||1||1||10||N","Max auto-hedge orders number ",0,{"$f":"IF(Input!D41=\"\",Input!$C41,Input!D41)","v":0},{"$f":"IF(Input!E41=\"\",Input!$C41,Input!E41)","v":0},{"$f":"IF(Input!F41=\"\",Input!$C41,Input!F41)","v":0},{"$f":"IF(Input!G41=\"\",Input!$C41,Input!G41)","v":0},{"$f":"IF(Input!H41=\"\",Input!$C41,Input!H41)","v":0},{"$f":"IF(Input!I41=\"\",Input!$C41,Input!I41)","v":0},{"$f":"IF(Input!J41=\"\",Input!$C41,Input!J41)","v":0},{"$f":"IF(Input!K41=\"\",Input!$C41,Input!K41)","v":0},{"$f":"IF(Input!L41=\"\",Input!$C41,Input!L41)","v":0},{"$f":"IF(Input!M41=\"\",Input!$C41,Input!M41)","v":0}]
["AutoHedge_OnDrawDown=0||0||0.000000||0.000000||N","Auto-hedge on DrawDown % (O - disable) ",0,{"$f":"IF(Input!D42=\"\",Input!$C42,Input!D42)","v":0},{"$f":"IF(Input!E42=\"\",Input!$C42,Input!E42)","v":0},{"$f":"IF(Input!F42=\"\",Input!$C42,Input!F42)","v":0},{"$f":"IF(Input!G42=\"\",Input!$C42,Input!G42)","v":0},{"$f":"IF(Input!H42=\"\",Input!$C42,Input!H42)","v":0},{"$f":"IF(Input!I42=\"\",Input!$C42,Input!I42)","v":0},{"$f":"IF(Input!J42=\"\",Input!$C42,Input!J42)","v":0},{"$f":"IF(Input!K42=\"\",Input!$C42,Input!K42)","v":0},{"$f":"IF(Input!L42=\"\",Input!$C42,Input!L42)","v":0},{"$f":"IF(Input!M42=\"\",Input!$C42,Input!M42)","v":0}]
["; Global Account properties","Global Account properties "]
["GlobalAccount_Properties====================================================================================","Global Account properties: "]
["GlobalAccountStopLoss_ccy=0||0||0.000000||0.000000||N","GA StopLoss (account currency) (O disable) ",0,{"$f":"IF(Input!D45=\"\",Input!$C45,Input!D45)","v":0},{"$f":"IF(Input!E45=\"\",Input!$C45,Input!E45)","v":0},{"$f":"IF(Input!F45=\"\",Input!$C45,Input!F45)","v":0},{"$f":"IF(Input!G45=\"\",Input!$C45,Input!G45)","v":0},{"$f":"IF(Input!H45=\"\",Input!$C45,Input!H45)","v":0},{"$f":"IF(Input!I45=\"\",Input!$C45,Input!I45)","v":0},{"$f":"IF(Input!J45=\"\",Input!$C45,Input!J45)","v":0},{"$f":"IF(Input!K45=\"\",Input!$C45,Input!K45)","v":0},{"$f":"IF(Input!L45=\"\",Input!$C45,Input!L45)","v":0},{"$f":"IF(Input!M45=\"\",Input!$C45,Input!M45)","v":0}]
["GlobalAccountStopLoss_perc=0||0||0.000000||0.000000||N","GA StopLoss from balance) (O - disable) ",0,{"$f":"IF(Input!D46=\"\",Input!$C46,Input!D46)","v":0},{"$f":"IF(Input!E46=\"\",Input!$C46,Input!E46)","v":0},{"$f":"IF(Input!F46=\"\",Input!$C46,Input!F46)","v":0},{"$f":"IF(Input!G46=\"\",Input!$C46,Input!G46)","v":0},{"$f":"IF(Input!H46=\"\",Input!$C46,Input!H46)","v":0},{"$f":"IF(Input!I46=\"\",Input!$C46,Input!I46)","v":0},{"$f":"IF(Input!J46=\"\",Input!$C46,Input!J46)","v":0},{"$f":"IF(Input!K46=\"\",Input!$C46,Input!K46)","v":0},{"$f":"IF(Input!L46=\"\",Input!$C46,Input!L46)","v":0},{"$f":"IF(Input!M46=\"\",Input!$C46,Input!M46)","v":0}]
["GlobalAccountTrailingStop_ccy=0||0||0.000000||0.000000||N","GA TrailingStop (account currency) (O disable) ",0,{"$f":"IF(Input!D47=\"\",Input!$C47,Input!D47)","v":0},{"$f":"IF(Input!E47=\"\",Input!$C47,Input!E47)","v":0},{"$f":"IF(Input!F47=\"\",Input!$C47,Input!F47)","v":0},{"$f":"IF(Input!G47=\"\",Input!$C47,Input!G47)","v":0},{"$f":"IF(Input!H47=\"\",Input!$C47,Input!H47)","v":0},{"$f":"IF(Input!I47=\"\",Input!$C47,Input!I47)","v":0},{"$f":"IF(Input!J47=\"\",Input!$C47,Input!J47)","v":0},{"$f":"IF(Input!K47=\"\",Input!$C47,Input!K47)","v":0},{"$f":"IF(Input!L47=\"\",Input!$C47,Input!L47)","v":0},{"$f":"IF(Input!M47=\"\",Input!$C47,Input!M47)","v":0}]
["GlobalAccountTrailingStop_perc=0||0||0.000000||0.000000||N","GA TrailingStop (%) (O - disable) ",0,{"$f":"IF(Input!D48=\"\",Input!$C48,Input!D48)","v":0},{"$f":"IF(Input!E48=\"\",Input!$C48,Input!E48)","v":0},{"$f":"IF(Input!F48=\"\",Input!$C48,Input!F48)","v":0},{"$f":"IF(Input!G48=\"\",Input!$C48,Input!G48)","v":0},{"$f":"IF(Input!H48=\"\",Input!$C48,Input!H48)","v":0},{"$f":"IF(Input!I48=\"\",Input!$C48,Input!I48)","v":0},{"$f":"IF(Input!J48=\"\",Input!$C48,Input!J48)","v":0},{"$f":"IF(Input!K48=\"\",Input!$C48,Input!K48)","v":0},{"$f":"IF(Input!L48=\"\",Input!$C48,Input!L48)","v":0},{"$f":"IF(Input!M48=\"\",Input!$C48,Input!M48)","v":0}]
["GlobalAccountTakeProfit_ccy=0||0||0.000000||0.000000||N","GA TakeProfit (account currency) (O disable) ",0,{"$f":"IF(Input!D49=\"\",Input!$C49,Input!D49)","v":0},{"$f":"IF(Input!E49=\"\",Input!$C49,Input!E49)","v":0},{"$f":"IF(Input!F49=\"\",Input!$C49,Input!F49)","v":0},{"$f":"IF(Input!G49=\"\",Input!$C49,Input!G49)","v":0},{"$f":"IF(Input!H49=\"\",Input!$C49,Input!H49)","v":0},{"$f":"IF(Input!I49=\"\",Input!$C49,Input!I49)","v":0},{"$f":"IF(Input!J49=\"\",Input!$C49,Input!J49)","v":0},{"$f":"IF(Input!K49=\"\",Input!$C49,Input!K49)","v":0},{"$f":"IF(Input!L49=\"\",Input!$C49,Input!L49)","v":0},{"$f":"IF(Input!M49=\"\",Input!$C49,Input!M49)","v":0}]
["GlobalAccountTakeProfit_perc=0||0||0.000000||0.000000||N","GA TakeProfit from balance) (O - disable) ",0,{"$f":"IF(Input!D50=\"\",Input!$C50,Input!D50)","v":0},{"$f":"IF(Input!E50=\"\",Input!$C50,Input!E50)","v":0},{"$f":"IF(Input!F50=\"\",Input!$C50,Input!F50)","v":0},{"$f":"IF(Input!G50=\"\",Input!$C50,Input!G50)","v":0},{"$f":"IF(Input!H50=\"\",Input!$C50,Input!H50)","v":0},{"$f":"IF(Input!I50=\"\",Input!$C50,Input!I50)","v":0},{"$f":"IF(Input!J50=\"\",Input!$C50,Input!J50)","v":0},{"$f":"IF(Input!K50=\"\",Input!$C50,Input!K50)","v":0},{"$f":"IF(Input!L50=\"\",Input!$C50,Input!L50)","v":0},{"$f":"IF(Input!M50=\"\",Input!$C50,Input!M50)","v":0}]
["GlobalAccountTargetProfit_ccy=0||0||0.000000||0.000000||N","GA TargetProfit (account currency) (O disable) ",0,{"$f":"IF(Input!D51=\"\",Input!$C51,Input!D51)","v":0},{"$f":"IF(Input!E51=\"\",Input!$C51,Input!E51)","v":0},{"$f":"IF(Input!F51=\"\",Input!$C51,Input!F51)","v":0},{"$f":"IF(Input!G51=\"\",Input!$C51,Input!G51)","v":0},{"$f":"IF(Input!H51=\"\",Input!$C51,Input!H51)","v":0},{"$f":"IF(Input!I51=\"\",Input!$C51,Input!I51)","v":0},{"$f":"IF(Input!J51=\"\",Input!$C51,Input!J51)","v":0},{"$f":"IF(Input!K51=\"\",Input!$C51,Input!K51)","v":0},{"$f":"IF(Input!L51=\"\",Input!$C51,Input!L51)","v":0},{"$f":"IF(Input!M51=\"\",Input!$C51,Input!M51)","v":0}]
["GlobalAccountTargetProfit_perc=0||0||0.000000||0.000000||N","GA TargetProfit (%) (O - disable) ",0,{"$f":"IF(Input!D52=\"\",Input!$C52,Input!D52)","v":0},{"$f":"IF(Input!E52=\"\",Input!$C52,Input!E52)","v":0},{"$f":"IF(Input!F52=\"\",Input!$C52,Input!F52)","v":0},{"$f":"IF(Input!G52=\"\",Input!$C52,Input!G52)","v":0},{"$f":"IF(Input!H52=\"\",Input!$C52,Input!H52)","v":0},{"$f":"IF(Input!I52=\"\",Input!$C52,Input!I52)","v":0},{"$f":"IF(Input!J52=\"\",Input!$C52,Input!J52)","v":0},{"$f":"IF(Input!K52=\"\",Input!$C52,Input!K52)","v":0},{"$f":"IF(Input!L52=\"\",Input!$C52,Input!L52)","v":0},{"$f":"IF(Input!M52=\"\",Input!$C52,Input!M52)","v":0}]
["GlobalAccountStopTillTomorrow=false||false||0||true||N","Stop Till Tomorrow After Close ",false,{"$f":"IF(Input!D53=\"\",Input!$C53,Input!D53)","v":false},{"$f":"IF(Input!E53=\"\",Input!$C53,Input!E53)","v":false},{"$f":"IF(Input!F53=\"\",Input!$C53,Input!F53)","v":false},{"$f":"IF(Input!G53=\"\",Input!$C53,Input!G53)","v":false},{"$f":"IF(Input!H53=\"\",Input!$C53,Input!H53)","v":false},{"$f":"IF(Input!I53=\"\",Input!$C53,Input!I53)","v":false},{"$f":"IF(Input!J53=\"\",Input!$C53,Input!J53)","v":false},{"$f":"IF(Input!K53=\"\",Input!$C53,Input!K53)","v":false},{"$f":"IF(Input!L53=\"\",Input!$C53,Input!L53)","v":false},{"$f":"IF(Input!M53=\"\",Input!$C53,Input!M53)","v":false}]
["; Period Limits","Period Limits "]
["DL_Properties====================================================================================","Daily limits: "]
["DL_MaxTrades_CurSymbol=0||0||1||10||N","Max trades per day (current symbol) ",0,{"$f":"IF(Input!D56=\"\",Input!$C56,Input!D56)","v":0},{"$f":"IF(Input!E56=\"\",Input!$C56,Input!E56)","v":0},{"$f":"IF(Input!F56=\"\",Input!$C56,Input!F56)","v":0},{"$f":"IF(Input!G56=\"\",Input!$C56,Input!G56)","v":0},{"$f":"IF(Input!H56=\"\",Input!$C56,Input!H56)","v":0},{"$f":"IF(Input!I56=\"\",Input!$C56,Input!I56)","v":0},{"$f":"IF(Input!J56=\"\",Input!$C56,Input!J56)","v":0},{"$f":"IF(Input!K56=\"\",Input!$C56,Input!K56)","v":0},{"$f":"IF(Input!L56=\"\",Input!$C56,Input!L56)","v":0},{"$f":"IF(Input!M56=\"\",Input!$C56,Input!M56)","v":0}]
["DL_MaxTrades_AllSymbols=0||0||1||10||N","Max trades per day (all symbols) ",0,{"$f":"IF(Input!D57=\"\",Input!$C57,Input!D57)","v":0},{"$f":"IF(Input!E57=\"\",Input!$C57,Input!E57)","v":0},{"$f":"IF(Input!F57=\"\",Input!$C57,Input!F57)","v":0},{"$f":"IF(Input!G57=\"\",Input!$C57,Input!G57)","v":0},{"$f":"IF(Input!H57=\"\",Input!$C57,Input!H57)","v":0},{"$f":"IF(Input!I57=\"\",Input!$C57,Input!I57)","v":0},{"$f":"IF(Input!J57=\"\",Input!$C57,Input!J57)","v":0},{"$f":"IF(Input!K57=\"\",Input!$C57,Input!K57)","v":0},{"$f":"IF(Input!L57=\"\",Input!$C57,Input!L57)","v":0},{"$f":"IF(Input!M57=\"\",Input!$C57,Input!M57)","v":0}]
["DL_MaxDrawDown=0||0||0.000000||0.000000||N","Max DrawDown per day (%) ",0,{"$f":"IF(Input!D58=\"\",Input!$C58,Input!D58)","v":0},{"$f":"IF(Input!E58=\"\",Input!$C58,Input!E58)","v":0},{"$f":"IF(Input!F58=\"\",Input!$C58,Input!F58)","v":0},{"$f":"IF(Input!G58=\"\",Input!$C58,Input!G58)","v":0},{"$f":"IF(Input!H58=\"\",Input!$C58,Input!H58)","v":0},{"$f":"IF(Input!I58=\"\",Input!$C58,Input!I58)","v":0},{"$f":"IF(Input!J58=\"\",Input!$C58,Input!J58)","v":0},{"$f":"IF(Input!K58=\"\",Input!$C58,Input!K58)","v":0},{"$f":"IF(Input!L58=\"\",Input!$C58,Input!L58)","v":0},{"$f":"IF(Input!M58=\"\",Input!$C58,Input!M58)","v":0}]
["DL_MaxDrawDown_ccy=0||0||0.000000||0.000000||N","Max DrawDown per day (account currency) ",0,{"$f":"IF(Input!D59=\"\",Input!$C59,Input!D59)","v":0},{"$f":"IF(Input!E59=\"\",Input!$C59,Input!E59)","v":0},{"$f":"IF(Input!F59=\"\",Input!$C59,Input!F59)","v":0},{"$f":"IF(Input!G59=\"\",Input!$C59,Input!G59)","v":0},{"$f":"IF(Input!H59=\"\",Input!$C59,Input!H59)","v":0},{"$f":"IF(Input!I59=\"\",Input!$C59,Input!I59)","v":0},{"$f":"IF(Input!J59=\"\",Input!$C59,Input!J59)","v":0},{"$f":"IF(Input!K59=\"\",Input!$C59,Input!K59)","v":0},{"$f":"IF(Input!L59=\"\",Input!$C59,Input!L59)","v":0},{"$f":"IF(Input!M59=\"\",Input!$C59,Input!M59)","v":0}]
["DL_MaxProfit=0||0||0.000000||0.000000||N","Max Profit per day (%) ",0,{"$f":"IF(Input!D60=\"\",Input!$C60,Input!D60)","v":0},{"$f":"IF(Input!E60=\"\",Input!$C60,Input!E60)","v":0},{"$f":"IF(Input!F60=\"\",Input!$C60,Input!F60)","v":0},{"$f":"IF(Input!G60=\"\",Input!$C60,Input!G60)","v":0},{"$f":"IF(Input!H60=\"\",Input!$C60,Input!H60)","v":0},{"$f":"IF(Input!I60=\"\",Input!$C60,Input!I60)","v":0},{"$f":"IF(Input!J60=\"\",Input!$C60,Input!J60)","v":0},{"$f":"IF(Input!K60=\"\",Input!$C60,Input!K60)","v":0},{"$f":"IF(Input!L60=\"\",Input!$C60,Input!L60)","v":0},{"$f":"IF(Input!M60=\"\",Input!$C60,Input!M60)","v":0}]
["DL_MaxProfit_ccy=0||0||0.000000||0.000000||N","Max Profit per day (account currency) ",0,{"$f":"IF(Input!D61=\"\",Input!$C61,Input!D61)","v":0},{"$f":"IF(Input!E61=\"\",Input!$C61,Input!E61)","v":0},{"$f":"IF(Input!F61=\"\",Input!$C61,Input!F61)","v":0},{"$f":"IF(Input!G61=\"\",Input!$C61,Input!G61)","v":0},{"$f":"IF(Input!H61=\"\",Input!$C61,Input!H61)","v":0},{"$f":"IF(Input!I61=\"\",Input!$C61,Input!I61)","v":0},{"$f":"IF(Input!J61=\"\",Input!$C61,Input!J61)","v":0},{"$f":"IF(Input!K61=\"\",Input!$C61,Input!K61)","v":0},{"$f":"IF(Input!L61=\"\",Input!$C61,Input!L61)","v":0},{"$f":"IF(Input!M61=\"\",Input!$C61,Input!M61)","v":0}]
["WL_Properties====================================================================================","Weekly limits: "]
["WL_MaxDrawDown=0||0||0.000000||0.000000||N","Max DrawDown per week (%) ",0,{"$f":"IF(Input!D63=\"\",Input!$C63,Input!D63)","v":0},{"$f":"IF(Input!E63=\"\",Input!$C63,Input!E63)","v":0},{"$f":"IF(Input!F63=\"\",Input!$C63,Input!F63)","v":0},{"$f":"IF(Input!G63=\"\",Input!$C63,Input!G63)","v":0},{"$f":"IF(Input!H63=\"\",Input!$C63,Input!H63)","v":0},{"$f":"IF(Input!I63=\"\",Input!$C63,Input!I63)","v":0},{"$f":"IF(Input!J63=\"\",Input!$C63,Input!J63)","v":0},{"$f":"IF(Input!K63=\"\",Input!$C63,Input!K63)","v":0},{"$f":"IF(Input!L63=\"\",Input!$C63,Input!L63)","v":0},{"$f":"IF(Input!M63=\"\",Input!$C63,Input!M63)","v":0}]
["WL_MaxDrawDown_ccy=0||0||0.000000||0.000000||N","Max DrawDown per week (account currency) ",0,{"$f":"IF(Input!D64=\"\",Input!$C64,Input!D64)","v":0},{"$f":"IF(Input!E64=\"\",Input!$C64,Input!E64)","v":0},{"$f":"IF(Input!F64=\"\",Input!$C64,Input!F64)","v":0},{"$f":"IF(Input!G64=\"\",Input!$C64,Input!G64)","v":0},{"$f":"IF(Input!H64=\"\",Input!$C64,Input!H64)","v":0},{"$f":"IF(Input!I64=\"\",Input!$C64,Input!I64)","v":0},{"$f":"IF(Input!J64=\"\",Input!$C64,Input!J64)","v":0},{"$f":"IF(Input!K64=\"\",Input!$C64,Input!K64)","v":0},{"$f":"IF(Input!L64=\"\",Input!$C64,Input!L64)","v":0},{"$f":"IF(Input!M64=\"\",Input!$C64,Input!M64)","v":0}]
["WL_MaxProfit=0||0||0.000000||0.000000||N","Max Profit per week (%) ",0,{"$f":"IF(Input!D65=\"\",Input!$C65,Input!D65)","v":0},{"$f":"IF(Input!E65=\"\",Input!$C65,Input!E65)","v":0},{"$f":"IF(Input!F65=\"\",Input!$C65,Input!F65)","v":0},{"$f":"IF(Input!G65=\"\",Input!$C65,Input!G65)","v":0},{"$f":"IF(Input!H65=\"\",Input!$C65,Input!H65)","v":0},{"$f":"IF(Input!I65=\"\",Input!$C65,Input!I65)","v":0},{"$f":"IF(Input!J65=\"\",Input!$C65,Input!J65)","v":0},{"$f":"IF(Input!K65=\"\",Input!$C65,Input!K65)","v":0},{"$f":"IF(Input!L65=\"\",Input!$C65,Input!L65)","v":0},{"$f":"IF(Input!M65=\"\",Input!$C65,Input!M65)","v":0}]
["WL_MaxProfit_ccy=0||0||0.000000||0.000000||N","Max Profit per week (account currency) ",0,{"$f":"IF(Input!D66=\"\",Input!$C66,Input!D66)","v":0},{"$f":"IF(Input!E66=\"\",Input!$C66,Input!E66)","v":0},{"$f":"IF(Input!F66=\"\",Input!$C66,Input!F66)","v":0},{"$f":"IF(Input!G66=\"\",Input!$C66,Input!G66)","v":0},{"$f":"IF(Input!H66=\"\",Input!$C66,Input!H66)","v":0},{"$f":"IF(Input!I66=\"\",Input!$C66,Input!I66)","v":0},{"$f":"IF(Input!J66=\"\",Input!$C66,Input!J66)","v":0},{"$f":"IF(Input!K66=\"\",Input!$C66,Input!K66)","v":0},{"$f":"IF(Input!L66=\"\",Input!$C66,Input!L66)","v":0},{"$f":"IF(Input!M66=\"\",Input!$C66,Input!M66)","v":0}]
["ML_Properties====================================================================================","Monthly limits: "]
["ML_MaxDrawDown=0||0||0.000000||0.000000||N","Max DrawDown per month (%) ",0,{"$f":"IF(Input!D68=\"\",Input!$C68,Input!D68)","v":0},{"$f":"IF(Input!E68=\"\",Input!$C68,Input!E68)","v":0},{"$f":"IF(Input!F68=\"\",Input!$C68,Input!F68)","v":0},{"$f":"IF(Input!G68=\"\",Input!$C68,Input!G68)","v":0},{"$f":"IF(Input!H68=\"\",Input!$C68,Input!H68)","v":0},{"$f":"IF(Input!I68=\"\",Input!$C68,Input!I68)","v":0},{"$f":"IF(Input!J68=\"\",Input!$C68,Input!J68)","v":0},{"$f":"IF(Input!K68=\"\",Input!$C68,Input!K68)","v":0},{"$f":"IF(Input!L68=\"\",Input!$C68,Input!L68)","v":0},{"$f":"IF(Input!M68=\"\",Input!$C68,Input!M68)","v":0}]
["ML_MaxDrawDown_ccy=0||0||0.000000||0.000000||N","Max DrawDown per month (account currency) ",0,{"$f":"IF(Input!D69=\"\",Input!$C69,Input!D69)","v":0},{"$f":"IF(Input!E69=\"\",Input!$C69,Input!E69)","v":0},{"$f":"IF(Input!F69=\"\",Input!$C69,Input!F69)","v":0},{"$f":"IF(Input!G69=\"\",Input!$C69,Input!G69)","v":0},{"$f":"IF(Input!H69=\"\",Input!$C69,Input!H69)","v":0},{"$f":"IF(Input!I69=\"\",Input!$C69,Input!I69)","v":0},{"$f":"IF(Input!J69=\"\",Input!$C69,Input!J69)","v":0},{"$f":"IF(Input!K69=\"\",Input!$C69,Input!K69)","v":0},{"$f":"IF(Input!L69=\"\",Input!$C69,Input!L69)","v":0},{"$f":"IF(Input!M69=\"\",Input!$C69,Input!M69)","v":0}]
["ML_MaxProfit=0||0||0.000000||0.000000||N","Max Profit per month (%) ",0,{"$f":"IF(Input!D70=\"\",Input!$C70,Input!D70)","v":0},{"$f":"IF(Input!E70=\"\",Input!$C70,Input!E70)","v":0},{"$f":"IF(Input!F70=\"\",Input!$C70,Input!F70)","v":0},{"$f":"IF(Input!G70=\"\",Input!$C70,Input!G70)","v":0},{"$f":"IF(Input!H70=\"\",Input!$C70,Input!H70)","v":0},{"$f":"IF(Input!I70=\"\",Input!$C70,Input!I70)","v":0},{"$f":"IF(Input!J70=\"\",Input!$C70,Input!J70)","v":0},{"$f":"IF(Input!K70=\"\",Input!$C70,Input!K70)","v":0},{"$f":"IF(Input!L70=\"\",Input!$C70,Input!L70)","v":0},{"$f":"IF(Input!M70=\"\",Input!$C70,Input!M70)","v":0}]
["ML_MaxProfit_ccy=0||0||0.000000||0.000000||N","Max Profit per month (account currency) ",0,{"$f":"IF(Input!D71=\"\",Input!$C71,Input!D71)","v":0},{"$f":"IF(Input!E71=\"\",Input!$C71,Input!E71)","v":0},{"$f":"IF(Input!F71=\"\",Input!$C71,Input!F71)","v":0},{"$f":"IF(Input!G71=\"\",Input!$C71,Input!G71)","v":0},{"$f":"IF(Input!H71=\"\",Input!$C71,Input!H71)","v":0},{"$f":"IF(Input!I71=\"\",Input!$C71,Input!I71)","v":0},{"$f":"IF(Input!J71=\"\",Input!$C71,Input!J71)","v":0},{"$f":"IF(Input!K71=\"\",Input!$C71,Input!K71)","v":0},{"$f":"IF(Input!L71=\"\",Input!$C71,Input!L71)","v":0},{"$f":"IF(Input!M71=\"\",Input!$C71,Input!M71)","v":0}]
["CL_Properties====================================================================================","Common limits properties: "]
["CL_WeekStart_Day=1||0||0||6||N","Week start day ","Tuesday ",{"$f":"IF(Input!D73=\"\",Input!$C73,Input!D73)","v":"Tuesday "},{"$f":"IF(Input!E73=\"\",Input!$C73,Input!E73)","v":"Tuesday "},{"$f":"IF(Input!F73=\"\",Input!$C73,Input!F73)","v":"Tuesday "},{"$f":"IF(Input!G73=\"\",Input!$C73,Input!G73)","v":"Tuesday "},{"$f":"IF(Input!H73=\"\",Input!$C73,Input!H73)","v":"Tuesday "},{"$f":"IF(Input!I73=\"\",Input!$C73,Input!I73)","v":"Tuesday "},{"$f":"IF(Input!J73=\"\",Input!$C73,Input!J73)","v":"Tuesday "},{"$f":"IF(Input!K73=\"\",Input!$C73,Input!K73)","v":"Tuesday "},{"$f":"IF(Input!L73=\"\",Input!$C73,Input!L73)","v":"Tuesday "},{"$f":"IF(Input!M73=\"\",Input!$C73,Input!M73)","v":"Tuesday "}]
["CL_DayStartHour=0||-1||0||23||N","Day start hour ","00",{"$f":"IF(Input!D74=\"\",Input!$C74,Input!D74)","v":"00"},{"$f":"IF(Input!E74=\"\",Input!$C74,Input!E74)","v":"00"},{"$f":"IF(Input!F74=\"\",Input!$C74,Input!F74)","v":"00"},{"$f":"IF(Input!G74=\"\",Input!$C74,Input!G74)","v":"00"},{"$f":"IF(Input!H74=\"\",Input!$C74,Input!H74)","v":"00"},{"$f":"IF(Input!I74=\"\",Input!$C74,Input!I74)","v":"00"},{"$f":"IF(Input!J74=\"\",Input!$C74,Input!J74)","v":"00"},{"$f":"IF(Input!K74=\"\",Input!$C74,Input!K74)","v":"00"},{"$f":"IF(Input!L74=\"\",Input!$C74,Input!L74)","v":"00"},{"$f":"IF(Input!M74=\"\",Input!$C74,Input!M74)","v":"00"}]
["CL_CloseOnProfitAndDD=true||false||0||true||N","Close open trades on profit/DD ",false,{"$f":"IF(Input!D75=\"\",Input!$C75,Input!D75)","v":false},{"$f":"IF(Input!E75=\"\",Input!$C75,Input!E75)","v":false},{"$f":"IF(Input!F75=\"\",Input!$C75,Input!F75)","v":false},{"$f":"IF(Input!G75=\"\",Input!$C75,Input!G75)","v":false},{"$f":"IF(Input!H75=\"\",Input!$C75,Input!H75)","v":false},{"$f":"IF(Input!I75=\"\",Input!$C75,Input!I75)","v":false},{"$f":"IF(Input!J75=\"\",Input!$C75,Input!J75)","v":false},{"$f":"IF(Input!K75=\"\",Input!$C75,Input!K75)","v":false},{"$f":"IF(Input!L75=\"\",Input!$C75,Input!L75)","v":false},{"$f":"IF(Input!M75=\"\",Input!$C75,Input!M75)","v":false}]
["; Volatility for all parameters nominated in points","Volatility for all parameters nominated in points "]
["VolPV_Properties====================================================================================","Volatility for all parameters nominated in points: "]
["VolPV_Type=1||0||0||5||N","Volatility Indicator ","Disable ",{"$f":"IF(Input!D78=\"\",Input!$C78,Input!D78)","v":"Disable "},{"$f":"IF(Input!E78=\"\",Input!$C78,Input!E78)","v":"Disable "},{"$f":"IF(Input!F78=\"\",Input!$C78,Input!F78)","v":"Disable "},{"$f":"IF(Input!G78=\"\",Input!$C78,Input!G78)","v":"Disable "},{"$f":"IF(Input!H78=\"\",Input!$C78,Input!H78)","v":"Disable "},{"$f":"IF(Input!I78=\"\",Input!$C78,Input!I78)","v":"Disable "},{"$f":"IF(Input!J78=\"\",Input!$C78,Input!J78)","v":"Disable "},{"$f":"IF(Input!K78=\"\",Input!$C78,Input!K78)","v":"Disable "},{"$f":"IF(Input!L78=\"\",Input!$C78,Input!L78)","v":"Disable "},{"$f":"IF(Input!M78=\"\",Input!$C78,Input!M78)","v":"Disable "}]
["VolPV_TF=16408||0||0||49153||N","TimeFrame ","2 Minutes ",{"$f":"IF(Input!D79=\"\",Input!$C79,Input!D79)","v":"2 Minutes "},{"$f":"IF(Input!E79=\"\",Input!$C79,Input!E79)","v":"2 Minutes "},{"$f":"IF(Input!F79=\"\",Input!$C79,Input!F79)","v":"2 Minutes "},{"$f":"IF(Input!G79=\"\",Input!$C79,Input!G79)","v":"2 Minutes "},{"$f":"IF(Input!H79=\"\",Input!$C79,Input!H79)","v":"2 Minutes "},{"$f":"IF(Input!I79=\"\",Input!$C79,Input!I79)","v":"2 Minutes "},{"$f":"IF(Input!J79=\"\",Input!$C79,Input!J79)","v":"2 Minutes "},{"$f":"IF(Input!K79=\"\",Input!$C79,Input!K79)","v":"2 Minutes "},{"$f":"IF(Input!L79=\"\",Input!$C79,Input!L79)","v":"2 Minutes "},{"$f":"IF(Input!M79=\"\",Input!$C79,Input!M79)","v":"2 Minutes "}]
["VolPV_Period=20||20||1||200||N","Indicator Period ",null,{"$f":"IF(Input!D80=\"\",Input!$C80,Input!D80)","v":0},{"$f":"IF(Input!E80=\"\",Input!$C80,Input!E80)","v":0},{"$f":"IF(Input!F80=\"\",Input!$C80,Input!F80)","v":0},{"$f":"IF(Input!G80=\"\",Input!$C80,Input!G80)","v":0},{"$f":"IF(Input!H80=\"\",Input!$C80,Input!H80)","v":0},{"$f":"IF(Input!I80=\"\",Input!$C80,Input!I80)","v":0},{"$f":"IF(Input!J80=\"\",Input!$C80,Input!J80)","v":0},{"$f":"IF(Input!K80=\"\",Input!$C80,Input!K80)","v":0},{"$f":"IF(Input!L80=\"\",Input!$C80,Input!L80)","v":0},{"$f":"IF(Input!M80=\"\",Input!$C80,Input!M80)","v":0}]
["VolPV_MinSize=0||0||0.000000||0.000000||N","Min volatility to use (points) ",0,{"$f":"IF(Input!D81=\"\",Input!$C81,Input!D81)","v":0},{"$f":"IF(Input!E81=\"\",Input!$C81,Input!E81)","v":0},{"$f":"IF(Input!F81=\"\",Input!$C81,Input!F81)","v":0},{"$f":"IF(Input!G81=\"\",Input!$C81,Input!G81)","v":0},{"$f":"IF(Input!H81=\"\",Input!$C81,Input!H81)","v":0},{"$f":"IF(Input!I81=\"\",Input!$C81,Input!I81)","v":0},{"$f":"IF(Input!J81=\"\",Input!$C81,Input!J81)","v":0},{"$f":"IF(Input!K81=\"\",Input!$C81,Input!K81)","v":0},{"$f":"IF(Input!L81=\"\",Input!$C81,Input!L81)","v":0},{"$f":"IF(Input!M81=\"\",Input!$C81,Input!M81)","v":0}]
["VolPV_MaxSize=0||0||0.000000||0.000000||N","Max volatility to use (points) ",0,{"$f":"IF(Input!D82=\"\",Input!$C82,Input!D82)","v":0},{"$f":"IF(Input!E82=\"\",Input!$C82,Input!E82)","v":0},{"$f":"IF(Input!F82=\"\",Input!$C82,Input!F82)","v":0},{"$f":"IF(Input!G82=\"\",Input!$C82,Input!G82)","v":0},{"$f":"IF(Input!H82=\"\",Input!$C82,Input!H82)","v":0},{"$f":"IF(Input!I82=\"\",Input!$C82,Input!I82)","v":0},{"$f":"IF(Input!J82=\"\",Input!$C82,Input!J82)","v":0},{"$f":"IF(Input!K82=\"\",Input!$C82,Input!K82)","v":0},{"$f":"IF(Input!L82=\"\",Input!$C82,Input!L82)","v":0},{"$f":"IF(Input!M82=\"\",Input!$C82,Input!M82)","v":0}]
["; Pending entry properties","Pending entry properties "]
["Pending_Properties====================================================================================","Pending entry properties: "]
["Pending_Type=0||0||0||2||N","Pending entry type ","Ent with STOP order ",{"$f":"IF(Input!D85=\"\",Input!$C85,Input!D85)","v":"Ent with LIMIT crdet "},{"$f":"IF(Input!E85=\"\",Input!$C85,Input!E85)","v":"Ent with LIMIT crdet "},{"$f":"IF(Input!F85=\"\",Input!$C85,Input!F85)","v":"Ent with LIMIT crdet "},{"$f":"IF(Input!G85=\"\",Input!$C85,Input!G85)","v":"Ent with LIMIT crdet "},{"$f":"IF(Input!H85=\"\",Input!$C85,Input!H85)","v":"Ent with LIMIT crdet "},{"$f":"IF(Input!I85=\"\",Input!$C85,Input!I85)","v":"Ent with LIMIT crdet "},{"$f":"IF(Input!J85=\"\",Input!$C85,Input!J85)","v":"Ent with LIMIT crdet "},{"$f":"IF(Input!K85=\"\",Input!$C85,Input!K85)","v":"Ent with LIMIT crdet "},{"$f":"IF(Input!L85=\"\",Input!$C85,Input!L85)","v":"Ent with LIMIT crdet "},{"$f":"IF(Input!M85=\"\",Input!$C85,Input!M85)","v":"Ent with LIMIT crdet "}]
["Pending_Distance=0||10||1.000000||100.000000||N","Distance to order ",0,{"$f":"IF(Input!D86=\"\",Input!$C86,Input!D86)","v":0},{"$f":"IF(Input!E86=\"\",Input!$C86,Input!E86)","v":0},{"$f":"IF(Input!F86=\"\",Input!$C86,Input!F86)","v":0},{"$f":"IF(Input!G86=\"\",Input!$C86,Input!G86)","v":0},{"$f":"IF(Input!H86=\"\",Input!$C86,Input!H86)","v":0},{"$f":"IF(Input!I86=\"\",Input!$C86,Input!I86)","v":0},{"$f":"IF(Input!J86=\"\",Input!$C86,Input!J86)","v":0},{"$f":"IF(Input!K86=\"\",Input!$C86,Input!K86)","v":0},{"$f":"IF(Input!L86=\"\",Input!$C86,Input!L86)","v":0},{"$f":"IF(Input!M86=\"\",Input!$C86,Input!M86)","v":0}]
["Pending_Bar=0||2||1||20||N","Extremum bars (O use current price) ",0,{"$f":"IF(Input!D87=\"\",Input!$C87,Input!D87)","v":0},{"$f":"IF(Input!E87=\"\",Input!$C87,Input!E87)","v":0},{"$f":"IF(Input!F87=\"\",Input!$C87,Input!F87)","v":0},{"$f":"IF(Input!G87=\"\",Input!$C87,Input!G87)","v":0},{"$f":"IF(Input!H87=\"\",Input!$C87,Input!H87)","v":0},{"$f":"IF(Input!I87=\"\",Input!$C87,Input!I87)","v":0},{"$f":"IF(Input!J87=\"\",Input!$C87,Input!J87)","v":0},{"$f":"IF(Input!K87=\"\",Input!$C87,Input!K87)","v":0},{"$f":"IF(Input!L87=\"\",Input!$C87,Input!L87)","v":0},{"$f":"IF(Input!M87=\"\",Input!$C87,Input!M87)","v":0}]
["Pending_TrailMode=0||0||0||2||N","Trail pendings mode ","Trail alwa ",{"$f":"IF(Input!D88=\"\",Input!$C88,Input!D88)","v":"Trail alwa "},{"$f":"IF(Input!E88=\"\",Input!$C88,Input!E88)","v":"Trail alwa "},{"$f":"IF(Input!F88=\"\",Input!$C88,Input!F88)","v":"Trail alwa "},{"$f":"IF(Input!G88=\"\",Input!$C88,Input!G88)","v":"Trail alwa "},{"$f":"IF(Input!H88=\"\",Input!$C88,Input!H88)","v":"Trail alwa "},{"$f":"IF(Input!I88=\"\",Input!$C88,Input!I88)","v":"Trail alwa "},{"$f":"IF(Input!J88=\"\",Input!$C88,Input!J88)","v":"Trail alwa "},{"$f":"IF(Input!K88=\"\",Input!$C88,Input!K88)","v":"Trail alwa "},{"$f":"IF(Input!L88=\"\",Input!$C88,Input!L88)","v":"Trail alwa "},{"$f":"IF(Input!M88=\"\",Input!$C88,Input!M88)","v":"Trail alwa "}]
["Pending_CancelOnOpposite=false||false||0||true||N","Cancel on opposite signal ",false,{"$f":"IF(Input!D89=\"\",Input!$C89,Input!D89)","v":false},{"$f":"IF(Input!E89=\"\",Input!$C89,Input!E89)","v":false},{"$f":"IF(Input!F89=\"\",Input!$C89,Input!F89)","v":false},{"$f":"IF(Input!G89=\"\",Input!$C89,Input!G89)","v":false},{"$f":"IF(Input!H89=\"\",Input!$C89,Input!H89)","v":false},{"$f":"IF(Input!I89=\"\",Input!$C89,Input!I89)","v":false},{"$f":"IF(Input!J89=\"\",Input!$C89,Input!J89)","v":false},{"$f":"IF(Input!K89=\"\",Input!$C89,Input!K89)","v":false},{"$f":"IF(Input!L89=\"\",Input!$C89,Input!L89)","v":false},{"$f":"IF(Input!M89=\"\",Input!$C89,Input!M89)","v":false}]
["Pending_CancelDistance=0||0||0.000000||0.000000||N","Cancel after distance (O - disable) ",0,{"$f":"IF(Input!D90=\"\",Input!$C90,Input!D90)","v":0},{"$f":"IF(Input!E90=\"\",Input!$C90,Input!E90)","v":0},{"$f":"IF(Input!F90=\"\",Input!$C90,Input!F90)","v":0},{"$f":"IF(Input!G90=\"\",Input!$C90,Input!G90)","v":0},{"$f":"IF(Input!H90=\"\",Input!$C90,Input!H90)","v":0},{"$f":"IF(Input!I90=\"\",Input!$C90,Input!I90)","v":0},{"$f":"IF(Input!J90=\"\",Input!$C90,Input!J90)","v":0},{"$f":"IF(Input!K90=\"\",Input!$C90,Input!K90)","v":0},{"$f":"IF(Input!L90=\"\",Input!$C90,Input!L90)","v":0},{"$f":"IF(Input!M90=\"\",Input!$C90,Input!M90)","v":0}]
["Pending_CancelBar=0||0||1||10||N","Cancel after bars (O disable) ",0,{"$f":"IF(Input!D91=\"\",Input!$C91,Input!D91)","v":0},{"$f":"IF(Input!E91=\"\",Input!$C91,Input!E91)","v":0},{"$f":"IF(Input!F91=\"\",Input!$C91,Input!F91)","v":0},{"$f":"IF(Input!G91=\"\",Input!$C91,Input!G91)","v":0},{"$f":"IF(Input!H91=\"\",Input!$C91,Input!H91)","v":0},{"$f":"IF(Input!I91=\"\",Input!$C91,Input!I91)","v":0},{"$f":"IF(Input!J91=\"\",Input!$C91,Input!J91)","v":0},{"$f":"IF(Input!K91=\"\",Input!$C91,Input!K91)","v":0},{"$f":"IF(Input!L91=\"\",Input!$C91,Input!L91)","v":0},{"$f":"IF(Input!M91=\"\",Input!$C91,Input!M91)","v":0}]
["Pending_Distance_ModeP=0||0||0||1||N","Distance calc mode ","In points",{"$f":"IF(Input!D92=\"\",Input!$C92,Input!D92)","v":"In points"},{"$f":"IF(Input!E92=\"\",Input!$C92,Input!E92)","v":"In points"},{"$f":"IF(Input!F92=\"\",Input!$C92,Input!F92)","v":"In points"},{"$f":"IF(Input!G92=\"\",Input!$C92,Input!G92)","v":"In points"},{"$f":"IF(Input!H92=\"\",Input!$C92,Input!H92)","v":"In points"},{"$f":"IF(Input!I92=\"\",Input!$C92,Input!I92)","v":"In points"},{"$f":"IF(Input!J92=\"\",Input!$C92,Input!J92)","v":"In points"},{"$f":"IF(Input!K92=\"\",Input!$C92,Input!K92)","v":"In points"},{"$f":"IF(Input!L92=\"\",Input!$C92,Input!L92)","v":"In points"},{"$f":"IF(Input!M92=\"\",Input!$C92,Input!M92)","v":"In points"}]
["Pending_DisableForOpposite=false||false||0||true||N","Enter by market if opposite trade is open ",false,{"$f":"IF(Input!D93=\"\",Input!$C93,Input!D93)","v":false},{"$f":"IF(Input!E93=\"\",Input!$C93,Input!E93)","v":false},{"$f":"IF(Input!F93=\"\",Input!$C93,Input!F93)","v":false},{"$f":"IF(Input!G93=\"\",Input!$C93,Input!G93)","v":false},{"$f":"IF(Input!H93=\"\",Input!$C93,Input!H93)","v":false},{"$f":"IF(Input!I93=\"\",Input!$C93,Input!I93)","v":false},{"$f":"IF(Input!J93=\"\",Input!$C93,Input!J93)","v":false},{"$f":"IF(Input!K93=\"\",Input!$C93,Input!K93)","v":false},{"$f":"IF(Input!L93=\"\",Input!$C93,Input!L93)","v":false},{"$f":"IF(Input!M93=\"\",Input!$C93,Input!M93)","v":false}]
["Pending_DeleteIfOpposite=false||false||0||true||N","Delete if opposite trade is open ",false,{"$f":"IF(Input!D94=\"\",Input!$C94,Input!D94)","v":false},{"$f":"IF(Input!E94=\"\",Input!$C94,Input!E94)","v":false},{"$f":"IF(Input!F94=\"\",Input!$C94,Input!F94)","v":false},{"$f":"IF(Input!G94=\"\",Input!$C94,Input!G94)","v":false},{"$f":"IF(Input!H94=\"\",Input!$C94,Input!H94)","v":false},{"$f":"IF(Input!I94=\"\",Input!$C94,Input!I94)","v":false},{"$f":"IF(Input!J94=\"\",Input!$C94,Input!J94)","v":false},{"$f":"IF(Input!K94=\"\",Input!$C94,Input!K94)","v":false},{"$f":"IF(Input!L94=\"\",Input!$C94,Input!L94)","v":false},{"$f":"IF(Input!M94=\"\",Input!$C94,Input!M94)","v":false}]
["; StopLoss properties","Stop Loss properties "]
["StopLoss_Properties====================================================================================","StopLoss properties: "]
["StopLoss=0||250||25.000000||2500.000000||N","StopLoss size (O disable) ",0,{"$f":"IF(Input!D97=\"\",Input!$C97,Input!D97)","v":0},{"$f":"IF(Input!E97=\"\",Input!$C97,Input!E97)","v":0},{"$f":"IF(Input!F97=\"\",Input!$C97,Input!F97)","v":0},{"$f":"IF(Input!G97=\"\",Input!$C97,Input!G97)","v":0},{"$f":"IF(Input!H97=\"\",Input!$C97,Input!H97)","v":0},{"$f":"IF(Input!I97=\"\",Input!$C97,Input!I97)","v":0},{"$f":"IF(Input!J97=\"\",Input!$C97,Input!J97)","v":0},{"$f":"IF(Input!K97=\"\",Input!$C97,Input!K97)","v":0},{"$f":"IF(Input!L97=\"\",Input!$C97,Input!L97)","v":0},{"$f":"IF(Input!M97=\"\",Input!$C97,Input!M97)","v":0}]
["StopLoss_Mode=0||0||0||2||N","StopLoss mode ","Frcm lastc en rice ",{"$f":"IF(Input!D98=\"\",Input!$C98,Input!D98)","v":"Frcm lastc en rice "},{"$f":"IF(Input!E98=\"\",Input!$C98,Input!E98)","v":"Frcm lastc en rice "},{"$f":"IF(Input!F98=\"\",Input!$C98,Input!F98)","v":"Frcm lastc en rice "},{"$f":"IF(Input!G98=\"\",Input!$C98,Input!G98)","v":"Frcm lastc en rice "},{"$f":"IF(Input!H98=\"\",Input!$C98,Input!H98)","v":"Frcm lastc en rice "},{"$f":"IF(Input!I98=\"\",Input!$C98,Input!I98)","v":"Frcm lastc en rice "},{"$f":"IF(Input!J98=\"\",Input!$C98,Input!J98)","v":"Frcm lastc en rice "},{"$f":"IF(Input!K98=\"\",Input!$C98,Input!K98)","v":"Frcm lastc en rice "},{"$f":"IF(Input!L98=\"\",Input!$C98,Input!L98)","v":"Frcm lastc en rice "},{"$f":"IF(Input!M98=\"\",Input!$C98,Input!M98)","v":"Frcm lastc en rice "}]
["StopLoss_ModeP=0||0||0||1||N","StopLoss calc mode ","In points",{"$f":"IF(Input!D99=\"\",Input!$C99,Input!D99)","v":"In points"},{"$f":"IF(Input!E99=\"\",Input!$C99,Input!E99)","v":"In points"},{"$f":"IF(Input!F99=\"\",Input!$C99,Input!F99)","v":"In points"},{"$f":"IF(Input!G99=\"\",Input!$C99,Input!G99)","v":"In points"},{"$f":"IF(Input!H99=\"\",Input!$C99,Input!H99)","v":"In points"},{"$f":"IF(Input!I99=\"\",Input!$C99,Input!I99)","v":"In points"},{"$f":"IF(Input!J99=\"\",Input!$C99,Input!J99)","v":"In points"},{"$f":"IF(Input!K99=\"\",Input!$C99,Input!K99)","v":"In points"},{"$f":"IF(Input!L99=\"\",Input!$C99,Input!L99)","v":"In points"},{"$f":"IF(Input!M99=\"\",Input!$C99,Input!M99)","v":"In points"}]
["StopLoss_Global========","Sum StopLoss (buy + sell) "]
["GlobalStopLoss_ccy=0||0||0.000000||0.000000||N","Sum StopLoss (account currency) (O disable) ",0,{"$f":"IF(Input!D101=\"\",Input!$C101,Input!D101)","v":0},{"$f":"IF(Input!E101=\"\",Input!$C101,Input!E101)","v":0},{"$f":"IF(Input!F101=\"\",Input!$C101,Input!F101)","v":0},{"$f":"IF(Input!G101=\"\",Input!$C101,Input!G101)","v":0},{"$f":"IF(Input!H101=\"\",Input!$C101,Input!H101)","v":0},{"$f":"IF(Input!I101=\"\",Input!$C101,Input!I101)","v":0},{"$f":"IF(Input!J101=\"\",Input!$C101,Input!J101)","v":0},{"$f":"IF(Input!K101=\"\",Input!$C101,Input!K101)","v":0},{"$f":"IF(Input!L101=\"\",Input!$C101,Input!L101)","v":0},{"$f":"IF(Input!M101=\"\",Input!$C101,Input!M101)","v":0}]
["GlobalStopLoss=0||0||0.000000||0.000000||N","Sum StopLoss from balance) (O - disable) ",0,{"$f":"IF(Input!D102=\"\",Input!$C102,Input!D102)","v":0},{"$f":"IF(Input!E102=\"\",Input!$C102,Input!E102)","v":0},{"$f":"IF(Input!F102=\"\",Input!$C102,Input!F102)","v":0},{"$f":"IF(Input!G102=\"\",Input!$C102,Input!G102)","v":0},{"$f":"IF(Input!H102=\"\",Input!$C102,Input!H102)","v":0},{"$f":"IF(Input!I102=\"\",Input!$C102,Input!I102)","v":0},{"$f":"IF(Input!J102=\"\",Input!$C102,Input!J102)","v":0},{"$f":"IF(Input!K102=\"\",Input!$C102,Input!K102)","v":0},{"$f":"IF(Input!L102=\"\",Input!$C102,Input!L102)","v":0},{"$f":"IF(Input!M102=\"\",Input!$C102,Input!M102)","v":0}]
["StopLoss_Pause========","Pause after loss "]
["PauseAfterLoss=0||0||1||10||N","Pause after loss (in bars of Signal TF) (O - disable) ",0,{"$f":"IF(Input!D104=\"\",Input!$C104,Input!D104)","v":0},{"$f":"IF(Input!E104=\"\",Input!$C104,Input!E104)","v":0},{"$f":"IF(Input!F104=\"\",Input!$C104,Input!F104)","v":0},{"$f":"IF(Input!G104=\"\",Input!$C104,Input!G104)","v":0},{"$f":"IF(Input!H104=\"\",Input!$C104,Input!H104)","v":0},{"$f":"IF(Input!I104=\"\",Input!$C104,Input!I104)","v":0},{"$f":"IF(Input!J104=\"\",Input!$C104,Input!J104)","v":0},{"$f":"IF(Input!K104=\"\",Input!$C104,Input!K104)","v":0},{"$f":"IF(Input!L104=\"\",Input!$C104,Input!L104)","v":0},{"$f":"IF(Input!M104=\"\",Input!$C104,Input!M104)","v":0}]
["UseVirtualSL=false||false||0||true||N","Use virtual StopLoss ",false,{"$f":"IF(Input!D105=\"\",Input!$C105,Input!D105)","v":false},{"$f":"IF(Input!E105=\"\",Input!$C105,Input!E105)","v":false},{"$f":"IF(Input!F105=\"\",Input!$C105,Input!F105)","v":false},{"$f":"IF(Input!G105=\"\",Input!$C105,Input!G105)","v":false},{"$f":"IF(Input!H105=\"\",Input!$C105,Input!H105)","v":false},{"$f":"IF(Input!I105=\"\",Input!$C105,Input!I105)","v":false},{"$f":"IF(Input!J105=\"\",Input!$C105,Input!J105)","v":false},{"$f":"IF(Input!K105=\"\",Input!$C105,Input!K105)","v":false},{"$f":"IF(Input!L105=\"\",Input!$C105,Input!L105)","v":false},{"$f":"IF(Input!M105=\"\",Input!$C105,Input!M105)","v":false}]
["; TakeProfit properties","Take Profit properties "]
["TakeProfit_Properties====================================================================================","TakeProfit properties: "]
["TakeProfit=0||11||1||13||N","TakeProfit size (O - disable) ",0,{"$f":"IF(Input!D108=\"\",Input!$C108,Input!D108)","v":0},{"$f":"IF(Input!E108=\"\",Input!$C108,Input!E108)","v":0},{"$f":"IF(Input!F108=\"\",Input!$C108,Input!F108)","v":0},{"$f":"IF(Input!G108=\"\",Input!$C108,Input!G108)","v":0},{"$f":"IF(Input!H108=\"\",Input!$C108,Input!H108)","v":0},{"$f":"IF(Input!I108=\"\",Input!$C108,Input!I108)","v":0},{"$f":"IF(Input!J108=\"\",Input!$C108,Input!J108)","v":0},{"$f":"IF(Input!K108=\"\",Input!$C108,Input!K108)","v":0},{"$f":"IF(Input!L108=\"\",Input!$C108,Input!L108)","v":0},{"$f":"IF(Input!M108=\"\",Input!$C108,Input!M108)","v":0}]
["TakeProfitMode=0||0||0||1||N","TakeProfit mode ","Frcm lastc en rice ",{"$f":"IF(Input!D109=\"\",Input!$C109,Input!D109)","v":"Frcm lastc en rice "},{"$f":"IF(Input!E109=\"\",Input!$C109,Input!E109)","v":"Frcm lastc en rice "},{"$f":"IF(Input!F109=\"\",Input!$C109,Input!F109)","v":"Frcm lastc en rice "},{"$f":"IF(Input!G109=\"\",Input!$C109,Input!G109)","v":"Frcm lastc en rice "},{"$f":"IF(Input!H109=\"\",Input!$C109,Input!H109)","v":"Frcm lastc en rice "},{"$f":"IF(Input!I109=\"\",Input!$C109,Input!I109)","v":"Frcm lastc en rice "},{"$f":"IF(Input!J109=\"\",Input!$C109,Input!J109)","v":"Frcm lastc en rice "},{"$f":"IF(Input!K109=\"\",Input!$C109,Input!K109)","v":"Frcm lastc en rice "},{"$f":"IF(Input!L109=\"\",Input!$C109,Input!L109)","v":"Frcm lastc en rice "},{"$f":"IF(Input!M109=\"\",Input!$C109,Input!M109)","v":"Frcm lastc en rice "}]
["TakeProfit_ModeP=0||0||0||1||N","TakeProfit calc mode ","In points",{"$f":"IF(Input!D110=\"\",Input!$C110,Input!D110)","v":"In points"},{"$f":"IF(Input!E110=\"\",Input!$C110,Input!E110)","v":"In points"},{"$f":"IF(Input!F110=\"\",Input!$C110,Input!F110)","v":"In points"},{"$f":"IF(Input!G110=\"\",Input!$C110,Input!G110)","v":"In points"},{"$f":"IF(Input!H110=\"\",Input!$C110,Input!H110)","v":"In points"},{"$f":"IF(Input!I110=\"\",Input!$C110,Input!I110)","v":"In points"},{"$f":"IF(Input!J110=\"\",Input!$C110,Input!J110)","v":"In points"},{"$f":"IF(Input!K110=\"\",Input!$C110,Input!K110)","v":"In points"},{"$f":"IF(Input!L110=\"\",Input!$C110,Input!L110)","v":"In points"},{"$f":"IF(Input!M110=\"\",Input!$C110,Input!M110)","v":"In points"}]
["TakeProfit_ReduceAfter========","Reduce TP after minutes "]
["TakeProfit_ReduceAfter_mins=0||0||1||10||N","Reduce after minutes (O - disable) ",0,{"$f":"IF(Input!D112=\"\",Input!$C112,Input!D112)","v":0},{"$f":"IF(Input!E112=\"\",Input!$C112,Input!E112)","v":0},{"$f":"IF(Input!F112=\"\",Input!$C112,Input!F112)","v":0},{"$f":"IF(Input!G112=\"\",Input!$C112,Input!G112)","v":0},{"$f":"IF(Input!H112=\"\",Input!$C112,Input!H112)","v":0},{"$f":"IF(Input!I112=\"\",Input!$C112,Input!I112)","v":0},{"$f":"IF(Input!J112=\"\",Input!$C112,Input!J112)","v":0},{"$f":"IF(Input!K112=\"\",Input!$C112,Input!K112)","v":0},{"$f":"IF(Input!L112=\"\",Input!$C112,Input!L112)","v":0},{"$f":"IF(Input!M112=\"\",Input!$C112,Input!M112)","v":0}]
["TakeProfit_ReduceAfter_coeff=0||0.1||0.010000||1.000000||N","Reduce coefficient ",0,{"$f":"IF(Input!D113=\"\",Input!$C113,Input!D113)","v":0},{"$f":"IF(Input!E113=\"\",Input!$C113,Input!E113)","v":0},{"$f":"IF(Input!F113=\"\",Input!$C113,Input!F113)","v":0},{"$f":"IF(Input!G113=\"\",Input!$C113,Input!G113)","v":0},{"$f":"IF(Input!H113=\"\",Input!$C113,Input!H113)","v":0},{"$f":"IF(Input!I113=\"\",Input!$C113,Input!I113)","v":0},{"$f":"IF(Input!J113=\"\",Input!$C113,Input!J113)","v":0},{"$f":"IF(Input!K113=\"\",Input!$C113,Input!K113)","v":0},{"$f":"IF(Input!L113=\"\",Input!$C113,Input!L113)","v":0},{"$f":"IF(Input!M113=\"\",Input!$C113,Input!M113)","v":0}]
["TakeProfit_ReduceSeries========","Reduce TP for every order "]
["TakeProfit_ReduceSize=0||0||0.000000||0.000000||N","Reduce size ",0,{"$f":"IF(Input!D115=\"\",Input!$C115,Input!D115)","v":0},{"$f":"IF(Input!E115=\"\",Input!$C115,Input!E115)","v":0},{"$f":"IF(Input!F115=\"\",Input!$C115,Input!F115)","v":0},{"$f":"IF(Input!G115=\"\",Input!$C115,Input!G115)","v":0},{"$f":"IF(Input!H115=\"\",Input!$C115,Input!H115)","v":0},{"$f":"IF(Input!I115=\"\",Input!$C115,Input!I115)","v":0},{"$f":"IF(Input!J115=\"\",Input!$C115,Input!J115)","v":0},{"$f":"IF(Input!K115=\"\",Input!$C115,Input!K115)","v":0},{"$f":"IF(Input!L115=\"\",Input!$C115,Input!L115)","v":0},{"$f":"IF(Input!M115=\"\",Input!$C115,Input!M115)","v":0}]
["TakeProfit_ReduceCoeff=0||1||0.100000||10.000000||N","Reduce coefficient ",0,{"$f":"IF(Input!D116=\"\",Input!$C116,Input!D116)","v":0},{"$f":"IF(Input!E116=\"\",Input!$C116,Input!E116)","v":0},{"$f":"IF(Input!F116=\"\",Input!$C116,Input!F116)","v":0},{"$f":"IF(Input!G116=\"\",Input!$C116,Input!G116)","v":0},{"$f":"IF(Input!H116=\"\",Input!$C116,Input!H116)","v":0},{"$f":"IF(Input!I116=\"\",Input!$C116,Input!I116)","v":0},{"$f":"IF(Input!J116=\"\",Input!$C116,Input!J116)","v":0},{"$f":"IF(Input!K116=\"\",Input!$C116,Input!K116)","v":0},{"$f":"IF(Input!L116=\"\",Input!$C116,Input!L116)","v":0},{"$f":"IF(Input!M116=\"\",Input!$C116,Input!M116)","v":0}]
["TakeProfit_MinSize=0||0||0.000000||0.000000||N","Min TakeProfit size (points) ",0,{"$f":"IF(Input!D117=\"\",Input!$C117,Input!D117)","v":0},{"$f":"IF(Input!E117=\"\",Input!$C117,Input!E117)","v":0},{"$f":"IF(Input!F117=\"\",Input!$C117,Input!F117)","v":0},{"$f":"IF(Input!G117=\"\",Input!$C117,Input!G117)","v":0},{"$f":"IF(Input!H117=\"\",Input!$C117,Input!H117)","v":0},{"$f":"IF(Input!I117=\"\",Input!$C117,Input!I117)","v":0},{"$f":"IF(Input!J117=\"\",Input!$C117,Input!J117)","v":0},{"$f":"IF(Input!K117=\"\",Input!$C117,Input!K117)","v":0},{"$f":"IF(Input!L117=\"\",Input!$C117,Input!L117)","v":0},{"$f":"IF(Input!M117=\"\",Input!$C117,Input!M117)","v":0}]
["TakeProfit_Global========","Sum TakeProfit (buy + sell) "]
["GlobalTakeProfit_ccy=0||0||0.000000||0.000000||N","Sum TakeProfit (account currency) (O disable) ",0,{"$f":"IF(Input!D119=\"\",Input!$C119,Input!D119)","v":0},{"$f":"IF(Input!E119=\"\",Input!$C119,Input!E119)","v":0},{"$f":"IF(Input!F119=\"\",Input!$C119,Input!F119)","v":0},{"$f":"IF(Input!G119=\"\",Input!$C119,Input!G119)","v":0},{"$f":"IF(Input!H119=\"\",Input!$C119,Input!H119)","v":0},{"$f":"IF(Input!I119=\"\",Input!$C119,Input!I119)","v":0},{"$f":"IF(Input!J119=\"\",Input!$C119,Input!J119)","v":0},{"$f":"IF(Input!K119=\"\",Input!$C119,Input!K119)","v":0},{"$f":"IF(Input!L119=\"\",Input!$C119,Input!L119)","v":0},{"$f":"IF(Input!M119=\"\",Input!$C119,Input!M119)","v":0}]
["GlobalTakeProfit=0||0||0.000000||0.000000||N","Sum TakeProfit from balance) (O - disable) ",0,{"$f":"IF(Input!D120=\"\",Input!$C120,Input!D120)","v":0},{"$f":"IF(Input!E120=\"\",Input!$C120,Input!E120)","v":0},{"$f":"IF(Input!F120=\"\",Input!$C120,Input!F120)","v":0},{"$f":"IF(Input!G120=\"\",Input!$C120,Input!G120)","v":0},{"$f":"IF(Input!H120=\"\",Input!$C120,Input!H120)","v":0},{"$f":"IF(Input!I120=\"\",Input!$C120,Input!I120)","v":0},{"$f":"IF(Input!J120=\"\",Input!$C120,Input!J120)","v":0},{"$f":"IF(Input!K120=\"\",Input!$C120,Input!K120)","v":0},{"$f":"IF(Input!L120=\"\",Input!$C120,Input!L120)","v":0},{"$f":"IF(Input!M120=\"\",Input!$C120,Input!M120)","v":0}]
["GlobalTakeProfit_OnlyLock=false||false||0||true||N","Sum TakeProfit works if both buy and sell are open ",false,{"$f":"IF(Input!D121=\"\",Input!$C121,Input!D121)","v":false},{"$f":"IF(Input!E121=\"\",Input!$C121,Input!E121)","v":false},{"$f":"IF(Input!F121=\"\",Input!$C121,Input!F121)","v":false},{"$f":"IF(Input!G121=\"\",Input!$C121,Input!G121)","v":false},{"$f":"IF(Input!H121=\"\",Input!$C121,Input!H121)","v":false},{"$f":"IF(Input!I121=\"\",Input!$C121,Input!I121)","v":false},{"$f":"IF(Input!J121=\"\",Input!$C121,Input!J121)","v":false},{"$f":"IF(Input!K121=\"\",Input!$C121,Input!K121)","v":false},{"$f":"IF(Input!L121=\"\",Input!$C121,Input!L121)","v":false},{"$f":"IF(Input!M121=\"\",Input!$C121,Input!M121)","v":false}]
["MinProfitToClose_Properties========","Min profit to close on signal "]
["MinProfitToClose=0||-5||5||10||N","Min profit to close on signal ",0,{"$f":"IF(Input!D123=\"\",Input!$C123,Input!D123)","v":0},{"$f":"IF(Input!E123=\"\",Input!$C123,Input!E123)","v":0},{"$f":"IF(Input!F123=\"\",Input!$C123,Input!F123)","v":0},{"$f":"IF(Input!G123=\"\",Input!$C123,Input!G123)","v":0},{"$f":"IF(Input!H123=\"\",Input!$C123,Input!H123)","v":0},{"$f":"IF(Input!I123=\"\",Input!$C123,Input!I123)","v":0},{"$f":"IF(Input!J123=\"\",Input!$C123,Input!J123)","v":0},{"$f":"IF(Input!K123=\"\",Input!$C123,Input!K123)","v":0},{"$f":"IF(Input!L123=\"\",Input!$C123,Input!L123)","v":0},{"$f":"IF(Input!M123=\"\",Input!$C123,Input!M123)","v":0}]
["MinProfitToClose_ModeP=0||0||0||1||N","Min profit calc mode ","In points",{"$f":"IF(Input!D124=\"\",Input!$C124,Input!D124)","v":"In points"},{"$f":"IF(Input!E124=\"\",Input!$C124,Input!E124)","v":"In points"},{"$f":"IF(Input!F124=\"\",Input!$C124,Input!F124)","v":"In points"},{"$f":"IF(Input!G124=\"\",Input!$C124,Input!G124)","v":"In points"},{"$f":"IF(Input!H124=\"\",Input!$C124,Input!H124)","v":"In points"},{"$f":"IF(Input!I124=\"\",Input!$C124,Input!I124)","v":"In points"},{"$f":"IF(Input!J124=\"\",Input!$C124,Input!J124)","v":"In points"},{"$f":"IF(Input!K124=\"\",Input!$C124,Input!K124)","v":"In points"},{"$f":"IF(Input!L124=\"\",Input!$C124,Input!L124)","v":"In points"},{"$f":"IF(Input!M124=\"\",Input!$C124,Input!M124)","v":"In points"}]
["UseVirtualTP=false||false||0||true||N","Use virtual TakeProfit ",false,{"$f":"IF(Input!D125=\"\",Input!$C125,Input!D125)","v":false},{"$f":"IF(Input!E125=\"\",Input!$C125,Input!E125)","v":false},{"$f":"IF(Input!F125=\"\",Input!$C125,Input!F125)","v":false},{"$f":"IF(Input!G125=\"\",Input!$C125,Input!G125)","v":false},{"$f":"IF(Input!H125=\"\",Input!$C125,Input!H125)","v":false},{"$f":"IF(Input!I125=\"\",Input!$C125,Input!I125)","v":false},{"$f":"IF(Input!J125=\"\",Input!$C125,Input!J125)","v":false},{"$f":"IF(Input!K125=\"\",Input!$C125,Input!K125)","v":false},{"$f":"IF(Input!L125=\"\",Input!$C125,Input!L125)","v":false},{"$f":"IF(Input!M125=\"\",Input!$C125,Input!M125)","v":false}]
["; TrailingStop properties","TrailingStop p rope rties "]
["TrailingStop_Properties====================================================================================","TrailingStop properties: "]
["TrailingStop=0||5||20||100||N","TrailingStop size (O - disable) ",0,{"$f":"IF(Input!D128=\"\",Input!$C128,Input!D128)","v":0},{"$f":"IF(Input!E128=\"\",Input!$C128,Input!E128)","v":0},{"$f":"IF(Input!F128=\"\",Input!$C128,Input!F128)","v":0},{"$f":"IF(Input!G128=\"\",Input!$C128,Input!G128)","v":0},{"$f":"IF(Input!H128=\"\",Input!$C128,Input!H128)","v":0},{"$f":"IF(Input!I128=\"\",Input!$C128,Input!I128)","v":0},{"$f":"IF(Input!J128=\"\",Input!$C128,Input!J128)","v":0},{"$f":"IF(Input!K128=\"\",Input!$C128,Input!K128)","v":0},{"$f":"IF(Input!L128=\"\",Input!$C128,Input!L128)","v":0},{"$f":"IF(Input!M128=\"\",Input!$C128,Input!M128)","v":0}]
["TrailingStep=0||5||20||100||N","Trailing Step ",0,{"$f":"IF(Input!D129=\"\",Input!$C129,Input!D129)","v":0},{"$f":"IF(Input!E129=\"\",Input!$C129,Input!E129)","v":0},{"$f":"IF(Input!F129=\"\",Input!$C129,Input!F129)","v":0},{"$f":"IF(Input!G129=\"\",Input!$C129,Input!G129)","v":0},{"$f":"IF(Input!H129=\"\",Input!$C129,Input!H129)","v":0},{"$f":"IF(Input!I129=\"\",Input!$C129,Input!I129)","v":0},{"$f":"IF(Input!J129=\"\",Input!$C129,Input!J129)","v":0},{"$f":"IF(Input!K129=\"\",Input!$C129,Input!K129)","v":0},{"$f":"IF(Input!L129=\"\",Input!$C129,Input!L129)","v":0},{"$f":"IF(Input!M129=\"\",Input!$C129,Input!M129)","v":0}]
["TrailingStopAfter=0||5||20||100||N","Start trailing after (O - start from zero profit) ",0,{"$f":"IF(Input!D130=\"\",Input!$C130,Input!D130)","v":0},{"$f":"IF(Input!E130=\"\",Input!$C130,Input!E130)","v":0},{"$f":"IF(Input!F130=\"\",Input!$C130,Input!F130)","v":0},{"$f":"IF(Input!G130=\"\",Input!$C130,Input!G130)","v":0},{"$f":"IF(Input!H130=\"\",Input!$C130,Input!H130)","v":0},{"$f":"IF(Input!I130=\"\",Input!$C130,Input!I130)","v":0},{"$f":"IF(Input!J130=\"\",Input!$C130,Input!J130)","v":0},{"$f":"IF(Input!K130=\"\",Input!$C130,Input!K130)","v":0},{"$f":"IF(Input!L130=\"\",Input!$C130,Input!L130)","v":0},{"$f":"IF(Input!M130=\"\",Input!$C130,Input!M130)","v":0}]
["TrailingIncreaseEvery=0||0||0.000000||0.000000||N","Increase trailing every (O disable) ",0,{"$f":"IF(Input!D131=\"\",Input!$C131,Input!D131)","v":0},{"$f":"IF(Input!E131=\"\",Input!$C131,Input!E131)","v":0},{"$f":"IF(Input!F131=\"\",Input!$C131,Input!F131)","v":0},{"$f":"IF(Input!G131=\"\",Input!$C131,Input!G131)","v":0},{"$f":"IF(Input!H131=\"\",Input!$C131,Input!H131)","v":0},{"$f":"IF(Input!I131=\"\",Input!$C131,Input!I131)","v":0},{"$f":"IF(Input!J131=\"\",Input!$C131,Input!J131)","v":0},{"$f":"IF(Input!K131=\"\",Input!$C131,Input!K131)","v":0},{"$f":"IF(Input!L131=\"\",Input!$C131,Input!L131)","v":0},{"$f":"IF(Input!M131=\"\",Input!$C131,Input!M131)","v":0}]
["TrailingIncreaseSize=0||0||0.000000||0.000000||N","Increase size ",0,{"$f":"IF(Input!D132=\"\",Input!$C132,Input!D132)","v":0},{"$f":"IF(Input!E132=\"\",Input!$C132,Input!E132)","v":0},{"$f":"IF(Input!F132=\"\",Input!$C132,Input!F132)","v":0},{"$f":"IF(Input!G132=\"\",Input!$C132,Input!G132)","v":0},{"$f":"IF(Input!H132=\"\",Input!$C132,Input!H132)","v":0},{"$f":"IF(Input!I132=\"\",Input!$C132,Input!I132)","v":0},{"$f":"IF(Input!J132=\"\",Input!$C132,Input!J132)","v":0},{"$f":"IF(Input!K132=\"\",Input!$C132,Input!K132)","v":0},{"$f":"IF(Input!L132=\"\",Input!$C132,Input!L132)","v":0},{"$f":"IF(Input!M132=\"\",Input!$C132,Input!M132)","v":0}]
["TrailingDecreaseEveryMinutes=0||0||1||10||N","Decrease trailing every minutes (O disable) ",0,{"$f":"IF(Input!D133=\"\",Input!$C133,Input!D133)","v":0},{"$f":"IF(Input!E133=\"\",Input!$C133,Input!E133)","v":0},{"$f":"IF(Input!F133=\"\",Input!$C133,Input!F133)","v":0},{"$f":"IF(Input!G133=\"\",Input!$C133,Input!G133)","v":0},{"$f":"IF(Input!H133=\"\",Input!$C133,Input!H133)","v":0},{"$f":"IF(Input!I133=\"\",Input!$C133,Input!I133)","v":0},{"$f":"IF(Input!J133=\"\",Input!$C133,Input!J133)","v":0},{"$f":"IF(Input!K133=\"\",Input!$C133,Input!K133)","v":0},{"$f":"IF(Input!L133=\"\",Input!$C133,Input!L133)","v":0},{"$f":"IF(Input!M133=\"\",Input!$C133,Input!M133)","v":0}]
["TrailingDecreaseCoeff=0||0.9||0.090000||9.000000||N","Decrease coefficient ",0,{"$f":"IF(Input!D134=\"\",Input!$C134,Input!D134)","v":0},{"$f":"IF(Input!E134=\"\",Input!$C134,Input!E134)","v":0},{"$f":"IF(Input!F134=\"\",Input!$C134,Input!F134)","v":0},{"$f":"IF(Input!G134=\"\",Input!$C134,Input!G134)","v":0},{"$f":"IF(Input!H134=\"\",Input!$C134,Input!H134)","v":0},{"$f":"IF(Input!I134=\"\",Input!$C134,Input!I134)","v":0},{"$f":"IF(Input!J134=\"\",Input!$C134,Input!J134)","v":0},{"$f":"IF(Input!K134=\"\",Input!$C134,Input!K134)","v":0},{"$f":"IF(Input!L134=\"\",Input!$C134,Input!L134)","v":0},{"$f":"IF(Input!M134=\"\",Input!$C134,Input!M134)","v":0}]
["TrailingDecreaseStartAfter=0||0||1||10||N","Decrease start after minutes ",0,{"$f":"IF(Input!D135=\"\",Input!$C135,Input!D135)","v":0},{"$f":"IF(Input!E135=\"\",Input!$C135,Input!E135)","v":0},{"$f":"IF(Input!F135=\"\",Input!$C135,Input!F135)","v":0},{"$f":"IF(Input!G135=\"\",Input!$C135,Input!G135)","v":0},{"$f":"IF(Input!H135=\"\",Input!$C135,Input!H135)","v":0},{"$f":"IF(Input!I135=\"\",Input!$C135,Input!I135)","v":0},{"$f":"IF(Input!J135=\"\",Input!$C135,Input!J135)","v":0},{"$f":"IF(Input!K135=\"\",Input!$C135,Input!K135)","v":0},{"$f":"IF(Input!L135=\"\",Input!$C135,Input!L135)","v":0},{"$f":"IF(Input!M135=\"\",Input!$C135,Input!M135)","v":0}]
["TrailingMinSize=0||0||0.000000||0.000000||N","TrailingStop min size ",0,{"$f":"IF(Input!D136=\"\",Input!$C136,Input!D136)","v":0},{"$f":"IF(Input!E136=\"\",Input!$C136,Input!E136)","v":0},{"$f":"IF(Input!F136=\"\",Input!$C136,Input!F136)","v":0},{"$f":"IF(Input!G136=\"\",Input!$C136,Input!G136)","v":0},{"$f":"IF(Input!H136=\"\",Input!$C136,Input!H136)","v":0},{"$f":"IF(Input!I136=\"\",Input!$C136,Input!I136)","v":0},{"$f":"IF(Input!J136=\"\",Input!$C136,Input!J136)","v":0},{"$f":"IF(Input!K136=\"\",Input!$C136,Input!K136)","v":0},{"$f":"IF(Input!L136=\"\",Input!$C136,Input!L136)","v":0},{"$f":"IF(Input!M136=\"\",Input!$C136,Input!M136)","v":0}]
["TrailingMaxSize=0||0||0.000000||0.000000||N","TrailingStop max size ",0,{"$f":"IF(Input!D137=\"\",Input!$C137,Input!D137)","v":0},{"$f":"IF(Input!E137=\"\",Input!$C137,Input!E137)","v":0},{"$f":"IF(Input!F137=\"\",Input!$C137,Input!F137)","v":0},{"$f":"IF(Input!G137=\"\",Input!$C137,Input!G137)","v":0},{"$f":"IF(Input!H137=\"\",Input!$C137,Input!H137)","v":0},{"$f":"IF(Input!I137=\"\",Input!$C137,Input!I137)","v":0},{"$f":"IF(Input!J137=\"\",Input!$C137,Input!J137)","v":0},{"$f":"IF(Input!K137=\"\",Input!$C137,Input!K137)","v":0},{"$f":"IF(Input!L137=\"\",Input!$C137,Input!L137)","v":0},{"$f":"IF(Input!M137=\"\",Input!$C137,Input!M137)","v":0}]
["TrailingStopMode=0||0||0||1||N","TrailingStop mode ","Frcm lastc en rice ",{"$f":"IF(Input!D138=\"\",Input!$C138,Input!D138)","v":"Frcm lastc en rice "},{"$f":"IF(Input!E138=\"\",Input!$C138,Input!E138)","v":"Frcm lastc en rice "},{"$f":"IF(Input!F138=\"\",Input!$C138,Input!F138)","v":"Frcm lastc en rice "},{"$f":"IF(Input!G138=\"\",Input!$C138,Input!G138)","v":"Frcm lastc en rice "},{"$f":"IF(Input!H138=\"\",Input!$C138,Input!H138)","v":"Frcm lastc en rice "},{"$f":"IF(Input!I138=\"\",Input!$C138,Input!I138)","v":"Frcm lastc en rice "},{"$f":"IF(Input!J138=\"\",Input!$C138,Input!J138)","v":"Frcm lastc en rice "},{"$f":"IF(Input!K138=\"\",Input!$C138,Input!K138)","v":"Frcm lastc en rice "},{"$f":"IF(Input!L138=\"\",Input!$C138,Input!L138)","v":"Frcm lastc en rice "},{"$f":"IF(Input!M138=\"\",Input!$C138,Input!M138)","v":"Frcm lastc en rice "}]
["TrailingStop_ModeP=0||0||0||1||N","TrailingStop calc mode ","In points",{"$f":"IF(Input!D139=\"\",Input!$C139,Input!D139)","v":"In points"},{"$f":"IF(Input!E139=\"\",Input!$C139,Input!E139)","v":"In points"},{"$f":"IF(Input!F139=\"\",Input!$C139,Input!F139)","v":"In points"},{"$f":"IF(Input!G139=\"\",Input!$C139,Input!G139)","v":"In points"},{"$f":"IF(Input!H139=\"\",Input!$C139,Input!H139)","v":"In points"},{"$f":"IF(Input!I139=\"\",Input!$C139,Input!I139)","v":"In points"},{"$f":"IF(Input!J139=\"\",Input!$C139,Input!J139)","v":"In points"},{"$f":"IF(Input!K139=\"\",Input!$C139,Input!K139)","v":"In points"},{"$f":"IF(Input!L139=\"\",Input!$C139,Input!L139)","v":"In points"},{"$f":"IF(Input!M139=\"\",Input!$C139,Input!M139)","v":"In points"}]
["; Martingale properties","Martingale properties "]
["Martingale_Properties====================================================================================","Martingale properties: "]
["MartingailType=0||0||0||3||N","Martingale type ","Enabled",{"$f":"IF(Input!D142=\"\",Input!$C142,Input!D142)","v":"Enabled"},{"$f":"IF(Input!E142=\"\",Input!$C142,Input!E142)","v":"Enabled"},{"$f":"IF(Input!F142=\"\",Input!$C142,Input!F142)","v":"Enabled"},{"$f":"IF(Input!G142=\"\",Input!$C142,Input!G142)","v":"Enabled"},{"$f":"IF(Input!H142=\"\",Input!$C142,Input!H142)","v":"Enabled"},{"$f":"IF(Input!I142=\"\",Input!$C142,Input!I142)","v":"Enabled"},{"$f":"IF(Input!J142=\"\",Input!$C142,Input!J142)","v":"Enabled"},{"$f":"IF(Input!K142=\"\",Input!$C142,Input!K142)","v":"Enabled"},{"$f":"IF(Input!L142=\"\",Input!$C142,Input!L142)","v":"Enabled"},{"$f":"IF(Input!M142=\"\",Input!$C142,Input!M142)","v":"Enabled"}]
["MaxTrades=0||5||1||50||N","Max trades in one direction ",0,{"$f":"IF(Input!D143=\"\",Input!$C143,Input!D143)","v":0},{"$f":"IF(Input!E143=\"\",Input!$C143,Input!E143)","v":0},{"$f":"IF(Input!F143=\"\",Input!$C143,Input!F143)","v":0},{"$f":"IF(Input!G143=\"\",Input!$C143,Input!G143)","v":0},{"$f":"IF(Input!H143=\"\",Input!$C143,Input!H143)","v":0},{"$f":"IF(Input!I143=\"\",Input!$C143,Input!I143)","v":0},{"$f":"IF(Input!J143=\"\",Input!$C143,Input!J143)","v":0},{"$f":"IF(Input!K143=\"\",Input!$C143,Input!K143)","v":0},{"$f":"IF(Input!L143=\"\",Input!$C143,Input!L143)","v":0},{"$f":"IF(Input!M143=\"\",Input!$C143,Input!M143)","v":0}]
["MartingailOnTheBarEnd=false||false||0||true||N","New deal on the end of the bar only ",false,{"$f":"IF(Input!D144=\"\",Input!$C144,Input!D144)","v":false},{"$f":"IF(Input!E144=\"\",Input!$C144,Input!E144)","v":false},{"$f":"IF(Input!F144=\"\",Input!$C144,Input!F144)","v":false},{"$f":"IF(Input!G144=\"\",Input!$C144,Input!G144)","v":false},{"$f":"IF(Input!H144=\"\",Input!$C144,Input!H144)","v":false},{"$f":"IF(Input!I144=\"\",Input!$C144,Input!I144)","v":false},{"$f":"IF(Input!J144=\"\",Input!$C144,Input!J144)","v":false},{"$f":"IF(Input!K144=\"\",Input!$C144,Input!K144)","v":false},{"$f":"IF(Input!L144=\"\",Input!$C144,Input!L144)","v":false},{"$f":"IF(Input!M144=\"\",Input!$C144,Input!M144)","v":false}]
["MinPause_Bars=0||0||1||1||N","Min pause between trades (in bars of Signal TF) ",0,{"$f":"IF(Input!D145=\"\",Input!$C145,Input!D145)","v":0},{"$f":"IF(Input!E145=\"\",Input!$C145,Input!E145)","v":0},{"$f":"IF(Input!F145=\"\",Input!$C145,Input!F145)","v":0},{"$f":"IF(Input!G145=\"\",Input!$C145,Input!G145)","v":0},{"$f":"IF(Input!H145=\"\",Input!$C145,Input!H145)","v":0},{"$f":"IF(Input!I145=\"\",Input!$C145,Input!I145)","v":0},{"$f":"IF(Input!J145=\"\",Input!$C145,Input!J145)","v":0},{"$f":"IF(Input!K145=\"\",Input!$C145,Input!K145)","v":0},{"$f":"IF(Input!L145=\"\",Input!$C145,Input!L145)","v":0},{"$f":"IF(Input!M145=\"\",Input!$C145,Input!M145)","v":0}]
["UseOnlyOpenedTrades=true||false||0||true||N","Use only opened trades for time filters ",false,{"$f":"IF(Input!D146=\"\",Input!$C146,Input!D146)","v":false},{"$f":"IF(Input!E146=\"\",Input!$C146,Input!E146)","v":false},{"$f":"IF(Input!F146=\"\",Input!$C146,Input!F146)","v":false},{"$f":"IF(Input!G146=\"\",Input!$C146,Input!G146)","v":false},{"$f":"IF(Input!H146=\"\",Input!$C146,Input!H146)","v":false},{"$f":"IF(Input!I146=\"\",Input!$C146,Input!I146)","v":false},{"$f":"IF(Input!J146=\"\",Input!$C146,Input!J146)","v":false},{"$f":"IF(Input!K146=\"\",Input!$C146,Input!K146)","v":false},{"$f":"IF(Input!L146=\"\",Input!$C146,Input!L146)","v":false},{"$f":"IF(Input!M146=\"\",Input!$C146,Input!M146)","v":false}]
["MartingailLotMode=2||0||0||2||N","Lot increasing mode ","Martin: revicus Ict cceff [I-2-4-8-16-...] ",{"$f":"IF(Input!D147=\"\",Input!$C147,Input!D147)","v":"Martin: revicus Ict cceff [I-2-4-8-16-...] "},{"$f":"IF(Input!E147=\"\",Input!$C147,Input!E147)","v":"Martin: revicus Ict cceff [I-2-4-8-16-...] "},{"$f":"IF(Input!F147=\"\",Input!$C147,Input!F147)","v":"Martin: revicus Ict cceff [I-2-4-8-16-...] "},{"$f":"IF(Input!G147=\"\",Input!$C147,Input!G147)","v":"Martin: revicus Ict cceff [I-2-4-8-16-...] "},{"$f":"IF(Input!H147=\"\",Input!$C147,Input!H147)","v":"Martin: revicus Ict cceff [I-2-4-8-16-...] "},{"$f":"IF(Input!I147=\"\",Input!$C147,Input!I147)","v":"Martin: revicus Ict cceff [I-2-4-8-16-...] "},{"$f":"IF(Input!J147=\"\",Input!$C147,Input!J147)","v":"Martin: revicus Ict cceff [I-2-4-8-16-...] "},{"$f":"IF(Input!K147=\"\",Input!$C147,Input!K147)","v":"Martin: revicus Ict cceff [I-2-4-8-16-...] "},{"$f":"IF(Input!L147=\"\",Input!$C147,Input!L147)","v":"Martin: revicus Ict cceff [I-2-4-8-16-...] "},{"$f":"IF(Input!M147=\"\",Input!$C147,Input!M147)","v":"Martin: revicus Ict cceff [I-2-4-8-16-...] "}]
["LotExponent=1||1.2||0.1||1.7||Y","Lot coefficient / adding / xo ",0,{"$f":"IF(Input!D148=\"\",Input!$C148,Input!D148)","v":0},{"$f":"IF(Input!E148=\"\",Input!$C148,Input!E148)","v":0},{"$f":"IF(Input!F148=\"\",Input!$C148,Input!F148)","v":0},{"$f":"IF(Input!G148=\"\",Input!$C148,Input!G148)","v":0},{"$f":"IF(Input!H148=\"\",Input!$C148,Input!H148)","v":0},{"$f":"IF(Input!I148=\"\",Input!$C148,Input!I148)","v":0},{"$f":"IF(Input!J148=\"\",Input!$C148,Input!J148)","v":0},{"$f":"IF(Input!K148=\"\",Input!$C148,Input!K148)","v":0},{"$f":"IF(Input!L148=\"\",Input!$C148,Input!L148)","v":0},{"$f":"IF(Input!M148=\"\",Input!$C148,Input!M148)","v":0}]
["CutomCoefficients=1","Custom lot coefficients "]
["PipStep=1||13||2||50||Y","Step size ",0,{"$f":"IF(Input!D150=\"\",Input!$C150,Input!D150)","v":0},{"$f":"IF(Input!E150=\"\",Input!$C150,Input!E150)","v":0},{"$f":"IF(Input!F150=\"\",Input!$C150,Input!F150)","v":0},{"$f":"IF(Input!G150=\"\",Input!$C150,Input!G150)","v":0},{"$f":"IF(Input!H150=\"\",Input!$C150,Input!H150)","v":0},{"$f":"IF(Input!I150=\"\",Input!$C150,Input!I150)","v":0},{"$f":"IF(Input!J150=\"\",Input!$C150,Input!J150)","v":0},{"$f":"IF(Input!K150=\"\",Input!$C150,Input!K150)","v":0},{"$f":"IF(Input!L150=\"\",Input!$C150,Input!L150)","v":0},{"$f":"IF(Input!M150=\"\",Input!$C150,Input!M150)","v":0}]
["Martingail_ModeP=0||0||0||1||N","Step size calc mode ","In points",{"$f":"IF(Input!D151=\"\",Input!$C151,Input!D151)","v":"In points"},{"$f":"IF(Input!E151=\"\",Input!$C151,Input!E151)","v":"In points"},{"$f":"IF(Input!F151=\"\",Input!$C151,Input!F151)","v":"In points"},{"$f":"IF(Input!G151=\"\",Input!$C151,Input!G151)","v":"In points"},{"$f":"IF(Input!H151=\"\",Input!$C151,Input!H151)","v":"In points"},{"$f":"IF(Input!I151=\"\",Input!$C151,Input!I151)","v":"In points"},{"$f":"IF(Input!J151=\"\",Input!$C151,Input!J151)","v":"In points"},{"$f":"IF(Input!K151=\"\",Input!$C151,Input!K151)","v":"In points"},{"$f":"IF(Input!L151=\"\",Input!$C151,Input!L151)","v":"In points"},{"$f":"IF(Input!M151=\"\",Input!$C151,Input!M151)","v":"In points"}]
["StepCoeff=1||1||0.1||1.1||N","Step increase coefficient ",0,{"$f":"IF(Input!D152=\"\",Input!$C152,Input!D152)","v":0},{"$f":"IF(Input!E152=\"\",Input!$C152,Input!E152)","v":0},{"$f":"IF(Input!F152=\"\",Input!$C152,Input!F152)","v":0},{"$f":"IF(Input!G152=\"\",Input!$C152,Input!G152)","v":0},{"$f":"IF(Input!H152=\"\",Input!$C152,Input!H152)","v":0},{"$f":"IF(Input!I152=\"\",Input!$C152,Input!I152)","v":0},{"$f":"IF(Input!J152=\"\",Input!$C152,Input!J152)","v":0},{"$f":"IF(Input!K152=\"\",Input!$C152,Input!K152)","v":0},{"$f":"IF(Input!L152=\"\",Input!$C152,Input!L152)","v":0},{"$f":"IF(Input!M152=\"\",Input!$C152,Input!M152)","v":0}]
["ChangeStep_AfterOrder=0||0||1||10||N","Change step after order # (O disable) ",0,{"$f":"IF(Input!D153=\"\",Input!$C153,Input!D153)","v":0},{"$f":"IF(Input!E153=\"\",Input!$C153,Input!E153)","v":0},{"$f":"IF(Input!F153=\"\",Input!$C153,Input!F153)","v":0},{"$f":"IF(Input!G153=\"\",Input!$C153,Input!G153)","v":0},{"$f":"IF(Input!H153=\"\",Input!$C153,Input!H153)","v":0},{"$f":"IF(Input!I153=\"\",Input!$C153,Input!I153)","v":0},{"$f":"IF(Input!J153=\"\",Input!$C153,Input!J153)","v":0},{"$f":"IF(Input!K153=\"\",Input!$C153,Input!K153)","v":0},{"$f":"IF(Input!L153=\"\",Input!$C153,Input!L153)","v":0},{"$f":"IF(Input!M153=\"\",Input!$C153,Input!M153)","v":0}]
["ChangeStep_Coeff=1||2||0.200000||20.000000||N","Change step by coefficient ",0,{"$f":"IF(Input!D154=\"\",Input!$C154,Input!D154)","v":0},{"$f":"IF(Input!E154=\"\",Input!$C154,Input!E154)","v":0},{"$f":"IF(Input!F154=\"\",Input!$C154,Input!F154)","v":0},{"$f":"IF(Input!G154=\"\",Input!$C154,Input!G154)","v":0},{"$f":"IF(Input!H154=\"\",Input!$C154,Input!H154)","v":0},{"$f":"IF(Input!I154=\"\",Input!$C154,Input!I154)","v":0},{"$f":"IF(Input!J154=\"\",Input!$C154,Input!J154)","v":0},{"$f":"IF(Input!K154=\"\",Input!$C154,Input!K154)","v":0},{"$f":"IF(Input!L154=\"\",Input!$C154,Input!L154)","v":0},{"$f":"IF(Input!M154=\"\",Input!$C154,Input!M154)","v":0}]
["CustomStepCoefficients=","Custom step coefficients "]
["MinStepSize=0||0||0.000000||0.000000||N","Min step size (points) ",0,{"$f":"IF(Input!D156=\"\",Input!$C156,Input!D156)","v":0},{"$f":"IF(Input!E156=\"\",Input!$C156,Input!E156)","v":0},{"$f":"IF(Input!F156=\"\",Input!$C156,Input!F156)","v":0},{"$f":"IF(Input!G156=\"\",Input!$C156,Input!G156)","v":0},{"$f":"IF(Input!H156=\"\",Input!$C156,Input!H156)","v":0},{"$f":"IF(Input!I156=\"\",Input!$C156,Input!I156)","v":0},{"$f":"IF(Input!J156=\"\",Input!$C156,Input!J156)","v":0},{"$f":"IF(Input!K156=\"\",Input!$C156,Input!K156)","v":0},{"$f":"IF(Input!L156=\"\",Input!$C156,Input!L156)","v":0},{"$f":"IF(Input!M156=\"\",Input!$C156,Input!M156)","v":0}]
["MaxStepSize=0||0||0.000000||0.000000||N","Max step size (points) (O disable limit) ",0,{"$f":"IF(Input!D157=\"\",Input!$C157,Input!D157)","v":0},{"$f":"IF(Input!E157=\"\",Input!$C157,Input!E157)","v":0},{"$f":"IF(Input!F157=\"\",Input!$C157,Input!F157)","v":0},{"$f":"IF(Input!G157=\"\",Input!$C157,Input!G157)","v":0},{"$f":"IF(Input!H157=\"\",Input!$C157,Input!H157)","v":0},{"$f":"IF(Input!I157=\"\",Input!$C157,Input!I157)","v":0},{"$f":"IF(Input!J157=\"\",Input!$C157,Input!J157)","v":0},{"$f":"IF(Input!K157=\"\",Input!$C157,Input!K157)","v":0},{"$f":"IF(Input!L157=\"\",Input!$C157,Input!L157)","v":0},{"$f":"IF(Input!M157=\"\",Input!$C157,Input!M157)","v":0}]
["BreakEven_AfterOrder=0||0||5||5||N","Close on 8reakEven after order # (O - disable) ",0,{"$f":"IF(Input!D158=\"\",Input!$C158,Input!D158)","v":0},{"$f":"IF(Input!E158=\"\",Input!$C158,Input!E158)","v":0},{"$f":"IF(Input!F158=\"\",Input!$C158,Input!F158)","v":0},{"$f":"IF(Input!G158=\"\",Input!$C158,Input!G158)","v":0},{"$f":"IF(Input!H158=\"\",Input!$C158,Input!H158)","v":0},{"$f":"IF(Input!I158=\"\",Input!$C158,Input!I158)","v":0},{"$f":"IF(Input!J158=\"\",Input!$C158,Input!J158)","v":0},{"$f":"IF(Input!K158=\"\",Input!$C158,Input!K158)","v":0},{"$f":"IF(Input!L158=\"\",Input!$C158,Input!L158)","v":0},{"$f":"IF(Input!M158=\"\",Input!$C158,Input!M158)","v":0}]
["BreakEven_MinProfit=0||0||0.000000||0.000000||N","8reakEven min profit (points) ",0,{"$f":"IF(Input!D159=\"\",Input!$C159,Input!D159)","v":0},{"$f":"IF(Input!E159=\"\",Input!$C159,Input!E159)","v":0},{"$f":"IF(Input!F159=\"\",Input!$C159,Input!F159)","v":0},{"$f":"IF(Input!G159=\"\",Input!$C159,Input!G159)","v":0},{"$f":"IF(Input!H159=\"\",Input!$C159,Input!H159)","v":0},{"$f":"IF(Input!I159=\"\",Input!$C159,Input!I159)","v":0},{"$f":"IF(Input!J159=\"\",Input!$C159,Input!J159)","v":0},{"$f":"IF(Input!K159=\"\",Input!$C159,Input!K159)","v":0},{"$f":"IF(Input!L159=\"\",Input!$C159,Input!L159)","v":0},{"$f":"IF(Input!M159=\"\",Input!$C159,Input!M159)","v":0}]
["BE_Alert_After=0||3||1||30||N","8reakEven Alert after order # (O - disable) ",0,{"$f":"IF(Input!D160=\"\",Input!$C160,Input!D160)","v":0},{"$f":"IF(Input!E160=\"\",Input!$C160,Input!E160)","v":0},{"$f":"IF(Input!F160=\"\",Input!$C160,Input!F160)","v":0},{"$f":"IF(Input!G160=\"\",Input!$C160,Input!G160)","v":0},{"$f":"IF(Input!H160=\"\",Input!$C160,Input!H160)","v":0},{"$f":"IF(Input!I160=\"\",Input!$C160,Input!I160)","v":0},{"$f":"IF(Input!J160=\"\",Input!$C160,Input!J160)","v":0},{"$f":"IF(Input!K160=\"\",Input!$C160,Input!K160)","v":0},{"$f":"IF(Input!L160=\"\",Input!$C160,Input!L160)","v":0},{"$f":"IF(Input!M160=\"\",Input!$C160,Input!M160)","v":0}]
["GlobalMartingail_Properties========","Apply martin to the new deals "]
["ApplyAfterClosedLoss=false||false||0||true||N","Apply martin after closed loss ",false,{"$f":"IF(Input!D162=\"\",Input!$C162,Input!D162)","v":false},{"$f":"IF(Input!E162=\"\",Input!$C162,Input!E162)","v":false},{"$f":"IF(Input!F162=\"\",Input!$C162,Input!F162)","v":false},{"$f":"IF(Input!G162=\"\",Input!$C162,Input!G162)","v":false},{"$f":"IF(Input!H162=\"\",Input!$C162,Input!H162)","v":false},{"$f":"IF(Input!I162=\"\",Input!$C162,Input!I162)","v":false},{"$f":"IF(Input!J162=\"\",Input!$C162,Input!J162)","v":false},{"$f":"IF(Input!K162=\"\",Input!$C162,Input!K162)","v":false},{"$f":"IF(Input!L162=\"\",Input!$C162,Input!L162)","v":false},{"$f":"IF(Input!M162=\"\",Input!$C162,Input!M162)","v":false}]
["; Anti-Martingale properties","Anti -Martingale properties "]
["AntiMartingale_Properties====================================================================================","Anti-Martingale properties: "]
["AntiMartingailType=0||0||0||3||N","Anti-Martingale type ","Enabled",{"$f":"IF(Input!D165=\"\",Input!$C165,Input!D165)","v":"Enabled"},{"$f":"IF(Input!E165=\"\",Input!$C165,Input!E165)","v":"Enabled"},{"$f":"IF(Input!F165=\"\",Input!$C165,Input!F165)","v":"Enabled"},{"$f":"IF(Input!G165=\"\",Input!$C165,Input!G165)","v":"Enabled"},{"$f":"IF(Input!H165=\"\",Input!$C165,Input!H165)","v":"Enabled"},{"$f":"IF(Input!I165=\"\",Input!$C165,Input!I165)","v":"Enabled"},{"$f":"IF(Input!J165=\"\",Input!$C165,Input!J165)","v":"Enabled"},{"$f":"IF(Input!K165=\"\",Input!$C165,Input!K165)","v":"Enabled"},{"$f":"IF(Input!L165=\"\",Input!$C165,Input!L165)","v":"Enabled"},{"$f":"IF(Input!M165=\"\",Input!$C165,Input!M165)","v":"Enabled"}]
["AntiMaxTrades=10||10||1||100||N","Max trades ",0,{"$f":"IF(Input!D166=\"\",Input!$C166,Input!D166)","v":0},{"$f":"IF(Input!E166=\"\",Input!$C166,Input!E166)","v":0},{"$f":"IF(Input!F166=\"\",Input!$C166,Input!F166)","v":0},{"$f":"IF(Input!G166=\"\",Input!$C166,Input!G166)","v":0},{"$f":"IF(Input!H166=\"\",Input!$C166,Input!H166)","v":0},{"$f":"IF(Input!I166=\"\",Input!$C166,Input!I166)","v":0},{"$f":"IF(Input!J166=\"\",Input!$C166,Input!J166)","v":0},{"$f":"IF(Input!K166=\"\",Input!$C166,Input!K166)","v":0},{"$f":"IF(Input!L166=\"\",Input!$C166,Input!L166)","v":0},{"$f":"IF(Input!M166=\"\",Input!$C166,Input!M166)","v":0}]
["AntiMartingailLotMode=2||0||0||2||N","Lot increasing mode ","Martin: revicus Ict cceff [I-2-4-8-16-...] ",{"$f":"IF(Input!D167=\"\",Input!$C167,Input!D167)","v":"Martin: revicus Ict cceff [I-2-4-8-16-...] "},{"$f":"IF(Input!E167=\"\",Input!$C167,Input!E167)","v":"Martin: revicus Ict cceff [I-2-4-8-16-...] "},{"$f":"IF(Input!F167=\"\",Input!$C167,Input!F167)","v":"Martin: revicus Ict cceff [I-2-4-8-16-...] "},{"$f":"IF(Input!G167=\"\",Input!$C167,Input!G167)","v":"Martin: revicus Ict cceff [I-2-4-8-16-...] "},{"$f":"IF(Input!H167=\"\",Input!$C167,Input!H167)","v":"Martin: revicus Ict cceff [I-2-4-8-16-...] "},{"$f":"IF(Input!I167=\"\",Input!$C167,Input!I167)","v":"Martin: revicus Ict cceff [I-2-4-8-16-...] "},{"$f":"IF(Input!J167=\"\",Input!$C167,Input!J167)","v":"Martin: revicus Ict cceff [I-2-4-8-16-...] "},{"$f":"IF(Input!K167=\"\",Input!$C167,Input!K167)","v":"Martin: revicus Ict cceff [I-2-4-8-16-...] "},{"$f":"IF(Input!L167=\"\",Input!$C167,Input!L167)","v":"Martin: revicus Ict cceff [I-2-4-8-16-...] "},{"$f":"IF(Input!M167=\"\",Input!$C167,Input!M167)","v":"Martin: revicus Ict cceff [I-2-4-8-16-...] "}]
["AntiLotExponent=0.9||0.9||0.090000||9.000000||N","Lot coefficient / adding / xo ",0,{"$f":"IF(Input!D168=\"\",Input!$C168,Input!D168)","v":0},{"$f":"IF(Input!E168=\"\",Input!$C168,Input!E168)","v":0},{"$f":"IF(Input!F168=\"\",Input!$C168,Input!F168)","v":0},{"$f":"IF(Input!G168=\"\",Input!$C168,Input!G168)","v":0},{"$f":"IF(Input!H168=\"\",Input!$C168,Input!H168)","v":0},{"$f":"IF(Input!I168=\"\",Input!$C168,Input!I168)","v":0},{"$f":"IF(Input!J168=\"\",Input!$C168,Input!J168)","v":0},{"$f":"IF(Input!K168=\"\",Input!$C168,Input!K168)","v":0},{"$f":"IF(Input!L168=\"\",Input!$C168,Input!L168)","v":0},{"$f":"IF(Input!M168=\"\",Input!$C168,Input!M168)","v":0}]
["AntiCutomCoefficients=0.95,0.77,0.53","Custom lot coefficients ",null,{"$f":"IF(Input!D169=\"\",Input!$C169,Input!D169)","v":0},{"$f":"IF(Input!E169=\"\",Input!$C169,Input!E169)","v":0},{"$f":"IF(Input!F169=\"\",Input!$C169,Input!F169)","v":0},{"$f":"IF(Input!G169=\"\",Input!$C169,Input!G169)","v":0},{"$f":"IF(Input!H169=\"\",Input!$C169,Input!H169)","v":0},{"$f":"IF(Input!I169=\"\",Input!$C169,Input!I169)","v":0},{"$f":"IF(Input!J169=\"\",Input!$C169,Input!J169)","v":0},{"$f":"IF(Input!K169=\"\",Input!$C169,Input!K169)","v":0},{"$f":"IF(Input!L169=\"\",Input!$C169,Input!L169)","v":0},{"$f":"IF(Input!M169=\"\",Input!$C169,Input!M169)","v":0}]
["AntiPipStep=15||15||1.500000||150.000000||N","Step size ",0,{"$f":"IF(Input!D170=\"\",Input!$C170,Input!D170)","v":0},{"$f":"IF(Input!E170=\"\",Input!$C170,Input!E170)","v":0},{"$f":"IF(Input!F170=\"\",Input!$C170,Input!F170)","v":0},{"$f":"IF(Input!G170=\"\",Input!$C170,Input!G170)","v":0},{"$f":"IF(Input!H170=\"\",Input!$C170,Input!H170)","v":0},{"$f":"IF(Input!I170=\"\",Input!$C170,Input!I170)","v":0},{"$f":"IF(Input!J170=\"\",Input!$C170,Input!J170)","v":0},{"$f":"IF(Input!K170=\"\",Input!$C170,Input!K170)","v":0},{"$f":"IF(Input!L170=\"\",Input!$C170,Input!L170)","v":0},{"$f":"IF(Input!M170=\"\",Input!$C170,Input!M170)","v":0}]
["AntiMartingail_ModeP=0||0||0||1||N","Step size calc mode ","In points",{"$f":"IF(Input!D171=\"\",Input!$C171,Input!D171)","v":"In points"},{"$f":"IF(Input!E171=\"\",Input!$C171,Input!E171)","v":"In points"},{"$f":"IF(Input!F171=\"\",Input!$C171,Input!F171)","v":"In points"},{"$f":"IF(Input!G171=\"\",Input!$C171,Input!G171)","v":"In points"},{"$f":"IF(Input!H171=\"\",Input!$C171,Input!H171)","v":"In points"},{"$f":"IF(Input!I171=\"\",Input!$C171,Input!I171)","v":"In points"},{"$f":"IF(Input!J171=\"\",Input!$C171,Input!J171)","v":"In points"},{"$f":"IF(Input!K171=\"\",Input!$C171,Input!K171)","v":"In points"},{"$f":"IF(Input!L171=\"\",Input!$C171,Input!L171)","v":"In points"},{"$f":"IF(Input!M171=\"\",Input!$C171,Input!M171)","v":"In points"}]
["AntiStepCoeff=0.9||0.9||0.090000||9.000000||N","Step increase coefficient ",0,{"$f":"IF(Input!D172=\"\",Input!$C172,Input!D172)","v":0},{"$f":"IF(Input!E172=\"\",Input!$C172,Input!E172)","v":0},{"$f":"IF(Input!F172=\"\",Input!$C172,Input!F172)","v":0},{"$f":"IF(Input!G172=\"\",Input!$C172,Input!G172)","v":0},{"$f":"IF(Input!H172=\"\",Input!$C172,Input!H172)","v":0},{"$f":"IF(Input!I172=\"\",Input!$C172,Input!I172)","v":0},{"$f":"IF(Input!J172=\"\",Input!$C172,Input!J172)","v":0},{"$f":"IF(Input!K172=\"\",Input!$C172,Input!K172)","v":0},{"$f":"IF(Input!L172=\"\",Input!$C172,Input!L172)","v":0},{"$f":"IF(Input!M172=\"\",Input!$C172,Input!M172)","v":0}]
["AntiMinStepSize=0||0||0.000000||0.000000||N","Min step size (points) ",0,{"$f":"IF(Input!D173=\"\",Input!$C173,Input!D173)","v":0},{"$f":"IF(Input!E173=\"\",Input!$C173,Input!E173)","v":0},{"$f":"IF(Input!F173=\"\",Input!$C173,Input!F173)","v":0},{"$f":"IF(Input!G173=\"\",Input!$C173,Input!G173)","v":0},{"$f":"IF(Input!H173=\"\",Input!$C173,Input!H173)","v":0},{"$f":"IF(Input!I173=\"\",Input!$C173,Input!I173)","v":0},{"$f":"IF(Input!J173=\"\",Input!$C173,Input!J173)","v":0},{"$f":"IF(Input!K173=\"\",Input!$C173,Input!K173)","v":0},{"$f":"IF(Input!L173=\"\",Input!$C173,Input!L173)","v":0},{"$f":"IF(Input!M173=\"\",Input!$C173,Input!M173)","v":0}]
["AntiMaxStepSize=0||0||0.000000||0.000000||N","Max step size (points) (O - disable limit) ",0,{"$f":"IF(Input!D174=\"\",Input!$C174,Input!D174)","v":0},{"$f":"IF(Input!E174=\"\",Input!$C174,Input!E174)","v":0},{"$f":"IF(Input!F174=\"\",Input!$C174,Input!F174)","v":0},{"$f":"IF(Input!G174=\"\",Input!$C174,Input!G174)","v":0},{"$f":"IF(Input!H174=\"\",Input!$C174,Input!H174)","v":0},{"$f":"IF(Input!I174=\"\",Input!$C174,Input!I174)","v":0},{"$f":"IF(Input!J174=\"\",Input!$C174,Input!J174)","v":0},{"$f":"IF(Input!K174=\"\",Input!$C174,Input!K174)","v":0},{"$f":"IF(Input!L174=\"\",Input!$C174,Input!L174)","v":0},{"$f":"IF(Input!M174=\"\",Input!$C174,Input!M174)","v":0}]
["AntiStopLoss=10||10||1.000000||100.000000||N","Anti-StopLoss size (O disable) ",0,{"$f":"IF(Input!D175=\"\",Input!$C175,Input!D175)","v":0},{"$f":"IF(Input!E175=\"\",Input!$C175,Input!E175)","v":0},{"$f":"IF(Input!F175=\"\",Input!$C175,Input!F175)","v":0},{"$f":"IF(Input!G175=\"\",Input!$C175,Input!G175)","v":0},{"$f":"IF(Input!H175=\"\",Input!$C175,Input!H175)","v":0},{"$f":"IF(Input!I175=\"\",Input!$C175,Input!I175)","v":0},{"$f":"IF(Input!J175=\"\",Input!$C175,Input!J175)","v":0},{"$f":"IF(Input!K175=\"\",Input!$C175,Input!K175)","v":0},{"$f":"IF(Input!L175=\"\",Input!$C175,Input!L175)","v":0},{"$f":"IF(Input!M175=\"\",Input!$C175,Input!M175)","v":0}]
["AntiStopLoss_ReduceSize=0||0||0.000000||0.000000||N","Anti-StopLoss reduce size ",0,{"$f":"IF(Input!D176=\"\",Input!$C176,Input!D176)","v":0},{"$f":"IF(Input!E176=\"\",Input!$C176,Input!E176)","v":0},{"$f":"IF(Input!F176=\"\",Input!$C176,Input!F176)","v":0},{"$f":"IF(Input!G176=\"\",Input!$C176,Input!G176)","v":0},{"$f":"IF(Input!H176=\"\",Input!$C176,Input!H176)","v":0},{"$f":"IF(Input!I176=\"\",Input!$C176,Input!I176)","v":0},{"$f":"IF(Input!J176=\"\",Input!$C176,Input!J176)","v":0},{"$f":"IF(Input!K176=\"\",Input!$C176,Input!K176)","v":0},{"$f":"IF(Input!L176=\"\",Input!$C176,Input!L176)","v":0},{"$f":"IF(Input!M176=\"\",Input!$C176,Input!M176)","v":0}]
["AntiStopLoss_ReduceCoeff=1||1||0.100000||10.000000||N","Anti-StopLoss reduce coefficient ",0,{"$f":"IF(Input!D177=\"\",Input!$C177,Input!D177)","v":0},{"$f":"IF(Input!E177=\"\",Input!$C177,Input!E177)","v":0},{"$f":"IF(Input!F177=\"\",Input!$C177,Input!F177)","v":0},{"$f":"IF(Input!G177=\"\",Input!$C177,Input!G177)","v":0},{"$f":"IF(Input!H177=\"\",Input!$C177,Input!H177)","v":0},{"$f":"IF(Input!I177=\"\",Input!$C177,Input!I177)","v":0},{"$f":"IF(Input!J177=\"\",Input!$C177,Input!J177)","v":0},{"$f":"IF(Input!K177=\"\",Input!$C177,Input!K177)","v":0},{"$f":"IF(Input!L177=\"\",Input!$C177,Input!L177)","v":0},{"$f":"IF(Input!M177=\"\",Input!$C177,Input!M177)","v":0}]
["AntiStopLoss_MinSize=5||5||0.500000||50.000000||N","Anti-StopLoss min size (points) ",0,{"$f":"IF(Input!D178=\"\",Input!$C178,Input!D178)","v":0},{"$f":"IF(Input!E178=\"\",Input!$C178,Input!E178)","v":0},{"$f":"IF(Input!F178=\"\",Input!$C178,Input!F178)","v":0},{"$f":"IF(Input!G178=\"\",Input!$C178,Input!G178)","v":0},{"$f":"IF(Input!H178=\"\",Input!$C178,Input!H178)","v":0},{"$f":"IF(Input!I178=\"\",Input!$C178,Input!I178)","v":0},{"$f":"IF(Input!J178=\"\",Input!$C178,Input!J178)","v":0},{"$f":"IF(Input!K178=\"\",Input!$C178,Input!K178)","v":0},{"$f":"IF(Input!L178=\"\",Input!$C178,Input!L178)","v":0},{"$f":"IF(Input!M178=\"\",Input!$C178,Input!M178)","v":0}]
["AntiStopLoss_Mode=1||0||0||1||N","Anti-StopLoss mode ","Frcm lastc en rice ",{"$f":"IF(Input!D179=\"\",Input!$C179,Input!D179)","v":"Frcm lastc en rice "},{"$f":"IF(Input!E179=\"\",Input!$C179,Input!E179)","v":"Frcm lastc en rice "},{"$f":"IF(Input!F179=\"\",Input!$C179,Input!F179)","v":"Frcm lastc en rice "},{"$f":"IF(Input!G179=\"\",Input!$C179,Input!G179)","v":"Frcm lastc en rice "},{"$f":"IF(Input!H179=\"\",Input!$C179,Input!H179)","v":"Frcm lastc en rice "},{"$f":"IF(Input!I179=\"\",Input!$C179,Input!I179)","v":"Frcm lastc en rice "},{"$f":"IF(Input!J179=\"\",Input!$C179,Input!J179)","v":"Frcm lastc en rice "},{"$f":"IF(Input!K179=\"\",Input!$C179,Input!K179)","v":"Frcm lastc en rice "},{"$f":"IF(Input!L179=\"\",Input!$C179,Input!L179)","v":"Frcm lastc en rice "},{"$f":"IF(Input!M179=\"\",Input!$C179,Input!M179)","v":"Frcm lastc en rice "}]
["AntiStopLoss_ModeP=0||0||0||1||N","Anti-StopLoss calc mode ","In points",{"$f":"IF(Input!D180=\"\",Input!$C180,Input!D180)","v":"In points"},{"$f":"IF(Input!E180=\"\",Input!$C180,Input!E180)","v":"In points"},{"$f":"IF(Input!F180=\"\",Input!$C180,Input!F180)","v":"In points"},{"$f":"IF(Input!G180=\"\",Input!$C180,Input!G180)","v":"In points"},{"$f":"IF(Input!H180=\"\",Input!$C180,Input!H180)","v":"In points"},{"$f":"IF(Input!I180=\"\",Input!$C180,Input!I180)","v":"In points"},{"$f":"IF(Input!J180=\"\",Input!$C180,Input!J180)","v":"In points"},{"$f":"IF(Input!K180=\"\",Input!$C180,Input!K180)","v":"In points"},{"$f":"IF(Input!L180=\"\",Input!$C180,Input!L180)","v":"In points"},{"$f":"IF(Input!M180=\"\",Input!$C180,Input!M180)","v":"In points"}]
["AntiMartingail_AllowTP=false||false||0||true||N","Allow TakeProfit for anti-martin trades ",false,{"$f":"IF(Input!D181=\"\",Input!$C181,Input!D181)","v":false},{"$f":"IF(Input!E181=\"\",Input!$C181,Input!E181)","v":false},{"$f":"IF(Input!F181=\"\",Input!$C181,Input!F181)","v":false},{"$f":"IF(Input!G181=\"\",Input!$C181,Input!G181)","v":false},{"$f":"IF(Input!H181=\"\",Input!$C181,Input!H181)","v":false},{"$f":"IF(Input!I181=\"\",Input!$C181,Input!I181)","v":false},{"$f":"IF(Input!J181=\"\",Input!$C181,Input!J181)","v":false},{"$f":"IF(Input!K181=\"\",Input!$C181,Input!K181)","v":false},{"$f":"IF(Input!L181=\"\",Input!$C181,Input!L181)","v":false},{"$f":"IF(Input!M181=\"\",Input!$C181,Input!M181)","v":false}]
["AllowBoth_Properties========","Allow both Martin and Anti-martin "]
["AllowBothMartinAndAntiMartin=false||false||0||true||N","Allow both Martin and Anti-martin ",false,{"$f":"IF(Input!D183=\"\",Input!$C183,Input!D183)","v":false},{"$f":"IF(Input!E183=\"\",Input!$C183,Input!E183)","v":false},{"$f":"IF(Input!F183=\"\",Input!$C183,Input!F183)","v":false},{"$f":"IF(Input!G183=\"\",Input!$C183,Input!G183)","v":false},{"$f":"IF(Input!H183=\"\",Input!$C183,Input!H183)","v":false},{"$f":"IF(Input!I183=\"\",Input!$C183,Input!I183)","v":false},{"$f":"IF(Input!J183=\"\",Input!$C183,Input!J183)","v":false},{"$f":"IF(Input!K183=\"\",Input!$C183,Input!K183)","v":false},{"$f":"IF(Input!L183=\"\",Input!$C183,Input!L183)","v":false},{"$f":"IF(Input!M183=\"\",Input!$C183,Input!M183)","v":false}]
["; Partial close properties","Partial close properties "]
["PartialClose_Properties====================================================================================","Partial close properties: "]
["PartialClose_After=0||2||1||6||N","Close partial after order # (O - disable) ",0,{"$f":"IF(Input!D186=\"\",Input!$C186,Input!D186)","v":0},{"$f":"IF(Input!E186=\"\",Input!$C186,Input!E186)","v":0},{"$f":"IF(Input!F186=\"\",Input!$C186,Input!F186)","v":0},{"$f":"IF(Input!G186=\"\",Input!$C186,Input!G186)","v":0},{"$f":"IF(Input!H186=\"\",Input!$C186,Input!H186)","v":0},{"$f":"IF(Input!I186=\"\",Input!$C186,Input!I186)","v":0},{"$f":"IF(Input!J186=\"\",Input!$C186,Input!J186)","v":0},{"$f":"IF(Input!K186=\"\",Input!$C186,Input!K186)","v":0},{"$f":"IF(Input!L186=\"\",Input!$C186,Input!L186)","v":0},{"$f":"IF(Input!M186=\"\",Input!$C186,Input!M186)","v":0}]
["PartialClose_MinProfit=0||4||1||6||N","Min profit to close (account currency) ",0,{"$f":"IF(Input!D187=\"\",Input!$C187,Input!D187)","v":0},{"$f":"IF(Input!E187=\"\",Input!$C187,Input!E187)","v":0},{"$f":"IF(Input!F187=\"\",Input!$C187,Input!F187)","v":0},{"$f":"IF(Input!G187=\"\",Input!$C187,Input!G187)","v":0},{"$f":"IF(Input!H187=\"\",Input!$C187,Input!H187)","v":0},{"$f":"IF(Input!I187=\"\",Input!$C187,Input!I187)","v":0},{"$f":"IF(Input!J187=\"\",Input!$C187,Input!J187)","v":0},{"$f":"IF(Input!K187=\"\",Input!$C187,Input!K187)","v":0},{"$f":"IF(Input!L187=\"\",Input!$C187,Input!L187)","v":0},{"$f":"IF(Input!M187=\"\",Input!$C187,Input!M187)","v":0}]
["PartialClose_MinProfit_Perc=0||0||0.000000||0.000000||N","Min profit to close from balance) (O - disable) ",0,{"$f":"IF(Input!D188=\"\",Input!$C188,Input!D188)","v":0},{"$f":"IF(Input!E188=\"\",Input!$C188,Input!E188)","v":0},{"$f":"IF(Input!F188=\"\",Input!$C188,Input!F188)","v":0},{"$f":"IF(Input!G188=\"\",Input!$C188,Input!G188)","v":0},{"$f":"IF(Input!H188=\"\",Input!$C188,Input!H188)","v":0},{"$f":"IF(Input!I188=\"\",Input!$C188,Input!I188)","v":0},{"$f":"IF(Input!J188=\"\",Input!$C188,Input!J188)","v":0},{"$f":"IF(Input!K188=\"\",Input!$C188,Input!K188)","v":0},{"$f":"IF(Input!L188=\"\",Input!$C188,Input!L188)","v":0},{"$f":"IF(Input!M188=\"\",Input!$C188,Input!M188)","v":0}]
["PartialClose_MinPercent=100||100||10.000000||1000.000000||N","Min part of losing order to close (%) ",0,{"$f":"IF(Input!D189=\"\",Input!$C189,Input!D189)","v":0},{"$f":"IF(Input!E189=\"\",Input!$C189,Input!E189)","v":0},{"$f":"IF(Input!F189=\"\",Input!$C189,Input!F189)","v":0},{"$f":"IF(Input!G189=\"\",Input!$C189,Input!G189)","v":0},{"$f":"IF(Input!H189=\"\",Input!$C189,Input!H189)","v":0},{"$f":"IF(Input!I189=\"\",Input!$C189,Input!I189)","v":0},{"$f":"IF(Input!J189=\"\",Input!$C189,Input!J189)","v":0},{"$f":"IF(Input!K189=\"\",Input!$C189,Input!K189)","v":0},{"$f":"IF(Input!L189=\"\",Input!$C189,Input!L189)","v":0},{"$f":"IF(Input!M189=\"\",Input!$C189,Input!M189)","v":0}]
["PartialClose_AnyToAny=false||false||0||true||N","Close any with any ",false,{"$f":"IF(Input!D190=\"\",Input!$C190,Input!D190)","v":false},{"$f":"IF(Input!E190=\"\",Input!$C190,Input!E190)","v":false},{"$f":"IF(Input!F190=\"\",Input!$C190,Input!F190)","v":false},{"$f":"IF(Input!G190=\"\",Input!$C190,Input!G190)","v":false},{"$f":"IF(Input!H190=\"\",Input!$C190,Input!H190)","v":false},{"$f":"IF(Input!I190=\"\",Input!$C190,Input!I190)","v":false},{"$f":"IF(Input!J190=\"\",Input!$C190,Input!J190)","v":false},{"$f":"IF(Input!K190=\"\",Input!$C190,Input!K190)","v":false},{"$f":"IF(Input!L190=\"\",Input!$C190,Input!L190)","v":false},{"$f":"IF(Input!M190=\"\",Input!$C190,Input!M190)","v":false}]
["PartialClose_CloseProfitItself=false||false||0||true||N","Close profit itself ",false,{"$f":"IF(Input!D191=\"\",Input!$C191,Input!D191)","v":false},{"$f":"IF(Input!E191=\"\",Input!$C191,Input!E191)","v":false},{"$f":"IF(Input!F191=\"\",Input!$C191,Input!F191)","v":false},{"$f":"IF(Input!G191=\"\",Input!$C191,Input!G191)","v":false},{"$f":"IF(Input!H191=\"\",Input!$C191,Input!H191)","v":false},{"$f":"IF(Input!I191=\"\",Input!$C191,Input!I191)","v":false},{"$f":"IF(Input!J191=\"\",Input!$C191,Input!J191)","v":false},{"$f":"IF(Input!K191=\"\",Input!$C191,Input!K191)","v":false},{"$f":"IF(Input!L191=\"\",Input!$C191,Input!L191)","v":false},{"$f":"IF(Input!M191=\"\",Input!$C191,Input!M191)","v":false}]
["PartialCloseHedge_After=0||0||1||10||N","Hedge: Close partial after order # (O - disable) ",0,{"$f":"IF(Input!D192=\"\",Input!$C192,Input!D192)","v":0},{"$f":"IF(Input!E192=\"\",Input!$C192,Input!E192)","v":0},{"$f":"IF(Input!F192=\"\",Input!$C192,Input!F192)","v":0},{"$f":"IF(Input!G192=\"\",Input!$C192,Input!G192)","v":0},{"$f":"IF(Input!H192=\"\",Input!$C192,Input!H192)","v":0},{"$f":"IF(Input!I192=\"\",Input!$C192,Input!I192)","v":0},{"$f":"IF(Input!J192=\"\",Input!$C192,Input!J192)","v":0},{"$f":"IF(Input!K192=\"\",Input!$C192,Input!K192)","v":0},{"$f":"IF(Input!L192=\"\",Input!$C192,Input!L192)","v":0},{"$f":"IF(Input!M192=\"\",Input!$C192,Input!M192)","v":0}]
["PartialCloseHedge_MainToMain=false||false||0||true||N","Hedge: Close main series by opposite main series ",false,{"$f":"IF(Input!D193=\"\",Input!$C193,Input!D193)","v":false},{"$f":"IF(Input!E193=\"\",Input!$C193,Input!E193)","v":false},{"$f":"IF(Input!F193=\"\",Input!$C193,Input!F193)","v":false},{"$f":"IF(Input!G193=\"\",Input!$C193,Input!G193)","v":false},{"$f":"IF(Input!H193=\"\",Input!$C193,Input!H193)","v":false},{"$f":"IF(Input!I193=\"\",Input!$C193,Input!I193)","v":false},{"$f":"IF(Input!J193=\"\",Input!$C193,Input!J193)","v":false},{"$f":"IF(Input!K193=\"\",Input!$C193,Input!K193)","v":false},{"$f":"IF(Input!L193=\"\",Input!$C193,Input!L193)","v":false},{"$f":"IF(Input!M193=\"\",Input!$C193,Input!M193)","v":false}]
["PartialCloseHedge_BothWays=false||false||0||true||N","Hedge: Allow close both ways (long series can close short ser ",false,{"$f":"IF(Input!D194=\"\",Input!$C194,Input!D194)","v":false},{"$f":"IF(Input!E194=\"\",Input!$C194,Input!E194)","v":false},{"$f":"IF(Input!F194=\"\",Input!$C194,Input!F194)","v":false},{"$f":"IF(Input!G194=\"\",Input!$C194,Input!G194)","v":false},{"$f":"IF(Input!H194=\"\",Input!$C194,Input!H194)","v":false},{"$f":"IF(Input!I194=\"\",Input!$C194,Input!I194)","v":false},{"$f":"IF(Input!J194=\"\",Input!$C194,Input!J194)","v":false},{"$f":"IF(Input!K194=\"\",Input!$C194,Input!K194)","v":false},{"$f":"IF(Input!L194=\"\",Input!$C194,Input!L194)","v":false},{"$f":"IF(Input!M194=\"\",Input!$C194,Input!M194)","v":false}]
["PartialCloseHedge_MaxPrOrders=0||0||1||10||N","Hedge: Max profitable orders to close at the same time (O d ",0,{"$f":"IF(Input!D195=\"\",Input!$C195,Input!D195)","v":0},{"$f":"IF(Input!E195=\"\",Input!$C195,Input!E195)","v":0},{"$f":"IF(Input!F195=\"\",Input!$C195,Input!F195)","v":0},{"$f":"IF(Input!G195=\"\",Input!$C195,Input!G195)","v":0},{"$f":"IF(Input!H195=\"\",Input!$C195,Input!H195)","v":0},{"$f":"IF(Input!I195=\"\",Input!$C195,Input!I195)","v":0},{"$f":"IF(Input!J195=\"\",Input!$C195,Input!J195)","v":0},{"$f":"IF(Input!K195=\"\",Input!$C195,Input!K195)","v":0},{"$f":"IF(Input!L195=\"\",Input!$C195,Input!L195)","v":0},{"$f":"IF(Input!M195=\"\",Input!$C195,Input!M195)","v":0}]
["PartialCloseHedge_MinProfit=0||0||0.000000||0.000000||N","Hedge: Min profit to close (account currency) ",0,{"$f":"IF(Input!D196=\"\",Input!$C196,Input!D196)","v":0},{"$f":"IF(Input!E196=\"\",Input!$C196,Input!E196)","v":0},{"$f":"IF(Input!F196=\"\",Input!$C196,Input!F196)","v":0},{"$f":"IF(Input!G196=\"\",Input!$C196,Input!G196)","v":0},{"$f":"IF(Input!H196=\"\",Input!$C196,Input!H196)","v":0},{"$f":"IF(Input!I196=\"\",Input!$C196,Input!I196)","v":0},{"$f":"IF(Input!J196=\"\",Input!$C196,Input!J196)","v":0},{"$f":"IF(Input!K196=\"\",Input!$C196,Input!K196)","v":0},{"$f":"IF(Input!L196=\"\",Input!$C196,Input!L196)","v":0},{"$f":"IF(Input!M196=\"\",Input!$C196,Input!M196)","v":0}]
["PartialCloseHedge_MinProfit_Perc=0||0||0.000000||0.000000||N","Hedge: Min profit to close from balance) (O disable) ",0,{"$f":"IF(Input!D197=\"\",Input!$C197,Input!D197)","v":0},{"$f":"IF(Input!E197=\"\",Input!$C197,Input!E197)","v":0},{"$f":"IF(Input!F197=\"\",Input!$C197,Input!F197)","v":0},{"$f":"IF(Input!G197=\"\",Input!$C197,Input!G197)","v":0},{"$f":"IF(Input!H197=\"\",Input!$C197,Input!H197)","v":0},{"$f":"IF(Input!I197=\"\",Input!$C197,Input!I197)","v":0},{"$f":"IF(Input!J197=\"\",Input!$C197,Input!J197)","v":0},{"$f":"IF(Input!K197=\"\",Input!$C197,Input!K197)","v":0},{"$f":"IF(Input!L197=\"\",Input!$C197,Input!L197)","v":0},{"$f":"IF(Input!M197=\"\",Input!$C197,Input!M197)","v":0}]
["PartialCloseHedge_MinProfit_OppL=0||0||0.000000||0.000000||N","Hedge: Min profit to close from opposite loss) (O - disabl ",0,{"$f":"IF(Input!D198=\"\",Input!$C198,Input!D198)","v":0},{"$f":"IF(Input!E198=\"\",Input!$C198,Input!E198)","v":0},{"$f":"IF(Input!F198=\"\",Input!$C198,Input!F198)","v":0},{"$f":"IF(Input!G198=\"\",Input!$C198,Input!G198)","v":0},{"$f":"IF(Input!H198=\"\",Input!$C198,Input!H198)","v":0},{"$f":"IF(Input!I198=\"\",Input!$C198,Input!I198)","v":0},{"$f":"IF(Input!J198=\"\",Input!$C198,Input!J198)","v":0},{"$f":"IF(Input!K198=\"\",Input!$C198,Input!K198)","v":0},{"$f":"IF(Input!L198=\"\",Input!$C198,Input!L198)","v":0},{"$f":"IF(Input!M198=\"\",Input!$C198,Input!M198)","v":0}]
["PartialCloseHedge_MinPercent=100||100||10.000000||1000.000000||N","Hedge: Min part of losing order to close (%) ",0,{"$f":"IF(Input!D199=\"\",Input!$C199,Input!D199)","v":0},{"$f":"IF(Input!E199=\"\",Input!$C199,Input!E199)","v":0},{"$f":"IF(Input!F199=\"\",Input!$C199,Input!F199)","v":0},{"$f":"IF(Input!G199=\"\",Input!$C199,Input!G199)","v":0},{"$f":"IF(Input!H199=\"\",Input!$C199,Input!H199)","v":0},{"$f":"IF(Input!I199=\"\",Input!$C199,Input!I199)","v":0},{"$f":"IF(Input!J199=\"\",Input!$C199,Input!J199)","v":0},{"$f":"IF(Input!K199=\"\",Input!$C199,Input!K199)","v":0},{"$f":"IF(Input!L199=\"\",Input!$C199,Input!L199)","v":0},{"$f":"IF(Input!M199=\"\",Input!$C199,Input!M199)","v":0}]
["; Directional change properties","Directional change properties "]
["DirChange_Properties====================================================================================","Directional change properties: "]
["DirChange_Type=0||0||0||1||N","Directional change filter type ","Enabled",{"$f":"IF(Input!D202=\"\",Input!$C202,Input!D202)","v":"Enabled"},{"$f":"IF(Input!E202=\"\",Input!$C202,Input!E202)","v":"Enabled"},{"$f":"IF(Input!F202=\"\",Input!$C202,Input!F202)","v":"Enabled"},{"$f":"IF(Input!G202=\"\",Input!$C202,Input!G202)","v":"Enabled"},{"$f":"IF(Input!H202=\"\",Input!$C202,Input!H202)","v":"Enabled"},{"$f":"IF(Input!I202=\"\",Input!$C202,Input!I202)","v":"Enabled"},{"$f":"IF(Input!J202=\"\",Input!$C202,Input!J202)","v":"Enabled"},{"$f":"IF(Input!K202=\"\",Input!$C202,Input!K202)","v":"Enabled"},{"$f":"IF(Input!L202=\"\",Input!$C202,Input!L202)","v":"Enabled"},{"$f":"IF(Input!M202=\"\",Input!$C202,Input!M202)","v":"Enabled"}]
["DirChange_OpenOn=0||0||0||3||N","Open on ","Disabled ",{"$f":"IF(Input!D203=\"\",Input!$C203,Input!D203)","v":"Disabled "},{"$f":"IF(Input!E203=\"\",Input!$C203,Input!E203)","v":"Disabled "},{"$f":"IF(Input!F203=\"\",Input!$C203,Input!F203)","v":"Disabled "},{"$f":"IF(Input!G203=\"\",Input!$C203,Input!G203)","v":"Disabled "},{"$f":"IF(Input!H203=\"\",Input!$C203,Input!H203)","v":"Disabled "},{"$f":"IF(Input!I203=\"\",Input!$C203,Input!I203)","v":"Disabled "},{"$f":"IF(Input!J203=\"\",Input!$C203,Input!J203)","v":"Disabled "},{"$f":"IF(Input!K203=\"\",Input!$C203,Input!K203)","v":"Disabled "},{"$f":"IF(Input!L203=\"\",Input!$C203,Input!L203)","v":"Disabled "},{"$f":"IF(Input!M203=\"\",Input!$C203,Input!M203)","v":"Disabled "}]
["; Big candle properties","Big candle properties "]
["BigCandle_Properties====================================================================================","Big candle properties: "]
["BigCandle_Type=0||0||0||3||N","Big candle filter type ","Enabled",{"$f":"IF(Input!D206=\"\",Input!$C206,Input!D206)","v":"Enabled"},{"$f":"IF(Input!E206=\"\",Input!$C206,Input!E206)","v":"Enabled"},{"$f":"IF(Input!F206=\"\",Input!$C206,Input!F206)","v":"Enabled"},{"$f":"IF(Input!G206=\"\",Input!$C206,Input!G206)","v":"Enabled"},{"$f":"IF(Input!H206=\"\",Input!$C206,Input!H206)","v":"Enabled"},{"$f":"IF(Input!I206=\"\",Input!$C206,Input!I206)","v":"Enabled"},{"$f":"IF(Input!J206=\"\",Input!$C206,Input!J206)","v":"Enabled"},{"$f":"IF(Input!K206=\"\",Input!$C206,Input!K206)","v":"Enabled"},{"$f":"IF(Input!L206=\"\",Input!$C206,Input!L206)","v":"Enabled"},{"$f":"IF(Input!M206=\"\",Input!$C206,Input!M206)","v":"Enabled"}]
["BigCandle_MinSize=100||100||10.000000||1000.000000||N","Big candle min size ",0,{"$f":"IF(Input!D207=\"\",Input!$C207,Input!D207)","v":0},{"$f":"IF(Input!E207=\"\",Input!$C207,Input!E207)","v":0},{"$f":"IF(Input!F207=\"\",Input!$C207,Input!F207)","v":0},{"$f":"IF(Input!G207=\"\",Input!$C207,Input!G207)","v":0},{"$f":"IF(Input!H207=\"\",Input!$C207,Input!H207)","v":0},{"$f":"IF(Input!I207=\"\",Input!$C207,Input!I207)","v":0},{"$f":"IF(Input!J207=\"\",Input!$C207,Input!J207)","v":0},{"$f":"IF(Input!K207=\"\",Input!$C207,Input!K207)","v":0},{"$f":"IF(Input!L207=\"\",Input!$C207,Input!L207)","v":0},{"$f":"IF(Input!M207=\"\",Input!$C207,Input!M207)","v":0}]
["BigCandle_MaxSize=0||0||0.000000||0.000000||N","Big candle max size (O - disable limit) ",0,{"$f":"IF(Input!D208=\"\",Input!$C208,Input!D208)","v":0},{"$f":"IF(Input!E208=\"\",Input!$C208,Input!E208)","v":0},{"$f":"IF(Input!F208=\"\",Input!$C208,Input!F208)","v":0},{"$f":"IF(Input!G208=\"\",Input!$C208,Input!G208)","v":0},{"$f":"IF(Input!H208=\"\",Input!$C208,Input!H208)","v":0},{"$f":"IF(Input!I208=\"\",Input!$C208,Input!I208)","v":0},{"$f":"IF(Input!J208=\"\",Input!$C208,Input!J208)","v":0},{"$f":"IF(Input!K208=\"\",Input!$C208,Input!K208)","v":0},{"$f":"IF(Input!L208=\"\",Input!$C208,Input!L208)","v":0},{"$f":"IF(Input!M208=\"\",Input!$C208,Input!M208)","v":0}]
["BigCandle_TF=0||0||0||49153||N","Big candle TimeFrame ","2 Minutes ",{"$f":"IF(Input!D209=\"\",Input!$C209,Input!D209)","v":"2 Minutes "},{"$f":"IF(Input!E209=\"\",Input!$C209,Input!E209)","v":"2 Minutes "},{"$f":"IF(Input!F209=\"\",Input!$C209,Input!F209)","v":"2 Minutes "},{"$f":"IF(Input!G209=\"\",Input!$C209,Input!G209)","v":"2 Minutes "},{"$f":"IF(Input!H209=\"\",Input!$C209,Input!H209)","v":"2 Minutes "},{"$f":"IF(Input!I209=\"\",Input!$C209,Input!I209)","v":"2 Minutes "},{"$f":"IF(Input!J209=\"\",Input!$C209,Input!J209)","v":"2 Minutes "},{"$f":"IF(Input!K209=\"\",Input!$C209,Input!K209)","v":"2 Minutes "},{"$f":"IF(Input!L209=\"\",Input!$C209,Input!L209)","v":"2 Minutes "},{"$f":"IF(Input!M209=\"\",Input!$C209,Input!M209)","v":"2 Minutes "}]
["BigCandle_CurrentBar=true||false||0||true||N","Analyze current bar ",false,{"$f":"IF(Input!D210=\"\",Input!$C210,Input!D210)","v":false},{"$f":"IF(Input!E210=\"\",Input!$C210,Input!E210)","v":false},{"$f":"IF(Input!F210=\"\",Input!$C210,Input!F210)","v":false},{"$f":"IF(Input!G210=\"\",Input!$C210,Input!G210)","v":false},{"$f":"IF(Input!H210=\"\",Input!$C210,Input!H210)","v":false},{"$f":"IF(Input!I210=\"\",Input!$C210,Input!I210)","v":false},{"$f":"IF(Input!J210=\"\",Input!$C210,Input!J210)","v":false},{"$f":"IF(Input!K210=\"\",Input!$C210,Input!K210)","v":false},{"$f":"IF(Input!L210=\"\",Input!$C210,Input!L210)","v":false},{"$f":"IF(Input!M210=\"\",Input!$C210,Input!M210)","v":false}]
["BigCandle_OpenOn=0||0||0||3||N","Open on ","Open on Individual signal ",{"$f":"IF(Input!D211=\"\",Input!$C211,Input!D211)","v":"Open on Individual signal "},{"$f":"IF(Input!E211=\"\",Input!$C211,Input!E211)","v":"Open on Individual signal "},{"$f":"IF(Input!F211=\"\",Input!$C211,Input!F211)","v":"Open on Individual signal "},{"$f":"IF(Input!G211=\"\",Input!$C211,Input!G211)","v":"Open on Individual signal "},{"$f":"IF(Input!H211=\"\",Input!$C211,Input!H211)","v":"Open on Individual signal "},{"$f":"IF(Input!I211=\"\",Input!$C211,Input!I211)","v":"Open on Individual signal "},{"$f":"IF(Input!J211=\"\",Input!$C211,Input!J211)","v":"Open on Individual signal "},{"$f":"IF(Input!K211=\"\",Input!$C211,Input!K211)","v":"Open on Individual signal "},{"$f":"IF(Input!L211=\"\",Input!$C211,Input!L211)","v":"Open on Individual signal "},{"$f":"IF(Input!M211=\"\",Input!$C211,Input!M211)","v":"Open on Individual signal "}]
["BigCandle_MartinOn=0||0||0||3||N","Open martin on ","Open on Individual signal ",{"$f":"IF(Input!D212=\"\",Input!$C212,Input!D212)","v":"Open on Individual signal "},{"$f":"IF(Input!E212=\"\",Input!$C212,Input!E212)","v":"Open on Individual signal "},{"$f":"IF(Input!F212=\"\",Input!$C212,Input!F212)","v":"Open on Individual signal "},{"$f":"IF(Input!G212=\"\",Input!$C212,Input!G212)","v":"Open on Individual signal "},{"$f":"IF(Input!H212=\"\",Input!$C212,Input!H212)","v":"Open on Individual signal "},{"$f":"IF(Input!I212=\"\",Input!$C212,Input!I212)","v":"Open on Individual signal "},{"$f":"IF(Input!J212=\"\",Input!$C212,Input!J212)","v":"Open on Individual signal "},{"$f":"IF(Input!K212=\"\",Input!$C212,Input!K212)","v":"Open on Individual signal "},{"$f":"IF(Input!L212=\"\",Input!$C212,Input!L212)","v":"Open on Individual signal "},{"$f":"IF(Input!M212=\"\",Input!$C212,Input!M212)","v":"Open on Individual signal "}]
["BigCandle_HedgeOn=0||0||0||3||N","Open hedge on ","Open on Individual signal ",{"$f":"IF(Input!D213=\"\",Input!$C213,Input!D213)","v":"Open on Individual signal "},{"$f":"IF(Input!E213=\"\",Input!$C213,Input!E213)","v":"Open on Individual signal "},{"$f":"IF(Input!F213=\"\",Input!$C213,Input!F213)","v":"Open on Individual signal "},{"$f":"IF(Input!G213=\"\",Input!$C213,Input!G213)","v":"Open on Individual signal "},{"$f":"IF(Input!H213=\"\",Input!$C213,Input!H213)","v":"Open on Individual signal "},{"$f":"IF(Input!I213=\"\",Input!$C213,Input!I213)","v":"Open on Individual signal "},{"$f":"IF(Input!J213=\"\",Input!$C213,Input!J213)","v":"Open on Individual signal "},{"$f":"IF(Input!K213=\"\",Input!$C213,Input!K213)","v":"Open on Individual signal "},{"$f":"IF(Input!L213=\"\",Input!$C213,Input!L213)","v":"Open on Individual signal "},{"$f":"IF(Input!M213=\"\",Input!$C213,Input!M213)","v":"Open on Individual signal "}]
["BigCandle_CloseOn=0||0||0||4||N","Close on ","Close on Individual signal, in profit only ",{"$f":"IF(Input!D214=\"\",Input!$C214,Input!D214)","v":"Close on Individual signal, in profit only "},{"$f":"IF(Input!E214=\"\",Input!$C214,Input!E214)","v":"Close on Individual signal, in profit only "},{"$f":"IF(Input!F214=\"\",Input!$C214,Input!F214)","v":"Close on Individual signal, in profit only "},{"$f":"IF(Input!G214=\"\",Input!$C214,Input!G214)","v":"Close on Individual signal, in profit only "},{"$f":"IF(Input!H214=\"\",Input!$C214,Input!H214)","v":"Close on Individual signal, in profit only "},{"$f":"IF(Input!I214=\"\",Input!$C214,Input!I214)","v":"Close on Individual signal, in profit only "},{"$f":"IF(Input!J214=\"\",Input!$C214,Input!J214)","v":"Close on Individual signal, in profit only "},{"$f":"IF(Input!K214=\"\",Input!$C214,Input!K214)","v":"Close on Individual signal, in profit only "},{"$f":"IF(Input!L214=\"\",Input!$C214,Input!L214)","v":"Close on Individual signal, in profit only "},{"$f":"IF(Input!M214=\"\",Input!$C214,Input!M214)","v":"Close on Individual signal, in profit only "}]
["BigCandle_PartialCloseOn=0||0||0||3||N","Partial close on ","Partial close on Individual signal ",{"$f":"IF(Input!D215=\"\",Input!$C215,Input!D215)","v":"Partial close on Individual signal "},{"$f":"IF(Input!E215=\"\",Input!$C215,Input!E215)","v":"Partial close on Individual signal "},{"$f":"IF(Input!F215=\"\",Input!$C215,Input!F215)","v":"Partial close on Individual signal "},{"$f":"IF(Input!G215=\"\",Input!$C215,Input!G215)","v":"Partial close on Individual signal "},{"$f":"IF(Input!H215=\"\",Input!$C215,Input!H215)","v":"Partial close on Individual signal "},{"$f":"IF(Input!I215=\"\",Input!$C215,Input!I215)","v":"Partial close on Individual signal "},{"$f":"IF(Input!J215=\"\",Input!$C215,Input!J215)","v":"Partial close on Individual signal "},{"$f":"IF(Input!K215=\"\",Input!$C215,Input!K215)","v":"Partial close on Individual signal "},{"$f":"IF(Input!L215=\"\",Input!$C215,Input!L215)","v":"Partial close on Individual signal "},{"$f":"IF(Input!M215=\"\",Input!$C215,Input!M215)","v":"Partial close on Individual signal "}]
["; Oscillator #1 properties","Oscillator #1 properties "]
["Oscillators_Properties====================================================================================","Oscillator properties: "]
["Oscillators_Type=0||0||0||4||N","Filter Type ","Inside zone ",{"$f":"IF(Input!D218=\"\",Input!$C218,Input!D218)","v":"Inside zone "},{"$f":"IF(Input!E218=\"\",Input!$C218,Input!E218)","v":"Inside zone "},{"$f":"IF(Input!F218=\"\",Input!$C218,Input!F218)","v":"Inside zone "},{"$f":"IF(Input!G218=\"\",Input!$C218,Input!G218)","v":"Inside zone "},{"$f":"IF(Input!H218=\"\",Input!$C218,Input!H218)","v":"Inside zone "},{"$f":"IF(Input!I218=\"\",Input!$C218,Input!I218)","v":"Inside zone "},{"$f":"IF(Input!J218=\"\",Input!$C218,Input!J218)","v":"Inside zone "},{"$f":"IF(Input!K218=\"\",Input!$C218,Input!K218)","v":"Inside zone "},{"$f":"IF(Input!L218=\"\",Input!$C218,Input!L218)","v":"Inside zone "},{"$f":"IF(Input!M218=\"\",Input!$C218,Input!M218)","v":"Inside zone "}]
["Oscillators_Indicator=3||0||0||4||N","Indicator ","WPR ",{"$f":"IF(Input!D219=\"\",Input!$C219,Input!D219)","v":"WPR "},{"$f":"IF(Input!E219=\"\",Input!$C219,Input!E219)","v":"WPR "},{"$f":"IF(Input!F219=\"\",Input!$C219,Input!F219)","v":"WPR "},{"$f":"IF(Input!G219=\"\",Input!$C219,Input!G219)","v":"WPR "},{"$f":"IF(Input!H219=\"\",Input!$C219,Input!H219)","v":"WPR "},{"$f":"IF(Input!I219=\"\",Input!$C219,Input!I219)","v":"WPR "},{"$f":"IF(Input!J219=\"\",Input!$C219,Input!J219)","v":"WPR "},{"$f":"IF(Input!K219=\"\",Input!$C219,Input!K219)","v":"WPR "},{"$f":"IF(Input!L219=\"\",Input!$C219,Input!L219)","v":"WPR "},{"$f":"IF(Input!M219=\"\",Input!$C219,Input!M219)","v":"WPR "}]
["Oscillators_TF=0||0||0||49153||N","Time Frame ","2 Minutes ",{"$f":"IF(Input!D220=\"\",Input!$C220,Input!D220)","v":"2 Minutes "},{"$f":"IF(Input!E220=\"\",Input!$C220,Input!E220)","v":"2 Minutes "},{"$f":"IF(Input!F220=\"\",Input!$C220,Input!F220)","v":"2 Minutes "},{"$f":"IF(Input!G220=\"\",Input!$C220,Input!G220)","v":"2 Minutes "},{"$f":"IF(Input!H220=\"\",Input!$C220,Input!H220)","v":"2 Minutes "},{"$f":"IF(Input!I220=\"\",Input!$C220,Input!I220)","v":"2 Minutes "},{"$f":"IF(Input!J220=\"\",Input!$C220,Input!J220)","v":"2 Minutes "},{"$f":"IF(Input!K220=\"\",Input!$C220,Input!K220)","v":"2 Minutes "},{"$f":"IF(Input!L220=\"\",Input!$C220,Input!L220)","v":"2 Minutes "},{"$f":"IF(Input!M220=\"\",Input!$C220,Input!M220)","v":"2 Minutes "}]
["Oscillators_Period=9||9||1||90||N","Main Period ",0,{"$f":"IF(Input!D221=\"\",Input!$C221,Input!D221)","v":0},{"$f":"IF(Input!E221=\"\",Input!$C221,Input!E221)","v":0},{"$f":"IF(Input!F221=\"\",Input!$C221,Input!F221)","v":0},{"$f":"IF(Input!G221=\"\",Input!$C221,Input!G221)","v":0},{"$f":"IF(Input!H221=\"\",Input!$C221,Input!H221)","v":0},{"$f":"IF(Input!I221=\"\",Input!$C221,Input!I221)","v":0},{"$f":"IF(Input!J221=\"\",Input!$C221,Input!J221)","v":0},{"$f":"IF(Input!K221=\"\",Input!$C221,Input!K221)","v":0},{"$f":"IF(Input!L221=\"\",Input!$C221,Input!L221)","v":0},{"$f":"IF(Input!M221=\"\",Input!$C221,Input!M221)","v":0}]
["Oscillators_Price=1||1||0||7||N","Applied price ","Open price ",{"$f":"IF(Input!D222=\"\",Input!$C222,Input!D222)","v":"L price "},{"$f":"IF(Input!E222=\"\",Input!$C222,Input!E222)","v":"Open price "},{"$f":"IF(Input!F222=\"\",Input!$C222,Input!F222)","v":"Open price "},{"$f":"IF(Input!G222=\"\",Input!$C222,Input!G222)","v":"Open price "},{"$f":"IF(Input!H222=\"\",Input!$C222,Input!H222)","v":"Open price "},{"$f":"IF(Input!I222=\"\",Input!$C222,Input!I222)","v":"Open price "},{"$f":"IF(Input!J222=\"\",Input!$C222,Input!J222)","v":"Open price "},{"$f":"IF(Input!K222=\"\",Input!$C222,Input!K222)","v":"Open price "},{"$f":"IF(Input!L222=\"\",Input!$C222,Input!L222)","v":"Open price "},{"$f":"IF(Input!M222=\"\",Input!$C222,Input!M222)","v":"Open price "}]
["Oscillators_MA_Period=3||3||1||30||N","MA Period (for Cross MA mode) ",0,{"$f":"IF(Input!D223=\"\",Input!$C223,Input!D223)","v":0},{"$f":"IF(Input!E223=\"\",Input!$C223,Input!E223)","v":0},{"$f":"IF(Input!F223=\"\",Input!$C223,Input!F223)","v":0},{"$f":"IF(Input!G223=\"\",Input!$C223,Input!G223)","v":0},{"$f":"IF(Input!H223=\"\",Input!$C223,Input!H223)","v":0},{"$f":"IF(Input!I223=\"\",Input!$C223,Input!I223)","v":0},{"$f":"IF(Input!J223=\"\",Input!$C223,Input!J223)","v":0},{"$f":"IF(Input!K223=\"\",Input!$C223,Input!K223)","v":0},{"$f":"IF(Input!L223=\"\",Input!$C223,Input!L223)","v":0},{"$f":"IF(Input!M223=\"\",Input!$C223,Input!M223)","v":0}]
["Oscillators_MA_Method=0||0||0||3||N","MA Method ","Exponential ",{"$f":"IF(Input!D224=\"\",Input!$C224,Input!D224)","v":"Exponential "},{"$f":"IF(Input!E224=\"\",Input!$C224,Input!E224)","v":"Exponential "},{"$f":"IF(Input!F224=\"\",Input!$C224,Input!F224)","v":"Exponential "},{"$f":"IF(Input!G224=\"\",Input!$C224,Input!G224)","v":"Exponential "},{"$f":"IF(Input!H224=\"\",Input!$C224,Input!H224)","v":"Exponential "},{"$f":"IF(Input!I224=\"\",Input!$C224,Input!I224)","v":"Exponential "},{"$f":"IF(Input!J224=\"\",Input!$C224,Input!J224)","v":"Exponential "},{"$f":"IF(Input!K224=\"\",Input!$C224,Input!K224)","v":"Exponential "},{"$f":"IF(Input!L224=\"\",Input!$C224,Input!L224)","v":"Exponential "},{"$f":"IF(Input!M224=\"\",Input!$C224,Input!M224)","v":"Exponential "}]
["Oscillators_Slowing=3||3||1||30||N","Stochastic Slowing period ",0,{"$f":"IF(Input!D225=\"\",Input!$C225,Input!D225)","v":0},{"$f":"IF(Input!E225=\"\",Input!$C225,Input!E225)","v":0},{"$f":"IF(Input!F225=\"\",Input!$C225,Input!F225)","v":0},{"$f":"IF(Input!G225=\"\",Input!$C225,Input!G225)","v":0},{"$f":"IF(Input!H225=\"\",Input!$C225,Input!H225)","v":0},{"$f":"IF(Input!I225=\"\",Input!$C225,Input!I225)","v":0},{"$f":"IF(Input!J225=\"\",Input!$C225,Input!J225)","v":0},{"$f":"IF(Input!K225=\"\",Input!$C225,Input!K225)","v":0},{"$f":"IF(Input!L225=\"\",Input!$C225,Input!L225)","v":0},{"$f":"IF(Input!M225=\"\",Input!$C225,Input!M225)","v":0}]
["Oscillators_STO_Price=0||0||0||1||N","Stochastic Price ","CIcse/CIcse ",{"$f":"IF(Input!D226=\"\",Input!$C226,Input!D226)","v":"CIcse/CIcse "},{"$f":"IF(Input!E226=\"\",Input!$C226,Input!E226)","v":"CIcse/CIcse "},{"$f":"IF(Input!F226=\"\",Input!$C226,Input!F226)","v":"CIcse/CIcse "},{"$f":"IF(Input!G226=\"\",Input!$C226,Input!G226)","v":"CIcse/CIcse "},{"$f":"IF(Input!H226=\"\",Input!$C226,Input!H226)","v":"CIcse/CIcse "},{"$f":"IF(Input!I226=\"\",Input!$C226,Input!I226)","v":"CIcse/CIcse "},{"$f":"IF(Input!J226=\"\",Input!$C226,Input!J226)","v":"CIcse/CIcse "},{"$f":"IF(Input!K226=\"\",Input!$C226,Input!K226)","v":"CIcse/CIcse "},{"$f":"IF(Input!L226=\"\",Input!$C226,Input!L226)","v":"CIcse/CIcse "},{"$f":"IF(Input!M226=\"\",Input!$C226,Input!M226)","v":"CIcse/CIcse "}]
["Oscillators_Level_UP_Min=90||90||9.000000||900.000000||N","Level UP ",0,{"$f":"IF(Input!D227=\"\",Input!$C227,Input!D227)","v":0},{"$f":"IF(Input!E227=\"\",Input!$C227,Input!E227)","v":0},{"$f":"IF(Input!F227=\"\",Input!$C227,Input!F227)","v":0},{"$f":"IF(Input!G227=\"\",Input!$C227,Input!G227)","v":0},{"$f":"IF(Input!H227=\"\",Input!$C227,Input!H227)","v":0},{"$f":"IF(Input!I227=\"\",Input!$C227,Input!I227)","v":0},{"$f":"IF(Input!J227=\"\",Input!$C227,Input!J227)","v":0},{"$f":"IF(Input!K227=\"\",Input!$C227,Input!K227)","v":0},{"$f":"IF(Input!L227=\"\",Input!$C227,Input!L227)","v":0},{"$f":"IF(Input!M227=\"\",Input!$C227,Input!M227)","v":0}]
["Oscillators_Level_DN_Min=-999||-999||-99.900000||-9990.000000||N","Level DN - calc automatically) ",0,{"$f":"IF(Input!D228=\"\",Input!$C228,Input!D228)","v":0},{"$f":"IF(Input!E228=\"\",Input!$C228,Input!E228)","v":0},{"$f":"IF(Input!F228=\"\",Input!$C228,Input!F228)","v":0},{"$f":"IF(Input!G228=\"\",Input!$C228,Input!G228)","v":0},{"$f":"IF(Input!H228=\"\",Input!$C228,Input!H228)","v":0},{"$f":"IF(Input!I228=\"\",Input!$C228,Input!I228)","v":0},{"$f":"IF(Input!J228=\"\",Input!$C228,Input!J228)","v":0},{"$f":"IF(Input!K228=\"\",Input!$C228,Input!K228)","v":0},{"$f":"IF(Input!L228=\"\",Input!$C228,Input!L228)","v":0},{"$f":"IF(Input!M228=\"\",Input!$C228,Input!M228)","v":0}]
["Oscillators_ContrTrend=false||false||0||true||N","Reverse mode ",false,{"$f":"IF(Input!D229=\"\",Input!$C229,Input!D229)","v":false},{"$f":"IF(Input!E229=\"\",Input!$C229,Input!E229)","v":false},{"$f":"IF(Input!F229=\"\",Input!$C229,Input!F229)","v":false},{"$f":"IF(Input!G229=\"\",Input!$C229,Input!G229)","v":false},{"$f":"IF(Input!H229=\"\",Input!$C229,Input!H229)","v":false},{"$f":"IF(Input!I229=\"\",Input!$C229,Input!I229)","v":false},{"$f":"IF(Input!J229=\"\",Input!$C229,Input!J229)","v":false},{"$f":"IF(Input!K229=\"\",Input!$C229,Input!K229)","v":false},{"$f":"IF(Input!L229=\"\",Input!$C229,Input!L229)","v":false},{"$f":"IF(Input!M229=\"\",Input!$C229,Input!M229)","v":false}]
["Oscillators_UseClosedBars=true||false||0||true||N","Use only closed bars ",false,{"$f":"IF(Input!D230=\"\",Input!$C230,Input!D230)","v":false},{"$f":"IF(Input!E230=\"\",Input!$C230,Input!E230)","v":false},{"$f":"IF(Input!F230=\"\",Input!$C230,Input!F230)","v":false},{"$f":"IF(Input!G230=\"\",Input!$C230,Input!G230)","v":false},{"$f":"IF(Input!H230=\"\",Input!$C230,Input!H230)","v":false},{"$f":"IF(Input!I230=\"\",Input!$C230,Input!I230)","v":false},{"$f":"IF(Input!J230=\"\",Input!$C230,Input!J230)","v":false},{"$f":"IF(Input!K230=\"\",Input!$C230,Input!K230)","v":false},{"$f":"IF(Input!L230=\"\",Input!$C230,Input!L230)","v":false},{"$f":"IF(Input!M230=\"\",Input!$C230,Input!M230)","v":false}]
["Oscillators_OpenOn=2||0||0||3||N","Open on ","Ocn't use fcrc en ",{"$f":"IF(Input!D231=\"\",Input!$C231,Input!D231)","v":"Ocn't use fcrc en "},{"$f":"IF(Input!E231=\"\",Input!$C231,Input!E231)","v":"Ocn't use fcrc en "},{"$f":"IF(Input!F231=\"\",Input!$C231,Input!F231)","v":"Ocn't use fcrc en "},{"$f":"IF(Input!G231=\"\",Input!$C231,Input!G231)","v":"Ocn't use fcrc en "},{"$f":"IF(Input!H231=\"\",Input!$C231,Input!H231)","v":"Ocn't use fcrc en "},{"$f":"IF(Input!I231=\"\",Input!$C231,Input!I231)","v":"Ocn't use fcrc en "},{"$f":"IF(Input!J231=\"\",Input!$C231,Input!J231)","v":"Ocn't use fcrc en "},{"$f":"IF(Input!K231=\"\",Input!$C231,Input!K231)","v":"Ocn't use fcrc en "},{"$f":"IF(Input!L231=\"\",Input!$C231,Input!L231)","v":"Ocn't use fcrc en "},{"$f":"IF(Input!M231=\"\",Input!$C231,Input!M231)","v":"Ocn't use fcrc en "}]
["Oscillators_MartinOn=0||0||0||3||N","Open martin on ","Open on Individual signal ",{"$f":"IF(Input!D232=\"\",Input!$C232,Input!D232)","v":"Open on Individual signal "},{"$f":"IF(Input!E232=\"\",Input!$C232,Input!E232)","v":"Open on Individual signal "},{"$f":"IF(Input!F232=\"\",Input!$C232,Input!F232)","v":"Open on Individual signal "},{"$f":"IF(Input!G232=\"\",Input!$C232,Input!G232)","v":"Open on Individual signal "},{"$f":"IF(Input!H232=\"\",Input!$C232,Input!H232)","v":"Open on Individual signal "},{"$f":"IF(Input!I232=\"\",Input!$C232,Input!I232)","v":"Open on Individual signal "},{"$f":"IF(Input!J232=\"\",Input!$C232,Input!J232)","v":"Open on Individual signal "},{"$f":"IF(Input!K232=\"\",Input!$C232,Input!K232)","v":"Open on Individual signal "},{"$f":"IF(Input!L232=\"\",Input!$C232,Input!L232)","v":"Open on Individual signal "},{"$f":"IF(Input!M232=\"\",Input!$C232,Input!M232)","v":"Open on Individual signal "}]
["Oscillators_HedgeOn=0||0||0||3||N","Open hedge on ","Open on Individual signal ",{"$f":"IF(Input!D233=\"\",Input!$C233,Input!D233)","v":"Open on Individual signal "},{"$f":"IF(Input!E233=\"\",Input!$C233,Input!E233)","v":"Open on Individual signal "},{"$f":"IF(Input!F233=\"\",Input!$C233,Input!F233)","v":"Open on Individual signal "},{"$f":"IF(Input!G233=\"\",Input!$C233,Input!G233)","v":"Open on Individual signal "},{"$f":"IF(Input!H233=\"\",Input!$C233,Input!H233)","v":"Open on Individual signal "},{"$f":"IF(Input!I233=\"\",Input!$C233,Input!I233)","v":"Open on Individual signal "},{"$f":"IF(Input!J233=\"\",Input!$C233,Input!J233)","v":"Open on Individual signal "},{"$f":"IF(Input!K233=\"\",Input!$C233,Input!K233)","v":"Open on Individual signal "},{"$f":"IF(Input!L233=\"\",Input!$C233,Input!L233)","v":"Open on Individual signal "},{"$f":"IF(Input!M233=\"\",Input!$C233,Input!M233)","v":"Open on Individual signal "}]
["Oscillators_CloseOn=2||0||0||4||N","Close on ","Close on Individual signal, in profit only ",{"$f":"IF(Input!D234=\"\",Input!$C234,Input!D234)","v":"Close on Individual signal, in profit only "},{"$f":"IF(Input!E234=\"\",Input!$C234,Input!E234)","v":"Close on Individual signal, in profit only "},{"$f":"IF(Input!F234=\"\",Input!$C234,Input!F234)","v":"Close on Individual signal, in profit only "},{"$f":"IF(Input!G234=\"\",Input!$C234,Input!G234)","v":"Close on Individual signal, in profit only "},{"$f":"IF(Input!H234=\"\",Input!$C234,Input!H234)","v":"Close on Individual signal, in profit only "},{"$f":"IF(Input!I234=\"\",Input!$C234,Input!I234)","v":"Close on Individual signal, in profit only "},{"$f":"IF(Input!J234=\"\",Input!$C234,Input!J234)","v":"Close on Individual signal, in profit only "},{"$f":"IF(Input!K234=\"\",Input!$C234,Input!K234)","v":"Close on Individual signal, in profit only "},{"$f":"IF(Input!L234=\"\",Input!$C234,Input!L234)","v":"Close on Individual signal, in profit only "},{"$f":"IF(Input!M234=\"\",Input!$C234,Input!M234)","v":"Close on Individual signal, in profit only "}]
["Oscillators_PartialCloseOn=0||0||0||3||N","Partial close on ","Partial close on Individual signal ",{"$f":"IF(Input!D235=\"\",Input!$C235,Input!D235)","v":"Partial close on Individual signal "},{"$f":"IF(Input!E235=\"\",Input!$C235,Input!E235)","v":"Partial close on Individual signal "},{"$f":"IF(Input!F235=\"\",Input!$C235,Input!F235)","v":"Partial close on Individual signal "},{"$f":"IF(Input!G235=\"\",Input!$C235,Input!G235)","v":"Partial close on Individual signal "},{"$f":"IF(Input!H235=\"\",Input!$C235,Input!H235)","v":"Partial close on Individual signal "},{"$f":"IF(Input!I235=\"\",Input!$C235,Input!I235)","v":"Partial close on Individual signal "},{"$f":"IF(Input!J235=\"\",Input!$C235,Input!J235)","v":"Partial close on Individual signal "},{"$f":"IF(Input!K235=\"\",Input!$C235,Input!K235)","v":"Partial close on Individual signal "},{"$f":"IF(Input!L235=\"\",Input!$C235,Input!L235)","v":"Partial close on Individual signal "},{"$f":"IF(Input!M235=\"\",Input!$C235,Input!M235)","v":"Partial close on Individual signal "}]
["; Oscillator #2 properties","Oscillator #2 properties "]
["Oscillator2_Properties====================================================================================","Oscillator properties: "]
["Oscillator2_Type=0||0||0||4||N","Filter type ","Inside zone ",{"$f":"IF(Input!D238=\"\",Input!$C238,Input!D238)","v":"Inside zone "},{"$f":"IF(Input!E238=\"\",Input!$C238,Input!E238)","v":"Inside zone "},{"$f":"IF(Input!F238=\"\",Input!$C238,Input!F238)","v":"Inside zone "},{"$f":"IF(Input!G238=\"\",Input!$C238,Input!G238)","v":"Inside zone "},{"$f":"IF(Input!H238=\"\",Input!$C238,Input!H238)","v":"Inside zone "},{"$f":"IF(Input!I238=\"\",Input!$C238,Input!I238)","v":"Inside zone "},{"$f":"IF(Input!J238=\"\",Input!$C238,Input!J238)","v":"Inside zone "},{"$f":"IF(Input!K238=\"\",Input!$C238,Input!K238)","v":"Inside zone "},{"$f":"IF(Input!L238=\"\",Input!$C238,Input!L238)","v":"Inside zone "},{"$f":"IF(Input!M238=\"\",Input!$C238,Input!M238)","v":"Inside zone "}]
["Oscillator2_Indicator=2||0||0||4||N","Indicator ","WPR ",{"$f":"IF(Input!D239=\"\",Input!$C239,Input!D239)","v":"WPR "},{"$f":"IF(Input!E239=\"\",Input!$C239,Input!E239)","v":"WPR "},{"$f":"IF(Input!F239=\"\",Input!$C239,Input!F239)","v":"WPR "},{"$f":"IF(Input!G239=\"\",Input!$C239,Input!G239)","v":"WPR "},{"$f":"IF(Input!H239=\"\",Input!$C239,Input!H239)","v":"WPR "},{"$f":"IF(Input!I239=\"\",Input!$C239,Input!I239)","v":"WPR "},{"$f":"IF(Input!J239=\"\",Input!$C239,Input!J239)","v":"WPR "},{"$f":"IF(Input!K239=\"\",Input!$C239,Input!K239)","v":"WPR "},{"$f":"IF(Input!L239=\"\",Input!$C239,Input!L239)","v":"WPR "},{"$f":"IF(Input!M239=\"\",Input!$C239,Input!M239)","v":"WPR "}]
["Oscillator2_TF=16408||0||0||49153||N","Time Frame ","2 Minutes ",{"$f":"IF(Input!D240=\"\",Input!$C240,Input!D240)","v":"2 Minutes "},{"$f":"IF(Input!E240=\"\",Input!$C240,Input!E240)","v":"2 Minutes "},{"$f":"IF(Input!F240=\"\",Input!$C240,Input!F240)","v":"2 Minutes "},{"$f":"IF(Input!G240=\"\",Input!$C240,Input!G240)","v":"2 Minutes "},{"$f":"IF(Input!H240=\"\",Input!$C240,Input!H240)","v":"2 Minutes "},{"$f":"IF(Input!I240=\"\",Input!$C240,Input!I240)","v":"2 Minutes "},{"$f":"IF(Input!J240=\"\",Input!$C240,Input!J240)","v":"2 Minutes "},{"$f":"IF(Input!K240=\"\",Input!$C240,Input!K240)","v":"2 Minutes "},{"$f":"IF(Input!L240=\"\",Input!$C240,Input!L240)","v":"2 Minutes "},{"$f":"IF(Input!M240=\"\",Input!$C240,Input!M240)","v":"2 Minutes "}]
["Oscillator2_Period=14||14||1||140||N","Main Period ",0,{"$f":"IF(Input!D241=\"\",Input!$C241,Input!D241)","v":0},{"$f":"IF(Input!E241=\"\",Input!$C241,Input!E241)","v":0},{"$f":"IF(Input!F241=\"\",Input!$C241,Input!F241)","v":0},{"$f":"IF(Input!G241=\"\",Input!$C241,Input!G241)","v":0},{"$f":"IF(Input!H241=\"\",Input!$C241,Input!H241)","v":0},{"$f":"IF(Input!I241=\"\",Input!$C241,Input!I241)","v":0},{"$f":"IF(Input!J241=\"\",Input!$C241,Input!J241)","v":0},{"$f":"IF(Input!K241=\"\",Input!$C241,Input!K241)","v":0},{"$f":"IF(Input!L241=\"\",Input!$C241,Input!L241)","v":0},{"$f":"IF(Input!M241=\"\",Input!$C241,Input!M241)","v":0}]
["Oscillator2_Price=1||1||0||7||N","Applied price ","Open price ",{"$f":"IF(Input!D242=\"\",Input!$C242,Input!D242)","v":"Open price "},{"$f":"IF(Input!E242=\"\",Input!$C242,Input!E242)","v":"Open price "},{"$f":"IF(Input!F242=\"\",Input!$C242,Input!F242)","v":"Open price "},{"$f":"IF(Input!G242=\"\",Input!$C242,Input!G242)","v":"Open price "},{"$f":"IF(Input!H242=\"\",Input!$C242,Input!H242)","v":"Open price "},{"$f":"IF(Input!I242=\"\",Input!$C242,Input!I242)","v":"Open price "},{"$f":"IF(Input!J242=\"\",Input!$C242,Input!J242)","v":"Open price "},{"$f":"IF(Input!K242=\"\",Input!$C242,Input!K242)","v":"Open price "},{"$f":"IF(Input!L242=\"\",Input!$C242,Input!L242)","v":"Open price "},{"$f":"IF(Input!M242=\"\",Input!$C242,Input!M242)","v":"Open price "}]
["Oscillator2_MA_Period=3||3||1||30||N","MA Period (for Cross MA mode) ",0,{"$f":"IF(Input!D243=\"\",Input!$C243,Input!D243)","v":0},{"$f":"IF(Input!E243=\"\",Input!$C243,Input!E243)","v":0},{"$f":"IF(Input!F243=\"\",Input!$C243,Input!F243)","v":0},{"$f":"IF(Input!G243=\"\",Input!$C243,Input!G243)","v":0},{"$f":"IF(Input!H243=\"\",Input!$C243,Input!H243)","v":0},{"$f":"IF(Input!I243=\"\",Input!$C243,Input!I243)","v":0},{"$f":"IF(Input!J243=\"\",Input!$C243,Input!J243)","v":0},{"$f":"IF(Input!K243=\"\",Input!$C243,Input!K243)","v":0},{"$f":"IF(Input!L243=\"\",Input!$C243,Input!L243)","v":0},{"$f":"IF(Input!M243=\"\",Input!$C243,Input!M243)","v":0}]
["Oscillator2_MA_Method=0||0||0||3||N","MA Method ","Exponential ",{"$f":"IF(Input!D244=\"\",Input!$C244,Input!D244)","v":"Exponential "},{"$f":"IF(Input!E244=\"\",Input!$C244,Input!E244)","v":"Exponential "},{"$f":"IF(Input!F244=\"\",Input!$C244,Input!F244)","v":"Exponential "},{"$f":"IF(Input!G244=\"\",Input!$C244,Input!G244)","v":"Exponential "},{"$f":"IF(Input!H244=\"\",Input!$C244,Input!H244)","v":"Exponential "},{"$f":"IF(Input!I244=\"\",Input!$C244,Input!I244)","v":"Exponential "},{"$f":"IF(Input!J244=\"\",Input!$C244,Input!J244)","v":"Exponential "},{"$f":"IF(Input!K244=\"\",Input!$C244,Input!K244)","v":"Exponential "},{"$f":"IF(Input!L244=\"\",Input!$C244,Input!L244)","v":"Exponential "},{"$f":"IF(Input!M244=\"\",Input!$C244,Input!M244)","v":"Exponential "}]
["Oscillator2_Slowing=3||3||1||30||N","Stochastic Slowing period ",0,{"$f":"IF(Input!D245=\"\",Input!$C245,Input!D245)","v":0},{"$f":"IF(Input!E245=\"\",Input!$C245,Input!E245)","v":0},{"$f":"IF(Input!F245=\"\",Input!$C245,Input!F245)","v":0},{"$f":"IF(Input!G245=\"\",Input!$C245,Input!G245)","v":0},{"$f":"IF(Input!H245=\"\",Input!$C245,Input!H245)","v":0},{"$f":"IF(Input!I245=\"\",Input!$C245,Input!I245)","v":0},{"$f":"IF(Input!J245=\"\",Input!$C245,Input!J245)","v":0},{"$f":"IF(Input!K245=\"\",Input!$C245,Input!K245)","v":0},{"$f":"IF(Input!L245=\"\",Input!$C245,Input!L245)","v":0},{"$f":"IF(Input!M245=\"\",Input!$C245,Input!M245)","v":0}]
["Oscillator2_STO_Price=0||0||0||1||N","Stochastic Price ","CIcse/CIcse ",{"$f":"IF(Input!D246=\"\",Input!$C246,Input!D246)","v":"CIcse/CIcse "},{"$f":"IF(Input!E246=\"\",Input!$C246,Input!E246)","v":"CIcse/CIcse "},{"$f":"IF(Input!F246=\"\",Input!$C246,Input!F246)","v":"CIcse/CIcse "},{"$f":"IF(Input!G246=\"\",Input!$C246,Input!G246)","v":"CIcse/CIcse "},{"$f":"IF(Input!H246=\"\",Input!$C246,Input!H246)","v":"CIcse/CIcse "},{"$f":"IF(Input!I246=\"\",Input!$C246,Input!I246)","v":"CIcse/CIcse "},{"$f":"IF(Input!J246=\"\",Input!$C246,Input!J246)","v":"CIcse/CIcse "},{"$f":"IF(Input!K246=\"\",Input!$C246,Input!K246)","v":"CIcse/CIcse "},{"$f":"IF(Input!L246=\"\",Input!$C246,Input!L246)","v":"CIcse/CIcse "},{"$f":"IF(Input!M246=\"\",Input!$C246,Input!M246)","v":"CIcse/CIcse "}]
["Oscillator2_Level_UP_Min=80||80||8.000000||800.000000||N","Level UP ",0,{"$f":"IF(Input!D247=\"\",Input!$C247,Input!D247)","v":0},{"$f":"IF(Input!E247=\"\",Input!$C247,Input!E247)","v":0},{"$f":"IF(Input!F247=\"\",Input!$C247,Input!F247)","v":0},{"$f":"IF(Input!G247=\"\",Input!$C247,Input!G247)","v":0},{"$f":"IF(Input!H247=\"\",Input!$C247,Input!H247)","v":0},{"$f":"IF(Input!I247=\"\",Input!$C247,Input!I247)","v":0},{"$f":"IF(Input!J247=\"\",Input!$C247,Input!J247)","v":0},{"$f":"IF(Input!K247=\"\",Input!$C247,Input!K247)","v":0},{"$f":"IF(Input!L247=\"\",Input!$C247,Input!L247)","v":0},{"$f":"IF(Input!M247=\"\",Input!$C247,Input!M247)","v":0}]
["Oscillator2_Level_DN_Min=-999||-999||-99.900000||-9990.000000||N","Level DN - calc automatically) ",0,{"$f":"IF(Input!D248=\"\",Input!$C248,Input!D248)","v":0},{"$f":"IF(Input!E248=\"\",Input!$C248,Input!E248)","v":0},{"$f":"IF(Input!F248=\"\",Input!$C248,Input!F248)","v":0},{"$f":"IF(Input!G248=\"\",Input!$C248,Input!G248)","v":0},{"$f":"IF(Input!H248=\"\",Input!$C248,Input!H248)","v":0},{"$f":"IF(Input!I248=\"\",Input!$C248,Input!I248)","v":0},{"$f":"IF(Input!J248=\"\",Input!$C248,Input!J248)","v":0},{"$f":"IF(Input!K248=\"\",Input!$C248,Input!K248)","v":0},{"$f":"IF(Input!L248=\"\",Input!$C248,Input!L248)","v":0},{"$f":"IF(Input!M248=\"\",Input!$C248,Input!M248)","v":0}]
["Oscillator2_ContrTrend=false||false||0||true||N","Reverse mode ",false,{"$f":"IF(Input!D249=\"\",Input!$C249,Input!D249)","v":false},{"$f":"IF(Input!E249=\"\",Input!$C249,Input!E249)","v":false},{"$f":"IF(Input!F249=\"\",Input!$C249,Input!F249)","v":false},{"$f":"IF(Input!G249=\"\",Input!$C249,Input!G249)","v":false},{"$f":"IF(Input!H249=\"\",Input!$C249,Input!H249)","v":false},{"$f":"IF(Input!I249=\"\",Input!$C249,Input!I249)","v":false},{"$f":"IF(Input!J249=\"\",Input!$C249,Input!J249)","v":false},{"$f":"IF(Input!K249=\"\",Input!$C249,Input!K249)","v":false},{"$f":"IF(Input!L249=\"\",Input!$C249,Input!L249)","v":false},{"$f":"IF(Input!M249=\"\",Input!$C249,Input!M249)","v":false}]
["Oscillator2_UseClosedBars=true||false||0||true||N","Use only closed bars ",false,{"$f":"IF(Input!D250=\"\",Input!$C250,Input!D250)","v":false},{"$f":"IF(Input!E250=\"\",Input!$C250,Input!E250)","v":false},{"$f":"IF(Input!F250=\"\",Input!$C250,Input!F250)","v":false},{"$f":"IF(Input!G250=\"\",Input!$C250,Input!G250)","v":false},{"$f":"IF(Input!H250=\"\",Input!$C250,Input!H250)","v":false},{"$f":"IF(Input!I250=\"\",Input!$C250,Input!I250)","v":false},{"$f":"IF(Input!J250=\"\",Input!$C250,Input!J250)","v":false},{"$f":"IF(Input!K250=\"\",Input!$C250,Input!K250)","v":false},{"$f":"IF(Input!L250=\"\",Input!$C250,Input!L250)","v":false},{"$f":"IF(Input!M250=\"\",Input!$C250,Input!M250)","v":false}]
["Oscillator2_OpenOn=0||0||0||3||N","Open on ","Ocn't use fcrc en ",{"$f":"IF(Input!D251=\"\",Input!$C251,Input!D251)","v":"Ocn't use fcrc en "},{"$f":"IF(Input!E251=\"\",Input!$C251,Input!E251)","v":"Ocn't use fcrc en "},{"$f":"IF(Input!F251=\"\",Input!$C251,Input!F251)","v":"Ocn't use fcrc en "},{"$f":"IF(Input!G251=\"\",Input!$C251,Input!G251)","v":"Ocn't use fcrc en "},{"$f":"IF(Input!H251=\"\",Input!$C251,Input!H251)","v":"Ocn't use fcrc en "},{"$f":"IF(Input!I251=\"\",Input!$C251,Input!I251)","v":"Ocn't use fcrc en "},{"$f":"IF(Input!J251=\"\",Input!$C251,Input!J251)","v":"Ocn't use fcrc en "},{"$f":"IF(Input!K251=\"\",Input!$C251,Input!K251)","v":"Ocn't use fcrc en "},{"$f":"IF(Input!L251=\"\",Input!$C251,Input!L251)","v":"Ocn't use fcrc en "},{"$f":"IF(Input!M251=\"\",Input!$C251,Input!M251)","v":"Ocn't use fcrc en "}]
["Oscillator2_MartinOn=0||0||0||3||N","Open martin on ","Open on Individual signal ",{"$f":"IF(Input!D252=\"\",Input!$C252,Input!D252)","v":"Open on Individual signal "},{"$f":"IF(Input!E252=\"\",Input!$C252,Input!E252)","v":"Open on Individual signal "},{"$f":"IF(Input!F252=\"\",Input!$C252,Input!F252)","v":"Open on Individual signal "},{"$f":"IF(Input!G252=\"\",Input!$C252,Input!G252)","v":"Open on Individual signal "},{"$f":"IF(Input!H252=\"\",Input!$C252,Input!H252)","v":"Open on Individual signal "},{"$f":"IF(Input!I252=\"\",Input!$C252,Input!I252)","v":"Open on Individual signal "},{"$f":"IF(Input!J252=\"\",Input!$C252,Input!J252)","v":"Open on Individual signal "},{"$f":"IF(Input!K252=\"\",Input!$C252,Input!K252)","v":"Open on Individual signal "},{"$f":"IF(Input!L252=\"\",Input!$C252,Input!L252)","v":"Open on Individual signal "},{"$f":"IF(Input!M252=\"\",Input!$C252,Input!M252)","v":"Open on Individual signal "}]
["Oscillator2_HedgeOn=0||0||0||3||N","Open hedge on ","Open on Individual signal ",{"$f":"IF(Input!D253=\"\",Input!$C253,Input!D253)","v":"Open on Individual signal "},{"$f":"IF(Input!E253=\"\",Input!$C253,Input!E253)","v":"Open on Individual signal "},{"$f":"IF(Input!F253=\"\",Input!$C253,Input!F253)","v":"Open on Individual signal "},{"$f":"IF(Input!G253=\"\",Input!$C253,Input!G253)","v":"Open on Individual signal "},{"$f":"IF(Input!H253=\"\",Input!$C253,Input!H253)","v":"Open on Individual signal "},{"$f":"IF(Input!I253=\"\",Input!$C253,Input!I253)","v":"Open on Individual signal "},{"$f":"IF(Input!J253=\"\",Input!$C253,Input!J253)","v":"Open on Individual signal "},{"$f":"IF(Input!K253=\"\",Input!$C253,Input!K253)","v":"Open on Individual signal "},{"$f":"IF(Input!L253=\"\",Input!$C253,Input!L253)","v":"Open on Individual signal "},{"$f":"IF(Input!M253=\"\",Input!$C253,Input!M253)","v":"Open on Individual signal "}]
["Oscillator2_CloseOn=0||0||0||4||N","Close on ","Close on Individual signal, in profit only ",{"$f":"IF(Input!D254=\"\",Input!$C254,Input!D254)","v":"Close on Individual signal, in profit only "},{"$f":"IF(Input!E254=\"\",Input!$C254,Input!E254)","v":"Close on Individual signal, in profit only "},{"$f":"IF(Input!F254=\"\",Input!$C254,Input!F254)","v":"Close on Individual signal, in profit only "},{"$f":"IF(Input!G254=\"\",Input!$C254,Input!G254)","v":"Close on Individual signal, in profit only "},{"$f":"IF(Input!H254=\"\",Input!$C254,Input!H254)","v":"Close on Individual signal, in profit only "},{"$f":"IF(Input!I254=\"\",Input!$C254,Input!I254)","v":"Close on Individual signal, in profit only "},{"$f":"IF(Input!J254=\"\",Input!$C254,Input!J254)","v":"Close on Individual signal, in profit only "},{"$f":"IF(Input!K254=\"\",Input!$C254,Input!K254)","v":"Close on Individual signal, in profit only "},{"$f":"IF(Input!L254=\"\",Input!$C254,Input!L254)","v":"Close on Individual signal, in profit only "},{"$f":"IF(Input!M254=\"\",Input!$C254,Input!M254)","v":"Close on Individual signal, in profit only "}]
["Oscillator2_PartialCloseOn=0||0||0||3||N","Partial close on ","Partial close on Individual signal ",{"$f":"IF(Input!D255=\"\",Input!$C255,Input!D255)","v":"Partial close on Individual signal "},{"$f":"IF(Input!E255=\"\",Input!$C255,Input!E255)","v":"Partial close on Individual signal "},{"$f":"IF(Input!F255=\"\",Input!$C255,Input!F255)","v":"Partial close on Individual signal "},{"$f":"IF(Input!G255=\"\",Input!$C255,Input!G255)","v":"Partial close on Individual signal "},{"$f":"IF(Input!H255=\"\",Input!$C255,Input!H255)","v":"Partial close on Individual signal "},{"$f":"IF(Input!I255=\"\",Input!$C255,Input!I255)","v":"Partial close on Individual signal "},{"$f":"IF(Input!J255=\"\",Input!$C255,Input!J255)","v":"Partial close on Individual signal "},{"$f":"IF(Input!K255=\"\",Input!$C255,Input!K255)","v":"Partial close on Individual signal "},{"$f":"IF(Input!L255=\"\",Input!$C255,Input!L255)","v":"Partial close on Individual signal "},{"$f":"IF(Input!M255=\"\",Input!$C255,Input!M255)","v":"Partial close on Individual signal "}]
["; Oscillator #3 properties","Oscillator #3 properties "]
["Oscillator3_Properties====================================================================================","Oscillator properties: "]
["Oscillator3_Type=0||0||0||4||N","Filter type ","Inside zone ",{"$f":"IF(Input!D258=\"\",Input!$C258,Input!D258)","v":"Inside zone "},{"$f":"IF(Input!E258=\"\",Input!$C258,Input!E258)","v":"Inside zone "},{"$f":"IF(Input!F258=\"\",Input!$C258,Input!F258)","v":"Inside zone "},{"$f":"IF(Input!G258=\"\",Input!$C258,Input!G258)","v":"Inside zone "},{"$f":"IF(Input!H258=\"\",Input!$C258,Input!H258)","v":"Inside zone "},{"$f":"IF(Input!I258=\"\",Input!$C258,Input!I258)","v":"Inside zone "},{"$f":"IF(Input!J258=\"\",Input!$C258,Input!J258)","v":"Inside zone "},{"$f":"IF(Input!K258=\"\",Input!$C258,Input!K258)","v":"Inside zone "},{"$f":"IF(Input!L258=\"\",Input!$C258,Input!L258)","v":"Inside zone "},{"$f":"IF(Input!M258=\"\",Input!$C258,Input!M258)","v":"Inside zone "}]
["Oscillator3_Indicator=2||0||0||4||N","Indicator ","WPR ",{"$f":"IF(Input!D259=\"\",Input!$C259,Input!D259)","v":"WPR "},{"$f":"IF(Input!E259=\"\",Input!$C259,Input!E259)","v":"WPR "},{"$f":"IF(Input!F259=\"\",Input!$C259,Input!F259)","v":"WPR "},{"$f":"IF(Input!G259=\"\",Input!$C259,Input!G259)","v":"WPR "},{"$f":"IF(Input!H259=\"\",Input!$C259,Input!H259)","v":"WPR "},{"$f":"IF(Input!I259=\"\",Input!$C259,Input!I259)","v":"WPR "},{"$f":"IF(Input!J259=\"\",Input!$C259,Input!J259)","v":"WPR "},{"$f":"IF(Input!K259=\"\",Input!$C259,Input!K259)","v":"WPR "},{"$f":"IF(Input!L259=\"\",Input!$C259,Input!L259)","v":"WPR "},{"$f":"IF(Input!M259=\"\",Input!$C259,Input!M259)","v":"WPR "}]
["Oscillator3_TF=16408||0||0||49153||N","Time Frame ","2 Minutes ",{"$f":"IF(Input!D260=\"\",Input!$C260,Input!D260)","v":"2 Minutes "},{"$f":"IF(Input!E260=\"\",Input!$C260,Input!E260)","v":"2 Minutes "},{"$f":"IF(Input!F260=\"\",Input!$C260,Input!F260)","v":"2 Minutes "},{"$f":"IF(Input!G260=\"\",Input!$C260,Input!G260)","v":"2 Minutes "},{"$f":"IF(Input!H260=\"\",Input!$C260,Input!H260)","v":"2 Minutes "},{"$f":"IF(Input!I260=\"\",Input!$C260,Input!I260)","v":"2 Minutes "},{"$f":"IF(Input!J260=\"\",Input!$C260,Input!J260)","v":"2 Minutes "},{"$f":"IF(Input!K260=\"\",Input!$C260,Input!K260)","v":"2 Minutes "},{"$f":"IF(Input!L260=\"\",Input!$C260,Input!L260)","v":"2 Minutes "},{"$f":"IF(Input!M260=\"\",Input!$C260,Input!M260)","v":"2 Minutes "}]
["Oscillator3_Period=14||14||1||140||N","Main Period ",0,{"$f":"IF(Input!D261=\"\",Input!$C261,Input!D261)","v":0},{"$f":"IF(Input!E261=\"\",Input!$C261,Input!E261)","v":0},{"$f":"IF(Input!F261=\"\",Input!$C261,Input!F261)","v":0},{"$f":"IF(Input!G261=\"\",Input!$C261,Input!G261)","v":0},{"$f":"IF(Input!H261=\"\",Input!$C261,Input!H261)","v":0},{"$f":"IF(Input!I261=\"\",Input!$C261,Input!I261)","v":0},{"$f":"IF(Input!J261=\"\",Input!$C261,Input!J261)","v":0},{"$f":"IF(Input!K261=\"\",Input!$C261,Input!K261)","v":0},{"$f":"IF(Input!L261=\"\",Input!$C261,Input!L261)","v":0},{"$f":"IF(Input!M261=\"\",Input!$C261,Input!M261)","v":0}]
["Oscillator3_Price=1||1||0||7||N","Applied price ","Open price ",{"$f":"IF(Input!D262=\"\",Input!$C262,Input!D262)","v":"Open price "},{"$f":"IF(Input!E262=\"\",Input!$C262,Input!E262)","v":"Open price "},{"$f":"IF(Input!F262=\"\",Input!$C262,Input!F262)","v":"Open price "},{"$f":"IF(Input!G262=\"\",Input!$C262,Input!G262)","v":"Open price "},{"$f":"IF(Input!H262=\"\",Input!$C262,Input!H262)","v":"Open price "},{"$f":"IF(Input!I262=\"\",Input!$C262,Input!I262)","v":"Open price "},{"$f":"IF(Input!J262=\"\",Input!$C262,Input!J262)","v":"Open price "},{"$f":"IF(Input!K262=\"\",Input!$C262,Input!K262)","v":"Open price "},{"$f":"IF(Input!L262=\"\",Input!$C262,Input!L262)","v":"Open price "},{"$f":"IF(Input!M262=\"\",Input!$C262,Input!M262)","v":"Open price "}]
["Oscillator3_MA_Period=3||3||1||30||N","MA Period (for Cross MA mode) ",0,{"$f":"IF(Input!D263=\"\",Input!$C263,Input!D263)","v":0},{"$f":"IF(Input!E263=\"\",Input!$C263,Input!E263)","v":0},{"$f":"IF(Input!F263=\"\",Input!$C263,Input!F263)","v":0},{"$f":"IF(Input!G263=\"\",Input!$C263,Input!G263)","v":0},{"$f":"IF(Input!H263=\"\",Input!$C263,Input!H263)","v":0},{"$f":"IF(Input!I263=\"\",Input!$C263,Input!I263)","v":0},{"$f":"IF(Input!J263=\"\",Input!$C263,Input!J263)","v":0},{"$f":"IF(Input!K263=\"\",Input!$C263,Input!K263)","v":0},{"$f":"IF(Input!L263=\"\",Input!$C263,Input!L263)","v":0},{"$f":"IF(Input!M263=\"\",Input!$C263,Input!M263)","v":0}]
["Oscillator3_MA_Method=0||0||0||3||N","MA Method ","Exponential ",{"$f":"IF(Input!D264=\"\",Input!$C264,Input!D264)","v":"Exponential "},{"$f":"IF(Input!E264=\"\",Input!$C264,Input!E264)","v":"Exponential "},{"$f":"IF(Input!F264=\"\",Input!$C264,Input!F264)","v":"Exponential "},{"$f":"IF(Input!G264=\"\",Input!$C264,Input!G264)","v":"Exponential "},{"$f":"IF(Input!H264=\"\",Input!$C264,Input!H264)","v":"Exponential "},{"$f":"IF(Input!I264=\"\",Input!$C264,Input!I264)","v":"Exponential "},{"$f":"IF(Input!J264=\"\",Input!$C264,Input!J264)","v":"Exponential "},{"$f":"IF(Input!K264=\"\",Input!$C264,Input!K264)","v":"Exponential "},{"$f":"IF(Input!L264=\"\",Input!$C264,Input!L264)","v":"Exponential "},{"$f":"IF(Input!M264=\"\",Input!$C264,Input!M264)","v":"Exponential "}]
["Oscillator3_Slowing=3||3||1||30||N","Stochastic Slowing period ",0,{"$f":"IF(Input!D265=\"\",Input!$C265,Input!D265)","v":0},{"$f":"IF(Input!E265=\"\",Input!$C265,Input!E265)","v":0},{"$f":"IF(Input!F265=\"\",Input!$C265,Input!F265)","v":0},{"$f":"IF(Input!G265=\"\",Input!$C265,Input!G265)","v":0},{"$f":"IF(Input!H265=\"\",Input!$C265,Input!H265)","v":0},{"$f":"IF(Input!I265=\"\",Input!$C265,Input!I265)","v":0},{"$f":"IF(Input!J265=\"\",Input!$C265,Input!J265)","v":0},{"$f":"IF(Input!K265=\"\",Input!$C265,Input!K265)","v":0},{"$f":"IF(Input!L265=\"\",Input!$C265,Input!L265)","v":0},{"$f":"IF(Input!M265=\"\",Input!$C265,Input!M265)","v":0}]
["Oscillator3_STO_Price=0||0||0||1||N","Stochastic Price ","CIcse/CIcse ",{"$f":"IF(Input!D266=\"\",Input!$C266,Input!D266)","v":"CIcse/CIcse "},{"$f":"IF(Input!E266=\"\",Input!$C266,Input!E266)","v":"CIcse/CIcse "},{"$f":"IF(Input!F266=\"\",Input!$C266,Input!F266)","v":"CIcse/CIcse "},{"$f":"IF(Input!G266=\"\",Input!$C266,Input!G266)","v":"CIcse/CIcse "},{"$f":"IF(Input!H266=\"\",Input!$C266,Input!H266)","v":"CIcse/CIcse "},{"$f":"IF(Input!I266=\"\",Input!$C266,Input!I266)","v":"CIcse/CIcse "},{"$f":"IF(Input!J266=\"\",Input!$C266,Input!J266)","v":"CIcse/CIcse "},{"$f":"IF(Input!K266=\"\",Input!$C266,Input!K266)","v":"CIcse/CIcse "},{"$f":"IF(Input!L266=\"\",Input!$C266,Input!L266)","v":"CIcse/CIcse "},{"$f":"IF(Input!M266=\"\",Input!$C266,Input!M266)","v":"CIcse/CIcse "}]
["Oscillator3_Level_UP_Min=80||80||8.000000||800.000000||N","Level UP ",0,{"$f":"IF(Input!D267=\"\",Input!$C267,Input!D267)","v":0},{"$f":"IF(Input!E267=\"\",Input!$C267,Input!E267)","v":0},{"$f":"IF(Input!F267=\"\",Input!$C267,Input!F267)","v":0},{"$f":"IF(Input!G267=\"\",Input!$C267,Input!G267)","v":0},{"$f":"IF(Input!H267=\"\",Input!$C267,Input!H267)","v":0},{"$f":"IF(Input!I267=\"\",Input!$C267,Input!I267)","v":0},{"$f":"IF(Input!J267=\"\",Input!$C267,Input!J267)","v":0},{"$f":"IF(Input!K267=\"\",Input!$C267,Input!K267)","v":0},{"$f":"IF(Input!L267=\"\",Input!$C267,Input!L267)","v":0},{"$f":"IF(Input!M267=\"\",Input!$C267,Input!M267)","v":0}]
["Oscillator3_Level_DN_Min=-999||-999||-99.900000||-9990.000000||N","Level DN - calc automatically) ",0,{"$f":"IF(Input!D268=\"\",Input!$C268,Input!D268)","v":0},{"$f":"IF(Input!E268=\"\",Input!$C268,Input!E268)","v":0},{"$f":"IF(Input!F268=\"\",Input!$C268,Input!F268)","v":0},{"$f":"IF(Input!G268=\"\",Input!$C268,Input!G268)","v":0},{"$f":"IF(Input!H268=\"\",Input!$C268,Input!H268)","v":0},{"$f":"IF(Input!I268=\"\",Input!$C268,Input!I268)","v":0},{"$f":"IF(Input!J268=\"\",Input!$C268,Input!J268)","v":0},{"$f":"IF(Input!K268=\"\",Input!$C268,Input!K268)","v":0},{"$f":"IF(Input!L268=\"\",Input!$C268,Input!L268)","v":0},{"$f":"IF(Input!M268=\"\",Input!$C268,Input!M268)","v":0}]
["Oscillator3_ContrTrend=false||false||0||true||N","Reverse mode ",false,{"$f":"IF(Input!D269=\"\",Input!$C269,Input!D269)","v":false},{"$f":"IF(Input!E269=\"\",Input!$C269,Input!E269)","v":false},{"$f":"IF(Input!F269=\"\",Input!$C269,Input!F269)","v":false},{"$f":"IF(Input!G269=\"\",Input!$C269,Input!G269)","v":false},{"$f":"IF(Input!H269=\"\",Input!$C269,Input!H269)","v":false},{"$f":"IF(Input!I269=\"\",Input!$C269,Input!I269)","v":false},{"$f":"IF(Input!J269=\"\",Input!$C269,Input!J269)","v":false},{"$f":"IF(Input!K269=\"\",Input!$C269,Input!K269)","v":false},{"$f":"IF(Input!L269=\"\",Input!$C269,Input!L269)","v":false},{"$f":"IF(Input!M269=\"\",Input!$C269,Input!M269)","v":false}]
["Oscillator3_UseClosedBars=true||false||0||true||N","Use only closed bars ",false,{"$f":"IF(Input!D270=\"\",Input!$C270,Input!D270)","v":false},{"$f":"IF(Input!E270=\"\",Input!$C270,Input!E270)","v":false},{"$f":"IF(Input!F270=\"\",Input!$C270,Input!F270)","v":false},{"$f":"IF(Input!G270=\"\",Input!$C270,Input!G270)","v":false},{"$f":"IF(Input!H270=\"\",Input!$C270,Input!H270)","v":false},{"$f":"IF(Input!I270=\"\",Input!$C270,Input!I270)","v":false},{"$f":"IF(Input!J270=\"\",Input!$C270,Input!J270)","v":false},{"$f":"IF(Input!K270=\"\",Input!$C270,Input!K270)","v":false},{"$f":"IF(Input!L270=\"\",Input!$C270,Input!L270)","v":false},{"$f":"IF(Input!M270=\"\",Input!$C270,Input!M270)","v":false}]
["Oscillator3_OpenOn=0||0||0||3||N","Open on ","Ocn't use fcrc en ",{"$f":"IF(Input!D271=\"\",Input!$C271,Input!D271)","v":"Ocn't use fcrc en "},{"$f":"IF(Input!E271=\"\",Input!$C271,Input!E271)","v":"Ocn't use fcrc en "},{"$f":"IF(Input!F271=\"\",Input!$C271,Input!F271)","v":"Ocn't use fcrc en "},{"$f":"IF(Input!G271=\"\",Input!$C271,Input!G271)","v":"Ocn't use fcrc en "},{"$f":"IF(Input!H271=\"\",Input!$C271,Input!H271)","v":"Ocn't use fcrc en "},{"$f":"IF(Input!I271=\"\",Input!$C271,Input!I271)","v":"Ocn't use fcrc en "},{"$f":"IF(Input!J271=\"\",Input!$C271,Input!J271)","v":"Ocn't use fcrc en "},{"$f":"IF(Input!K271=\"\",Input!$C271,Input!K271)","v":"Ocn't use fcrc en "},{"$f":"IF(Input!L271=\"\",Input!$C271,Input!L271)","v":"Ocn't use fcrc en "},{"$f":"IF(Input!M271=\"\",Input!$C271,Input!M271)","v":"Ocn't use fcrc en "}]
["Oscillator3_MartinOn=0||0||0||3||N","Open martin on ","Open on Individual signal ",{"$f":"IF(Input!D272=\"\",Input!$C272,Input!D272)","v":"Open on Individual signal "},{"$f":"IF(Input!E272=\"\",Input!$C272,Input!E272)","v":"Open on Individual signal "},{"$f":"IF(Input!F272=\"\",Input!$C272,Input!F272)","v":"Open on Individual signal "},{"$f":"IF(Input!G272=\"\",Input!$C272,Input!G272)","v":"Open on Individual signal "},{"$f":"IF(Input!H272=\"\",Input!$C272,Input!H272)","v":"Open on Individual signal "},{"$f":"IF(Input!I272=\"\",Input!$C272,Input!I272)","v":"Open on Individual signal "},{"$f":"IF(Input!J272=\"\",Input!$C272,Input!J272)","v":"Open on Individual signal "},{"$f":"IF(Input!K272=\"\",Input!$C272,Input!K272)","v":"Open on Individual signal "},{"$f":"IF(Input!L272=\"\",Input!$C272,Input!L272)","v":"Open on Individual signal "},{"$f":"IF(Input!M272=\"\",Input!$C272,Input!M272)","v":"Open on Individual signal "}]
["Oscillator3_HedgeOn=0||0||0||3||N","Open hedge on ","Open on Individual signal ",{"$f":"IF(Input!D273=\"\",Input!$C273,Input!D273)","v":"Open on Individual signal "},{"$f":"IF(Input!E273=\"\",Input!$C273,Input!E273)","v":"Open on Individual signal "},{"$f":"IF(Input!F273=\"\",Input!$C273,Input!F273)","v":"Open on Individual signal "},{"$f":"IF(Input!G273=\"\",Input!$C273,Input!G273)","v":"Open on Individual signal "},{"$f":"IF(Input!H273=\"\",Input!$C273,Input!H273)","v":"Open on Individual signal "},{"$f":"IF(Input!I273=\"\",Input!$C273,Input!I273)","v":"Open on Individual signal "},{"$f":"IF(Input!J273=\"\",Input!$C273,Input!J273)","v":"Open on Individual signal "},{"$f":"IF(Input!K273=\"\",Input!$C273,Input!K273)","v":"Open on Individual signal "},{"$f":"IF(Input!L273=\"\",Input!$C273,Input!L273)","v":"Open on Individual signal "},{"$f":"IF(Input!M273=\"\",Input!$C273,Input!M273)","v":"Open on Individual signal "}]
["Oscillator3_CloseOn=0||0||0||4||N","Close on ","Close on Individual signal, in profit only ",{"$f":"IF(Input!D274=\"\",Input!$C274,Input!D274)","v":"Close on Individual signal, in profit only "},{"$f":"IF(Input!E274=\"\",Input!$C274,Input!E274)","v":"Close on Individual signal, in profit only "},{"$f":"IF(Input!F274=\"\",Input!$C274,Input!F274)","v":"Close on Individual signal, in profit only "},{"$f":"IF(Input!G274=\"\",Input!$C274,Input!G274)","v":"Close on Individual signal, in profit only "},{"$f":"IF(Input!H274=\"\",Input!$C274,Input!H274)","v":"Close on Individual signal, in profit only "},{"$f":"IF(Input!I274=\"\",Input!$C274,Input!I274)","v":"Close on Individual signal, in profit only "},{"$f":"IF(Input!J274=\"\",Input!$C274,Input!J274)","v":"Close on Individual signal, in profit only "},{"$f":"IF(Input!K274=\"\",Input!$C274,Input!K274)","v":"Close on Individual signal, in profit only "},{"$f":"IF(Input!L274=\"\",Input!$C274,Input!L274)","v":"Close on Individual signal, in profit only "},{"$f":"IF(Input!M274=\"\",Input!$C274,Input!M274)","v":"Close on Individual signal, in profit only "}]
["Oscillator3_PartialCloseOn=0||0||0||3||N","Partial close on ","Partial close on Individual signal ",{"$f":"IF(Input!D275=\"\",Input!$C275,Input!D275)","v":"Partial close on Individual signal "},{"$f":"IF(Input!E275=\"\",Input!$C275,Input!E275)","v":"Partial close on Individual signal "},{"$f":"IF(Input!F275=\"\",Input!$C275,Input!F275)","v":"Partial close on Individual signal "},{"$f":"IF(Input!G275=\"\",Input!$C275,Input!G275)","v":"Partial close on Individual signal "},{"$f":"IF(Input!H275=\"\",Input!$C275,Input!H275)","v":"Partial close on Individual signal "},{"$f":"IF(Input!I275=\"\",Input!$C275,Input!I275)","v":"Partial close on Individual signal "},{"$f":"IF(Input!J275=\"\",Input!$C275,Input!J275)","v":"Partial close on Individual signal "},{"$f":"IF(Input!K275=\"\",Input!$C275,Input!K275)","v":"Partial close on Individual signal "},{"$f":"IF(Input!L275=\"\",Input!$C275,Input!L275)","v":"Partial close on Individual signal "},{"$f":"IF(Input!M275=\"\",Input!$C275,Input!M275)","v":"Partial close on Individual signal "}]
["; IdentifyTrend properties","IdentifyTrend p rope rties "]
["IdentifyTrend_Properties====================================================================================","IdentifyTrend properties: "]
["IdentifyTrend_Enable=false||false||0||true||N","Enable IdentifyTrend filter ",false,{"$f":"IF(Input!D278=\"\",Input!$C278,Input!D278)","v":false},{"$f":"IF(Input!E278=\"\",Input!$C278,Input!E278)","v":false},{"$f":"IF(Input!F278=\"\",Input!$C278,Input!F278)","v":false},{"$f":"IF(Input!G278=\"\",Input!$C278,Input!G278)","v":false},{"$f":"IF(Input!H278=\"\",Input!$C278,Input!H278)","v":false},{"$f":"IF(Input!I278=\"\",Input!$C278,Input!I278)","v":false},{"$f":"IF(Input!J278=\"\",Input!$C278,Input!J278)","v":false},{"$f":"IF(Input!K278=\"\",Input!$C278,Input!K278)","v":false},{"$f":"IF(Input!L278=\"\",Input!$C278,Input!L278)","v":false},{"$f":"IF(Input!M278=\"\",Input!$C278,Input!M278)","v":false}]
["IdentifyTrend_TF=16408||0||0||49153||N","IdentifyTrend TimeFrame ","2 Minutes ",{"$f":"IF(Input!D279=\"\",Input!$C279,Input!D279)","v":"2 Minutes "},{"$f":"IF(Input!E279=\"\",Input!$C279,Input!E279)","v":"2 Minutes "},{"$f":"IF(Input!F279=\"\",Input!$C279,Input!F279)","v":"2 Minutes "},{"$f":"IF(Input!G279=\"\",Input!$C279,Input!G279)","v":"2 Minutes "},{"$f":"IF(Input!H279=\"\",Input!$C279,Input!H279)","v":"2 Minutes "},{"$f":"IF(Input!I279=\"\",Input!$C279,Input!I279)","v":"2 Minutes "},{"$f":"IF(Input!J279=\"\",Input!$C279,Input!J279)","v":"2 Minutes "},{"$f":"IF(Input!K279=\"\",Input!$C279,Input!K279)","v":"2 Minutes "},{"$f":"IF(Input!L279=\"\",Input!$C279,Input!L279)","v":"2 Minutes "},{"$f":"IF(Input!M279=\"\",Input!$C279,Input!M279)","v":"2 Minutes "}]
["IdentifyTrend_AppliedPrice=5||1||0||7||N","IdentifyTrend Price ","Close price ",{"$f":"IF(Input!D280=\"\",Input!$C280,Input!D280)","v":"Median rice "},{"$f":"IF(Input!E280=\"\",Input!$C280,Input!E280)","v":"Close price "},{"$f":"IF(Input!F280=\"\",Input!$C280,Input!F280)","v":"Close price "},{"$f":"IF(Input!G280=\"\",Input!$C280,Input!G280)","v":"Close price "},{"$f":"IF(Input!H280=\"\",Input!$C280,Input!H280)","v":"Close price "},{"$f":"IF(Input!I280=\"\",Input!$C280,Input!I280)","v":"Close price "},{"$f":"IF(Input!J280=\"\",Input!$C280,Input!J280)","v":"Close price "},{"$f":"IF(Input!K280=\"\",Input!$C280,Input!K280)","v":"Close price "},{"$f":"IF(Input!L280=\"\",Input!$C280,Input!L280)","v":"Close price "},{"$f":"IF(Input!M280=\"\",Input!$C280,Input!M280)","v":"Close price "}]
["IdentifyTrend_MainPeriod=3||3||1||30||N","IdentifyTrend Period ",0,{"$f":"IF(Input!D281=\"\",Input!$C281,Input!D281)","v":0},{"$f":"IF(Input!E281=\"\",Input!$C281,Input!E281)","v":0},{"$f":"IF(Input!F281=\"\",Input!$C281,Input!F281)","v":0},{"$f":"IF(Input!G281=\"\",Input!$C281,Input!G281)","v":0},{"$f":"IF(Input!H281=\"\",Input!$C281,Input!H281)","v":0},{"$f":"IF(Input!I281=\"\",Input!$C281,Input!I281)","v":0},{"$f":"IF(Input!J281=\"\",Input!$C281,Input!J281)","v":0},{"$f":"IF(Input!K281=\"\",Input!$C281,Input!K281)","v":0},{"$f":"IF(Input!L281=\"\",Input!$C281,Input!L281)","v":0},{"$f":"IF(Input!M281=\"\",Input!$C281,Input!M281)","v":0}]
["IdentifyTrend_Reverse=false||false||0||true||N","IdentifyTrend Reverse mode ",false,{"$f":"IF(Input!D282=\"\",Input!$C282,Input!D282)","v":false},{"$f":"IF(Input!E282=\"\",Input!$C282,Input!E282)","v":false},{"$f":"IF(Input!F282=\"\",Input!$C282,Input!F282)","v":false},{"$f":"IF(Input!G282=\"\",Input!$C282,Input!G282)","v":false},{"$f":"IF(Input!H282=\"\",Input!$C282,Input!H282)","v":false},{"$f":"IF(Input!I282=\"\",Input!$C282,Input!I282)","v":false},{"$f":"IF(Input!J282=\"\",Input!$C282,Input!J282)","v":false},{"$f":"IF(Input!K282=\"\",Input!$C282,Input!K282)","v":false},{"$f":"IF(Input!L282=\"\",Input!$C282,Input!L282)","v":false},{"$f":"IF(Input!M282=\"\",Input!$C282,Input!M282)","v":false}]
["IdentifyTrend_UseClosedBars=false||false||0||true||N","IdentifyTrend use closed bars only ",false,{"$f":"IF(Input!D283=\"\",Input!$C283,Input!D283)","v":false},{"$f":"IF(Input!E283=\"\",Input!$C283,Input!E283)","v":false},{"$f":"IF(Input!F283=\"\",Input!$C283,Input!F283)","v":false},{"$f":"IF(Input!G283=\"\",Input!$C283,Input!G283)","v":false},{"$f":"IF(Input!H283=\"\",Input!$C283,Input!H283)","v":false},{"$f":"IF(Input!I283=\"\",Input!$C283,Input!I283)","v":false},{"$f":"IF(Input!J283=\"\",Input!$C283,Input!J283)","v":false},{"$f":"IF(Input!K283=\"\",Input!$C283,Input!K283)","v":false},{"$f":"IF(Input!L283=\"\",Input!$C283,Input!L283)","v":false},{"$f":"IF(Input!M283=\"\",Input!$C283,Input!M283)","v":false}]
["IdentifyTrend_OpenOn=2||0||0||3||N","Open on ","Ocn't use fcrc en ",{"$f":"IF(Input!D284=\"\",Input!$C284,Input!D284)","v":"Ocn't use fcrc en "},{"$f":"IF(Input!E284=\"\",Input!$C284,Input!E284)","v":"Ocn't use fcrc en "},{"$f":"IF(Input!F284=\"\",Input!$C284,Input!F284)","v":"Ocn't use fcrc en "},{"$f":"IF(Input!G284=\"\",Input!$C284,Input!G284)","v":"Ocn't use fcrc en "},{"$f":"IF(Input!H284=\"\",Input!$C284,Input!H284)","v":"Ocn't use fcrc en "},{"$f":"IF(Input!I284=\"\",Input!$C284,Input!I284)","v":"Ocn't use fcrc en "},{"$f":"IF(Input!J284=\"\",Input!$C284,Input!J284)","v":"Ocn't use fcrc en "},{"$f":"IF(Input!K284=\"\",Input!$C284,Input!K284)","v":"Ocn't use fcrc en "},{"$f":"IF(Input!L284=\"\",Input!$C284,Input!L284)","v":"Ocn't use fcrc en "},{"$f":"IF(Input!M284=\"\",Input!$C284,Input!M284)","v":"Ocn't use fcrc en "}]
["IdentifyTrend_MartinOn=0||0||0||3||N","Open martin on ","Open on Individual signal ",{"$f":"IF(Input!D285=\"\",Input!$C285,Input!D285)","v":"Open on Individual signal "},{"$f":"IF(Input!E285=\"\",Input!$C285,Input!E285)","v":"Open on Individual signal "},{"$f":"IF(Input!F285=\"\",Input!$C285,Input!F285)","v":"Open on Individual signal "},{"$f":"IF(Input!G285=\"\",Input!$C285,Input!G285)","v":"Open on Individual signal "},{"$f":"IF(Input!H285=\"\",Input!$C285,Input!H285)","v":"Open on Individual signal "},{"$f":"IF(Input!I285=\"\",Input!$C285,Input!I285)","v":"Open on Individual signal "},{"$f":"IF(Input!J285=\"\",Input!$C285,Input!J285)","v":"Open on Individual signal "},{"$f":"IF(Input!K285=\"\",Input!$C285,Input!K285)","v":"Open on Individual signal "},{"$f":"IF(Input!L285=\"\",Input!$C285,Input!L285)","v":"Open on Individual signal "},{"$f":"IF(Input!M285=\"\",Input!$C285,Input!M285)","v":"Open on Individual signal "}]
["IdentifyTrend_HedgeOn=0||0||0||3||N","Open hedge on ","Open on Individual signal ",{"$f":"IF(Input!D286=\"\",Input!$C286,Input!D286)","v":"Open on Individual signal "},{"$f":"IF(Input!E286=\"\",Input!$C286,Input!E286)","v":"Open on Individual signal "},{"$f":"IF(Input!F286=\"\",Input!$C286,Input!F286)","v":"Open on Individual signal "},{"$f":"IF(Input!G286=\"\",Input!$C286,Input!G286)","v":"Open on Individual signal "},{"$f":"IF(Input!H286=\"\",Input!$C286,Input!H286)","v":"Open on Individual signal "},{"$f":"IF(Input!I286=\"\",Input!$C286,Input!I286)","v":"Open on Individual signal "},{"$f":"IF(Input!J286=\"\",Input!$C286,Input!J286)","v":"Open on Individual signal "},{"$f":"IF(Input!K286=\"\",Input!$C286,Input!K286)","v":"Open on Individual signal "},{"$f":"IF(Input!L286=\"\",Input!$C286,Input!L286)","v":"Open on Individual signal "},{"$f":"IF(Input!M286=\"\",Input!$C286,Input!M286)","v":"Open on Individual signal "}]
["IdentifyTrend_CloseOn=0||0||0||4||N","Close on ","Close on Individual signal, in profit only ",{"$f":"IF(Input!D287=\"\",Input!$C287,Input!D287)","v":"Close on Individual signal, in profit only "},{"$f":"IF(Input!E287=\"\",Input!$C287,Input!E287)","v":"Close on Individual signal, in profit only "},{"$f":"IF(Input!F287=\"\",Input!$C287,Input!F287)","v":"Close on Individual signal, in profit only "},{"$f":"IF(Input!G287=\"\",Input!$C287,Input!G287)","v":"Close on Individual signal, in profit only "},{"$f":"IF(Input!H287=\"\",Input!$C287,Input!H287)","v":"Close on Individual signal, in profit only "},{"$f":"IF(Input!I287=\"\",Input!$C287,Input!I287)","v":"Close on Individual signal, in profit only "},{"$f":"IF(Input!J287=\"\",Input!$C287,Input!J287)","v":"Close on Individual signal, in profit only "},{"$f":"IF(Input!K287=\"\",Input!$C287,Input!K287)","v":"Close on Individual signal, in profit only "},{"$f":"IF(Input!L287=\"\",Input!$C287,Input!L287)","v":"Close on Individual signal, in profit only "},{"$f":"IF(Input!M287=\"\",Input!$C287,Input!M287)","v":"Close on Individual signal, in profit only "}]
["IdentifyTrend_PartialCloseOn=0||0||0||3||N","Partial close on ","Partial close on Individual signal ",{"$f":"IF(Input!D288=\"\",Input!$C288,Input!D288)","v":"Partial close on Individual signal "},{"$f":"IF(Input!E288=\"\",Input!$C288,Input!E288)","v":"Partial close on Individual signal "},{"$f":"IF(Input!F288=\"\",Input!$C288,Input!F288)","v":"Partial close on Individual signal "},{"$f":"IF(Input!G288=\"\",Input!$C288,Input!G288)","v":"Partial close on Individual signal "},{"$f":"IF(Input!H288=\"\",Input!$C288,Input!H288)","v":"Partial close on Individual signal "},{"$f":"IF(Input!I288=\"\",Input!$C288,Input!I288)","v":"Partial close on Individual signal "},{"$f":"IF(Input!J288=\"\",Input!$C288,Input!J288)","v":"Partial close on Individual signal "},{"$f":"IF(Input!K288=\"\",Input!$C288,Input!K288)","v":"Partial close on Individual signal "},{"$f":"IF(Input!L288=\"\",Input!$C288,Input!L288)","v":"Partial close on Individual signal "},{"$f":"IF(Input!M288=\"\",Input!$C288,Input!M288)","v":"Partial close on Individual signal "}]
["; TDI properties","T DI properties "]
["TDI_Properties====================================================================================","TDI properties: "]
["TDI_Mode=0||0||0||1||N","TDI filter mode ","Market Base Line  Si nal Level ",{"$f":"IF(Input!D291=\"\",Input!$C291,Input!D291)","v":"Market Base Line  Si nal Level "},{"$f":"IF(Input!E291=\"\",Input!$C291,Input!E291)","v":"Market Base Line  Si nal Level "},{"$f":"IF(Input!F291=\"\",Input!$C291,Input!F291)","v":"Market Base Line  Si nal Level "},{"$f":"IF(Input!G291=\"\",Input!$C291,Input!G291)","v":"Market Base Line  Si nal Level "},{"$f":"IF(Input!H291=\"\",Input!$C291,Input!H291)","v":"Market Base Line  Si nal Level "},{"$f":"IF(Input!I291=\"\",Input!$C291,Input!I291)","v":"Market Base Line  Si nal Level "},{"$f":"IF(Input!J291=\"\",Input!$C291,Input!J291)","v":"Market Base Line  Si nal Level "},{"$f":"IF(Input!K291=\"\",Input!$C291,Input!K291)","v":"Market Base Line  Si nal Level "},{"$f":"IF(Input!L291=\"\",Input!$C291,Input!L291)","v":"Market Base Line  Si nal Level "},{"$f":"IF(Input!M291=\"\",Input!$C291,Input!M291)","v":"Market Base Line  Si nal Level "}]
["TDI_TF=16385||0||0||49153||N","Time Frame ","2 Minutes ",{"$f":"IF(Input!D292=\"\",Input!$C292,Input!D292)","v":"2 Minutes "},{"$f":"IF(Input!E292=\"\",Input!$C292,Input!E292)","v":"2 Minutes "},{"$f":"IF(Input!F292=\"\",Input!$C292,Input!F292)","v":"2 Minutes "},{"$f":"IF(Input!G292=\"\",Input!$C292,Input!G292)","v":"2 Minutes "},{"$f":"IF(Input!H292=\"\",Input!$C292,Input!H292)","v":"2 Minutes "},{"$f":"IF(Input!I292=\"\",Input!$C292,Input!I292)","v":"2 Minutes "},{"$f":"IF(Input!J292=\"\",Input!$C292,Input!J292)","v":"2 Minutes "},{"$f":"IF(Input!K292=\"\",Input!$C292,Input!K292)","v":"2 Minutes "},{"$f":"IF(Input!L292=\"\",Input!$C292,Input!L292)","v":"2 Minutes "},{"$f":"IF(Input!M292=\"\",Input!$C292,Input!M292)","v":"2 Minutes "}]
["TDI_SignalLevel=50||50||5.000000||500.000000||N","Signal level ",0,{"$f":"IF(Input!D293=\"\",Input!$C293,Input!D293)","v":0},{"$f":"IF(Input!E293=\"\",Input!$C293,Input!E293)","v":0},{"$f":"IF(Input!F293=\"\",Input!$C293,Input!F293)","v":0},{"$f":"IF(Input!G293=\"\",Input!$C293,Input!G293)","v":0},{"$f":"IF(Input!H293=\"\",Input!$C293,Input!H293)","v":0},{"$f":"IF(Input!I293=\"\",Input!$C293,Input!I293)","v":0},{"$f":"IF(Input!J293=\"\",Input!$C293,Input!J293)","v":0},{"$f":"IF(Input!K293=\"\",Input!$C293,Input!K293)","v":0},{"$f":"IF(Input!L293=\"\",Input!$C293,Input!L293)","v":0},{"$f":"IF(Input!M293=\"\",Input!$C293,Input!M293)","v":0}]
["TDI_PeriodRSI=21||21||1||210||N","RSI period ",0,{"$f":"IF(Input!D294=\"\",Input!$C294,Input!D294)","v":0},{"$f":"IF(Input!E294=\"\",Input!$C294,Input!E294)","v":0},{"$f":"IF(Input!F294=\"\",Input!$C294,Input!F294)","v":0},{"$f":"IF(Input!G294=\"\",Input!$C294,Input!G294)","v":0},{"$f":"IF(Input!H294=\"\",Input!$C294,Input!H294)","v":0},{"$f":"IF(Input!I294=\"\",Input!$C294,Input!I294)","v":0},{"$f":"IF(Input!J294=\"\",Input!$C294,Input!J294)","v":0},{"$f":"IF(Input!K294=\"\",Input!$C294,Input!K294)","v":0},{"$f":"IF(Input!L294=\"\",Input!$C294,Input!L294)","v":0},{"$f":"IF(Input!M294=\"\",Input!$C294,Input!M294)","v":0}]
["TDI_AppliedPriceRSI=1||1||0||7||N","RSI price ","Close price ",{"$f":"IF(Input!D295=\"\",Input!$C295,Input!D295)","v":"Close price "},{"$f":"IF(Input!E295=\"\",Input!$C295,Input!E295)","v":"Close price "},{"$f":"IF(Input!F295=\"\",Input!$C295,Input!F295)","v":"Close price "},{"$f":"IF(Input!G295=\"\",Input!$C295,Input!G295)","v":"Close price "},{"$f":"IF(Input!H295=\"\",Input!$C295,Input!H295)","v":"Close price "},{"$f":"IF(Input!I295=\"\",Input!$C295,Input!I295)","v":"Close price "},{"$f":"IF(Input!J295=\"\",Input!$C295,Input!J295)","v":"Close price "},{"$f":"IF(Input!K295=\"\",Input!$C295,Input!K295)","v":"Close price "},{"$f":"IF(Input!L295=\"\",Input!$C295,Input!L295)","v":"Close price "},{"$f":"IF(Input!M295=\"\",Input!$C295,Input!M295)","v":"Close price "}]
["TDI_PeriodSmRSI=2||2||1||20||N","RSI smoothing period ",0,{"$f":"IF(Input!D296=\"\",Input!$C296,Input!D296)","v":0},{"$f":"IF(Input!E296=\"\",Input!$C296,Input!E296)","v":0},{"$f":"IF(Input!F296=\"\",Input!$C296,Input!F296)","v":0},{"$f":"IF(Input!G296=\"\",Input!$C296,Input!G296)","v":0},{"$f":"IF(Input!H296=\"\",Input!$C296,Input!H296)","v":0},{"$f":"IF(Input!I296=\"\",Input!$C296,Input!I296)","v":0},{"$f":"IF(Input!J296=\"\",Input!$C296,Input!J296)","v":0},{"$f":"IF(Input!K296=\"\",Input!$C296,Input!K296)","v":0},{"$f":"IF(Input!L296=\"\",Input!$C296,Input!L296)","v":0},{"$f":"IF(Input!M296=\"\",Input!$C296,Input!M296)","v":0}]
["TDI_MethodSmRSI=0||0||0||3||N","RSI smoothing method ","Exponential ",{"$f":"IF(Input!D297=\"\",Input!$C297,Input!D297)","v":"Exponential "},{"$f":"IF(Input!E297=\"\",Input!$C297,Input!E297)","v":"Exponential "},{"$f":"IF(Input!F297=\"\",Input!$C297,Input!F297)","v":"Exponential "},{"$f":"IF(Input!G297=\"\",Input!$C297,Input!G297)","v":"Exponential "},{"$f":"IF(Input!H297=\"\",Input!$C297,Input!H297)","v":"Exponential "},{"$f":"IF(Input!I297=\"\",Input!$C297,Input!I297)","v":"Exponential "},{"$f":"IF(Input!J297=\"\",Input!$C297,Input!J297)","v":"Exponential "},{"$f":"IF(Input!K297=\"\",Input!$C297,Input!K297)","v":"Exponential "},{"$f":"IF(Input!L297=\"\",Input!$C297,Input!L297)","v":"Exponential "},{"$f":"IF(Input!M297=\"\",Input!$C297,Input!M297)","v":"Exponential "}]
["TDI_PeriodSmSig=7||7||1||70||N","Signal smoothing period ",0,{"$f":"IF(Input!D298=\"\",Input!$C298,Input!D298)","v":0},{"$f":"IF(Input!E298=\"\",Input!$C298,Input!E298)","v":0},{"$f":"IF(Input!F298=\"\",Input!$C298,Input!F298)","v":0},{"$f":"IF(Input!G298=\"\",Input!$C298,Input!G298)","v":0},{"$f":"IF(Input!H298=\"\",Input!$C298,Input!H298)","v":0},{"$f":"IF(Input!I298=\"\",Input!$C298,Input!I298)","v":0},{"$f":"IF(Input!J298=\"\",Input!$C298,Input!J298)","v":0},{"$f":"IF(Input!K298=\"\",Input!$C298,Input!K298)","v":0},{"$f":"IF(Input!L298=\"\",Input!$C298,Input!L298)","v":0},{"$f":"IF(Input!M298=\"\",Input!$C298,Input!M298)","v":0}]
["TDI_MethodSmSig=0||0||0||3||N","Signal smoothing method ","Exponential ",{"$f":"IF(Input!D299=\"\",Input!$C299,Input!D299)","v":"Exponential "},{"$f":"IF(Input!E299=\"\",Input!$C299,Input!E299)","v":"Exponential "},{"$f":"IF(Input!F299=\"\",Input!$C299,Input!F299)","v":"Exponential "},{"$f":"IF(Input!G299=\"\",Input!$C299,Input!G299)","v":"Exponential "},{"$f":"IF(Input!H299=\"\",Input!$C299,Input!H299)","v":"Exponential "},{"$f":"IF(Input!I299=\"\",Input!$C299,Input!I299)","v":"Exponential "},{"$f":"IF(Input!J299=\"\",Input!$C299,Input!J299)","v":"Exponential "},{"$f":"IF(Input!K299=\"\",Input!$C299,Input!K299)","v":"Exponential "},{"$f":"IF(Input!L299=\"\",Input!$C299,Input!L299)","v":"Exponential "},{"$f":"IF(Input!M299=\"\",Input!$C299,Input!M299)","v":"Exponential "}]
["TDI_PeriodVolBand=34||34||1||340||N","Volatility bands period ",0,{"$f":"IF(Input!D300=\"\",Input!$C300,Input!D300)","v":0},{"$f":"IF(Input!E300=\"\",Input!$C300,Input!E300)","v":0},{"$f":"IF(Input!F300=\"\",Input!$C300,Input!F300)","v":0},{"$f":"IF(Input!G300=\"\",Input!$C300,Input!G300)","v":0},{"$f":"IF(Input!H300=\"\",Input!$C300,Input!H300)","v":0},{"$f":"IF(Input!I300=\"\",Input!$C300,Input!I300)","v":0},{"$f":"IF(Input!J300=\"\",Input!$C300,Input!J300)","v":0},{"$f":"IF(Input!K300=\"\",Input!$C300,Input!K300)","v":0},{"$f":"IF(Input!L300=\"\",Input!$C300,Input!L300)","v":0},{"$f":"IF(Input!M300=\"\",Input!$C300,Input!M300)","v":0}]
["TDI_StdDev=1.6185||1.6185||0.161850||16.185000||N","Standard Deviations ",0,{"$f":"IF(Input!D301=\"\",Input!$C301,Input!D301)","v":0},{"$f":"IF(Input!E301=\"\",Input!$C301,Input!E301)","v":0},{"$f":"IF(Input!F301=\"\",Input!$C301,Input!F301)","v":0},{"$f":"IF(Input!G301=\"\",Input!$C301,Input!G301)","v":0},{"$f":"IF(Input!H301=\"\",Input!$C301,Input!H301)","v":0},{"$f":"IF(Input!I301=\"\",Input!$C301,Input!I301)","v":0},{"$f":"IF(Input!J301=\"\",Input!$C301,Input!J301)","v":0},{"$f":"IF(Input!K301=\"\",Input!$C301,Input!K301)","v":0},{"$f":"IF(Input!L301=\"\",Input!$C301,Input!L301)","v":0},{"$f":"IF(Input!M301=\"\",Input!$C301,Input!M301)","v":0}]
["TDI_Reverse=false||false||0||true||N","Reverse mode ",false,{"$f":"IF(Input!D302=\"\",Input!$C302,Input!D302)","v":false},{"$f":"IF(Input!E302=\"\",Input!$C302,Input!E302)","v":false},{"$f":"IF(Input!F302=\"\",Input!$C302,Input!F302)","v":false},{"$f":"IF(Input!G302=\"\",Input!$C302,Input!G302)","v":false},{"$f":"IF(Input!H302=\"\",Input!$C302,Input!H302)","v":false},{"$f":"IF(Input!I302=\"\",Input!$C302,Input!I302)","v":false},{"$f":"IF(Input!J302=\"\",Input!$C302,Input!J302)","v":false},{"$f":"IF(Input!K302=\"\",Input!$C302,Input!K302)","v":false},{"$f":"IF(Input!L302=\"\",Input!$C302,Input!L302)","v":false},{"$f":"IF(Input!M302=\"\",Input!$C302,Input!M302)","v":false}]
["TDI_UseClosedBars=true||false||0||true||N","Use closed bars only ",false,{"$f":"IF(Input!D303=\"\",Input!$C303,Input!D303)","v":false},{"$f":"IF(Input!E303=\"\",Input!$C303,Input!E303)","v":false},{"$f":"IF(Input!F303=\"\",Input!$C303,Input!F303)","v":false},{"$f":"IF(Input!G303=\"\",Input!$C303,Input!G303)","v":false},{"$f":"IF(Input!H303=\"\",Input!$C303,Input!H303)","v":false},{"$f":"IF(Input!I303=\"\",Input!$C303,Input!I303)","v":false},{"$f":"IF(Input!J303=\"\",Input!$C303,Input!J303)","v":false},{"$f":"IF(Input!K303=\"\",Input!$C303,Input!K303)","v":false},{"$f":"IF(Input!L303=\"\",Input!$C303,Input!L303)","v":false},{"$f":"IF(Input!M303=\"\",Input!$C303,Input!M303)","v":false}]
["TDI_OpenOn=2||0||0||3||N","Open on ","Ocn't use fcrc en ",{"$f":"IF(Input!D304=\"\",Input!$C304,Input!D304)","v":"Ocn't use fcrc en "},{"$f":"IF(Input!E304=\"\",Input!$C304,Input!E304)","v":"Ocn't use fcrc en "},{"$f":"IF(Input!F304=\"\",Input!$C304,Input!F304)","v":"Ocn't use fcrc en "},{"$f":"IF(Input!G304=\"\",Input!$C304,Input!G304)","v":"Ocn't use fcrc en "},{"$f":"IF(Input!H304=\"\",Input!$C304,Input!H304)","v":"Ocn't use fcrc en "},{"$f":"IF(Input!I304=\"\",Input!$C304,Input!I304)","v":"Ocn't use fcrc en "},{"$f":"IF(Input!J304=\"\",Input!$C304,Input!J304)","v":"Ocn't use fcrc en "},{"$f":"IF(Input!K304=\"\",Input!$C304,Input!K304)","v":"Ocn't use fcrc en "},{"$f":"IF(Input!L304=\"\",Input!$C304,Input!L304)","v":"Ocn't use fcrc en "},{"$f":"IF(Input!M304=\"\",Input!$C304,Input!M304)","v":"Ocn't use fcrc en "}]
["TDI_MartinOn=0||0||0||3||N","Open martin on ","Open on Individual signal ",{"$f":"IF(Input!D305=\"\",Input!$C305,Input!D305)","v":"Open on Individual signal "},{"$f":"IF(Input!E305=\"\",Input!$C305,Input!E305)","v":"Open on Individual signal "},{"$f":"IF(Input!F305=\"\",Input!$C305,Input!F305)","v":"Open on Individual signal "},{"$f":"IF(Input!G305=\"\",Input!$C305,Input!G305)","v":"Open on Individual signal "},{"$f":"IF(Input!H305=\"\",Input!$C305,Input!H305)","v":"Open on Individual signal "},{"$f":"IF(Input!I305=\"\",Input!$C305,Input!I305)","v":"Open on Individual signal "},{"$f":"IF(Input!J305=\"\",Input!$C305,Input!J305)","v":"Open on Individual signal "},{"$f":"IF(Input!K305=\"\",Input!$C305,Input!K305)","v":"Open on Individual signal "},{"$f":"IF(Input!L305=\"\",Input!$C305,Input!L305)","v":"Open on Individual signal "},{"$f":"IF(Input!M305=\"\",Input!$C305,Input!M305)","v":"Open on Individual signal "}]
["TDI_HedgeOn=0||0||0||3||N","Open hedge on ","Open on Individual signal ",{"$f":"IF(Input!D306=\"\",Input!$C306,Input!D306)","v":"Open on Individual signal "},{"$f":"IF(Input!E306=\"\",Input!$C306,Input!E306)","v":"Open on Individual signal "},{"$f":"IF(Input!F306=\"\",Input!$C306,Input!F306)","v":"Open on Individual signal "},{"$f":"IF(Input!G306=\"\",Input!$C306,Input!G306)","v":"Open on Individual signal "},{"$f":"IF(Input!H306=\"\",Input!$C306,Input!H306)","v":"Open on Individual signal "},{"$f":"IF(Input!I306=\"\",Input!$C306,Input!I306)","v":"Open on Individual signal "},{"$f":"IF(Input!J306=\"\",Input!$C306,Input!J306)","v":"Open on Individual signal "},{"$f":"IF(Input!K306=\"\",Input!$C306,Input!K306)","v":"Open on Individual signal "},{"$f":"IF(Input!L306=\"\",Input!$C306,Input!L306)","v":"Open on Individual signal "},{"$f":"IF(Input!M306=\"\",Input!$C306,Input!M306)","v":"Open on Individual signal "}]
["TDI_CloseOn=0||0||0||4||N","Close on ","Close on Individual signal, in profit only ",{"$f":"IF(Input!D307=\"\",Input!$C307,Input!D307)","v":"Close on Individual signal, in profit only "},{"$f":"IF(Input!E307=\"\",Input!$C307,Input!E307)","v":"Close on Individual signal, in profit only "},{"$f":"IF(Input!F307=\"\",Input!$C307,Input!F307)","v":"Close on Individual signal, in profit only "},{"$f":"IF(Input!G307=\"\",Input!$C307,Input!G307)","v":"Close on Individual signal, in profit only "},{"$f":"IF(Input!H307=\"\",Input!$C307,Input!H307)","v":"Close on Individual signal, in profit only "},{"$f":"IF(Input!I307=\"\",Input!$C307,Input!I307)","v":"Close on Individual signal, in profit only "},{"$f":"IF(Input!J307=\"\",Input!$C307,Input!J307)","v":"Close on Individual signal, in profit only "},{"$f":"IF(Input!K307=\"\",Input!$C307,Input!K307)","v":"Close on Individual signal, in profit only "},{"$f":"IF(Input!L307=\"\",Input!$C307,Input!L307)","v":"Close on Individual signal, in profit only "},{"$f":"IF(Input!M307=\"\",Input!$C307,Input!M307)","v":"Close on Individual signal, in profit only "}]
["TDI_PartialCloseOn=0||0||0||3||N","Partial close on ","Partial close on Individual signal ",{"$f":"IF(Input!D308=\"\",Input!$C308,Input!D308)","v":"Partial close on Individual signal "},{"$f":"IF(Input!E308=\"\",Input!$C308,Input!E308)","v":"Partial close on Individual signal "},{"$f":"IF(Input!F308=\"\",Input!$C308,Input!F308)","v":"Partial close on Individual signal "},{"$f":"IF(Input!G308=\"\",Input!$C308,Input!G308)","v":"Partial close on Individual signal "},{"$f":"IF(Input!H308=\"\",Input!$C308,Input!H308)","v":"Partial close on Individual signal "},{"$f":"IF(Input!I308=\"\",Input!$C308,Input!I308)","v":"Partial close on Individual signal "},{"$f":"IF(Input!J308=\"\",Input!$C308,Input!J308)","v":"Partial close on Individual signal "},{"$f":"IF(Input!K308=\"\",Input!$C308,Input!K308)","v":"Partial close on Individual signal "},{"$f":"IF(Input!L308=\"\",Input!$C308,Input!L308)","v":"Partial close on Individual signal "},{"$f":"IF(Input!M308=\"\",Input!$C308,Input!M308)","v":"Partial close on Individual signal "}]
["; MACD #1 properties","MACD #1 properties "]
["MACD_Properties====================================================================================","MACD properties: "]
["MACD_Type=0||0||0||3||N","* Type ","Buy on 2 growing bars / Sell on 2 reducing ba ",{"$f":"IF(Input!D311=\"\",Input!$C311,Input!D311)","v":"Buy on 2 growing bars / Sell on 2 reducing ba "},{"$f":"IF(Input!E311=\"\",Input!$C311,Input!E311)","v":"Buy on 2 growing bars / Sell on 2 reducing ba "},{"$f":"IF(Input!F311=\"\",Input!$C311,Input!F311)","v":"Buy on 2 growing bars / Sell on 2 reducing ba "},{"$f":"IF(Input!G311=\"\",Input!$C311,Input!G311)","v":"Buy on 2 growing bars / Sell on 2 reducing ba "},{"$f":"IF(Input!H311=\"\",Input!$C311,Input!H311)","v":"Buy on 2 growing bars / Sell on 2 reducing ba "},{"$f":"IF(Input!I311=\"\",Input!$C311,Input!I311)","v":"Buy on 2 growing bars / Sell on 2 reducing ba "},{"$f":"IF(Input!J311=\"\",Input!$C311,Input!J311)","v":"Buy on 2 growing bars / Sell on 2 reducing ba "},{"$f":"IF(Input!K311=\"\",Input!$C311,Input!K311)","v":"Buy on 2 growing bars / Sell on 2 reducing ba "},{"$f":"IF(Input!L311=\"\",Input!$C311,Input!L311)","v":"Buy on 2 growing bars / Sell on 2 reducing ba "},{"$f":"IF(Input!M311=\"\",Input!$C311,Input!M311)","v":"Buy on 2 growing bars / Sell on 2 reducing ba "}]
["MACD_TF=0||0||0||49153||N","Time Frame ","2 Minutes ",{"$f":"IF(Input!D312=\"\",Input!$C312,Input!D312)","v":"2 Minutes "},{"$f":"IF(Input!E312=\"\",Input!$C312,Input!E312)","v":"2 Minutes "},{"$f":"IF(Input!F312=\"\",Input!$C312,Input!F312)","v":"2 Minutes "},{"$f":"IF(Input!G312=\"\",Input!$C312,Input!G312)","v":"2 Minutes "},{"$f":"IF(Input!H312=\"\",Input!$C312,Input!H312)","v":"2 Minutes "},{"$f":"IF(Input!I312=\"\",Input!$C312,Input!I312)","v":"2 Minutes "},{"$f":"IF(Input!J312=\"\",Input!$C312,Input!J312)","v":"2 Minutes "},{"$f":"IF(Input!K312=\"\",Input!$C312,Input!K312)","v":"2 Minutes "},{"$f":"IF(Input!L312=\"\",Input!$C312,Input!L312)","v":"2 Minutes "},{"$f":"IF(Input!M312=\"\",Input!$C312,Input!M312)","v":"2 Minutes "}]
["MACD_PeriodFast=12||12||1||120||N","Fast period ",0,{"$f":"IF(Input!D313=\"\",Input!$C313,Input!D313)","v":0},{"$f":"IF(Input!E313=\"\",Input!$C313,Input!E313)","v":0},{"$f":"IF(Input!F313=\"\",Input!$C313,Input!F313)","v":0},{"$f":"IF(Input!G313=\"\",Input!$C313,Input!G313)","v":0},{"$f":"IF(Input!H313=\"\",Input!$C313,Input!H313)","v":0},{"$f":"IF(Input!I313=\"\",Input!$C313,Input!I313)","v":0},{"$f":"IF(Input!J313=\"\",Input!$C313,Input!J313)","v":0},{"$f":"IF(Input!K313=\"\",Input!$C313,Input!K313)","v":0},{"$f":"IF(Input!L313=\"\",Input!$C313,Input!L313)","v":0},{"$f":"IF(Input!M313=\"\",Input!$C313,Input!M313)","v":0}]
["MACD_FastMA_Method=1||0||0||9||N","Fast MA method ","Ex cnential ",{"$f":"IF(Input!D314=\"\",Input!$C314,Input!D314)","v":"Jurik MA "},{"$f":"IF(Input!E314=\"\",Input!$C314,Input!E314)","v":"Ex cnential "},{"$f":"IF(Input!F314=\"\",Input!$C314,Input!F314)","v":"Ex cnential "},{"$f":"IF(Input!G314=\"\",Input!$C314,Input!G314)","v":"Ex cnential "},{"$f":"IF(Input!H314=\"\",Input!$C314,Input!H314)","v":"Ex cnential "},{"$f":"IF(Input!I314=\"\",Input!$C314,Input!I314)","v":"Ex cnential "},{"$f":"IF(Input!J314=\"\",Input!$C314,Input!J314)","v":"Ex cnential "},{"$f":"IF(Input!K314=\"\",Input!$C314,Input!K314)","v":"Ex cnential "},{"$f":"IF(Input!L314=\"\",Input!$C314,Input!L314)","v":"Ex cnential "},{"$f":"IF(Input!M314=\"\",Input!$C314,Input!M314)","v":"Ex cnential "}]
["MACD_PeriodSlow=27||27||1||270||N","Slow period ",0,{"$f":"IF(Input!D315=\"\",Input!$C315,Input!D315)","v":0},{"$f":"IF(Input!E315=\"\",Input!$C315,Input!E315)","v":0},{"$f":"IF(Input!F315=\"\",Input!$C315,Input!F315)","v":0},{"$f":"IF(Input!G315=\"\",Input!$C315,Input!G315)","v":0},{"$f":"IF(Input!H315=\"\",Input!$C315,Input!H315)","v":0},{"$f":"IF(Input!I315=\"\",Input!$C315,Input!I315)","v":0},{"$f":"IF(Input!J315=\"\",Input!$C315,Input!J315)","v":0},{"$f":"IF(Input!K315=\"\",Input!$C315,Input!K315)","v":0},{"$f":"IF(Input!L315=\"\",Input!$C315,Input!L315)","v":0},{"$f":"IF(Input!M315=\"\",Input!$C315,Input!M315)","v":0}]
["MACD_SlowMA_Method=1||0||0||9||N","Slow MA method ","Ex cnential ",{"$f":"IF(Input!D316=\"\",Input!$C316,Input!D316)","v":"HMA"},{"$f":"IF(Input!E316=\"\",Input!$C316,Input!E316)","v":"Ex cnential "},{"$f":"IF(Input!F316=\"\",Input!$C316,Input!F316)","v":"Ex cnential "},{"$f":"IF(Input!G316=\"\",Input!$C316,Input!G316)","v":"Ex cnential "},{"$f":"IF(Input!H316=\"\",Input!$C316,Input!H316)","v":"Ex cnential "},{"$f":"IF(Input!I316=\"\",Input!$C316,Input!I316)","v":"Ex cnential "},{"$f":"IF(Input!J316=\"\",Input!$C316,Input!J316)","v":"Ex cnential "},{"$f":"IF(Input!K316=\"\",Input!$C316,Input!K316)","v":"Ex cnential "},{"$f":"IF(Input!L316=\"\",Input!$C316,Input!L316)","v":"Ex cnential "},{"$f":"IF(Input!M316=\"\",Input!$C316,Input!M316)","v":"Ex cnential "}]
["MACD_PeriodSignal=9||9||1||90||N","Signal period ",0,{"$f":"IF(Input!D317=\"\",Input!$C317,Input!D317)","v":0},{"$f":"IF(Input!E317=\"\",Input!$C317,Input!E317)","v":0},{"$f":"IF(Input!F317=\"\",Input!$C317,Input!F317)","v":0},{"$f":"IF(Input!G317=\"\",Input!$C317,Input!G317)","v":0},{"$f":"IF(Input!H317=\"\",Input!$C317,Input!H317)","v":0},{"$f":"IF(Input!I317=\"\",Input!$C317,Input!I317)","v":0},{"$f":"IF(Input!J317=\"\",Input!$C317,Input!J317)","v":0},{"$f":"IF(Input!K317=\"\",Input!$C317,Input!K317)","v":0},{"$f":"IF(Input!L317=\"\",Input!$C317,Input!L317)","v":0},{"$f":"IF(Input!M317=\"\",Input!$C317,Input!M317)","v":0}]
["MACD_SignalMA_Method=0||0||0||3||N","Signal MA method ","Exponential ",{"$f":"IF(Input!D318=\"\",Input!$C318,Input!D318)","v":"Exponential "},{"$f":"IF(Input!E318=\"\",Input!$C318,Input!E318)","v":"Exponential "},{"$f":"IF(Input!F318=\"\",Input!$C318,Input!F318)","v":"Exponential "},{"$f":"IF(Input!G318=\"\",Input!$C318,Input!G318)","v":"Exponential "},{"$f":"IF(Input!H318=\"\",Input!$C318,Input!H318)","v":"Exponential "},{"$f":"IF(Input!I318=\"\",Input!$C318,Input!I318)","v":"Exponential "},{"$f":"IF(Input!J318=\"\",Input!$C318,Input!J318)","v":"Exponential "},{"$f":"IF(Input!K318=\"\",Input!$C318,Input!K318)","v":"Exponential "},{"$f":"IF(Input!L318=\"\",Input!$C318,Input!L318)","v":"Exponential "},{"$f":"IF(Input!M318=\"\",Input!$C318,Input!M318)","v":"Exponential "}]
["MACD_Price=1||1||0||7||N","Applied price ","Close price ",{"$f":"IF(Input!D319=\"\",Input!$C319,Input!D319)","v":"Close price "},{"$f":"IF(Input!E319=\"\",Input!$C319,Input!E319)","v":"Close price "},{"$f":"IF(Input!F319=\"\",Input!$C319,Input!F319)","v":"Close price "},{"$f":"IF(Input!G319=\"\",Input!$C319,Input!G319)","v":"Close price "},{"$f":"IF(Input!H319=\"\",Input!$C319,Input!H319)","v":"Close price "},{"$f":"IF(Input!I319=\"\",Input!$C319,Input!I319)","v":"Close price "},{"$f":"IF(Input!J319=\"\",Input!$C319,Input!J319)","v":"Close price "},{"$f":"IF(Input!K319=\"\",Input!$C319,Input!K319)","v":"Close price "},{"$f":"IF(Input!L319=\"\",Input!$C319,Input!L319)","v":"Close price "},{"$f":"IF(Input!M319=\"\",Input!$C319,Input!M319)","v":"Close price "}]
["MACD_JMA_Phase=0||0||1||10||N","JMA Phase ",0,{"$f":"IF(Input!D320=\"\",Input!$C320,Input!D320)","v":0},{"$f":"IF(Input!E320=\"\",Input!$C320,Input!E320)","v":0},{"$f":"IF(Input!F320=\"\",Input!$C320,Input!F320)","v":0},{"$f":"IF(Input!G320=\"\",Input!$C320,Input!G320)","v":0},{"$f":"IF(Input!H320=\"\",Input!$C320,Input!H320)","v":0},{"$f":"IF(Input!I320=\"\",Input!$C320,Input!I320)","v":0},{"$f":"IF(Input!J320=\"\",Input!$C320,Input!J320)","v":0},{"$f":"IF(Input!K320=\"\",Input!$C320,Input!K320)","v":0},{"$f":"IF(Input!L320=\"\",Input!$C320,Input!L320)","v":0},{"$f":"IF(Input!M320=\"\",Input!$C320,Input!M320)","v":0}]
["MACD_Reverse=false||false||0||true||N","Reverse mode ",false,{"$f":"IF(Input!D321=\"\",Input!$C321,Input!D321)","v":false},{"$f":"IF(Input!E321=\"\",Input!$C321,Input!E321)","v":false},{"$f":"IF(Input!F321=\"\",Input!$C321,Input!F321)","v":false},{"$f":"IF(Input!G321=\"\",Input!$C321,Input!G321)","v":false},{"$f":"IF(Input!H321=\"\",Input!$C321,Input!H321)","v":false},{"$f":"IF(Input!I321=\"\",Input!$C321,Input!I321)","v":false},{"$f":"IF(Input!J321=\"\",Input!$C321,Input!J321)","v":false},{"$f":"IF(Input!K321=\"\",Input!$C321,Input!K321)","v":false},{"$f":"IF(Input!L321=\"\",Input!$C321,Input!L321)","v":false},{"$f":"IF(Input!M321=\"\",Input!$C321,Input!M321)","v":false}]
["MACD_UseClosedBars=true||false||0||true||N","Use closed bars only ",false,{"$f":"IF(Input!D322=\"\",Input!$C322,Input!D322)","v":false},{"$f":"IF(Input!E322=\"\",Input!$C322,Input!E322)","v":false},{"$f":"IF(Input!F322=\"\",Input!$C322,Input!F322)","v":false},{"$f":"IF(Input!G322=\"\",Input!$C322,Input!G322)","v":false},{"$f":"IF(Input!H322=\"\",Input!$C322,Input!H322)","v":false},{"$f":"IF(Input!I322=\"\",Input!$C322,Input!I322)","v":false},{"$f":"IF(Input!J322=\"\",Input!$C322,Input!J322)","v":false},{"$f":"IF(Input!K322=\"\",Input!$C322,Input!K322)","v":false},{"$f":"IF(Input!L322=\"\",Input!$C322,Input!L322)","v":false},{"$f":"IF(Input!M322=\"\",Input!$C322,Input!M322)","v":false}]
["MACD_OpenOn=0||0||0||3||N","Open on ","Ocn't use fcrc en ",{"$f":"IF(Input!D323=\"\",Input!$C323,Input!D323)","v":"Ocn't use fcrc en "},{"$f":"IF(Input!E323=\"\",Input!$C323,Input!E323)","v":"Ocn't use fcrc en "},{"$f":"IF(Input!F323=\"\",Input!$C323,Input!F323)","v":"Ocn't use fcrc en "},{"$f":"IF(Input!G323=\"\",Input!$C323,Input!G323)","v":"Ocn't use fcrc en "},{"$f":"IF(Input!H323=\"\",Input!$C323,Input!H323)","v":"Ocn't use fcrc en "},{"$f":"IF(Input!I323=\"\",Input!$C323,Input!I323)","v":"Ocn't use fcrc en "},{"$f":"IF(Input!J323=\"\",Input!$C323,Input!J323)","v":"Ocn't use fcrc en "},{"$f":"IF(Input!K323=\"\",Input!$C323,Input!K323)","v":"Ocn't use fcrc en "},{"$f":"IF(Input!L323=\"\",Input!$C323,Input!L323)","v":"Ocn't use fcrc en "},{"$f":"IF(Input!M323=\"\",Input!$C323,Input!M323)","v":"Ocn't use fcrc en "}]
["MACD_MartinOn=0||0||0||3||N","Open martin on ","Open on Individual signal ",{"$f":"IF(Input!D324=\"\",Input!$C324,Input!D324)","v":"Open on Individual signal "},{"$f":"IF(Input!E324=\"\",Input!$C324,Input!E324)","v":"Open on Individual signal "},{"$f":"IF(Input!F324=\"\",Input!$C324,Input!F324)","v":"Open on Individual signal "},{"$f":"IF(Input!G324=\"\",Input!$C324,Input!G324)","v":"Open on Individual signal "},{"$f":"IF(Input!H324=\"\",Input!$C324,Input!H324)","v":"Open on Individual signal "},{"$f":"IF(Input!I324=\"\",Input!$C324,Input!I324)","v":"Open on Individual signal "},{"$f":"IF(Input!J324=\"\",Input!$C324,Input!J324)","v":"Open on Individual signal "},{"$f":"IF(Input!K324=\"\",Input!$C324,Input!K324)","v":"Open on Individual signal "},{"$f":"IF(Input!L324=\"\",Input!$C324,Input!L324)","v":"Open on Individual signal "},{"$f":"IF(Input!M324=\"\",Input!$C324,Input!M324)","v":"Open on Individual signal "}]
["MACD_HedgeOn=0||0||0||3||N","Open hedge on ","Open on Individual signal ",{"$f":"IF(Input!D325=\"\",Input!$C325,Input!D325)","v":"Open on Individual signal "},{"$f":"IF(Input!E325=\"\",Input!$C325,Input!E325)","v":"Open on Individual signal "},{"$f":"IF(Input!F325=\"\",Input!$C325,Input!F325)","v":"Open on Individual signal "},{"$f":"IF(Input!G325=\"\",Input!$C325,Input!G325)","v":"Open on Individual signal "},{"$f":"IF(Input!H325=\"\",Input!$C325,Input!H325)","v":"Open on Individual signal "},{"$f":"IF(Input!I325=\"\",Input!$C325,Input!I325)","v":"Open on Individual signal "},{"$f":"IF(Input!J325=\"\",Input!$C325,Input!J325)","v":"Open on Individual signal "},{"$f":"IF(Input!K325=\"\",Input!$C325,Input!K325)","v":"Open on Individual signal "},{"$f":"IF(Input!L325=\"\",Input!$C325,Input!L325)","v":"Open on Individual signal "},{"$f":"IF(Input!M325=\"\",Input!$C325,Input!M325)","v":"Open on Individual signal "}]
["MACD_CloseOn=0||0||0||4||N","Close on ","Close on Individual signal, in profit only ",{"$f":"IF(Input!D326=\"\",Input!$C326,Input!D326)","v":"Close on Individual signal, in profit only "},{"$f":"IF(Input!E326=\"\",Input!$C326,Input!E326)","v":"Close on Individual signal, in profit only "},{"$f":"IF(Input!F326=\"\",Input!$C326,Input!F326)","v":"Close on Individual signal, in profit only "},{"$f":"IF(Input!G326=\"\",Input!$C326,Input!G326)","v":"Close on Individual signal, in profit only "},{"$f":"IF(Input!H326=\"\",Input!$C326,Input!H326)","v":"Close on Individual signal, in profit only "},{"$f":"IF(Input!I326=\"\",Input!$C326,Input!I326)","v":"Close on Individual signal, in profit only "},{"$f":"IF(Input!J326=\"\",Input!$C326,Input!J326)","v":"Close on Individual signal, in profit only "},{"$f":"IF(Input!K326=\"\",Input!$C326,Input!K326)","v":"Close on Individual signal, in profit only "},{"$f":"IF(Input!L326=\"\",Input!$C326,Input!L326)","v":"Close on Individual signal, in profit only "},{"$f":"IF(Input!M326=\"\",Input!$C326,Input!M326)","v":"Close on Individual signal, in profit only "}]
["MACD_PartialCloseOn=0||0||0||3||N","Partial close on ","Partial close on Individual signal ",{"$f":"IF(Input!D327=\"\",Input!$C327,Input!D327)","v":"Partial close on Individual signal "},{"$f":"IF(Input!E327=\"\",Input!$C327,Input!E327)","v":"Partial close on Individual signal "},{"$f":"IF(Input!F327=\"\",Input!$C327,Input!F327)","v":"Partial close on Individual signal "},{"$f":"IF(Input!G327=\"\",Input!$C327,Input!G327)","v":"Partial close on Individual signal "},{"$f":"IF(Input!H327=\"\",Input!$C327,Input!H327)","v":"Partial close on Individual signal "},{"$f":"IF(Input!I327=\"\",Input!$C327,Input!I327)","v":"Partial close on Individual signal "},{"$f":"IF(Input!J327=\"\",Input!$C327,Input!J327)","v":"Partial close on Individual signal "},{"$f":"IF(Input!K327=\"\",Input!$C327,Input!K327)","v":"Partial close on Individual signal "},{"$f":"IF(Input!L327=\"\",Input!$C327,Input!L327)","v":"Partial close on Individual signal "},{"$f":"IF(Input!M327=\"\",Input!$C327,Input!M327)","v":"Partial close on Individual signal "}]
["; MACD #2 properties","MACD #2 properties "]
["MACD2_Properties====================================================================================","MACD properties: "]
["MACD2_Type=0||0||0||8||N","Type ","Buy on 2 growing bars / Sell on 2 reducing ba ",{"$f":"IF(Input!D330=\"\",Input!$C330,Input!D330)","v":"Buy on 2 growing bars / Sell on 2 reducing ba "},{"$f":"IF(Input!E330=\"\",Input!$C330,Input!E330)","v":"Buy on 2 growing bars / Sell on 2 reducing ba "},{"$f":"IF(Input!F330=\"\",Input!$C330,Input!F330)","v":"Buy on 2 growing bars / Sell on 2 reducing ba "},{"$f":"IF(Input!G330=\"\",Input!$C330,Input!G330)","v":"Buy on 2 growing bars / Sell on 2 reducing ba "},{"$f":"IF(Input!H330=\"\",Input!$C330,Input!H330)","v":"Buy on 2 growing bars / Sell on 2 reducing ba "},{"$f":"IF(Input!I330=\"\",Input!$C330,Input!I330)","v":"Buy on 2 growing bars / Sell on 2 reducing ba "},{"$f":"IF(Input!J330=\"\",Input!$C330,Input!J330)","v":"Buy on 2 growing bars / Sell on 2 reducing ba "},{"$f":"IF(Input!K330=\"\",Input!$C330,Input!K330)","v":"Buy on 2 growing bars / Sell on 2 reducing ba "},{"$f":"IF(Input!L330=\"\",Input!$C330,Input!L330)","v":"Buy on 2 growing bars / Sell on 2 reducing ba "},{"$f":"IF(Input!M330=\"\",Input!$C330,Input!M330)","v":"Buy on 2 growing bars / Sell on 2 reducing ba "}]
["MACD2_TF=0||0||0||49153||N","TimeFrame ","2 Minutes ",{"$f":"IF(Input!D331=\"\",Input!$C331,Input!D331)","v":"2 Minutes "},{"$f":"IF(Input!E331=\"\",Input!$C331,Input!E331)","v":"2 Minutes "},{"$f":"IF(Input!F331=\"\",Input!$C331,Input!F331)","v":"2 Minutes "},{"$f":"IF(Input!G331=\"\",Input!$C331,Input!G331)","v":"2 Minutes "},{"$f":"IF(Input!H331=\"\",Input!$C331,Input!H331)","v":"2 Minutes "},{"$f":"IF(Input!I331=\"\",Input!$C331,Input!I331)","v":"2 Minutes "},{"$f":"IF(Input!J331=\"\",Input!$C331,Input!J331)","v":"2 Minutes "},{"$f":"IF(Input!K331=\"\",Input!$C331,Input!K331)","v":"2 Minutes "},{"$f":"IF(Input!L331=\"\",Input!$C331,Input!L331)","v":"2 Minutes "},{"$f":"IF(Input!M331=\"\",Input!$C331,Input!M331)","v":"2 Minutes "}]
["MACD2_PeriodFast=12||12||1||120||N","Fast period ",0,{"$f":"IF(Input!D332=\"\",Input!$C332,Input!D332)","v":0},{"$f":"IF(Input!E332=\"\",Input!$C332,Input!E332)","v":0},{"$f":"IF(Input!F332=\"\",Input!$C332,Input!F332)","v":0},{"$f":"IF(Input!G332=\"\",Input!$C332,Input!G332)","v":0},{"$f":"IF(Input!H332=\"\",Input!$C332,Input!H332)","v":0},{"$f":"IF(Input!I332=\"\",Input!$C332,Input!I332)","v":0},{"$f":"IF(Input!J332=\"\",Input!$C332,Input!J332)","v":0},{"$f":"IF(Input!K332=\"\",Input!$C332,Input!K332)","v":0},{"$f":"IF(Input!L332=\"\",Input!$C332,Input!L332)","v":0},{"$f":"IF(Input!M332=\"\",Input!$C332,Input!M332)","v":0}]
["MACD2_FastMA_Method=1||0||0||9||N","Fast MA method ","Ex cnential ",{"$f":"IF(Input!D333=\"\",Input!$C333,Input!D333)","v":"Ex cnential "},{"$f":"IF(Input!E333=\"\",Input!$C333,Input!E333)","v":"Ex cnential "},{"$f":"IF(Input!F333=\"\",Input!$C333,Input!F333)","v":"Ex cnential "},{"$f":"IF(Input!G333=\"\",Input!$C333,Input!G333)","v":"Ex cnential "},{"$f":"IF(Input!H333=\"\",Input!$C333,Input!H333)","v":"Ex cnential "},{"$f":"IF(Input!I333=\"\",Input!$C333,Input!I333)","v":"Ex cnential "},{"$f":"IF(Input!J333=\"\",Input!$C333,Input!J333)","v":"Ex cnential "},{"$f":"IF(Input!K333=\"\",Input!$C333,Input!K333)","v":"Ex cnential "},{"$f":"IF(Input!L333=\"\",Input!$C333,Input!L333)","v":"Ex cnential "},{"$f":"IF(Input!M333=\"\",Input!$C333,Input!M333)","v":"Ex cnential "}]
["MACD2_PeriodSlow=27||27||1||270||N","Slow period ",0,{"$f":"IF(Input!D334=\"\",Input!$C334,Input!D334)","v":0},{"$f":"IF(Input!E334=\"\",Input!$C334,Input!E334)","v":0},{"$f":"IF(Input!F334=\"\",Input!$C334,Input!F334)","v":0},{"$f":"IF(Input!G334=\"\",Input!$C334,Input!G334)","v":0},{"$f":"IF(Input!H334=\"\",Input!$C334,Input!H334)","v":0},{"$f":"IF(Input!I334=\"\",Input!$C334,Input!I334)","v":0},{"$f":"IF(Input!J334=\"\",Input!$C334,Input!J334)","v":0},{"$f":"IF(Input!K334=\"\",Input!$C334,Input!K334)","v":0},{"$f":"IF(Input!L334=\"\",Input!$C334,Input!L334)","v":0},{"$f":"IF(Input!M334=\"\",Input!$C334,Input!M334)","v":0}]
["MACD2_SlowMA_Method=1||0||0||9||N","Slow MA method ","Ex cnential ",{"$f":"IF(Input!D335=\"\",Input!$C335,Input!D335)","v":"Ex cnential "},{"$f":"IF(Input!E335=\"\",Input!$C335,Input!E335)","v":"Ex cnential "},{"$f":"IF(Input!F335=\"\",Input!$C335,Input!F335)","v":"Ex cnential "},{"$f":"IF(Input!G335=\"\",Input!$C335,Input!G335)","v":"Ex cnential "},{"$f":"IF(Input!H335=\"\",Input!$C335,Input!H335)","v":"Ex cnential "},{"$f":"IF(Input!I335=\"\",Input!$C335,Input!I335)","v":"Ex cnential "},{"$f":"IF(Input!J335=\"\",Input!$C335,Input!J335)","v":"Ex cnential "},{"$f":"IF(Input!K335=\"\",Input!$C335,Input!K335)","v":"Ex cnential "},{"$f":"IF(Input!L335=\"\",Input!$C335,Input!L335)","v":"Ex cnential "},{"$f":"IF(Input!M335=\"\",Input!$C335,Input!M335)","v":"Ex cnential "}]
["MACD2_PeriodSignal=9||9||1||90||N","Signal period ",0,{"$f":"IF(Input!D336=\"\",Input!$C336,Input!D336)","v":0},{"$f":"IF(Input!E336=\"\",Input!$C336,Input!E336)","v":0},{"$f":"IF(Input!F336=\"\",Input!$C336,Input!F336)","v":0},{"$f":"IF(Input!G336=\"\",Input!$C336,Input!G336)","v":0},{"$f":"IF(Input!H336=\"\",Input!$C336,Input!H336)","v":0},{"$f":"IF(Input!I336=\"\",Input!$C336,Input!I336)","v":0},{"$f":"IF(Input!J336=\"\",Input!$C336,Input!J336)","v":0},{"$f":"IF(Input!K336=\"\",Input!$C336,Input!K336)","v":0},{"$f":"IF(Input!L336=\"\",Input!$C336,Input!L336)","v":0},{"$f":"IF(Input!M336=\"\",Input!$C336,Input!M336)","v":0}]
["MACD2_SignalMA_Method=0||0||0||3||N","Signal MA method ","Exponential ",{"$f":"IF(Input!D337=\"\",Input!$C337,Input!D337)","v":"Exponential "},{"$f":"IF(Input!E337=\"\",Input!$C337,Input!E337)","v":"Exponential "},{"$f":"IF(Input!F337=\"\",Input!$C337,Input!F337)","v":"Exponential "},{"$f":"IF(Input!G337=\"\",Input!$C337,Input!G337)","v":"Exponential "},{"$f":"IF(Input!H337=\"\",Input!$C337,Input!H337)","v":"Exponential "},{"$f":"IF(Input!I337=\"\",Input!$C337,Input!I337)","v":"Exponential "},{"$f":"IF(Input!J337=\"\",Input!$C337,Input!J337)","v":"Exponential "},{"$f":"IF(Input!K337=\"\",Input!$C337,Input!K337)","v":"Exponential "},{"$f":"IF(Input!L337=\"\",Input!$C337,Input!L337)","v":"Exponential "},{"$f":"IF(Input!M337=\"\",Input!$C337,Input!M337)","v":"Exponential "}]
["MACD2_Price=1||1||0||7||N","Applied price ","Close price ",{"$f":"IF(Input!D338=\"\",Input!$C338,Input!D338)","v":"Close price "},{"$f":"IF(Input!E338=\"\",Input!$C338,Input!E338)","v":"Close price "},{"$f":"IF(Input!F338=\"\",Input!$C338,Input!F338)","v":"Close price "},{"$f":"IF(Input!G338=\"\",Input!$C338,Input!G338)","v":"Close price "},{"$f":"IF(Input!H338=\"\",Input!$C338,Input!H338)","v":"Close price "},{"$f":"IF(Input!I338=\"\",Input!$C338,Input!I338)","v":"Close price "},{"$f":"IF(Input!J338=\"\",Input!$C338,Input!J338)","v":"Close price "},{"$f":"IF(Input!K338=\"\",Input!$C338,Input!K338)","v":"Close price "},{"$f":"IF(Input!L338=\"\",Input!$C338,Input!L338)","v":"Close price "},{"$f":"IF(Input!M338=\"\",Input!$C338,Input!M338)","v":"Close price "}]
["MACD2_JMA_Phase=0||0||1||10||N","JMA Phase ",0,{"$f":"IF(Input!D339=\"\",Input!$C339,Input!D339)","v":0},{"$f":"IF(Input!E339=\"\",Input!$C339,Input!E339)","v":0},{"$f":"IF(Input!F339=\"\",Input!$C339,Input!F339)","v":0},{"$f":"IF(Input!G339=\"\",Input!$C339,Input!G339)","v":0},{"$f":"IF(Input!H339=\"\",Input!$C339,Input!H339)","v":0},{"$f":"IF(Input!I339=\"\",Input!$C339,Input!I339)","v":0},{"$f":"IF(Input!J339=\"\",Input!$C339,Input!J339)","v":0},{"$f":"IF(Input!K339=\"\",Input!$C339,Input!K339)","v":0},{"$f":"IF(Input!L339=\"\",Input!$C339,Input!L339)","v":0},{"$f":"IF(Input!M339=\"\",Input!$C339,Input!M339)","v":0}]
["MACD2_Reverse=false||false||0||true||N","Reverse mode ",false,{"$f":"IF(Input!D340=\"\",Input!$C340,Input!D340)","v":false},{"$f":"IF(Input!E340=\"\",Input!$C340,Input!E340)","v":false},{"$f":"IF(Input!F340=\"\",Input!$C340,Input!F340)","v":false},{"$f":"IF(Input!G340=\"\",Input!$C340,Input!G340)","v":false},{"$f":"IF(Input!H340=\"\",Input!$C340,Input!H340)","v":false},{"$f":"IF(Input!I340=\"\",Input!$C340,Input!I340)","v":false},{"$f":"IF(Input!J340=\"\",Input!$C340,Input!J340)","v":false},{"$f":"IF(Input!K340=\"\",Input!$C340,Input!K340)","v":false},{"$f":"IF(Input!L340=\"\",Input!$C340,Input!L340)","v":false},{"$f":"IF(Input!M340=\"\",Input!$C340,Input!M340)","v":false}]
["MACD2_UseClosedBars=true||false||0||true||N","Use closed bars only ",false,{"$f":"IF(Input!D341=\"\",Input!$C341,Input!D341)","v":false},{"$f":"IF(Input!E341=\"\",Input!$C341,Input!E341)","v":false},{"$f":"IF(Input!F341=\"\",Input!$C341,Input!F341)","v":false},{"$f":"IF(Input!G341=\"\",Input!$C341,Input!G341)","v":false},{"$f":"IF(Input!H341=\"\",Input!$C341,Input!H341)","v":false},{"$f":"IF(Input!I341=\"\",Input!$C341,Input!I341)","v":false},{"$f":"IF(Input!J341=\"\",Input!$C341,Input!J341)","v":false},{"$f":"IF(Input!K341=\"\",Input!$C341,Input!K341)","v":false},{"$f":"IF(Input!L341=\"\",Input!$C341,Input!L341)","v":false},{"$f":"IF(Input!M341=\"\",Input!$C341,Input!M341)","v":false}]
["MACD2_OpenOn=0||0||0||3||N","Open on ","Ocn't use fcrc en ",{"$f":"IF(Input!D342=\"\",Input!$C342,Input!D342)","v":"Ocn't use fcrc en "},{"$f":"IF(Input!E342=\"\",Input!$C342,Input!E342)","v":"Ocn't use fcrc en "},{"$f":"IF(Input!F342=\"\",Input!$C342,Input!F342)","v":"Ocn't use fcrc en "},{"$f":"IF(Input!G342=\"\",Input!$C342,Input!G342)","v":"Ocn't use fcrc en "},{"$f":"IF(Input!H342=\"\",Input!$C342,Input!H342)","v":"Ocn't use fcrc en "},{"$f":"IF(Input!I342=\"\",Input!$C342,Input!I342)","v":"Ocn't use fcrc en "},{"$f":"IF(Input!J342=\"\",Input!$C342,Input!J342)","v":"Ocn't use fcrc en "},{"$f":"IF(Input!K342=\"\",Input!$C342,Input!K342)","v":"Ocn't use fcrc en "},{"$f":"IF(Input!L342=\"\",Input!$C342,Input!L342)","v":"Ocn't use fcrc en "},{"$f":"IF(Input!M342=\"\",Input!$C342,Input!M342)","v":"Ocn't use fcrc en "}]
["MACD2_MartinOn=0||0||0||3||N","Open martin on ","Open on Individual signal ",{"$f":"IF(Input!D343=\"\",Input!$C343,Input!D343)","v":"Open on Individual signal "},{"$f":"IF(Input!E343=\"\",Input!$C343,Input!E343)","v":"Open on Individual signal "},{"$f":"IF(Input!F343=\"\",Input!$C343,Input!F343)","v":"Open on Individual signal "},{"$f":"IF(Input!G343=\"\",Input!$C343,Input!G343)","v":"Open on Individual signal "},{"$f":"IF(Input!H343=\"\",Input!$C343,Input!H343)","v":"Open on Individual signal "},{"$f":"IF(Input!I343=\"\",Input!$C343,Input!I343)","v":"Open on Individual signal "},{"$f":"IF(Input!J343=\"\",Input!$C343,Input!J343)","v":"Open on Individual signal "},{"$f":"IF(Input!K343=\"\",Input!$C343,Input!K343)","v":"Open on Individual signal "},{"$f":"IF(Input!L343=\"\",Input!$C343,Input!L343)","v":"Open on Individual signal "},{"$f":"IF(Input!M343=\"\",Input!$C343,Input!M343)","v":"Open on Individual signal "}]
["MACD2_HedgeOn=0||0||0||3||N","Open hedge on ","Open on Individual signal ",{"$f":"IF(Input!D344=\"\",Input!$C344,Input!D344)","v":"Open on Individual signal "},{"$f":"IF(Input!E344=\"\",Input!$C344,Input!E344)","v":"Open on Individual signal "},{"$f":"IF(Input!F344=\"\",Input!$C344,Input!F344)","v":"Open on Individual signal "},{"$f":"IF(Input!G344=\"\",Input!$C344,Input!G344)","v":"Open on Individual signal "},{"$f":"IF(Input!H344=\"\",Input!$C344,Input!H344)","v":"Open on Individual signal "},{"$f":"IF(Input!I344=\"\",Input!$C344,Input!I344)","v":"Open on Individual signal "},{"$f":"IF(Input!J344=\"\",Input!$C344,Input!J344)","v":"Open on Individual signal "},{"$f":"IF(Input!K344=\"\",Input!$C344,Input!K344)","v":"Open on Individual signal "},{"$f":"IF(Input!L344=\"\",Input!$C344,Input!L344)","v":"Open on Individual signal "},{"$f":"IF(Input!M344=\"\",Input!$C344,Input!M344)","v":"Open on Individual signal "}]
["MACD2_CloseOn=0||0||0||4||N","Close on ","Close on Individual signal, in profit only ",{"$f":"IF(Input!D345=\"\",Input!$C345,Input!D345)","v":"Close on Individual signal, in profit only "},{"$f":"IF(Input!E345=\"\",Input!$C345,Input!E345)","v":"Close on Individual signal, in profit only "},{"$f":"IF(Input!F345=\"\",Input!$C345,Input!F345)","v":"Close on Individual signal, in profit only "},{"$f":"IF(Input!G345=\"\",Input!$C345,Input!G345)","v":"Close on Individual signal, in profit only "},{"$f":"IF(Input!H345=\"\",Input!$C345,Input!H345)","v":"Close on Individual signal, in profit only "},{"$f":"IF(Input!I345=\"\",Input!$C345,Input!I345)","v":"Close on Individual signal, in profit only "},{"$f":"IF(Input!J345=\"\",Input!$C345,Input!J345)","v":"Close on Individual signal, in profit only "},{"$f":"IF(Input!K345=\"\",Input!$C345,Input!K345)","v":"Close on Individual signal, in profit only "},{"$f":"IF(Input!L345=\"\",Input!$C345,Input!L345)","v":"Close on Individual signal, in profit only "},{"$f":"IF(Input!M345=\"\",Input!$C345,Input!M345)","v":"Close on Individual signal, in profit only "}]
["MACD2_PartialCloseOn=0||0||0||3||N","Partial close on ","Partial close on Individual signal ",{"$f":"IF(Input!D346=\"\",Input!$C346,Input!D346)","v":"Partial close on Individual signal "},{"$f":"IF(Input!E346=\"\",Input!$C346,Input!E346)","v":"Partial close on Individual signal "},{"$f":"IF(Input!F346=\"\",Input!$C346,Input!F346)","v":"Partial close on Individual signal "},{"$f":"IF(Input!G346=\"\",Input!$C346,Input!G346)","v":"Partial close on Individual signal "},{"$f":"IF(Input!H346=\"\",Input!$C346,Input!H346)","v":"Partial close on Individual signal "},{"$f":"IF(Input!I346=\"\",Input!$C346,Input!I346)","v":"Partial close on Individual signal "},{"$f":"IF(Input!J346=\"\",Input!$C346,Input!J346)","v":"Partial close on Individual signal "},{"$f":"IF(Input!K346=\"\",Input!$C346,Input!K346)","v":"Partial close on Individual signal "},{"$f":"IF(Input!L346=\"\",Input!$C346,Input!L346)","v":"Partial close on Individual signal "},{"$f":"IF(Input!M346=\"\",Input!$C346,Input!M346)","v":"Partial close on Individual signal "}]
["; ADX properties","ADX properties "]
["ADX_Properties====================================================================================","ADX properties: "]
["ADX_Type=0||0||0||2||N","* Type ","Buy cn +01 level / Sell cn -DI level ",{"$f":"IF(Input!D349=\"\",Input!$C349,Input!D349)","v":"Buy cn +01 level / Sell cn -DI level "},{"$f":"IF(Input!E349=\"\",Input!$C349,Input!E349)","v":"Buy cn +01 level / Sell cn -DI level "},{"$f":"IF(Input!F349=\"\",Input!$C349,Input!F349)","v":"Buy cn +01 level / Sell cn -DI level "},{"$f":"IF(Input!G349=\"\",Input!$C349,Input!G349)","v":"Buy cn +01 level / Sell cn -DI level "},{"$f":"IF(Input!H349=\"\",Input!$C349,Input!H349)","v":"Buy cn +01 level / Sell cn -DI level "},{"$f":"IF(Input!I349=\"\",Input!$C349,Input!I349)","v":"Buy cn +01 level / Sell cn -DI level "},{"$f":"IF(Input!J349=\"\",Input!$C349,Input!J349)","v":"Buy cn +01 level / Sell cn -DI level "},{"$f":"IF(Input!K349=\"\",Input!$C349,Input!K349)","v":"Buy cn +01 level / Sell cn -DI level "},{"$f":"IF(Input!L349=\"\",Input!$C349,Input!L349)","v":"Buy cn +01 level / Sell cn -DI level "},{"$f":"IF(Input!M349=\"\",Input!$C349,Input!M349)","v":"Buy cn +01 level / Sell cn -DI level "}]
["ADX_TF=0||0||0||49153||N","Time Frame ","2 Minutes ",{"$f":"IF(Input!D350=\"\",Input!$C350,Input!D350)","v":"2 Minutes "},{"$f":"IF(Input!E350=\"\",Input!$C350,Input!E350)","v":"2 Minutes "},{"$f":"IF(Input!F350=\"\",Input!$C350,Input!F350)","v":"2 Minutes "},{"$f":"IF(Input!G350=\"\",Input!$C350,Input!G350)","v":"2 Minutes "},{"$f":"IF(Input!H350=\"\",Input!$C350,Input!H350)","v":"2 Minutes "},{"$f":"IF(Input!I350=\"\",Input!$C350,Input!I350)","v":"2 Minutes "},{"$f":"IF(Input!J350=\"\",Input!$C350,Input!J350)","v":"2 Minutes "},{"$f":"IF(Input!K350=\"\",Input!$C350,Input!K350)","v":"2 Minutes "},{"$f":"IF(Input!L350=\"\",Input!$C350,Input!L350)","v":"2 Minutes "},{"$f":"IF(Input!M350=\"\",Input!$C350,Input!M350)","v":"2 Minutes "}]
["ADX_Period=14||14||1||140||N","ADX period ",0,{"$f":"IF(Input!D351=\"\",Input!$C351,Input!D351)","v":0},{"$f":"IF(Input!E351=\"\",Input!$C351,Input!E351)","v":0},{"$f":"IF(Input!F351=\"\",Input!$C351,Input!F351)","v":0},{"$f":"IF(Input!G351=\"\",Input!$C351,Input!G351)","v":0},{"$f":"IF(Input!H351=\"\",Input!$C351,Input!H351)","v":0},{"$f":"IF(Input!I351=\"\",Input!$C351,Input!I351)","v":0},{"$f":"IF(Input!J351=\"\",Input!$C351,Input!J351)","v":0},{"$f":"IF(Input!K351=\"\",Input!$C351,Input!K351)","v":0},{"$f":"IF(Input!L351=\"\",Input!$C351,Input!L351)","v":0},{"$f":"IF(Input!M351=\"\",Input!$C351,Input!M351)","v":0}]
["ADX_Level=10||10||1.000000||100.000000||N","Signal level ",0,{"$f":"IF(Input!D352=\"\",Input!$C352,Input!D352)","v":0},{"$f":"IF(Input!E352=\"\",Input!$C352,Input!E352)","v":0},{"$f":"IF(Input!F352=\"\",Input!$C352,Input!F352)","v":0},{"$f":"IF(Input!G352=\"\",Input!$C352,Input!G352)","v":0},{"$f":"IF(Input!H352=\"\",Input!$C352,Input!H352)","v":0},{"$f":"IF(Input!I352=\"\",Input!$C352,Input!I352)","v":0},{"$f":"IF(Input!J352=\"\",Input!$C352,Input!J352)","v":0},{"$f":"IF(Input!K352=\"\",Input!$C352,Input!K352)","v":0},{"$f":"IF(Input!L352=\"\",Input!$C352,Input!L352)","v":0},{"$f":"IF(Input!M352=\"\",Input!$C352,Input!M352)","v":0}]
["ADX_Reverse=false||false||0||true||N","Reverse mode ",false,{"$f":"IF(Input!D353=\"\",Input!$C353,Input!D353)","v":false},{"$f":"IF(Input!E353=\"\",Input!$C353,Input!E353)","v":false},{"$f":"IF(Input!F353=\"\",Input!$C353,Input!F353)","v":false},{"$f":"IF(Input!G353=\"\",Input!$C353,Input!G353)","v":false},{"$f":"IF(Input!H353=\"\",Input!$C353,Input!H353)","v":false},{"$f":"IF(Input!I353=\"\",Input!$C353,Input!I353)","v":false},{"$f":"IF(Input!J353=\"\",Input!$C353,Input!J353)","v":false},{"$f":"IF(Input!K353=\"\",Input!$C353,Input!K353)","v":false},{"$f":"IF(Input!L353=\"\",Input!$C353,Input!L353)","v":false},{"$f":"IF(Input!M353=\"\",Input!$C353,Input!M353)","v":false}]
["ADX_UseClosedBars=true||false||0||true||N","Use closed bars only ",false,{"$f":"IF(Input!D354=\"\",Input!$C354,Input!D354)","v":false},{"$f":"IF(Input!E354=\"\",Input!$C354,Input!E354)","v":false},{"$f":"IF(Input!F354=\"\",Input!$C354,Input!F354)","v":false},{"$f":"IF(Input!G354=\"\",Input!$C354,Input!G354)","v":false},{"$f":"IF(Input!H354=\"\",Input!$C354,Input!H354)","v":false},{"$f":"IF(Input!I354=\"\",Input!$C354,Input!I354)","v":false},{"$f":"IF(Input!J354=\"\",Input!$C354,Input!J354)","v":false},{"$f":"IF(Input!K354=\"\",Input!$C354,Input!K354)","v":false},{"$f":"IF(Input!L354=\"\",Input!$C354,Input!L354)","v":false},{"$f":"IF(Input!M354=\"\",Input!$C354,Input!M354)","v":false}]
["ADX_OpenOn=0||0||0||3||N","Open on ","Ocn't use fcrc en ",{"$f":"IF(Input!D355=\"\",Input!$C355,Input!D355)","v":"Ocn't use fcrc en "},{"$f":"IF(Input!E355=\"\",Input!$C355,Input!E355)","v":"Ocn't use fcrc en "},{"$f":"IF(Input!F355=\"\",Input!$C355,Input!F355)","v":"Ocn't use fcrc en "},{"$f":"IF(Input!G355=\"\",Input!$C355,Input!G355)","v":"Ocn't use fcrc en "},{"$f":"IF(Input!H355=\"\",Input!$C355,Input!H355)","v":"Ocn't use fcrc en "},{"$f":"IF(Input!I355=\"\",Input!$C355,Input!I355)","v":"Ocn't use fcrc en "},{"$f":"IF(Input!J355=\"\",Input!$C355,Input!J355)","v":"Ocn't use fcrc en "},{"$f":"IF(Input!K355=\"\",Input!$C355,Input!K355)","v":"Ocn't use fcrc en "},{"$f":"IF(Input!L355=\"\",Input!$C355,Input!L355)","v":"Ocn't use fcrc en "},{"$f":"IF(Input!M355=\"\",Input!$C355,Input!M355)","v":"Ocn't use fcrc en "}]
["ADX_MartinOn=0||0||0||3||N","Open martin on ","Open on Individual signal ",{"$f":"IF(Input!D356=\"\",Input!$C356,Input!D356)","v":"Open on Individual signal "},{"$f":"IF(Input!E356=\"\",Input!$C356,Input!E356)","v":"Open on Individual signal "},{"$f":"IF(Input!F356=\"\",Input!$C356,Input!F356)","v":"Open on Individual signal "},{"$f":"IF(Input!G356=\"\",Input!$C356,Input!G356)","v":"Open on Individual signal "},{"$f":"IF(Input!H356=\"\",Input!$C356,Input!H356)","v":"Open on Individual signal "},{"$f":"IF(Input!I356=\"\",Input!$C356,Input!I356)","v":"Open on Individual signal "},{"$f":"IF(Input!J356=\"\",Input!$C356,Input!J356)","v":"Open on Individual signal "},{"$f":"IF(Input!K356=\"\",Input!$C356,Input!K356)","v":"Open on Individual signal "},{"$f":"IF(Input!L356=\"\",Input!$C356,Input!L356)","v":"Open on Individual signal "},{"$f":"IF(Input!M356=\"\",Input!$C356,Input!M356)","v":"Open on Individual signal "}]
["ADX_HedgeOn=0||0||0||3||N","Open hedge on ","Open on Individual signal ",{"$f":"IF(Input!D357=\"\",Input!$C357,Input!D357)","v":"Open on Individual signal "},{"$f":"IF(Input!E357=\"\",Input!$C357,Input!E357)","v":"Open on Individual signal "},{"$f":"IF(Input!F357=\"\",Input!$C357,Input!F357)","v":"Open on Individual signal "},{"$f":"IF(Input!G357=\"\",Input!$C357,Input!G357)","v":"Open on Individual signal "},{"$f":"IF(Input!H357=\"\",Input!$C357,Input!H357)","v":"Open on Individual signal "},{"$f":"IF(Input!I357=\"\",Input!$C357,Input!I357)","v":"Open on Individual signal "},{"$f":"IF(Input!J357=\"\",Input!$C357,Input!J357)","v":"Open on Individual signal "},{"$f":"IF(Input!K357=\"\",Input!$C357,Input!K357)","v":"Open on Individual signal "},{"$f":"IF(Input!L357=\"\",Input!$C357,Input!L357)","v":"Open on Individual signal "},{"$f":"IF(Input!M357=\"\",Input!$C357,Input!M357)","v":"Open on Individual signal "}]
["ADX_CloseOn=0||0||0||4||N","Close on ","Close on Individual signal, in profit only ",{"$f":"IF(Input!D358=\"\",Input!$C358,Input!D358)","v":"Close on Individual signal, in profit only "},{"$f":"IF(Input!E358=\"\",Input!$C358,Input!E358)","v":"Close on Individual signal, in profit only "},{"$f":"IF(Input!F358=\"\",Input!$C358,Input!F358)","v":"Close on Individual signal, in profit only "},{"$f":"IF(Input!G358=\"\",Input!$C358,Input!G358)","v":"Close on Individual signal, in profit only "},{"$f":"IF(Input!H358=\"\",Input!$C358,Input!H358)","v":"Close on Individual signal, in profit only "},{"$f":"IF(Input!I358=\"\",Input!$C358,Input!I358)","v":"Close on Individual signal, in profit only "},{"$f":"IF(Input!J358=\"\",Input!$C358,Input!J358)","v":"Close on Individual signal, in profit only "},{"$f":"IF(Input!K358=\"\",Input!$C358,Input!K358)","v":"Close on Individual signal, in profit only "},{"$f":"IF(Input!L358=\"\",Input!$C358,Input!L358)","v":"Close on Individual signal, in profit only "},{"$f":"IF(Input!M358=\"\",Input!$C358,Input!M358)","v":"Close on Individual signal, in profit only "}]
["ADX_PartialCloseOn=0||0||0||3||N","Partial close on ","Partial close on Individual signal ",{"$f":"IF(Input!D359=\"\",Input!$C359,Input!D359)","v":"Partial close on Individual signal "},{"$f":"IF(Input!E359=\"\",Input!$C359,Input!E359)","v":"Partial close on Individual signal "},{"$f":"IF(Input!F359=\"\",Input!$C359,Input!F359)","v":"Partial close on Individual signal "},{"$f":"IF(Input!G359=\"\",Input!$C359,Input!G359)","v":"Partial close on Individual signal "},{"$f":"IF(Input!H359=\"\",Input!$C359,Input!H359)","v":"Partial close on Individual signal "},{"$f":"IF(Input!I359=\"\",Input!$C359,Input!I359)","v":"Partial close on Individual signal "},{"$f":"IF(Input!J359=\"\",Input!$C359,Input!J359)","v":"Partial close on Individual signal "},{"$f":"IF(Input!K359=\"\",Input!$C359,Input!K359)","v":"Partial close on Individual signal "},{"$f":"IF(Input!L359=\"\",Input!$C359,Input!L359)","v":"Partial close on Individual signal "},{"$f":"IF(Input!M359=\"\",Input!$C359,Input!M359)","v":"Partial close on Individual signal "}]
["; DTrend properties","DTrend p rope rties "]
["DTrend_Properties====================================================================================","DTrend properties: "]
["DTrend_Type=0||0||0||3||N","Type ","Buy > level/ Sell -level ",{"$f":"IF(Input!D362=\"\",Input!$C362,Input!D362)","v":"Buy > level/ Sell -level "},{"$f":"IF(Input!E362=\"\",Input!$C362,Input!E362)","v":"Buy > level/ Sell -level "},{"$f":"IF(Input!F362=\"\",Input!$C362,Input!F362)","v":"Buy > level/ Sell -level "},{"$f":"IF(Input!G362=\"\",Input!$C362,Input!G362)","v":"Buy > level/ Sell -level "},{"$f":"IF(Input!H362=\"\",Input!$C362,Input!H362)","v":"Buy > level/ Sell -level "},{"$f":"IF(Input!I362=\"\",Input!$C362,Input!I362)","v":"Buy > level/ Sell -level "},{"$f":"IF(Input!J362=\"\",Input!$C362,Input!J362)","v":"Buy > level/ Sell -level "},{"$f":"IF(Input!K362=\"\",Input!$C362,Input!K362)","v":"Buy > level/ Sell -level "},{"$f":"IF(Input!L362=\"\",Input!$C362,Input!L362)","v":"Buy > level/ Sell -level "},{"$f":"IF(Input!M362=\"\",Input!$C362,Input!M362)","v":"Buy > level/ Sell -level "}]
["DTrend_TF=0||0||0||49153||N","TimeFrame ","2 Minutes ",{"$f":"IF(Input!D363=\"\",Input!$C363,Input!D363)","v":"2 Minutes "},{"$f":"IF(Input!E363=\"\",Input!$C363,Input!E363)","v":"2 Minutes "},{"$f":"IF(Input!F363=\"\",Input!$C363,Input!F363)","v":"2 Minutes "},{"$f":"IF(Input!G363=\"\",Input!$C363,Input!G363)","v":"2 Minutes "},{"$f":"IF(Input!H363=\"\",Input!$C363,Input!H363)","v":"2 Minutes "},{"$f":"IF(Input!I363=\"\",Input!$C363,Input!I363)","v":"2 Minutes "},{"$f":"IF(Input!J363=\"\",Input!$C363,Input!J363)","v":"2 Minutes "},{"$f":"IF(Input!K363=\"\",Input!$C363,Input!K363)","v":"2 Minutes "},{"$f":"IF(Input!L363=\"\",Input!$C363,Input!L363)","v":"2 Minutes "},{"$f":"IF(Input!M363=\"\",Input!$C363,Input!M363)","v":"2 Minutes "}]
["DTrend_PeriodMA1=5||5||1||50||N","MAI period ",0,{"$f":"IF(Input!D364=\"\",Input!$C364,Input!D364)","v":0},{"$f":"IF(Input!E364=\"\",Input!$C364,Input!E364)","v":0},{"$f":"IF(Input!F364=\"\",Input!$C364,Input!F364)","v":0},{"$f":"IF(Input!G364=\"\",Input!$C364,Input!G364)","v":0},{"$f":"IF(Input!H364=\"\",Input!$C364,Input!H364)","v":0},{"$f":"IF(Input!I364=\"\",Input!$C364,Input!I364)","v":0},{"$f":"IF(Input!J364=\"\",Input!$C364,Input!J364)","v":0},{"$f":"IF(Input!K364=\"\",Input!$C364,Input!K364)","v":0},{"$f":"IF(Input!L364=\"\",Input!$C364,Input!L364)","v":0},{"$f":"IF(Input!M364=\"\",Input!$C364,Input!M364)","v":0}]
["DTrend_PeriodMA2=9||9||1||90||N","MA2 period ",0,{"$f":"IF(Input!D365=\"\",Input!$C365,Input!D365)","v":0},{"$f":"IF(Input!E365=\"\",Input!$C365,Input!E365)","v":0},{"$f":"IF(Input!F365=\"\",Input!$C365,Input!F365)","v":0},{"$f":"IF(Input!G365=\"\",Input!$C365,Input!G365)","v":0},{"$f":"IF(Input!H365=\"\",Input!$C365,Input!H365)","v":0},{"$f":"IF(Input!I365=\"\",Input!$C365,Input!I365)","v":0},{"$f":"IF(Input!J365=\"\",Input!$C365,Input!J365)","v":0},{"$f":"IF(Input!K365=\"\",Input!$C365,Input!K365)","v":0},{"$f":"IF(Input!L365=\"\",Input!$C365,Input!L365)","v":0},{"$f":"IF(Input!M365=\"\",Input!$C365,Input!M365)","v":0}]
["DTrend_PeriodD=5||5||1||50||N","D period ",0,{"$f":"IF(Input!D366=\"\",Input!$C366,Input!D366)","v":0},{"$f":"IF(Input!E366=\"\",Input!$C366,Input!E366)","v":0},{"$f":"IF(Input!F366=\"\",Input!$C366,Input!F366)","v":0},{"$f":"IF(Input!G366=\"\",Input!$C366,Input!G366)","v":0},{"$f":"IF(Input!H366=\"\",Input!$C366,Input!H366)","v":0},{"$f":"IF(Input!I366=\"\",Input!$C366,Input!I366)","v":0},{"$f":"IF(Input!J366=\"\",Input!$C366,Input!J366)","v":0},{"$f":"IF(Input!K366=\"\",Input!$C366,Input!K366)","v":0},{"$f":"IF(Input!L366=\"\",Input!$C366,Input!L366)","v":0},{"$f":"IF(Input!M366=\"\",Input!$C366,Input!M366)","v":0}]
["DTrend_Scalar=1000000||1000000||100000.000000||10000000.000000||N","Scalar ",0,{"$f":"IF(Input!D367=\"\",Input!$C367,Input!D367)","v":0},{"$f":"IF(Input!E367=\"\",Input!$C367,Input!E367)","v":0},{"$f":"IF(Input!F367=\"\",Input!$C367,Input!F367)","v":0},{"$f":"IF(Input!G367=\"\",Input!$C367,Input!G367)","v":0},{"$f":"IF(Input!H367=\"\",Input!$C367,Input!H367)","v":0},{"$f":"IF(Input!I367=\"\",Input!$C367,Input!I367)","v":0},{"$f":"IF(Input!J367=\"\",Input!$C367,Input!J367)","v":0},{"$f":"IF(Input!K367=\"\",Input!$C367,Input!K367)","v":0},{"$f":"IF(Input!L367=\"\",Input!$C367,Input!L367)","v":0},{"$f":"IF(Input!M367=\"\",Input!$C367,Input!M367)","v":0}]
["DTrend_Level=30||30||3.000000||300.000000||N","Signal level ",0,{"$f":"IF(Input!D368=\"\",Input!$C368,Input!D368)","v":0},{"$f":"IF(Input!E368=\"\",Input!$C368,Input!E368)","v":0},{"$f":"IF(Input!F368=\"\",Input!$C368,Input!F368)","v":0},{"$f":"IF(Input!G368=\"\",Input!$C368,Input!G368)","v":0},{"$f":"IF(Input!H368=\"\",Input!$C368,Input!H368)","v":0},{"$f":"IF(Input!I368=\"\",Input!$C368,Input!I368)","v":0},{"$f":"IF(Input!J368=\"\",Input!$C368,Input!J368)","v":0},{"$f":"IF(Input!K368=\"\",Input!$C368,Input!K368)","v":0},{"$f":"IF(Input!L368=\"\",Input!$C368,Input!L368)","v":0},{"$f":"IF(Input!M368=\"\",Input!$C368,Input!M368)","v":0}]
["DTrend_Reverse=false||false||0||true||N","Reverse mode ",false,{"$f":"IF(Input!D369=\"\",Input!$C369,Input!D369)","v":false},{"$f":"IF(Input!E369=\"\",Input!$C369,Input!E369)","v":false},{"$f":"IF(Input!F369=\"\",Input!$C369,Input!F369)","v":false},{"$f":"IF(Input!G369=\"\",Input!$C369,Input!G369)","v":false},{"$f":"IF(Input!H369=\"\",Input!$C369,Input!H369)","v":false},{"$f":"IF(Input!I369=\"\",Input!$C369,Input!I369)","v":false},{"$f":"IF(Input!J369=\"\",Input!$C369,Input!J369)","v":false},{"$f":"IF(Input!K369=\"\",Input!$C369,Input!K369)","v":false},{"$f":"IF(Input!L369=\"\",Input!$C369,Input!L369)","v":false},{"$f":"IF(Input!M369=\"\",Input!$C369,Input!M369)","v":false}]
["DTrend_UseClosedBars=false||false||0||true||N","Use closed bars only ",false,{"$f":"IF(Input!D370=\"\",Input!$C370,Input!D370)","v":false},{"$f":"IF(Input!E370=\"\",Input!$C370,Input!E370)","v":false},{"$f":"IF(Input!F370=\"\",Input!$C370,Input!F370)","v":false},{"$f":"IF(Input!G370=\"\",Input!$C370,Input!G370)","v":false},{"$f":"IF(Input!H370=\"\",Input!$C370,Input!H370)","v":false},{"$f":"IF(Input!I370=\"\",Input!$C370,Input!I370)","v":false},{"$f":"IF(Input!J370=\"\",Input!$C370,Input!J370)","v":false},{"$f":"IF(Input!K370=\"\",Input!$C370,Input!K370)","v":false},{"$f":"IF(Input!L370=\"\",Input!$C370,Input!L370)","v":false},{"$f":"IF(Input!M370=\"\",Input!$C370,Input!M370)","v":false}]
["DTrend_OpenOn=0||0||0||3||N","Open on ","Ocn't use fcrc en ",{"$f":"IF(Input!D371=\"\",Input!$C371,Input!D371)","v":"Ocn't use fcrc en "},{"$f":"IF(Input!E371=\"\",Input!$C371,Input!E371)","v":"Ocn't use fcrc en "},{"$f":"IF(Input!F371=\"\",Input!$C371,Input!F371)","v":"Ocn't use fcrc en "},{"$f":"IF(Input!G371=\"\",Input!$C371,Input!G371)","v":"Ocn't use fcrc en "},{"$f":"IF(Input!H371=\"\",Input!$C371,Input!H371)","v":"Ocn't use fcrc en "},{"$f":"IF(Input!I371=\"\",Input!$C371,Input!I371)","v":"Ocn't use fcrc en "},{"$f":"IF(Input!J371=\"\",Input!$C371,Input!J371)","v":"Ocn't use fcrc en "},{"$f":"IF(Input!K371=\"\",Input!$C371,Input!K371)","v":"Ocn't use fcrc en "},{"$f":"IF(Input!L371=\"\",Input!$C371,Input!L371)","v":"Ocn't use fcrc en "},{"$f":"IF(Input!M371=\"\",Input!$C371,Input!M371)","v":"Ocn't use fcrc en "}]
["DTrend_MartinOn=0||0||0||3||N","Open martin on ","Open on Individual signal ",{"$f":"IF(Input!D372=\"\",Input!$C372,Input!D372)","v":"Open on Individual signal "},{"$f":"IF(Input!E372=\"\",Input!$C372,Input!E372)","v":"Open on Individual signal "},{"$f":"IF(Input!F372=\"\",Input!$C372,Input!F372)","v":"Open on Individual signal "},{"$f":"IF(Input!G372=\"\",Input!$C372,Input!G372)","v":"Open on Individual signal "},{"$f":"IF(Input!H372=\"\",Input!$C372,Input!H372)","v":"Open on Individual signal "},{"$f":"IF(Input!I372=\"\",Input!$C372,Input!I372)","v":"Open on Individual signal "},{"$f":"IF(Input!J372=\"\",Input!$C372,Input!J372)","v":"Open on Individual signal "},{"$f":"IF(Input!K372=\"\",Input!$C372,Input!K372)","v":"Open on Individual signal "},{"$f":"IF(Input!L372=\"\",Input!$C372,Input!L372)","v":"Open on Individual signal "},{"$f":"IF(Input!M372=\"\",Input!$C372,Input!M372)","v":"Open on Individual signal "}]
["DTrend_HedgeOn=0||0||0||3||N","Open hedge on ","Open on Individual signal ",{"$f":"IF(Input!D373=\"\",Input!$C373,Input!D373)","v":"Open on Individual signal "},{"$f":"IF(Input!E373=\"\",Input!$C373,Input!E373)","v":"Open on Individual signal "},{"$f":"IF(Input!F373=\"\",Input!$C373,Input!F373)","v":"Open on Individual signal "},{"$f":"IF(Input!G373=\"\",Input!$C373,Input!G373)","v":"Open on Individual signal "},{"$f":"IF(Input!H373=\"\",Input!$C373,Input!H373)","v":"Open on Individual signal "},{"$f":"IF(Input!I373=\"\",Input!$C373,Input!I373)","v":"Open on Individual signal "},{"$f":"IF(Input!J373=\"\",Input!$C373,Input!J373)","v":"Open on Individual signal "},{"$f":"IF(Input!K373=\"\",Input!$C373,Input!K373)","v":"Open on Individual signal "},{"$f":"IF(Input!L373=\"\",Input!$C373,Input!L373)","v":"Open on Individual signal "},{"$f":"IF(Input!M373=\"\",Input!$C373,Input!M373)","v":"Open on Individual signal "}]
["DTrend_CloseOn=0||0||0||4||N","Close on ","Close on Individual signal, in profit only ",{"$f":"IF(Input!D374=\"\",Input!$C374,Input!D374)","v":"Close on Individual signal, in profit only "},{"$f":"IF(Input!E374=\"\",Input!$C374,Input!E374)","v":"Close on Individual signal, in profit only "},{"$f":"IF(Input!F374=\"\",Input!$C374,Input!F374)","v":"Close on Individual signal, in profit only "},{"$f":"IF(Input!G374=\"\",Input!$C374,Input!G374)","v":"Close on Individual signal, in profit only "},{"$f":"IF(Input!H374=\"\",Input!$C374,Input!H374)","v":"Close on Individual signal, in profit only "},{"$f":"IF(Input!I374=\"\",Input!$C374,Input!I374)","v":"Close on Individual signal, in profit only "},{"$f":"IF(Input!J374=\"\",Input!$C374,Input!J374)","v":"Close on Individual signal, in profit only "},{"$f":"IF(Input!K374=\"\",Input!$C374,Input!K374)","v":"Close on Individual signal, in profit only "},{"$f":"IF(Input!L374=\"\",Input!$C374,Input!L374)","v":"Close on Individual signal, in profit only "},{"$f":"IF(Input!M374=\"\",Input!$C374,Input!M374)","v":"Close on Individual signal, in profit only "}]
["DTrend_PartialCloseOn=0||0||0||3||N","Partial close on ","Partial close on Individual signal ",{"$f":"IF(Input!D375=\"\",Input!$C375,Input!D375)","v":"Partial close on Individual signal "},{"$f":"IF(Input!E375=\"\",Input!$C375,Input!E375)","v":"Partial close on Individual signal "},{"$f":"IF(Input!F375=\"\",Input!$C375,Input!F375)","v":"Partial close on Individual signal "},{"$f":"IF(Input!G375=\"\",Input!$C375,Input!G375)","v":"Partial close on Individual signal "},{"$f":"IF(Input!H375=\"\",Input!$C375,Input!H375)","v":"Partial close on Individual signal "},{"$f":"IF(Input!I375=\"\",Input!$C375,Input!I375)","v":"Partial close on Individual signal "},{"$f":"IF(Input!J375=\"\",Input!$C375,Input!J375)","v":"Partial close on Individual signal "},{"$f":"IF(Input!K375=\"\",Input!$C375,Input!K375)","v":"Partial close on Individual signal "},{"$f":"IF(Input!L375=\"\",Input!$C375,Input!L375)","v":"Partial close on Individual signal "},{"$f":"IF(Input!M375=\"\",Input!$C375,Input!M375)","v":"Partial close on Individual signal "}]
["; Parabolic SAR properties","Parabolic SAR properties "]
["PSar_Properties====================================================================================","Parabolic SAR properties: "]
["PSar_Type=0||0||0||2||N","Signal Type ","Si nal ",{"$f":"IF(Input!D378=\"\",Input!$C378,Input!D378)","v":"Si nal "},{"$f":"IF(Input!E378=\"\",Input!$C378,Input!E378)","v":"Si nal "},{"$f":"IF(Input!F378=\"\",Input!$C378,Input!F378)","v":"Si nal "},{"$f":"IF(Input!G378=\"\",Input!$C378,Input!G378)","v":"Si nal "},{"$f":"IF(Input!H378=\"\",Input!$C378,Input!H378)","v":"Si nal "},{"$f":"IF(Input!I378=\"\",Input!$C378,Input!I378)","v":"Si nal "},{"$f":"IF(Input!J378=\"\",Input!$C378,Input!J378)","v":"Si nal "},{"$f":"IF(Input!K378=\"\",Input!$C378,Input!K378)","v":"Si nal "},{"$f":"IF(Input!L378=\"\",Input!$C378,Input!L378)","v":"Si nal "},{"$f":"IF(Input!M378=\"\",Input!$C378,Input!M378)","v":"Si nal "}]
["PSar_TF=0||0||0||49153||N","TimeFrame ","2 Minutes ",{"$f":"IF(Input!D379=\"\",Input!$C379,Input!D379)","v":"2 Minutes "},{"$f":"IF(Input!E379=\"\",Input!$C379,Input!E379)","v":"2 Minutes "},{"$f":"IF(Input!F379=\"\",Input!$C379,Input!F379)","v":"2 Minutes "},{"$f":"IF(Input!G379=\"\",Input!$C379,Input!G379)","v":"2 Minutes "},{"$f":"IF(Input!H379=\"\",Input!$C379,Input!H379)","v":"2 Minutes "},{"$f":"IF(Input!I379=\"\",Input!$C379,Input!I379)","v":"2 Minutes "},{"$f":"IF(Input!J379=\"\",Input!$C379,Input!J379)","v":"2 Minutes "},{"$f":"IF(Input!K379=\"\",Input!$C379,Input!K379)","v":"2 Minutes "},{"$f":"IF(Input!L379=\"\",Input!$C379,Input!L379)","v":"2 Minutes "},{"$f":"IF(Input!M379=\"\",Input!$C379,Input!M379)","v":"2 Minutes "}]
["PSar_Step=0.02||0.02||0.002000||0.200000||N","Step ",0,{"$f":"IF(Input!D380=\"\",Input!$C380,Input!D380)","v":0},{"$f":"IF(Input!E380=\"\",Input!$C380,Input!E380)","v":0},{"$f":"IF(Input!F380=\"\",Input!$C380,Input!F380)","v":0},{"$f":"IF(Input!G380=\"\",Input!$C380,Input!G380)","v":0},{"$f":"IF(Input!H380=\"\",Input!$C380,Input!H380)","v":0},{"$f":"IF(Input!I380=\"\",Input!$C380,Input!I380)","v":0},{"$f":"IF(Input!J380=\"\",Input!$C380,Input!J380)","v":0},{"$f":"IF(Input!K380=\"\",Input!$C380,Input!K380)","v":0},{"$f":"IF(Input!L380=\"\",Input!$C380,Input!L380)","v":0},{"$f":"IF(Input!M380=\"\",Input!$C380,Input!M380)","v":0}]
["PSar_Maximum=0.2||0.2||0.020000||2.000000||N","Maximum ",0,{"$f":"IF(Input!D381=\"\",Input!$C381,Input!D381)","v":0},{"$f":"IF(Input!E381=\"\",Input!$C381,Input!E381)","v":0},{"$f":"IF(Input!F381=\"\",Input!$C381,Input!F381)","v":0},{"$f":"IF(Input!G381=\"\",Input!$C381,Input!G381)","v":0},{"$f":"IF(Input!H381=\"\",Input!$C381,Input!H381)","v":0},{"$f":"IF(Input!I381=\"\",Input!$C381,Input!I381)","v":0},{"$f":"IF(Input!J381=\"\",Input!$C381,Input!J381)","v":0},{"$f":"IF(Input!K381=\"\",Input!$C381,Input!K381)","v":0},{"$f":"IF(Input!L381=\"\",Input!$C381,Input!L381)","v":0},{"$f":"IF(Input!M381=\"\",Input!$C381,Input!M381)","v":0}]
["PSar_Reverse=false||false||0||true||N","Reverse mode ",false,{"$f":"IF(Input!D382=\"\",Input!$C382,Input!D382)","v":false},{"$f":"IF(Input!E382=\"\",Input!$C382,Input!E382)","v":false},{"$f":"IF(Input!F382=\"\",Input!$C382,Input!F382)","v":false},{"$f":"IF(Input!G382=\"\",Input!$C382,Input!G382)","v":false},{"$f":"IF(Input!H382=\"\",Input!$C382,Input!H382)","v":false},{"$f":"IF(Input!I382=\"\",Input!$C382,Input!I382)","v":false},{"$f":"IF(Input!J382=\"\",Input!$C382,Input!J382)","v":false},{"$f":"IF(Input!K382=\"\",Input!$C382,Input!K382)","v":false},{"$f":"IF(Input!L382=\"\",Input!$C382,Input!L382)","v":false},{"$f":"IF(Input!M382=\"\",Input!$C382,Input!M382)","v":false}]
["PSar_OpenOn=0||0||0||3||N","Open on ","Ocn't use fcrc en ",{"$f":"IF(Input!D383=\"\",Input!$C383,Input!D383)","v":"Ocn't use fcrc en "},{"$f":"IF(Input!E383=\"\",Input!$C383,Input!E383)","v":"Ocn't use fcrc en "},{"$f":"IF(Input!F383=\"\",Input!$C383,Input!F383)","v":"Ocn't use fcrc en "},{"$f":"IF(Input!G383=\"\",Input!$C383,Input!G383)","v":"Ocn't use fcrc en "},{"$f":"IF(Input!H383=\"\",Input!$C383,Input!H383)","v":"Ocn't use fcrc en "},{"$f":"IF(Input!I383=\"\",Input!$C383,Input!I383)","v":"Ocn't use fcrc en "},{"$f":"IF(Input!J383=\"\",Input!$C383,Input!J383)","v":"Ocn't use fcrc en "},{"$f":"IF(Input!K383=\"\",Input!$C383,Input!K383)","v":"Ocn't use fcrc en "},{"$f":"IF(Input!L383=\"\",Input!$C383,Input!L383)","v":"Ocn't use fcrc en "},{"$f":"IF(Input!M383=\"\",Input!$C383,Input!M383)","v":"Ocn't use fcrc en "}]
["PSar_MartinOn=0||0||0||3||N","Open martin on ","Open on Individual signal ",{"$f":"IF(Input!D384=\"\",Input!$C384,Input!D384)","v":"Open on Individual signal "},{"$f":"IF(Input!E384=\"\",Input!$C384,Input!E384)","v":"Open on Individual signal "},{"$f":"IF(Input!F384=\"\",Input!$C384,Input!F384)","v":"Open on Individual signal "},{"$f":"IF(Input!G384=\"\",Input!$C384,Input!G384)","v":"Open on Individual signal "},{"$f":"IF(Input!H384=\"\",Input!$C384,Input!H384)","v":"Open on Individual signal "},{"$f":"IF(Input!I384=\"\",Input!$C384,Input!I384)","v":"Open on Individual signal "},{"$f":"IF(Input!J384=\"\",Input!$C384,Input!J384)","v":"Open on Individual signal "},{"$f":"IF(Input!K384=\"\",Input!$C384,Input!K384)","v":"Open on Individual signal "},{"$f":"IF(Input!L384=\"\",Input!$C384,Input!L384)","v":"Open on Individual signal "},{"$f":"IF(Input!M384=\"\",Input!$C384,Input!M384)","v":"Open on Individual signal "}]
["PSar_HedgeOn=0||0||0||3||N","Open hedge on ","Open on Individual signal ",{"$f":"IF(Input!D385=\"\",Input!$C385,Input!D385)","v":"Open on Individual signal "},{"$f":"IF(Input!E385=\"\",Input!$C385,Input!E385)","v":"Open on Individual signal "},{"$f":"IF(Input!F385=\"\",Input!$C385,Input!F385)","v":"Open on Individual signal "},{"$f":"IF(Input!G385=\"\",Input!$C385,Input!G385)","v":"Open on Individual signal "},{"$f":"IF(Input!H385=\"\",Input!$C385,Input!H385)","v":"Open on Individual signal "},{"$f":"IF(Input!I385=\"\",Input!$C385,Input!I385)","v":"Open on Individual signal "},{"$f":"IF(Input!J385=\"\",Input!$C385,Input!J385)","v":"Open on Individual signal "},{"$f":"IF(Input!K385=\"\",Input!$C385,Input!K385)","v":"Open on Individual signal "},{"$f":"IF(Input!L385=\"\",Input!$C385,Input!L385)","v":"Open on Individual signal "},{"$f":"IF(Input!M385=\"\",Input!$C385,Input!M385)","v":"Open on Individual signal "}]
["PSar_CloseOn=0||0||0||4||N","Close on ","Close on Individual signal, in profit only ",{"$f":"IF(Input!D386=\"\",Input!$C386,Input!D386)","v":"Close on Individual signal, in profit only "},{"$f":"IF(Input!E386=\"\",Input!$C386,Input!E386)","v":"Close on Individual signal, in profit only "},{"$f":"IF(Input!F386=\"\",Input!$C386,Input!F386)","v":"Close on Individual signal, in profit only "},{"$f":"IF(Input!G386=\"\",Input!$C386,Input!G386)","v":"Close on Individual signal, in profit only "},{"$f":"IF(Input!H386=\"\",Input!$C386,Input!H386)","v":"Close on Individual signal, in profit only "},{"$f":"IF(Input!I386=\"\",Input!$C386,Input!I386)","v":"Close on Individual signal, in profit only "},{"$f":"IF(Input!J386=\"\",Input!$C386,Input!J386)","v":"Close on Individual signal, in profit only "},{"$f":"IF(Input!K386=\"\",Input!$C386,Input!K386)","v":"Close on Individual signal, in profit only "},{"$f":"IF(Input!L386=\"\",Input!$C386,Input!L386)","v":"Close on Individual signal, in profit only "},{"$f":"IF(Input!M386=\"\",Input!$C386,Input!M386)","v":"Close on Individual signal, in profit only "}]
["PSar_PartialCloseOn=0||0||0||3||N","Partial close on ","Partial close on Individual signal ",{"$f":"IF(Input!D387=\"\",Input!$C387,Input!D387)","v":"Partial close on Individual signal "},{"$f":"IF(Input!E387=\"\",Input!$C387,Input!E387)","v":"Partial close on Individual signal "},{"$f":"IF(Input!F387=\"\",Input!$C387,Input!F387)","v":"Partial close on Individual signal "},{"$f":"IF(Input!G387=\"\",Input!$C387,Input!G387)","v":"Partial close on Individual signal "},{"$f":"IF(Input!H387=\"\",Input!$C387,Input!H387)","v":"Partial close on Individual signal "},{"$f":"IF(Input!I387=\"\",Input!$C387,Input!I387)","v":"Partial close on Individual signal "},{"$f":"IF(Input!J387=\"\",Input!$C387,Input!J387)","v":"Partial close on Individual signal "},{"$f":"IF(Input!K387=\"\",Input!$C387,Input!K387)","v":"Partial close on Individual signal "},{"$f":"IF(Input!L387=\"\",Input!$C387,Input!L387)","v":"Partial close on Individual signal "},{"$f":"IF(Input!M387=\"\",Input!$C387,Input!M387)","v":"Partial close on Individual signal "}]
["; MA Filter #1 properties","MA Filter #1 properties "]
["MA_Filter_1_Properties====================================================================================","MA Filter properties: "]
["MA_Filter_1_Type=0||0||0||4||N","Type ","8u below MA/ Sell above MA ",{"$f":"IF(Input!D390=\"\",Input!$C390,Input!D390)","v":"8u below MA/ Sell above MA "},{"$f":"IF(Input!E390=\"\",Input!$C390,Input!E390)","v":"8u below MA/ Sell above MA "},{"$f":"IF(Input!F390=\"\",Input!$C390,Input!F390)","v":"8u below MA/ Sell above MA "},{"$f":"IF(Input!G390=\"\",Input!$C390,Input!G390)","v":"8u below MA/ Sell above MA "},{"$f":"IF(Input!H390=\"\",Input!$C390,Input!H390)","v":"8u below MA/ Sell above MA "},{"$f":"IF(Input!I390=\"\",Input!$C390,Input!I390)","v":"8u below MA/ Sell above MA "},{"$f":"IF(Input!J390=\"\",Input!$C390,Input!J390)","v":"8u below MA/ Sell above MA "},{"$f":"IF(Input!K390=\"\",Input!$C390,Input!K390)","v":"8u below MA/ Sell above MA "},{"$f":"IF(Input!L390=\"\",Input!$C390,Input!L390)","v":"8u below MA/ Sell above MA "},{"$f":"IF(Input!M390=\"\",Input!$C390,Input!M390)","v":"8u below MA/ Sell above MA "}]
["MA_Filter_1_TF=0||0||0||49153||N","TimeFrame ","2 Minutes ",{"$f":"IF(Input!D391=\"\",Input!$C391,Input!D391)","v":"2 Minutes "},{"$f":"IF(Input!E391=\"\",Input!$C391,Input!E391)","v":"2 Minutes "},{"$f":"IF(Input!F391=\"\",Input!$C391,Input!F391)","v":"2 Minutes "},{"$f":"IF(Input!G391=\"\",Input!$C391,Input!G391)","v":"2 Minutes "},{"$f":"IF(Input!H391=\"\",Input!$C391,Input!H391)","v":"2 Minutes "},{"$f":"IF(Input!I391=\"\",Input!$C391,Input!I391)","v":"2 Minutes "},{"$f":"IF(Input!J391=\"\",Input!$C391,Input!J391)","v":"2 Minutes "},{"$f":"IF(Input!K391=\"\",Input!$C391,Input!K391)","v":"2 Minutes "},{"$f":"IF(Input!L391=\"\",Input!$C391,Input!L391)","v":"2 Minutes "},{"$f":"IF(Input!M391=\"\",Input!$C391,Input!M391)","v":"2 Minutes "}]
["MA_Filter_1_Period=50||50||1||500||N","MA Period ",0,{"$f":"IF(Input!D392=\"\",Input!$C392,Input!D392)","v":0},{"$f":"IF(Input!E392=\"\",Input!$C392,Input!E392)","v":0},{"$f":"IF(Input!F392=\"\",Input!$C392,Input!F392)","v":0},{"$f":"IF(Input!G392=\"\",Input!$C392,Input!G392)","v":0},{"$f":"IF(Input!H392=\"\",Input!$C392,Input!H392)","v":0},{"$f":"IF(Input!I392=\"\",Input!$C392,Input!I392)","v":0},{"$f":"IF(Input!J392=\"\",Input!$C392,Input!J392)","v":0},{"$f":"IF(Input!K392=\"\",Input!$C392,Input!K392)","v":0},{"$f":"IF(Input!L392=\"\",Input!$C392,Input!L392)","v":0},{"$f":"IF(Input!M392=\"\",Input!$C392,Input!M392)","v":0}]
["MA_Filter_1_Method=1||0||0||3||N","MA Method ","Linear weighted ",{"$f":"IF(Input!D393=\"\",Input!$C393,Input!D393)","v":"Linear weighted "},{"$f":"IF(Input!E393=\"\",Input!$C393,Input!E393)","v":"Linear weighted "},{"$f":"IF(Input!F393=\"\",Input!$C393,Input!F393)","v":"Linear weighted "},{"$f":"IF(Input!G393=\"\",Input!$C393,Input!G393)","v":"Linear weighted "},{"$f":"IF(Input!H393=\"\",Input!$C393,Input!H393)","v":"Linear weighted "},{"$f":"IF(Input!I393=\"\",Input!$C393,Input!I393)","v":"Linear weighted "},{"$f":"IF(Input!J393=\"\",Input!$C393,Input!J393)","v":"Linear weighted "},{"$f":"IF(Input!K393=\"\",Input!$C393,Input!K393)","v":"Linear weighted "},{"$f":"IF(Input!L393=\"\",Input!$C393,Input!L393)","v":"Linear weighted "},{"$f":"IF(Input!M393=\"\",Input!$C393,Input!M393)","v":"Linear weighted "}]
["MA_Filter_1_Price=1||1||0||7||N","Applied price ","High price ",{"$f":"IF(Input!D394=\"\",Input!$C394,Input!D394)","v":"High price "},{"$f":"IF(Input!E394=\"\",Input!$C394,Input!E394)","v":"High price "},{"$f":"IF(Input!F394=\"\",Input!$C394,Input!F394)","v":"High price "},{"$f":"IF(Input!G394=\"\",Input!$C394,Input!G394)","v":"High price "},{"$f":"IF(Input!H394=\"\",Input!$C394,Input!H394)","v":"High price "},{"$f":"IF(Input!I394=\"\",Input!$C394,Input!I394)","v":"High price "},{"$f":"IF(Input!J394=\"\",Input!$C394,Input!J394)","v":"High price "},{"$f":"IF(Input!K394=\"\",Input!$C394,Input!K394)","v":"High price "},{"$f":"IF(Input!L394=\"\",Input!$C394,Input!L394)","v":"High price "},{"$f":"IF(Input!M394=\"\",Input!$C394,Input!M394)","v":"High price "}]
["MA_Filter_1_DistType=0||0||0||1||N","Distance type ","Volatili  Coefficient ",{"$f":"IF(Input!D395=\"\",Input!$C395,Input!D395)","v":"Volatili  Coefficient "},{"$f":"IF(Input!E395=\"\",Input!$C395,Input!E395)","v":"Volatili  Coefficient "},{"$f":"IF(Input!F395=\"\",Input!$C395,Input!F395)","v":"Volatili  Coefficient "},{"$f":"IF(Input!G395=\"\",Input!$C395,Input!G395)","v":"Volatili  Coefficient "},{"$f":"IF(Input!H395=\"\",Input!$C395,Input!H395)","v":"Volatili  Coefficient "},{"$f":"IF(Input!I395=\"\",Input!$C395,Input!I395)","v":"Volatili  Coefficient "},{"$f":"IF(Input!J395=\"\",Input!$C395,Input!J395)","v":"Volatili  Coefficient "},{"$f":"IF(Input!K395=\"\",Input!$C395,Input!K395)","v":"Volatili  Coefficient "},{"$f":"IF(Input!L395=\"\",Input!$C395,Input!L395)","v":"Volatili  Coefficient "},{"$f":"IF(Input!M395=\"\",Input!$C395,Input!M395)","v":"Volatili  Coefficient "}]
["MA_Filter_1_DistCoef=0||0||0.000000||0.000000||N","Points / Coefficient ",0,{"$f":"IF(Input!D396=\"\",Input!$C396,Input!D396)","v":0},{"$f":"IF(Input!E396=\"\",Input!$C396,Input!E396)","v":0},{"$f":"IF(Input!F396=\"\",Input!$C396,Input!F396)","v":0},{"$f":"IF(Input!G396=\"\",Input!$C396,Input!G396)","v":0},{"$f":"IF(Input!H396=\"\",Input!$C396,Input!H396)","v":0},{"$f":"IF(Input!I396=\"\",Input!$C396,Input!I396)","v":0},{"$f":"IF(Input!J396=\"\",Input!$C396,Input!J396)","v":0},{"$f":"IF(Input!K396=\"\",Input!$C396,Input!K396)","v":0},{"$f":"IF(Input!L396=\"\",Input!$C396,Input!L396)","v":0},{"$f":"IF(Input!M396=\"\",Input!$C396,Input!M396)","v":0}]
["MA_Filter_1_OpenOn=0||0||0||3||N","Open on ","Ocn't use fcrc en ",{"$f":"IF(Input!D397=\"\",Input!$C397,Input!D397)","v":"Ocn't use fcrc en "},{"$f":"IF(Input!E397=\"\",Input!$C397,Input!E397)","v":"Ocn't use fcrc en "},{"$f":"IF(Input!F397=\"\",Input!$C397,Input!F397)","v":"Ocn't use fcrc en "},{"$f":"IF(Input!G397=\"\",Input!$C397,Input!G397)","v":"Ocn't use fcrc en "},{"$f":"IF(Input!H397=\"\",Input!$C397,Input!H397)","v":"Ocn't use fcrc en "},{"$f":"IF(Input!I397=\"\",Input!$C397,Input!I397)","v":"Ocn't use fcrc en "},{"$f":"IF(Input!J397=\"\",Input!$C397,Input!J397)","v":"Ocn't use fcrc en "},{"$f":"IF(Input!K397=\"\",Input!$C397,Input!K397)","v":"Ocn't use fcrc en "},{"$f":"IF(Input!L397=\"\",Input!$C397,Input!L397)","v":"Ocn't use fcrc en "},{"$f":"IF(Input!M397=\"\",Input!$C397,Input!M397)","v":"Ocn't use fcrc en "}]
["MA_Filter_1_MartinOn=0||0||0||3||N","Open martin on ","Open on Individual signal ",{"$f":"IF(Input!D398=\"\",Input!$C398,Input!D398)","v":"Open on Individual signal "},{"$f":"IF(Input!E398=\"\",Input!$C398,Input!E398)","v":"Open on Individual signal "},{"$f":"IF(Input!F398=\"\",Input!$C398,Input!F398)","v":"Open on Individual signal "},{"$f":"IF(Input!G398=\"\",Input!$C398,Input!G398)","v":"Open on Individual signal "},{"$f":"IF(Input!H398=\"\",Input!$C398,Input!H398)","v":"Open on Individual signal "},{"$f":"IF(Input!I398=\"\",Input!$C398,Input!I398)","v":"Open on Individual signal "},{"$f":"IF(Input!J398=\"\",Input!$C398,Input!J398)","v":"Open on Individual signal "},{"$f":"IF(Input!K398=\"\",Input!$C398,Input!K398)","v":"Open on Individual signal "},{"$f":"IF(Input!L398=\"\",Input!$C398,Input!L398)","v":"Open on Individual signal "},{"$f":"IF(Input!M398=\"\",Input!$C398,Input!M398)","v":"Open on Individual signal "}]
["MA_Filter_1_HedgeOn=0||0||0||3||N","Open hedge on ","Open on Individual signal ",{"$f":"IF(Input!D399=\"\",Input!$C399,Input!D399)","v":"Open on Individual signal "},{"$f":"IF(Input!E399=\"\",Input!$C399,Input!E399)","v":"Open on Individual signal "},{"$f":"IF(Input!F399=\"\",Input!$C399,Input!F399)","v":"Open on Individual signal "},{"$f":"IF(Input!G399=\"\",Input!$C399,Input!G399)","v":"Open on Individual signal "},{"$f":"IF(Input!H399=\"\",Input!$C399,Input!H399)","v":"Open on Individual signal "},{"$f":"IF(Input!I399=\"\",Input!$C399,Input!I399)","v":"Open on Individual signal "},{"$f":"IF(Input!J399=\"\",Input!$C399,Input!J399)","v":"Open on Individual signal "},{"$f":"IF(Input!K399=\"\",Input!$C399,Input!K399)","v":"Open on Individual signal "},{"$f":"IF(Input!L399=\"\",Input!$C399,Input!L399)","v":"Open on Individual signal "},{"$f":"IF(Input!M399=\"\",Input!$C399,Input!M399)","v":"Open on Individual signal "}]
["MA_Filter_1_CloseOn=0||0||0||4||N","Close on ","Close on Individual signal, in profit only ",{"$f":"IF(Input!D400=\"\",Input!$C400,Input!D400)","v":"Close on Individual signal, in profit only "},{"$f":"IF(Input!E400=\"\",Input!$C400,Input!E400)","v":"Close on Individual signal, in profit only "},{"$f":"IF(Input!F400=\"\",Input!$C400,Input!F400)","v":"Close on Individual signal, in profit only "},{"$f":"IF(Input!G400=\"\",Input!$C400,Input!G400)","v":"Close on Individual signal, in profit only "},{"$f":"IF(Input!H400=\"\",Input!$C400,Input!H400)","v":"Close on Individual signal, in profit only "},{"$f":"IF(Input!I400=\"\",Input!$C400,Input!I400)","v":"Close on Individual signal, in profit only "},{"$f":"IF(Input!J400=\"\",Input!$C400,Input!J400)","v":"Close on Individual signal, in profit only "},{"$f":"IF(Input!K400=\"\",Input!$C400,Input!K400)","v":"Close on Individual signal, in profit only "},{"$f":"IF(Input!L400=\"\",Input!$C400,Input!L400)","v":"Close on Individual signal, in profit only "},{"$f":"IF(Input!M400=\"\",Input!$C400,Input!M400)","v":"Close on Individual signal, in profit only "}]
["MA_Filter_1_PartialCloseOn=0||0||0||3||N","Partial close on ","Partial close on Individual signal ",{"$f":"IF(Input!D401=\"\",Input!$C401,Input!D401)","v":"Partial close on Individual signal "},{"$f":"IF(Input!E401=\"\",Input!$C401,Input!E401)","v":"Partial close on Individual signal "},{"$f":"IF(Input!F401=\"\",Input!$C401,Input!F401)","v":"Partial close on Individual signal "},{"$f":"IF(Input!G401=\"\",Input!$C401,Input!G401)","v":"Partial close on Individual signal "},{"$f":"IF(Input!H401=\"\",Input!$C401,Input!H401)","v":"Partial close on Individual signal "},{"$f":"IF(Input!I401=\"\",Input!$C401,Input!I401)","v":"Partial close on Individual signal "},{"$f":"IF(Input!J401=\"\",Input!$C401,Input!J401)","v":"Partial close on Individual signal "},{"$f":"IF(Input!K401=\"\",Input!$C401,Input!K401)","v":"Partial close on Individual signal "},{"$f":"IF(Input!L401=\"\",Input!$C401,Input!L401)","v":"Partial close on Individual signal "},{"$f":"IF(Input!M401=\"\",Input!$C401,Input!M401)","v":"Partial close on Individual signal "}]
["; MA Filter #2 properties","MA Filter #2 properties "]
["MA_Filter_2_Properties====================================================================================","MA Filter properties: "]
["MA_Filter_2_Type=0||0||0||4||N","Type ","8u below MA/ Sell above MA ",{"$f":"IF(Input!D404=\"\",Input!$C404,Input!D404)","v":"8u below MA/ Sell above MA "},{"$f":"IF(Input!E404=\"\",Input!$C404,Input!E404)","v":"8u below MA/ Sell above MA "},{"$f":"IF(Input!F404=\"\",Input!$C404,Input!F404)","v":"8u below MA/ Sell above MA "},{"$f":"IF(Input!G404=\"\",Input!$C404,Input!G404)","v":"8u below MA/ Sell above MA "},{"$f":"IF(Input!H404=\"\",Input!$C404,Input!H404)","v":"8u below MA/ Sell above MA "},{"$f":"IF(Input!I404=\"\",Input!$C404,Input!I404)","v":"8u below MA/ Sell above MA "},{"$f":"IF(Input!J404=\"\",Input!$C404,Input!J404)","v":"8u below MA/ Sell above MA "},{"$f":"IF(Input!K404=\"\",Input!$C404,Input!K404)","v":"8u below MA/ Sell above MA "},{"$f":"IF(Input!L404=\"\",Input!$C404,Input!L404)","v":"8u below MA/ Sell above MA "},{"$f":"IF(Input!M404=\"\",Input!$C404,Input!M404)","v":"8u below MA/ Sell above MA "}]
["MA_Filter_2_TF=0||0||0||49153||N","TimeFrame ","2 Minutes ",{"$f":"IF(Input!D405=\"\",Input!$C405,Input!D405)","v":"2 Minutes "},{"$f":"IF(Input!E405=\"\",Input!$C405,Input!E405)","v":"2 Minutes "},{"$f":"IF(Input!F405=\"\",Input!$C405,Input!F405)","v":"2 Minutes "},{"$f":"IF(Input!G405=\"\",Input!$C405,Input!G405)","v":"2 Minutes "},{"$f":"IF(Input!H405=\"\",Input!$C405,Input!H405)","v":"2 Minutes "},{"$f":"IF(Input!I405=\"\",Input!$C405,Input!I405)","v":"2 Minutes "},{"$f":"IF(Input!J405=\"\",Input!$C405,Input!J405)","v":"2 Minutes "},{"$f":"IF(Input!K405=\"\",Input!$C405,Input!K405)","v":"2 Minutes "},{"$f":"IF(Input!L405=\"\",Input!$C405,Input!L405)","v":"2 Minutes "},{"$f":"IF(Input!M405=\"\",Input!$C405,Input!M405)","v":"2 Minutes "}]
["MA_Filter_2_Period=50||50||1||500||N","MA Period ",0,{"$f":"IF(Input!D406=\"\",Input!$C406,Input!D406)","v":0},{"$f":"IF(Input!E406=\"\",Input!$C406,Input!E406)","v":0},{"$f":"IF(Input!F406=\"\",Input!$C406,Input!F406)","v":0},{"$f":"IF(Input!G406=\"\",Input!$C406,Input!G406)","v":0},{"$f":"IF(Input!H406=\"\",Input!$C406,Input!H406)","v":0},{"$f":"IF(Input!I406=\"\",Input!$C406,Input!I406)","v":0},{"$f":"IF(Input!J406=\"\",Input!$C406,Input!J406)","v":0},{"$f":"IF(Input!K406=\"\",Input!$C406,Input!K406)","v":0},{"$f":"IF(Input!L406=\"\",Input!$C406,Input!L406)","v":0},{"$f":"IF(Input!M406=\"\",Input!$C406,Input!M406)","v":0}]
["MA_Filter_2_Method=1||0||0||3||N","MA Method ","Linear weighted ",{"$f":"IF(Input!D407=\"\",Input!$C407,Input!D407)","v":"Linear weighted "},{"$f":"IF(Input!E407=\"\",Input!$C407,Input!E407)","v":"Linear weighted "},{"$f":"IF(Input!F407=\"\",Input!$C407,Input!F407)","v":"Linear weighted "},{"$f":"IF(Input!G407=\"\",Input!$C407,Input!G407)","v":"Linear weighted "},{"$f":"IF(Input!H407=\"\",Input!$C407,Input!H407)","v":"Linear weighted "},{"$f":"IF(Input!I407=\"\",Input!$C407,Input!I407)","v":"Linear weighted "},{"$f":"IF(Input!J407=\"\",Input!$C407,Input!J407)","v":"Linear weighted "},{"$f":"IF(Input!K407=\"\",Input!$C407,Input!K407)","v":"Linear weighted "},{"$f":"IF(Input!L407=\"\",Input!$C407,Input!L407)","v":"Linear weighted "},{"$f":"IF(Input!M407=\"\",Input!$C407,Input!M407)","v":"Linear weighted "}]
["MA_Filter_2_Price=1||1||0||7||N","Applied price ","High price ",{"$f":"IF(Input!D408=\"\",Input!$C408,Input!D408)","v":"High price "},{"$f":"IF(Input!E408=\"\",Input!$C408,Input!E408)","v":"High price "},{"$f":"IF(Input!F408=\"\",Input!$C408,Input!F408)","v":"High price "},{"$f":"IF(Input!G408=\"\",Input!$C408,Input!G408)","v":"High price "},{"$f":"IF(Input!H408=\"\",Input!$C408,Input!H408)","v":"High price "},{"$f":"IF(Input!I408=\"\",Input!$C408,Input!I408)","v":"High price "},{"$f":"IF(Input!J408=\"\",Input!$C408,Input!J408)","v":"High price "},{"$f":"IF(Input!K408=\"\",Input!$C408,Input!K408)","v":"High price "},{"$f":"IF(Input!L408=\"\",Input!$C408,Input!L408)","v":"High price "},{"$f":"IF(Input!M408=\"\",Input!$C408,Input!M408)","v":"High price "}]
["MA_Filter_2_DistType=0||0||0||1||N","Distance type ","Volatili  Coefficient ",{"$f":"IF(Input!D409=\"\",Input!$C409,Input!D409)","v":"Volatili  Coefficient "},{"$f":"IF(Input!E409=\"\",Input!$C409,Input!E409)","v":"Volatili  Coefficient "},{"$f":"IF(Input!F409=\"\",Input!$C409,Input!F409)","v":"Volatili  Coefficient "},{"$f":"IF(Input!G409=\"\",Input!$C409,Input!G409)","v":"Volatili  Coefficient "},{"$f":"IF(Input!H409=\"\",Input!$C409,Input!H409)","v":"Volatili  Coefficient "},{"$f":"IF(Input!I409=\"\",Input!$C409,Input!I409)","v":"Volatili  Coefficient "},{"$f":"IF(Input!J409=\"\",Input!$C409,Input!J409)","v":"Volatili  Coefficient "},{"$f":"IF(Input!K409=\"\",Input!$C409,Input!K409)","v":"Volatili  Coefficient "},{"$f":"IF(Input!L409=\"\",Input!$C409,Input!L409)","v":"Volatili  Coefficient "},{"$f":"IF(Input!M409=\"\",Input!$C409,Input!M409)","v":"Volatili  Coefficient "}]
["MA_Filter_2_DistCoef=0||0||0.000000||0.000000||N","Points / Coefficient ",0,{"$f":"IF(Input!D410=\"\",Input!$C410,Input!D410)","v":0},{"$f":"IF(Input!E410=\"\",Input!$C410,Input!E410)","v":0},{"$f":"IF(Input!F410=\"\",Input!$C410,Input!F410)","v":0},{"$f":"IF(Input!G410=\"\",Input!$C410,Input!G410)","v":0},{"$f":"IF(Input!H410=\"\",Input!$C410,Input!H410)","v":0},{"$f":"IF(Input!I410=\"\",Input!$C410,Input!I410)","v":0},{"$f":"IF(Input!J410=\"\",Input!$C410,Input!J410)","v":0},{"$f":"IF(Input!K410=\"\",Input!$C410,Input!K410)","v":0},{"$f":"IF(Input!L410=\"\",Input!$C410,Input!L410)","v":0},{"$f":"IF(Input!M410=\"\",Input!$C410,Input!M410)","v":0}]
["MA_Filter_2_OpenOn=0||0||0||3||N","Open on ","Ocn't use fcrc en ",{"$f":"IF(Input!D411=\"\",Input!$C411,Input!D411)","v":"Ocn't use fcrc en "},{"$f":"IF(Input!E411=\"\",Input!$C411,Input!E411)","v":"Ocn't use fcrc en "},{"$f":"IF(Input!F411=\"\",Input!$C411,Input!F411)","v":"Ocn't use fcrc en "},{"$f":"IF(Input!G411=\"\",Input!$C411,Input!G411)","v":"Ocn't use fcrc en "},{"$f":"IF(Input!H411=\"\",Input!$C411,Input!H411)","v":"Ocn't use fcrc en "},{"$f":"IF(Input!I411=\"\",Input!$C411,Input!I411)","v":"Ocn't use fcrc en "},{"$f":"IF(Input!J411=\"\",Input!$C411,Input!J411)","v":"Ocn't use fcrc en "},{"$f":"IF(Input!K411=\"\",Input!$C411,Input!K411)","v":"Ocn't use fcrc en "},{"$f":"IF(Input!L411=\"\",Input!$C411,Input!L411)","v":"Ocn't use fcrc en "},{"$f":"IF(Input!M411=\"\",Input!$C411,Input!M411)","v":"Ocn't use fcrc en "}]
["MA_Filter_2_MartinOn=0||0||0||3||N","Open martin on ","Open on Individual signal ",{"$f":"IF(Input!D412=\"\",Input!$C412,Input!D412)","v":"Open on Individual signal "},{"$f":"IF(Input!E412=\"\",Input!$C412,Input!E412)","v":"Open on Individual signal "},{"$f":"IF(Input!F412=\"\",Input!$C412,Input!F412)","v":"Open on Individual signal "},{"$f":"IF(Input!G412=\"\",Input!$C412,Input!G412)","v":"Open on Individual signal "},{"$f":"IF(Input!H412=\"\",Input!$C412,Input!H412)","v":"Open on Individual signal "},{"$f":"IF(Input!I412=\"\",Input!$C412,Input!I412)","v":"Open on Individual signal "},{"$f":"IF(Input!J412=\"\",Input!$C412,Input!J412)","v":"Open on Individual signal "},{"$f":"IF(Input!K412=\"\",Input!$C412,Input!K412)","v":"Open on Individual signal "},{"$f":"IF(Input!L412=\"\",Input!$C412,Input!L412)","v":"Open on Individual signal "},{"$f":"IF(Input!M412=\"\",Input!$C412,Input!M412)","v":"Open on Individual signal "}]
["MA_Filter_2_HedgeOn=0||0||0||3||N","Open hedge on ","Open on Individual signal ",{"$f":"IF(Input!D413=\"\",Input!$C413,Input!D413)","v":"Open on Individual signal "},{"$f":"IF(Input!E413=\"\",Input!$C413,Input!E413)","v":"Open on Individual signal "},{"$f":"IF(Input!F413=\"\",Input!$C413,Input!F413)","v":"Open on Individual signal "},{"$f":"IF(Input!G413=\"\",Input!$C413,Input!G413)","v":"Open on Individual signal "},{"$f":"IF(Input!H413=\"\",Input!$C413,Input!H413)","v":"Open on Individual signal "},{"$f":"IF(Input!I413=\"\",Input!$C413,Input!I413)","v":"Open on Individual signal "},{"$f":"IF(Input!J413=\"\",Input!$C413,Input!J413)","v":"Open on Individual signal "},{"$f":"IF(Input!K413=\"\",Input!$C413,Input!K413)","v":"Open on Individual signal "},{"$f":"IF(Input!L413=\"\",Input!$C413,Input!L413)","v":"Open on Individual signal "},{"$f":"IF(Input!M413=\"\",Input!$C413,Input!M413)","v":"Open on Individual signal "}]
["MA_Filter_2_CloseOn=0||0||0||4||N","Close on ","Close on Individual signal, in profit only ",{"$f":"IF(Input!D414=\"\",Input!$C414,Input!D414)","v":"Close on Individual signal, in profit only "},{"$f":"IF(Input!E414=\"\",Input!$C414,Input!E414)","v":"Close on Individual signal, in profit only "},{"$f":"IF(Input!F414=\"\",Input!$C414,Input!F414)","v":"Close on Individual signal, in profit only "},{"$f":"IF(Input!G414=\"\",Input!$C414,Input!G414)","v":"Close on Individual signal, in profit only "},{"$f":"IF(Input!H414=\"\",Input!$C414,Input!H414)","v":"Close on Individual signal, in profit only "},{"$f":"IF(Input!I414=\"\",Input!$C414,Input!I414)","v":"Close on Individual signal, in profit only "},{"$f":"IF(Input!J414=\"\",Input!$C414,Input!J414)","v":"Close on Individual signal, in profit only "},{"$f":"IF(Input!K414=\"\",Input!$C414,Input!K414)","v":"Close on Individual signal, in profit only "},{"$f":"IF(Input!L414=\"\",Input!$C414,Input!L414)","v":"Close on Individual signal, in profit only "},{"$f":"IF(Input!M414=\"\",Input!$C414,Input!M414)","v":"Close on Individual signal, in profit only "}]
["MA_Filter_2_PartialCloseOn=0||0||0||3||N","Partial close on ","Partial close on Individual signal ",{"$f":"IF(Input!D415=\"\",Input!$C415,Input!D415)","v":"Partial close on Individual signal "},{"$f":"IF(Input!E415=\"\",Input!$C415,Input!E415)","v":"Partial close on Individual signal "},{"$f":"IF(Input!F415=\"\",Input!$C415,Input!F415)","v":"Partial close on Individual signal "},{"$f":"IF(Input!G415=\"\",Input!$C415,Input!G415)","v":"Partial close on Individual signal "},{"$f":"IF(Input!H415=\"\",Input!$C415,Input!H415)","v":"Partial close on Individual signal "},{"$f":"IF(Input!I415=\"\",Input!$C415,Input!I415)","v":"Partial close on Individual signal "},{"$f":"IF(Input!J415=\"\",Input!$C415,Input!J415)","v":"Partial close on Individual signal "},{"$f":"IF(Input!K415=\"\",Input!$C415,Input!K415)","v":"Partial close on Individual signal "},{"$f":"IF(Input!L415=\"\",Input!$C415,Input!L415)","v":"Partial close on Individual signal "},{"$f":"IF(Input!M415=\"\",Input!$C415,Input!M415)","v":"Partial close on Individual signal "}]
["; MA Filter #3 properties","MA Filter #3 properties "]
["MA_Filter_3_Properties====================================================================================","MA Filter properties: "]
["MA_Filter_3_Type=0||0||0||4||N","Type ","8u below MA/ Sell above MA ",{"$f":"IF(Input!D418=\"\",Input!$C418,Input!D418)","v":"8u below MA/ Sell above MA "},{"$f":"IF(Input!E418=\"\",Input!$C418,Input!E418)","v":"8u below MA/ Sell above MA "},{"$f":"IF(Input!F418=\"\",Input!$C418,Input!F418)","v":"8u below MA/ Sell above MA "},{"$f":"IF(Input!G418=\"\",Input!$C418,Input!G418)","v":"8u below MA/ Sell above MA "},{"$f":"IF(Input!H418=\"\",Input!$C418,Input!H418)","v":"8u below MA/ Sell above MA "},{"$f":"IF(Input!I418=\"\",Input!$C418,Input!I418)","v":"8u below MA/ Sell above MA "},{"$f":"IF(Input!J418=\"\",Input!$C418,Input!J418)","v":"8u below MA/ Sell above MA "},{"$f":"IF(Input!K418=\"\",Input!$C418,Input!K418)","v":"8u below MA/ Sell above MA "},{"$f":"IF(Input!L418=\"\",Input!$C418,Input!L418)","v":"8u below MA/ Sell above MA "},{"$f":"IF(Input!M418=\"\",Input!$C418,Input!M418)","v":"8u below MA/ Sell above MA "}]
["MA_Filter_3_TF=0||0||0||49153||N","TimeFrame ","2 Minutes ",{"$f":"IF(Input!D419=\"\",Input!$C419,Input!D419)","v":"2 Minutes "},{"$f":"IF(Input!E419=\"\",Input!$C419,Input!E419)","v":"2 Minutes "},{"$f":"IF(Input!F419=\"\",Input!$C419,Input!F419)","v":"2 Minutes "},{"$f":"IF(Input!G419=\"\",Input!$C419,Input!G419)","v":"2 Minutes "},{"$f":"IF(Input!H419=\"\",Input!$C419,Input!H419)","v":"2 Minutes "},{"$f":"IF(Input!I419=\"\",Input!$C419,Input!I419)","v":"2 Minutes "},{"$f":"IF(Input!J419=\"\",Input!$C419,Input!J419)","v":"2 Minutes "},{"$f":"IF(Input!K419=\"\",Input!$C419,Input!K419)","v":"2 Minutes "},{"$f":"IF(Input!L419=\"\",Input!$C419,Input!L419)","v":"2 Minutes "},{"$f":"IF(Input!M419=\"\",Input!$C419,Input!M419)","v":"2 Minutes "}]
["MA_Filter_3_Period=50||50||1||500||N","MA Period ",0,{"$f":"IF(Input!D420=\"\",Input!$C420,Input!D420)","v":0},{"$f":"IF(Input!E420=\"\",Input!$C420,Input!E420)","v":0},{"$f":"IF(Input!F420=\"\",Input!$C420,Input!F420)","v":0},{"$f":"IF(Input!G420=\"\",Input!$C420,Input!G420)","v":0},{"$f":"IF(Input!H420=\"\",Input!$C420,Input!H420)","v":0},{"$f":"IF(Input!I420=\"\",Input!$C420,Input!I420)","v":0},{"$f":"IF(Input!J420=\"\",Input!$C420,Input!J420)","v":0},{"$f":"IF(Input!K420=\"\",Input!$C420,Input!K420)","v":0},{"$f":"IF(Input!L420=\"\",Input!$C420,Input!L420)","v":0},{"$f":"IF(Input!M420=\"\",Input!$C420,Input!M420)","v":0}]
["MA_Filter_3_Method=1||0||0||3||N","MA Method ","Linear weighted ",{"$f":"IF(Input!D421=\"\",Input!$C421,Input!D421)","v":"Linear weighted "},{"$f":"IF(Input!E421=\"\",Input!$C421,Input!E421)","v":"Linear weighted "},{"$f":"IF(Input!F421=\"\",Input!$C421,Input!F421)","v":"Linear weighted "},{"$f":"IF(Input!G421=\"\",Input!$C421,Input!G421)","v":"Linear weighted "},{"$f":"IF(Input!H421=\"\",Input!$C421,Input!H421)","v":"Linear weighted "},{"$f":"IF(Input!I421=\"\",Input!$C421,Input!I421)","v":"Linear weighted "},{"$f":"IF(Input!J421=\"\",Input!$C421,Input!J421)","v":"Linear weighted "},{"$f":"IF(Input!K421=\"\",Input!$C421,Input!K421)","v":"Linear weighted "},{"$f":"IF(Input!L421=\"\",Input!$C421,Input!L421)","v":"Linear weighted "},{"$f":"IF(Input!M421=\"\",Input!$C421,Input!M421)","v":"Linear weighted "}]
["MA_Filter_3_Price=1||1||0||7||N","Applied price ","High price ",{"$f":"IF(Input!D422=\"\",Input!$C422,Input!D422)","v":"High price "},{"$f":"IF(Input!E422=\"\",Input!$C422,Input!E422)","v":"High price "},{"$f":"IF(Input!F422=\"\",Input!$C422,Input!F422)","v":"High price "},{"$f":"IF(Input!G422=\"\",Input!$C422,Input!G422)","v":"High price "},{"$f":"IF(Input!H422=\"\",Input!$C422,Input!H422)","v":"High price "},{"$f":"IF(Input!I422=\"\",Input!$C422,Input!I422)","v":"High price "},{"$f":"IF(Input!J422=\"\",Input!$C422,Input!J422)","v":"High price "},{"$f":"IF(Input!K422=\"\",Input!$C422,Input!K422)","v":"High price "},{"$f":"IF(Input!L422=\"\",Input!$C422,Input!L422)","v":"High price "},{"$f":"IF(Input!M422=\"\",Input!$C422,Input!M422)","v":"High price "}]
["MA_Filter_3_DistType=0||0||0||1||N","Distance type ","Volatili  Coefficient ",{"$f":"IF(Input!D423=\"\",Input!$C423,Input!D423)","v":"Volatili  Coefficient "},{"$f":"IF(Input!E423=\"\",Input!$C423,Input!E423)","v":"Volatili  Coefficient "},{"$f":"IF(Input!F423=\"\",Input!$C423,Input!F423)","v":"Volatili  Coefficient "},{"$f":"IF(Input!G423=\"\",Input!$C423,Input!G423)","v":"Volatili  Coefficient "},{"$f":"IF(Input!H423=\"\",Input!$C423,Input!H423)","v":"Volatili  Coefficient "},{"$f":"IF(Input!I423=\"\",Input!$C423,Input!I423)","v":"Volatili  Coefficient "},{"$f":"IF(Input!J423=\"\",Input!$C423,Input!J423)","v":"Volatili  Coefficient "},{"$f":"IF(Input!K423=\"\",Input!$C423,Input!K423)","v":"Volatili  Coefficient "},{"$f":"IF(Input!L423=\"\",Input!$C423,Input!L423)","v":"Volatili  Coefficient "},{"$f":"IF(Input!M423=\"\",Input!$C423,Input!M423)","v":"Volatili  Coefficient "}]
["MA_Filter_3_DistCoef=0||0||0.000000||0.000000||N","Points / Coefficient ",0,{"$f":"IF(Input!D424=\"\",Input!$C424,Input!D424)","v":0},{"$f":"IF(Input!E424=\"\",Input!$C424,Input!E424)","v":0},{"$f":"IF(Input!F424=\"\",Input!$C424,Input!F424)","v":0},{"$f":"IF(Input!G424=\"\",Input!$C424,Input!G424)","v":0},{"$f":"IF(Input!H424=\"\",Input!$C424,Input!H424)","v":0},{"$f":"IF(Input!I424=\"\",Input!$C424,Input!I424)","v":0},{"$f":"IF(Input!J424=\"\",Input!$C424,Input!J424)","v":0},{"$f":"IF(Input!K424=\"\",Input!$C424,Input!K424)","v":0},{"$f":"IF(Input!L424=\"\",Input!$C424,Input!L424)","v":0},{"$f":"IF(Input!M424=\"\",Input!$C424,Input!M424)","v":0}]
["MA_Filter_3_OpenOn=0||0||0||3||N","Open on ","Ocn't use fcrc en ",{"$f":"IF(Input!D425=\"\",Input!$C425,Input!D425)","v":"Ocn't use fcrc en "},{"$f":"IF(Input!E425=\"\",Input!$C425,Input!E425)","v":"Ocn't use fcrc en "},{"$f":"IF(Input!F425=\"\",Input!$C425,Input!F425)","v":"Ocn't use fcrc en "},{"$f":"IF(Input!G425=\"\",Input!$C425,Input!G425)","v":"Ocn't use fcrc en "},{"$f":"IF(Input!H425=\"\",Input!$C425,Input!H425)","v":"Ocn't use fcrc en "},{"$f":"IF(Input!I425=\"\",Input!$C425,Input!I425)","v":"Ocn't use fcrc en "},{"$f":"IF(Input!J425=\"\",Input!$C425,Input!J425)","v":"Ocn't use fcrc en "},{"$f":"IF(Input!K425=\"\",Input!$C425,Input!K425)","v":"Ocn't use fcrc en "},{"$f":"IF(Input!L425=\"\",Input!$C425,Input!L425)","v":"Ocn't use fcrc en "},{"$f":"IF(Input!M425=\"\",Input!$C425,Input!M425)","v":"Ocn't use fcrc en "}]
["MA_Filter_3_MartinOn=0||0||0||3||N","Open martin on ","Open on Individual signal ",{"$f":"IF(Input!D426=\"\",Input!$C426,Input!D426)","v":"Open on Individual signal "},{"$f":"IF(Input!E426=\"\",Input!$C426,Input!E426)","v":"Open on Individual signal "},{"$f":"IF(Input!F426=\"\",Input!$C426,Input!F426)","v":"Open on Individual signal "},{"$f":"IF(Input!G426=\"\",Input!$C426,Input!G426)","v":"Open on Individual signal "},{"$f":"IF(Input!H426=\"\",Input!$C426,Input!H426)","v":"Open on Individual signal "},{"$f":"IF(Input!I426=\"\",Input!$C426,Input!I426)","v":"Open on Individual signal "},{"$f":"IF(Input!J426=\"\",Input!$C426,Input!J426)","v":"Open on Individual signal "},{"$f":"IF(Input!K426=\"\",Input!$C426,Input!K426)","v":"Open on Individual signal "},{"$f":"IF(Input!L426=\"\",Input!$C426,Input!L426)","v":"Open on Individual signal "},{"$f":"IF(Input!M426=\"\",Input!$C426,Input!M426)","v":"Open on Individual signal "}]
["MA_Filter_3_HedgeOn=0||0||0||3||N","Open hedge on ","Open on Individual signal ",{"$f":"IF(Input!D427=\"\",Input!$C427,Input!D427)","v":"Open on Individual signal "},{"$f":"IF(Input!E427=\"\",Input!$C427,Input!E427)","v":"Open on Individual signal "},{"$f":"IF(Input!F427=\"\",Input!$C427,Input!F427)","v":"Open on Individual signal "},{"$f":"IF(Input!G427=\"\",Input!$C427,Input!G427)","v":"Open on Individual signal "},{"$f":"IF(Input!H427=\"\",Input!$C427,Input!H427)","v":"Open on Individual signal "},{"$f":"IF(Input!I427=\"\",Input!$C427,Input!I427)","v":"Open on Individual signal "},{"$f":"IF(Input!J427=\"\",Input!$C427,Input!J427)","v":"Open on Individual signal "},{"$f":"IF(Input!K427=\"\",Input!$C427,Input!K427)","v":"Open on Individual signal "},{"$f":"IF(Input!L427=\"\",Input!$C427,Input!L427)","v":"Open on Individual signal "},{"$f":"IF(Input!M427=\"\",Input!$C427,Input!M427)","v":"Open on Individual signal "}]
["MA_Filter_3_CloseOn=0||0||0||4||N","Close on ","Close on Individual signal, in profit only ",{"$f":"IF(Input!D428=\"\",Input!$C428,Input!D428)","v":"Close on Individual signal, in profit only "},{"$f":"IF(Input!E428=\"\",Input!$C428,Input!E428)","v":"Close on Individual signal, in profit only "},{"$f":"IF(Input!F428=\"\",Input!$C428,Input!F428)","v":"Close on Individual signal, in profit only "},{"$f":"IF(Input!G428=\"\",Input!$C428,Input!G428)","v":"Close on Individual signal, in profit only "},{"$f":"IF(Input!H428=\"\",Input!$C428,Input!H428)","v":"Close on Individual signal, in profit only "},{"$f":"IF(Input!I428=\"\",Input!$C428,Input!I428)","v":"Close on Individual signal, in profit only "},{"$f":"IF(Input!J428=\"\",Input!$C428,Input!J428)","v":"Close on Individual signal, in profit only "},{"$f":"IF(Input!K428=\"\",Input!$C428,Input!K428)","v":"Close on Individual signal, in profit only "},{"$f":"IF(Input!L428=\"\",Input!$C428,Input!L428)","v":"Close on Individual signal, in profit only "},{"$f":"IF(Input!M428=\"\",Input!$C428,Input!M428)","v":"Close on Individual signal, in profit only "}]
["MA_Filter_3_PartialCloseOn=0||0||0||3||N","Partial close on ","Partial close on Individual signal ",{"$f":"IF(Input!D429=\"\",Input!$C429,Input!D429)","v":"Partial close on Individual signal "},{"$f":"IF(Input!E429=\"\",Input!$C429,Input!E429)","v":"Partial close on Individual signal "},{"$f":"IF(Input!F429=\"\",Input!$C429,Input!F429)","v":"Partial close on Individual signal "},{"$f":"IF(Input!G429=\"\",Input!$C429,Input!G429)","v":"Partial close on Individual signal "},{"$f":"IF(Input!H429=\"\",Input!$C429,Input!H429)","v":"Partial close on Individual signal "},{"$f":"IF(Input!I429=\"\",Input!$C429,Input!I429)","v":"Partial close on Individual signal "},{"$f":"IF(Input!J429=\"\",Input!$C429,Input!J429)","v":"Partial close on Individual signal "},{"$f":"IF(Input!K429=\"\",Input!$C429,Input!K429)","v":"Partial close on Individual signal "},{"$f":"IF(Input!L429=\"\",Input!$C429,Input!L429)","v":"Partial close on Individual signal "},{"$f":"IF(Input!M429=\"\",Input!$C429,Input!M429)","v":"Partial close on Individual signal "}]
["; ZZ properties","ZZ properties "]
["ZZ_Properties====================================================================================","ZZ propefties: "]
["ZZ_Type=0||0||0||4||N","* ZZ filter type ","Extremum break ",{"$f":"IF(Input!D432=\"\",Input!$C432,Input!D432)","v":"Extremum break "},{"$f":"IF(Input!E432=\"\",Input!$C432,Input!E432)","v":"Extremum break "},{"$f":"IF(Input!F432=\"\",Input!$C432,Input!F432)","v":"Extremum break "},{"$f":"IF(Input!G432=\"\",Input!$C432,Input!G432)","v":"Extremum break "},{"$f":"IF(Input!H432=\"\",Input!$C432,Input!H432)","v":"Extremum break "},{"$f":"IF(Input!I432=\"\",Input!$C432,Input!I432)","v":"Extremum break "},{"$f":"IF(Input!J432=\"\",Input!$C432,Input!J432)","v":"Extremum break "},{"$f":"IF(Input!K432=\"\",Input!$C432,Input!K432)","v":"Extremum break "},{"$f":"IF(Input!L432=\"\",Input!$C432,Input!L432)","v":"Extremum break "},{"$f":"IF(Input!M432=\"\",Input!$C432,Input!M432)","v":"Extremum break "}]
["ZZ_TF=0||0||0||49153||N","TimeFrame ","2 Minutes ",{"$f":"IF(Input!D433=\"\",Input!$C433,Input!D433)","v":"2 Minutes "},{"$f":"IF(Input!E433=\"\",Input!$C433,Input!E433)","v":"2 Minutes "},{"$f":"IF(Input!F433=\"\",Input!$C433,Input!F433)","v":"2 Minutes "},{"$f":"IF(Input!G433=\"\",Input!$C433,Input!G433)","v":"2 Minutes "},{"$f":"IF(Input!H433=\"\",Input!$C433,Input!H433)","v":"2 Minutes "},{"$f":"IF(Input!I433=\"\",Input!$C433,Input!I433)","v":"2 Minutes "},{"$f":"IF(Input!J433=\"\",Input!$C433,Input!J433)","v":"2 Minutes "},{"$f":"IF(Input!K433=\"\",Input!$C433,Input!K433)","v":"2 Minutes "},{"$f":"IF(Input!L433=\"\",Input!$C433,Input!L433)","v":"2 Minutes "},{"$f":"IF(Input!M433=\"\",Input!$C433,Input!M433)","v":"2 Minutes "}]
["ZZ_Period=12||2||1||20||Y","* Penod ",0,{"$f":"IF(Input!D434=\"\",Input!$C434,Input!D434)","v":0},{"$f":"IF(Input!E434=\"\",Input!$C434,Input!E434)","v":0},{"$f":"IF(Input!F434=\"\",Input!$C434,Input!F434)","v":0},{"$f":"IF(Input!G434=\"\",Input!$C434,Input!G434)","v":0},{"$f":"IF(Input!H434=\"\",Input!$C434,Input!H434)","v":0},{"$f":"IF(Input!I434=\"\",Input!$C434,Input!I434)","v":0},{"$f":"IF(Input!J434=\"\",Input!$C434,Input!J434)","v":0},{"$f":"IF(Input!K434=\"\",Input!$C434,Input!K434)","v":0},{"$f":"IF(Input!L434=\"\",Input!$C434,Input!L434)","v":0},{"$f":"IF(Input!M434=\"\",Input!$C434,Input!M434)","v":0}]
["ZZ_MinAmplitude=10||10||1||100||N","• Min Amplitude ",0,{"$f":"IF(Input!D435=\"\",Input!$C435,Input!D435)","v":0},{"$f":"IF(Input!E435=\"\",Input!$C435,Input!E435)","v":0},{"$f":"IF(Input!F435=\"\",Input!$C435,Input!F435)","v":0},{"$f":"IF(Input!G435=\"\",Input!$C435,Input!G435)","v":0},{"$f":"IF(Input!H435=\"\",Input!$C435,Input!H435)","v":0},{"$f":"IF(Input!I435=\"\",Input!$C435,Input!I435)","v":0},{"$f":"IF(Input!J435=\"\",Input!$C435,Input!J435)","v":0},{"$f":"IF(Input!K435=\"\",Input!$C435,Input!K435)","v":0},{"$f":"IF(Input!L435=\"\",Input!$C435,Input!L435)","v":0},{"$f":"IF(Input!M435=\"\",Input!$C435,Input!M435)","v":0}]
["ZZ_MinMotion=0||0||1||10||N","Min Motion ",0,{"$f":"IF(Input!D436=\"\",Input!$C436,Input!D436)","v":0},{"$f":"IF(Input!E436=\"\",Input!$C436,Input!E436)","v":0},{"$f":"IF(Input!F436=\"\",Input!$C436,Input!F436)","v":0},{"$f":"IF(Input!G436=\"\",Input!$C436,Input!G436)","v":0},{"$f":"IF(Input!H436=\"\",Input!$C436,Input!H436)","v":0},{"$f":"IF(Input!I436=\"\",Input!$C436,Input!I436)","v":0},{"$f":"IF(Input!J436=\"\",Input!$C436,Input!J436)","v":0},{"$f":"IF(Input!K436=\"\",Input!$C436,Input!K436)","v":0},{"$f":"IF(Input!L436=\"\",Input!$C436,Input!L436)","v":0},{"$f":"IF(Input!M436=\"\",Input!$C436,Input!M436)","v":0}]
["ZZ_DistanceType=0||0||0||2||N","Distance type ","Volatility coefficient ",{"$f":"IF(Input!D437=\"\",Input!$C437,Input!D437)","v":"Volatility coefficient "},{"$f":"IF(Input!E437=\"\",Input!$C437,Input!E437)","v":"Volatility coefficient "},{"$f":"IF(Input!F437=\"\",Input!$C437,Input!F437)","v":"Volatility coefficient "},{"$f":"IF(Input!G437=\"\",Input!$C437,Input!G437)","v":"Volatility coefficient "},{"$f":"IF(Input!H437=\"\",Input!$C437,Input!H437)","v":"Volatility coefficient "},{"$f":"IF(Input!I437=\"\",Input!$C437,Input!I437)","v":"Volatility coefficient "},{"$f":"IF(Input!J437=\"\",Input!$C437,Input!J437)","v":"Volatility coefficient "},{"$f":"IF(Input!K437=\"\",Input!$C437,Input!K437)","v":"Volatility coefficient "},{"$f":"IF(Input!L437=\"\",Input!$C437,Input!L437)","v":"Volatility coefficient "},{"$f":"IF(Input!M437=\"\",Input!$C437,Input!M437)","v":"Volatility coefficient "}]
["ZZ_SignalDistCoeff=0||0||0.000000||0.000000||N","Points / Coefficient ",0,{"$f":"IF(Input!D438=\"\",Input!$C438,Input!D438)","v":0},{"$f":"IF(Input!E438=\"\",Input!$C438,Input!E438)","v":0},{"$f":"IF(Input!F438=\"\",Input!$C438,Input!F438)","v":0},{"$f":"IF(Input!G438=\"\",Input!$C438,Input!G438)","v":0},{"$f":"IF(Input!H438=\"\",Input!$C438,Input!H438)","v":0},{"$f":"IF(Input!I438=\"\",Input!$C438,Input!I438)","v":0},{"$f":"IF(Input!J438=\"\",Input!$C438,Input!J438)","v":0},{"$f":"IF(Input!K438=\"\",Input!$C438,Input!K438)","v":0},{"$f":"IF(Input!L438=\"\",Input!$C438,Input!L438)","v":0},{"$f":"IF(Input!M438=\"\",Input!$C438,Input!M438)","v":0}]
["ZZ_UsePrevExtremums=false||false||0||true||N","Use previous unbroken artremums ",false,{"$f":"IF(Input!D439=\"\",Input!$C439,Input!D439)","v":false},{"$f":"IF(Input!E439=\"\",Input!$C439,Input!E439)","v":false},{"$f":"IF(Input!F439=\"\",Input!$C439,Input!F439)","v":false},{"$f":"IF(Input!G439=\"\",Input!$C439,Input!G439)","v":false},{"$f":"IF(Input!H439=\"\",Input!$C439,Input!H439)","v":false},{"$f":"IF(Input!I439=\"\",Input!$C439,Input!I439)","v":false},{"$f":"IF(Input!J439=\"\",Input!$C439,Input!J439)","v":false},{"$f":"IF(Input!K439=\"\",Input!$C439,Input!K439)","v":false},{"$f":"IF(Input!L439=\"\",Input!$C439,Input!L439)","v":false},{"$f":"IF(Input!M439=\"\",Input!$C439,Input!M439)","v":false}]
["ZZ_Reverse=false||false||0||true||N","Reverse mode ",false,{"$f":"IF(Input!D440=\"\",Input!$C440,Input!D440)","v":false},{"$f":"IF(Input!E440=\"\",Input!$C440,Input!E440)","v":false},{"$f":"IF(Input!F440=\"\",Input!$C440,Input!F440)","v":false},{"$f":"IF(Input!G440=\"\",Input!$C440,Input!G440)","v":false},{"$f":"IF(Input!H440=\"\",Input!$C440,Input!H440)","v":false},{"$f":"IF(Input!I440=\"\",Input!$C440,Input!I440)","v":false},{"$f":"IF(Input!J440=\"\",Input!$C440,Input!J440)","v":false},{"$f":"IF(Input!K440=\"\",Input!$C440,Input!K440)","v":false},{"$f":"IF(Input!L440=\"\",Input!$C440,Input!L440)","v":false},{"$f":"IF(Input!M440=\"\",Input!$C440,Input!M440)","v":false}]
["ZZ_UseClosedBars=false||false||0||true||N","• Use closed bars only ",false,{"$f":"IF(Input!D441=\"\",Input!$C441,Input!D441)","v":false},{"$f":"IF(Input!E441=\"\",Input!$C441,Input!E441)","v":false},{"$f":"IF(Input!F441=\"\",Input!$C441,Input!F441)","v":false},{"$f":"IF(Input!G441=\"\",Input!$C441,Input!G441)","v":false},{"$f":"IF(Input!H441=\"\",Input!$C441,Input!H441)","v":false},{"$f":"IF(Input!I441=\"\",Input!$C441,Input!I441)","v":false},{"$f":"IF(Input!J441=\"\",Input!$C441,Input!J441)","v":false},{"$f":"IF(Input!K441=\"\",Input!$C441,Input!K441)","v":false},{"$f":"IF(Input!L441=\"\",Input!$C441,Input!L441)","v":false},{"$f":"IF(Input!M441=\"\",Input!$C441,Input!M441)","v":false}]
["ZZ_OpenOn=0||0||0||3||N","Open on ","Ocn't use fcrc en ",{"$f":"IF(Input!D442=\"\",Input!$C442,Input!D442)","v":"Ocn't use fcrc en "},{"$f":"IF(Input!E442=\"\",Input!$C442,Input!E442)","v":"Ocn't use fcrc en "},{"$f":"IF(Input!F442=\"\",Input!$C442,Input!F442)","v":"Ocn't use fcrc en "},{"$f":"IF(Input!G442=\"\",Input!$C442,Input!G442)","v":"Ocn't use fcrc en "},{"$f":"IF(Input!H442=\"\",Input!$C442,Input!H442)","v":"Ocn't use fcrc en "},{"$f":"IF(Input!I442=\"\",Input!$C442,Input!I442)","v":"Ocn't use fcrc en "},{"$f":"IF(Input!J442=\"\",Input!$C442,Input!J442)","v":"Ocn't use fcrc en "},{"$f":"IF(Input!K442=\"\",Input!$C442,Input!K442)","v":"Ocn't use fcrc en "},{"$f":"IF(Input!L442=\"\",Input!$C442,Input!L442)","v":"Ocn't use fcrc en "},{"$f":"IF(Input!M442=\"\",Input!$C442,Input!M442)","v":"Ocn't use fcrc en "}]
["ZZ_MartinOn=0||0||0||3||N","* Open martin on ","Open on Individual signal ",{"$f":"IF(Input!D443=\"\",Input!$C443,Input!D443)","v":"Open on Individual signal "},{"$f":"IF(Input!E443=\"\",Input!$C443,Input!E443)","v":"Open on Individual signal "},{"$f":"IF(Input!F443=\"\",Input!$C443,Input!F443)","v":"Open on Individual signal "},{"$f":"IF(Input!G443=\"\",Input!$C443,Input!G443)","v":"Open on Individual signal "},{"$f":"IF(Input!H443=\"\",Input!$C443,Input!H443)","v":"Open on Individual signal "},{"$f":"IF(Input!I443=\"\",Input!$C443,Input!I443)","v":"Open on Individual signal "},{"$f":"IF(Input!J443=\"\",Input!$C443,Input!J443)","v":"Open on Individual signal "},{"$f":"IF(Input!K443=\"\",Input!$C443,Input!K443)","v":"Open on Individual signal "},{"$f":"IF(Input!L443=\"\",Input!$C443,Input!L443)","v":"Open on Individual signal "},{"$f":"IF(Input!M443=\"\",Input!$C443,Input!M443)","v":"Open on Individual signal "}]
["ZZ_HedgeOn=0||0||0||3||N","• Open hedge on ","Open on Individual signal ",{"$f":"IF(Input!D444=\"\",Input!$C444,Input!D444)","v":"Open on Individual signal "},{"$f":"IF(Input!E444=\"\",Input!$C444,Input!E444)","v":"Open on Individual signal "},{"$f":"IF(Input!F444=\"\",Input!$C444,Input!F444)","v":"Open on Individual signal "},{"$f":"IF(Input!G444=\"\",Input!$C444,Input!G444)","v":"Open on Individual signal "},{"$f":"IF(Input!H444=\"\",Input!$C444,Input!H444)","v":"Open on Individual signal "},{"$f":"IF(Input!I444=\"\",Input!$C444,Input!I444)","v":"Open on Individual signal "},{"$f":"IF(Input!J444=\"\",Input!$C444,Input!J444)","v":"Open on Individual signal "},{"$f":"IF(Input!K444=\"\",Input!$C444,Input!K444)","v":"Open on Individual signal "},{"$f":"IF(Input!L444=\"\",Input!$C444,Input!L444)","v":"Open on Individual signal "},{"$f":"IF(Input!M444=\"\",Input!$C444,Input!M444)","v":"Open on Individual signal "}]
["ZZ_CloseOn=0||0||0||4||N","Close on ","Close on Individual signal, in profit only ",{"$f":"IF(Input!D445=\"\",Input!$C445,Input!D445)","v":"Close on Individual signal, in profit only "},{"$f":"IF(Input!E445=\"\",Input!$C445,Input!E445)","v":"Close on Individual signal, in profit only "},{"$f":"IF(Input!F445=\"\",Input!$C445,Input!F445)","v":"Close on Individual signal, in profit only "},{"$f":"IF(Input!G445=\"\",Input!$C445,Input!G445)","v":"Close on Individual signal, in profit only "},{"$f":"IF(Input!H445=\"\",Input!$C445,Input!H445)","v":"Close on Individual signal, in profit only "},{"$f":"IF(Input!I445=\"\",Input!$C445,Input!I445)","v":"Close on Individual signal, in profit only "},{"$f":"IF(Input!J445=\"\",Input!$C445,Input!J445)","v":"Close on Individual signal, in profit only "},{"$f":"IF(Input!K445=\"\",Input!$C445,Input!K445)","v":"Close on Individual signal, in profit only "},{"$f":"IF(Input!L445=\"\",Input!$C445,Input!L445)","v":"Close on Individual signal, in profit only "},{"$f":"IF(Input!M445=\"\",Input!$C445,Input!M445)","v":"Close on Individual signal, in profit only "}]
["ZZ_PartialCloseOn=0||0||0||3||N","• Partial close on ","Partial close on Individual signal ",{"$f":"IF(Input!D446=\"\",Input!$C446,Input!D446)","v":"Partial close on Individual signal "},{"$f":"IF(Input!E446=\"\",Input!$C446,Input!E446)","v":"Partial close on Individual signal "},{"$f":"IF(Input!F446=\"\",Input!$C446,Input!F446)","v":"Partial close on Individual signal "},{"$f":"IF(Input!G446=\"\",Input!$C446,Input!G446)","v":"Partial close on Individual signal "},{"$f":"IF(Input!H446=\"\",Input!$C446,Input!H446)","v":"Partial close on Individual signal "},{"$f":"IF(Input!I446=\"\",Input!$C446,Input!I446)","v":"Partial close on Individual signal "},{"$f":"IF(Input!J446=\"\",Input!$C446,Input!J446)","v":"Partial close on Individual signal "},{"$f":"IF(Input!K446=\"\",Input!$C446,Input!K446)","v":"Partial close on Individual signal "},{"$f":"IF(Input!L446=\"\",Input!$C446,Input!L446)","v":"Partial close on Individual signal "},{"$f":"IF(Input!M446=\"\",Input!$C446,Input!M446)","v":"Partial close on Individual signal "}]
["ZZ_Visualization=---Visualization---","Visualization properties: "]
["ZZ_VisualizeLevels=true||false||0||true||N","• Visualize levels ",false,{"$f":"IF(Input!D448=\"\",Input!$C448,Input!D448)","v":false},{"$f":"IF(Input!E448=\"\",Input!$C448,Input!E448)","v":false},{"$f":"IF(Input!F448=\"\",Input!$C448,Input!F448)","v":false},{"$f":"IF(Input!G448=\"\",Input!$C448,Input!G448)","v":false},{"$f":"IF(Input!H448=\"\",Input!$C448,Input!H448)","v":false},{"$f":"IF(Input!I448=\"\",Input!$C448,Input!I448)","v":false},{"$f":"IF(Input!J448=\"\",Input!$C448,Input!J448)","v":false},{"$f":"IF(Input!K448=\"\",Input!$C448,Input!K448)","v":false},{"$f":"IF(Input!L448=\"\",Input!$C448,Input!L448)","v":false},{"$f":"IF(Input!M448=\"\",Input!$C448,Input!M448)","v":false}]
["ZZ_FillRectangle=false||false||0||true||N","Fill rectangle ",false,{"$f":"IF(Input!D449=\"\",Input!$C449,Input!D449)","v":false},{"$f":"IF(Input!E449=\"\",Input!$C449,Input!E449)","v":false},{"$f":"IF(Input!F449=\"\",Input!$C449,Input!F449)","v":false},{"$f":"IF(Input!G449=\"\",Input!$C449,Input!G449)","v":false},{"$f":"IF(Input!H449=\"\",Input!$C449,Input!H449)","v":false},{"$f":"IF(Input!I449=\"\",Input!$C449,Input!I449)","v":false},{"$f":"IF(Input!J449=\"\",Input!$C449,Input!J449)","v":false},{"$f":"IF(Input!K449=\"\",Input!$C449,Input!K449)","v":false},{"$f":"IF(Input!L449=\"\",Input!$C449,Input!L449)","v":false},{"$f":"IF(Input!M449=\"\",Input!$C449,Input!M449)","v":false}]
["ZZ_ColorUP=11186720","D • color UP ","LightSeaGreen",{"$f":"IF(Input!D450=\"\",Input!$C450,Input!D450)","v":"LightSeaGreen"},{"$f":"IF(Input!E450=\"\",Input!$C450,Input!E450)","v":"LightSeaGreen"},{"$f":"IF(Input!F450=\"\",Input!$C450,Input!F450)","v":"LightSeaGreen"},{"$f":"IF(Input!G450=\"\",Input!$C450,Input!G450)","v":"LightSeaGreen"},{"$f":"IF(Input!H450=\"\",Input!$C450,Input!H450)","v":"LightSeaGreen"},{"$f":"IF(Input!I450=\"\",Input!$C450,Input!I450)","v":"LightSeaGreen"},{"$f":"IF(Input!J450=\"\",Input!$C450,Input!J450)","v":"LightSeaGreen"},{"$f":"IF(Input!K450=\"\",Input!$C450,Input!K450)","v":"LightSeaGreen"},{"$f":"IF(Input!L450=\"\",Input!$C450,Input!L450)","v":"LightSeaGreen"},{"$f":"IF(Input!M450=\"\",Input!$C450,Input!M450)","v":"LightSeaGreen"}]
["ZZ_ColorDN=17919","color DN ","OrangeRed",{"$f":"IF(Input!D451=\"\",Input!$C451,Input!D451)","v":"OrangeRed"},{"$f":"IF(Input!E451=\"\",Input!$C451,Input!E451)","v":"OrangeRed"},{"$f":"IF(Input!F451=\"\",Input!$C451,Input!F451)","v":"OrangeRed"},{"$f":"IF(Input!G451=\"\",Input!$C451,Input!G451)","v":"OrangeRed"},{"$f":"IF(Input!H451=\"\",Input!$C451,Input!H451)","v":"OrangeRed"},{"$f":"IF(Input!I451=\"\",Input!$C451,Input!I451)","v":"OrangeRed"},{"$f":"IF(Input!J451=\"\",Input!$C451,Input!J451)","v":"OrangeRed"},{"$f":"IF(Input!K451=\"\",Input!$C451,Input!K451)","v":"OrangeRed"},{"$f":"IF(Input!L451=\"\",Input!$C451,Input!L451)","v":"OrangeRed"},{"$f":"IF(Input!M451=\"\",Input!$C451,Input!M451)","v":"OrangeRed"}]
["; Volatility for MA and ZZ Filters distance","Volatility for MA and ZZ Filters distance "]
["VolMA_Properties====================================================================================","Volatility for MA and ZZ Filters distance: "]
["VolMA_Type=0||0||0||4||N","Volatility Indicator ","ATR ",{"$f":"IF(Input!D454=\"\",Input!$C454,Input!D454)","v":"ATR "},{"$f":"IF(Input!E454=\"\",Input!$C454,Input!E454)","v":"ATR "},{"$f":"IF(Input!F454=\"\",Input!$C454,Input!F454)","v":"ATR "},{"$f":"IF(Input!G454=\"\",Input!$C454,Input!G454)","v":"ATR "},{"$f":"IF(Input!H454=\"\",Input!$C454,Input!H454)","v":"ATR "},{"$f":"IF(Input!I454=\"\",Input!$C454,Input!I454)","v":"ATR "},{"$f":"IF(Input!J454=\"\",Input!$C454,Input!J454)","v":"ATR "},{"$f":"IF(Input!K454=\"\",Input!$C454,Input!K454)","v":"ATR "},{"$f":"IF(Input!L454=\"\",Input!$C454,Input!L454)","v":"ATR "},{"$f":"IF(Input!M454=\"\",Input!$C454,Input!M454)","v":"ATR "}]
["VolMA_TF=0||0||0||49153||N","TimeFrame ","2 Minutes ",{"$f":"IF(Input!D455=\"\",Input!$C455,Input!D455)","v":"2 Minutes "},{"$f":"IF(Input!E455=\"\",Input!$C455,Input!E455)","v":"2 Minutes "},{"$f":"IF(Input!F455=\"\",Input!$C455,Input!F455)","v":"2 Minutes "},{"$f":"IF(Input!G455=\"\",Input!$C455,Input!G455)","v":"2 Minutes "},{"$f":"IF(Input!H455=\"\",Input!$C455,Input!H455)","v":"2 Minutes "},{"$f":"IF(Input!I455=\"\",Input!$C455,Input!I455)","v":"2 Minutes "},{"$f":"IF(Input!J455=\"\",Input!$C455,Input!J455)","v":"2 Minutes "},{"$f":"IF(Input!K455=\"\",Input!$C455,Input!K455)","v":"2 Minutes "},{"$f":"IF(Input!L455=\"\",Input!$C455,Input!L455)","v":"2 Minutes "},{"$f":"IF(Input!M455=\"\",Input!$C455,Input!M455)","v":"2 Minutes "}]
["VolMA_Period=20||20||1||200||N","Indicator Period ",0,{"$f":"IF(Input!D456=\"\",Input!$C456,Input!D456)","v":0},{"$f":"IF(Input!E456=\"\",Input!$C456,Input!E456)","v":0},{"$f":"IF(Input!F456=\"\",Input!$C456,Input!F456)","v":0},{"$f":"IF(Input!G456=\"\",Input!$C456,Input!G456)","v":0},{"$f":"IF(Input!H456=\"\",Input!$C456,Input!H456)","v":0},{"$f":"IF(Input!I456=\"\",Input!$C456,Input!I456)","v":0},{"$f":"IF(Input!J456=\"\",Input!$C456,Input!J456)","v":0},{"$f":"IF(Input!K456=\"\",Input!$C456,Input!K456)","v":0},{"$f":"IF(Input!L456=\"\",Input!$C456,Input!L456)","v":0},{"$f":"IF(Input!M456=\"\",Input!$C456,Input!M456)","v":0}]
["; Volatility Filter properties","Volatility Filter properties "]
["VolFilter_Properties====================================================================================","Volatility Filter properties: "]
["VolFilter_Type=0||0||0||4||N","Volatility Filter Indicator ","ATR ",{"$f":"IF(Input!D459=\"\",Input!$C459,Input!D459)","v":"ATR "},{"$f":"IF(Input!E459=\"\",Input!$C459,Input!E459)","v":"ATR "},{"$f":"IF(Input!F459=\"\",Input!$C459,Input!F459)","v":"ATR "},{"$f":"IF(Input!G459=\"\",Input!$C459,Input!G459)","v":"ATR "},{"$f":"IF(Input!H459=\"\",Input!$C459,Input!H459)","v":"ATR "},{"$f":"IF(Input!I459=\"\",Input!$C459,Input!I459)","v":"ATR "},{"$f":"IF(Input!J459=\"\",Input!$C459,Input!J459)","v":"ATR "},{"$f":"IF(Input!K459=\"\",Input!$C459,Input!K459)","v":"ATR "},{"$f":"IF(Input!L459=\"\",Input!$C459,Input!L459)","v":"ATR "},{"$f":"IF(Input!M459=\"\",Input!$C459,Input!M459)","v":"ATR "}]
["VolFilter_TF=0||0||0||49153||N","TimeFrame ","2 Minutes ",{"$f":"IF(Input!D460=\"\",Input!$C460,Input!D460)","v":"2 Minutes "},{"$f":"IF(Input!E460=\"\",Input!$C460,Input!E460)","v":"2 Minutes "},{"$f":"IF(Input!F460=\"\",Input!$C460,Input!F460)","v":"2 Minutes "},{"$f":"IF(Input!G460=\"\",Input!$C460,Input!G460)","v":"2 Minutes "},{"$f":"IF(Input!H460=\"\",Input!$C460,Input!H460)","v":"2 Minutes "},{"$f":"IF(Input!I460=\"\",Input!$C460,Input!I460)","v":"2 Minutes "},{"$f":"IF(Input!J460=\"\",Input!$C460,Input!J460)","v":"2 Minutes "},{"$f":"IF(Input!K460=\"\",Input!$C460,Input!K460)","v":"2 Minutes "},{"$f":"IF(Input!L460=\"\",Input!$C460,Input!L460)","v":"2 Minutes "},{"$f":"IF(Input!M460=\"\",Input!$C460,Input!M460)","v":"2 Minutes "}]
["VolFilter_Period=20||20||1||200||N","Indicator Period ",0,{"$f":"IF(Input!D461=\"\",Input!$C461,Input!D461)","v":0},{"$f":"IF(Input!E461=\"\",Input!$C461,Input!E461)","v":0},{"$f":"IF(Input!F461=\"\",Input!$C461,Input!F461)","v":0},{"$f":"IF(Input!G461=\"\",Input!$C461,Input!G461)","v":0},{"$f":"IF(Input!H461=\"\",Input!$C461,Input!H461)","v":0},{"$f":"IF(Input!I461=\"\",Input!$C461,Input!I461)","v":0},{"$f":"IF(Input!J461=\"\",Input!$C461,Input!J461)","v":0},{"$f":"IF(Input!K461=\"\",Input!$C461,Input!K461)","v":0},{"$f":"IF(Input!L461=\"\",Input!$C461,Input!L461)","v":0},{"$f":"IF(Input!M461=\"\",Input!$C461,Input!M461)","v":0}]
["VolFilter_Min=0||0||0.000000||0.000000||N","Min Volatility (O - disable limit) ",0,{"$f":"IF(Input!D462=\"\",Input!$C462,Input!D462)","v":0},{"$f":"IF(Input!E462=\"\",Input!$C462,Input!E462)","v":0},{"$f":"IF(Input!F462=\"\",Input!$C462,Input!F462)","v":0},{"$f":"IF(Input!G462=\"\",Input!$C462,Input!G462)","v":0},{"$f":"IF(Input!H462=\"\",Input!$C462,Input!H462)","v":0},{"$f":"IF(Input!I462=\"\",Input!$C462,Input!I462)","v":0},{"$f":"IF(Input!J462=\"\",Input!$C462,Input!J462)","v":0},{"$f":"IF(Input!K462=\"\",Input!$C462,Input!K462)","v":0},{"$f":"IF(Input!L462=\"\",Input!$C462,Input!L462)","v":0},{"$f":"IF(Input!M462=\"\",Input!$C462,Input!M462)","v":0}]
["VolFilter_Max=0||0||0.000000||0.000000||N","Max Volatility (O disable limit) ",0,{"$f":"IF(Input!D463=\"\",Input!$C463,Input!D463)","v":0},{"$f":"IF(Input!E463=\"\",Input!$C463,Input!E463)","v":0},{"$f":"IF(Input!F463=\"\",Input!$C463,Input!F463)","v":0},{"$f":"IF(Input!G463=\"\",Input!$C463,Input!G463)","v":0},{"$f":"IF(Input!H463=\"\",Input!$C463,Input!H463)","v":0},{"$f":"IF(Input!I463=\"\",Input!$C463,Input!I463)","v":0},{"$f":"IF(Input!J463=\"\",Input!$C463,Input!J463)","v":0},{"$f":"IF(Input!K463=\"\",Input!$C463,Input!K463)","v":0},{"$f":"IF(Input!L463=\"\",Input!$C463,Input!L463)","v":0},{"$f":"IF(Input!M463=\"\",Input!$C463,Input!M463)","v":0}]
["VolFilter_Smoothing_Mode=0||0||0||2||N","Smoothing Filter ","Allow trade cn growth (Volatility MA) ",{"$f":"IF(Input!D464=\"\",Input!$C464,Input!D464)","v":"Allow trade cn growth (Volatility MA) "},{"$f":"IF(Input!E464=\"\",Input!$C464,Input!E464)","v":"Allow trade cn growth (Volatility MA) "},{"$f":"IF(Input!F464=\"\",Input!$C464,Input!F464)","v":"Allow trade cn growth (Volatility MA) "},{"$f":"IF(Input!G464=\"\",Input!$C464,Input!G464)","v":"Allow trade cn growth (Volatility MA) "},{"$f":"IF(Input!H464=\"\",Input!$C464,Input!H464)","v":"Allow trade cn growth (Volatility MA) "},{"$f":"IF(Input!I464=\"\",Input!$C464,Input!I464)","v":"Allow trade cn growth (Volatility MA) "},{"$f":"IF(Input!J464=\"\",Input!$C464,Input!J464)","v":"Allow trade cn growth (Volatility MA) "},{"$f":"IF(Input!K464=\"\",Input!$C464,Input!K464)","v":"Allow trade cn growth (Volatility MA) "},{"$f":"IF(Input!L464=\"\",Input!$C464,Input!L464)","v":"Allow trade cn growth (Volatility MA) "},{"$f":"IF(Input!M464=\"\",Input!$C464,Input!M464)","v":"Allow trade cn growth (Volatility MA) "}]
["VolFilter_Smoothing_Period=20||20||1||200||N","Smoothing Period ",0,{"$f":"IF(Input!D465=\"\",Input!$C465,Input!D465)","v":0},{"$f":"IF(Input!E465=\"\",Input!$C465,Input!E465)","v":0},{"$f":"IF(Input!F465=\"\",Input!$C465,Input!F465)","v":0},{"$f":"IF(Input!G465=\"\",Input!$C465,Input!G465)","v":0},{"$f":"IF(Input!H465=\"\",Input!$C465,Input!H465)","v":0},{"$f":"IF(Input!I465=\"\",Input!$C465,Input!I465)","v":0},{"$f":"IF(Input!J465=\"\",Input!$C465,Input!J465)","v":0},{"$f":"IF(Input!K465=\"\",Input!$C465,Input!K465)","v":0},{"$f":"IF(Input!L465=\"\",Input!$C465,Input!L465)","v":0},{"$f":"IF(Input!M465=\"\",Input!$C465,Input!M465)","v":0}]
["VolFilter_OpenOn=0||0||0||3||N","Open on ","Ocn't use fcrc en ",{"$f":"IF(Input!D466=\"\",Input!$C466,Input!D466)","v":"Ocn't use fcrc en "},{"$f":"IF(Input!E466=\"\",Input!$C466,Input!E466)","v":"Ocn't use fcrc en "},{"$f":"IF(Input!F466=\"\",Input!$C466,Input!F466)","v":"Ocn't use fcrc en "},{"$f":"IF(Input!G466=\"\",Input!$C466,Input!G466)","v":"Ocn't use fcrc en "},{"$f":"IF(Input!H466=\"\",Input!$C466,Input!H466)","v":"Ocn't use fcrc en "},{"$f":"IF(Input!I466=\"\",Input!$C466,Input!I466)","v":"Ocn't use fcrc en "},{"$f":"IF(Input!J466=\"\",Input!$C466,Input!J466)","v":"Ocn't use fcrc en "},{"$f":"IF(Input!K466=\"\",Input!$C466,Input!K466)","v":"Ocn't use fcrc en "},{"$f":"IF(Input!L466=\"\",Input!$C466,Input!L466)","v":"Ocn't use fcrc en "},{"$f":"IF(Input!M466=\"\",Input!$C466,Input!M466)","v":"Ocn't use fcrc en "}]
["VolFilter_MartinOn=0||0||0||3||N","Open martin on ","Open on Individual signal ",{"$f":"IF(Input!D467=\"\",Input!$C467,Input!D467)","v":"Open on Individual signal "},{"$f":"IF(Input!E467=\"\",Input!$C467,Input!E467)","v":"Open on Individual signal "},{"$f":"IF(Input!F467=\"\",Input!$C467,Input!F467)","v":"Open on Individual signal "},{"$f":"IF(Input!G467=\"\",Input!$C467,Input!G467)","v":"Open on Individual signal "},{"$f":"IF(Input!H467=\"\",Input!$C467,Input!H467)","v":"Open on Individual signal "},{"$f":"IF(Input!I467=\"\",Input!$C467,Input!I467)","v":"Open on Individual signal "},{"$f":"IF(Input!J467=\"\",Input!$C467,Input!J467)","v":"Open on Individual signal "},{"$f":"IF(Input!K467=\"\",Input!$C467,Input!K467)","v":"Open on Individual signal "},{"$f":"IF(Input!L467=\"\",Input!$C467,Input!L467)","v":"Open on Individual signal "},{"$f":"IF(Input!M467=\"\",Input!$C467,Input!M467)","v":"Open on Individual signal "}]
["VolFilter_HedgeOn=0||0||0||3||N","Open hedge on ","Open on Individual signal ",{"$f":"IF(Input!D468=\"\",Input!$C468,Input!D468)","v":"Open on Individual signal "},{"$f":"IF(Input!E468=\"\",Input!$C468,Input!E468)","v":"Open on Individual signal "},{"$f":"IF(Input!F468=\"\",Input!$C468,Input!F468)","v":"Open on Individual signal "},{"$f":"IF(Input!G468=\"\",Input!$C468,Input!G468)","v":"Open on Individual signal "},{"$f":"IF(Input!H468=\"\",Input!$C468,Input!H468)","v":"Open on Individual signal "},{"$f":"IF(Input!I468=\"\",Input!$C468,Input!I468)","v":"Open on Individual signal "},{"$f":"IF(Input!J468=\"\",Input!$C468,Input!J468)","v":"Open on Individual signal "},{"$f":"IF(Input!K468=\"\",Input!$C468,Input!K468)","v":"Open on Individual signal "},{"$f":"IF(Input!L468=\"\",Input!$C468,Input!L468)","v":"Open on Individual signal "},{"$f":"IF(Input!M468=\"\",Input!$C468,Input!M468)","v":"Open on Individual signal "}]
["VolFilter_CloseOn=0||0||0||4||N","Close on ","Close on Individual signal, in profit only ",{"$f":"IF(Input!D469=\"\",Input!$C469,Input!D469)","v":"Close on Individual signal, in profit only "},{"$f":"IF(Input!E469=\"\",Input!$C469,Input!E469)","v":"Close on Individual signal, in profit only "},{"$f":"IF(Input!F469=\"\",Input!$C469,Input!F469)","v":"Close on Individual signal, in profit only "},{"$f":"IF(Input!G469=\"\",Input!$C469,Input!G469)","v":"Close on Individual signal, in profit only "},{"$f":"IF(Input!H469=\"\",Input!$C469,Input!H469)","v":"Close on Individual signal, in profit only "},{"$f":"IF(Input!I469=\"\",Input!$C469,Input!I469)","v":"Close on Individual signal, in profit only "},{"$f":"IF(Input!J469=\"\",Input!$C469,Input!J469)","v":"Close on Individual signal, in profit only "},{"$f":"IF(Input!K469=\"\",Input!$C469,Input!K469)","v":"Close on Individual signal, in profit only "},{"$f":"IF(Input!L469=\"\",Input!$C469,Input!L469)","v":"Close on Individual signal, in profit only "},{"$f":"IF(Input!M469=\"\",Input!$C469,Input!M469)","v":"Close on Individual signal, in profit only "}]
["VolFilter_PartialCloseOn=0||0||0||3||N","Partial close on ","Partial close on Individual signal ",{"$f":"IF(Input!D470=\"\",Input!$C470,Input!D470)","v":"Partial close on Individual signal "},{"$f":"IF(Input!E470=\"\",Input!$C470,Input!E470)","v":"Partial close on Individual signal "},{"$f":"IF(Input!F470=\"\",Input!$C470,Input!F470)","v":"Partial close on Individual signal "},{"$f":"IF(Input!G470=\"\",Input!$C470,Input!G470)","v":"Partial close on Individual signal "},{"$f":"IF(Input!H470=\"\",Input!$C470,Input!H470)","v":"Partial close on Individual signal "},{"$f":"IF(Input!I470=\"\",Input!$C470,Input!I470)","v":"Partial close on Individual signal "},{"$f":"IF(Input!J470=\"\",Input!$C470,Input!J470)","v":"Partial close on Individual signal "},{"$f":"IF(Input!K470=\"\",Input!$C470,Input!K470)","v":"Partial close on Individual signal "},{"$f":"IF(Input!L470=\"\",Input!$C470,Input!L470)","v":"Partial close on Individual signal "},{"$f":"IF(Input!M470=\"\",Input!$C470,Input!M470)","v":"Partial close on Individual signal "}]
["; FIBO #1 properties","FIBO #1 properties "]
["FIBO_Properties====================================================================================","F180#I properties: "]
["FIBO_Type=0||0||0||1||N","Type ","On retracement + opposite direction ",{"$f":"IF(Input!D473=\"\",Input!$C473,Input!D473)","v":"On retracement + opposite direction "},{"$f":"IF(Input!E473=\"\",Input!$C473,Input!E473)","v":"On retracement + opposite direction "},{"$f":"IF(Input!F473=\"\",Input!$C473,Input!F473)","v":"On retracement + opposite direction "},{"$f":"IF(Input!G473=\"\",Input!$C473,Input!G473)","v":"On retracement + opposite direction "},{"$f":"IF(Input!H473=\"\",Input!$C473,Input!H473)","v":"On retracement + opposite direction "},{"$f":"IF(Input!I473=\"\",Input!$C473,Input!I473)","v":"On retracement + opposite direction "},{"$f":"IF(Input!J473=\"\",Input!$C473,Input!J473)","v":"On retracement + opposite direction "},{"$f":"IF(Input!K473=\"\",Input!$C473,Input!K473)","v":"On retracement + opposite direction "},{"$f":"IF(Input!L473=\"\",Input!$C473,Input!L473)","v":"On retracement + opposite direction "},{"$f":"IF(Input!M473=\"\",Input!$C473,Input!M473)","v":"On retracement + opposite direction "}]
["FIBO_TF=16385||0||0||49153||N","TimeFrame ","2 Minutes ",{"$f":"IF(Input!D474=\"\",Input!$C474,Input!D474)","v":"2 Minutes "},{"$f":"IF(Input!E474=\"\",Input!$C474,Input!E474)","v":"2 Minutes "},{"$f":"IF(Input!F474=\"\",Input!$C474,Input!F474)","v":"2 Minutes "},{"$f":"IF(Input!G474=\"\",Input!$C474,Input!G474)","v":"2 Minutes "},{"$f":"IF(Input!H474=\"\",Input!$C474,Input!H474)","v":"2 Minutes "},{"$f":"IF(Input!I474=\"\",Input!$C474,Input!I474)","v":"2 Minutes "},{"$f":"IF(Input!J474=\"\",Input!$C474,Input!J474)","v":"2 Minutes "},{"$f":"IF(Input!K474=\"\",Input!$C474,Input!K474)","v":"2 Minutes "},{"$f":"IF(Input!L474=\"\",Input!$C474,Input!L474)","v":"2 Minutes "},{"$f":"IF(Input!M474=\"\",Input!$C474,Input!M474)","v":"2 Minutes "}]
["FIBO_CheckInterval=1||0||0||10||N","Check Interval ","Eve tick ",{"$f":"IF(Input!D475=\"\",Input!$C475,Input!D475)","v":"Eve tick "},{"$f":"IF(Input!E475=\"\",Input!$C475,Input!E475)","v":"Eve tick "},{"$f":"IF(Input!F475=\"\",Input!$C475,Input!F475)","v":"Eve tick "},{"$f":"IF(Input!G475=\"\",Input!$C475,Input!G475)","v":"Eve tick "},{"$f":"IF(Input!H475=\"\",Input!$C475,Input!H475)","v":"Eve tick "},{"$f":"IF(Input!I475=\"\",Input!$C475,Input!I475)","v":"Eve tick "},{"$f":"IF(Input!J475=\"\",Input!$C475,Input!J475)","v":"Eve tick "},{"$f":"IF(Input!K475=\"\",Input!$C475,Input!K475)","v":"Eve tick "},{"$f":"IF(Input!L475=\"\",Input!$C475,Input!L475)","v":"Eve tick "},{"$f":"IF(Input!M475=\"\",Input!$C475,Input!M475)","v":"Eve tick "}]
["FIBO_Bars=120||120||1||1200||N","Bars for range calculation ",0,{"$f":"IF(Input!D476=\"\",Input!$C476,Input!D476)","v":0},{"$f":"IF(Input!E476=\"\",Input!$C476,Input!E476)","v":0},{"$f":"IF(Input!F476=\"\",Input!$C476,Input!F476)","v":0},{"$f":"IF(Input!G476=\"\",Input!$C476,Input!G476)","v":0},{"$f":"IF(Input!H476=\"\",Input!$C476,Input!H476)","v":0},{"$f":"IF(Input!I476=\"\",Input!$C476,Input!I476)","v":0},{"$f":"IF(Input!J476=\"\",Input!$C476,Input!J476)","v":0},{"$f":"IF(Input!K476=\"\",Input!$C476,Input!K476)","v":0},{"$f":"IF(Input!L476=\"\",Input!$C476,Input!L476)","v":0},{"$f":"IF(Input!M476=\"\",Input!$C476,Input!M476)","v":0}]
["FIBO_Level=61.8||61.8||6.180000||618.000000||N","Fibo level ",0,{"$f":"IF(Input!D477=\"\",Input!$C477,Input!D477)","v":0},{"$f":"IF(Input!E477=\"\",Input!$C477,Input!E477)","v":0},{"$f":"IF(Input!F477=\"\",Input!$C477,Input!F477)","v":0},{"$f":"IF(Input!G477=\"\",Input!$C477,Input!G477)","v":0},{"$f":"IF(Input!H477=\"\",Input!$C477,Input!H477)","v":0},{"$f":"IF(Input!I477=\"\",Input!$C477,Input!I477)","v":0},{"$f":"IF(Input!J477=\"\",Input!$C477,Input!J477)","v":0},{"$f":"IF(Input!K477=\"\",Input!$C477,Input!K477)","v":0},{"$f":"IF(Input!L477=\"\",Input!$C477,Input!L477)","v":0},{"$f":"IF(Input!M477=\"\",Input!$C477,Input!M477)","v":0}]
["FIBO_UseClosedBars=true||false||0||true||N","Use closed bars only ",false,{"$f":"IF(Input!D478=\"\",Input!$C478,Input!D478)","v":false},{"$f":"IF(Input!E478=\"\",Input!$C478,Input!E478)","v":false},{"$f":"IF(Input!F478=\"\",Input!$C478,Input!F478)","v":false},{"$f":"IF(Input!G478=\"\",Input!$C478,Input!G478)","v":false},{"$f":"IF(Input!H478=\"\",Input!$C478,Input!H478)","v":false},{"$f":"IF(Input!I478=\"\",Input!$C478,Input!I478)","v":false},{"$f":"IF(Input!J478=\"\",Input!$C478,Input!J478)","v":false},{"$f":"IF(Input!K478=\"\",Input!$C478,Input!K478)","v":false},{"$f":"IF(Input!L478=\"\",Input!$C478,Input!L478)","v":false},{"$f":"IF(Input!M478=\"\",Input!$C478,Input!M478)","v":false}]
["FIBO_OpenOn=0||0||0||3||N","Open on ","Ocn't use fcrc en ",{"$f":"IF(Input!D479=\"\",Input!$C479,Input!D479)","v":"Ocn't use fcrc en "},{"$f":"IF(Input!E479=\"\",Input!$C479,Input!E479)","v":"Ocn't use fcrc en "},{"$f":"IF(Input!F479=\"\",Input!$C479,Input!F479)","v":"Ocn't use fcrc en "},{"$f":"IF(Input!G479=\"\",Input!$C479,Input!G479)","v":"Ocn't use fcrc en "},{"$f":"IF(Input!H479=\"\",Input!$C479,Input!H479)","v":"Ocn't use fcrc en "},{"$f":"IF(Input!I479=\"\",Input!$C479,Input!I479)","v":"Ocn't use fcrc en "},{"$f":"IF(Input!J479=\"\",Input!$C479,Input!J479)","v":"Ocn't use fcrc en "},{"$f":"IF(Input!K479=\"\",Input!$C479,Input!K479)","v":"Ocn't use fcrc en "},{"$f":"IF(Input!L479=\"\",Input!$C479,Input!L479)","v":"Ocn't use fcrc en "},{"$f":"IF(Input!M479=\"\",Input!$C479,Input!M479)","v":"Ocn't use fcrc en "}]
["FIBO_MartinOn=0||0||0||3||N","Open martin on ","Open on Individual signal ",{"$f":"IF(Input!D480=\"\",Input!$C480,Input!D480)","v":"Open on Individual signal "},{"$f":"IF(Input!E480=\"\",Input!$C480,Input!E480)","v":"Open on Individual signal "},{"$f":"IF(Input!F480=\"\",Input!$C480,Input!F480)","v":"Open on Individual signal "},{"$f":"IF(Input!G480=\"\",Input!$C480,Input!G480)","v":"Open on Individual signal "},{"$f":"IF(Input!H480=\"\",Input!$C480,Input!H480)","v":"Open on Individual signal "},{"$f":"IF(Input!I480=\"\",Input!$C480,Input!I480)","v":"Open on Individual signal "},{"$f":"IF(Input!J480=\"\",Input!$C480,Input!J480)","v":"Open on Individual signal "},{"$f":"IF(Input!K480=\"\",Input!$C480,Input!K480)","v":"Open on Individual signal "},{"$f":"IF(Input!L480=\"\",Input!$C480,Input!L480)","v":"Open on Individual signal "},{"$f":"IF(Input!M480=\"\",Input!$C480,Input!M480)","v":"Open on Individual signal "}]
["FIBO_HedgeOn=0||0||0||3||N","Open hedge on ","Open on Individual signal ",{"$f":"IF(Input!D481=\"\",Input!$C481,Input!D481)","v":"Open on Individual signal "},{"$f":"IF(Input!E481=\"\",Input!$C481,Input!E481)","v":"Open on Individual signal "},{"$f":"IF(Input!F481=\"\",Input!$C481,Input!F481)","v":"Open on Individual signal "},{"$f":"IF(Input!G481=\"\",Input!$C481,Input!G481)","v":"Open on Individual signal "},{"$f":"IF(Input!H481=\"\",Input!$C481,Input!H481)","v":"Open on Individual signal "},{"$f":"IF(Input!I481=\"\",Input!$C481,Input!I481)","v":"Open on Individual signal "},{"$f":"IF(Input!J481=\"\",Input!$C481,Input!J481)","v":"Open on Individual signal "},{"$f":"IF(Input!K481=\"\",Input!$C481,Input!K481)","v":"Open on Individual signal "},{"$f":"IF(Input!L481=\"\",Input!$C481,Input!L481)","v":"Open on Individual signal "},{"$f":"IF(Input!M481=\"\",Input!$C481,Input!M481)","v":"Open on Individual signal "}]
["FIBO_CloseOn=0||0||0||4||N","Close on ","Close on Individual signal, in profit only ",{"$f":"IF(Input!D482=\"\",Input!$C482,Input!D482)","v":"Close on Individual signal, in profit only "},{"$f":"IF(Input!E482=\"\",Input!$C482,Input!E482)","v":"Close on Individual signal, in profit only "},{"$f":"IF(Input!F482=\"\",Input!$C482,Input!F482)","v":"Close on Individual signal, in profit only "},{"$f":"IF(Input!G482=\"\",Input!$C482,Input!G482)","v":"Close on Individual signal, in profit only "},{"$f":"IF(Input!H482=\"\",Input!$C482,Input!H482)","v":"Close on Individual signal, in profit only "},{"$f":"IF(Input!I482=\"\",Input!$C482,Input!I482)","v":"Close on Individual signal, in profit only "},{"$f":"IF(Input!J482=\"\",Input!$C482,Input!J482)","v":"Close on Individual signal, in profit only "},{"$f":"IF(Input!K482=\"\",Input!$C482,Input!K482)","v":"Close on Individual signal, in profit only "},{"$f":"IF(Input!L482=\"\",Input!$C482,Input!L482)","v":"Close on Individual signal, in profit only "},{"$f":"IF(Input!M482=\"\",Input!$C482,Input!M482)","v":"Close on Individual signal, in profit only "}]
["FIBO_PartialCloseOn=0||0||0||3||N","Partial close on ","Partial close on Individual signal ",{"$f":"IF(Input!D483=\"\",Input!$C483,Input!D483)","v":"Partial close on Individual signal "},{"$f":"IF(Input!E483=\"\",Input!$C483,Input!E483)","v":"Partial close on Individual signal "},{"$f":"IF(Input!F483=\"\",Input!$C483,Input!F483)","v":"Partial close on Individual signal "},{"$f":"IF(Input!G483=\"\",Input!$C483,Input!G483)","v":"Partial close on Individual signal "},{"$f":"IF(Input!H483=\"\",Input!$C483,Input!H483)","v":"Partial close on Individual signal "},{"$f":"IF(Input!I483=\"\",Input!$C483,Input!I483)","v":"Partial close on Individual signal "},{"$f":"IF(Input!J483=\"\",Input!$C483,Input!J483)","v":"Partial close on Individual signal "},{"$f":"IF(Input!K483=\"\",Input!$C483,Input!K483)","v":"Partial close on Individual signal "},{"$f":"IF(Input!L483=\"\",Input!$C483,Input!L483)","v":"Partial close on Individual signal "},{"$f":"IF(Input!M483=\"\",Input!$C483,Input!M483)","v":"Partial close on Individual signal "}]
["; FIBO #2 properties","FIBO #2 properties "]
["FIB2_Properties====================================================================================","FIBO properties: "]
["FIB2_Type=0||0||0||2||N","Type ","On retracement + opposite direction ",{"$f":"IF(Input!D486=\"\",Input!$C486,Input!D486)","v":"On retracement + opposite direction "},{"$f":"IF(Input!E486=\"\",Input!$C486,Input!E486)","v":"On retracement + opposite direction "},{"$f":"IF(Input!F486=\"\",Input!$C486,Input!F486)","v":"On retracement + opposite direction "},{"$f":"IF(Input!G486=\"\",Input!$C486,Input!G486)","v":"On retracement + opposite direction "},{"$f":"IF(Input!H486=\"\",Input!$C486,Input!H486)","v":"On retracement + opposite direction "},{"$f":"IF(Input!I486=\"\",Input!$C486,Input!I486)","v":"On retracement + opposite direction "},{"$f":"IF(Input!J486=\"\",Input!$C486,Input!J486)","v":"On retracement + opposite direction "},{"$f":"IF(Input!K486=\"\",Input!$C486,Input!K486)","v":"On retracement + opposite direction "},{"$f":"IF(Input!L486=\"\",Input!$C486,Input!L486)","v":"On retracement + opposite direction "},{"$f":"IF(Input!M486=\"\",Input!$C486,Input!M486)","v":"On retracement + opposite direction "}]
["FIB2_TF=16385||0||0||49153||N","TimeFrame ","2 Minutes ",{"$f":"IF(Input!D487=\"\",Input!$C487,Input!D487)","v":"2 Minutes "},{"$f":"IF(Input!E487=\"\",Input!$C487,Input!E487)","v":"2 Minutes "},{"$f":"IF(Input!F487=\"\",Input!$C487,Input!F487)","v":"2 Minutes "},{"$f":"IF(Input!G487=\"\",Input!$C487,Input!G487)","v":"2 Minutes "},{"$f":"IF(Input!H487=\"\",Input!$C487,Input!H487)","v":"2 Minutes "},{"$f":"IF(Input!I487=\"\",Input!$C487,Input!I487)","v":"2 Minutes "},{"$f":"IF(Input!J487=\"\",Input!$C487,Input!J487)","v":"2 Minutes "},{"$f":"IF(Input!K487=\"\",Input!$C487,Input!K487)","v":"2 Minutes "},{"$f":"IF(Input!L487=\"\",Input!$C487,Input!L487)","v":"2 Minutes "},{"$f":"IF(Input!M487=\"\",Input!$C487,Input!M487)","v":"2 Minutes "}]
["FIB2_CheckInterval=1||0||0||10||N","Check Interval ","Eve tick ",{"$f":"IF(Input!D488=\"\",Input!$C488,Input!D488)","v":"Eve tick "},{"$f":"IF(Input!E488=\"\",Input!$C488,Input!E488)","v":"Eve tick "},{"$f":"IF(Input!F488=\"\",Input!$C488,Input!F488)","v":"Eve tick "},{"$f":"IF(Input!G488=\"\",Input!$C488,Input!G488)","v":"Eve tick "},{"$f":"IF(Input!H488=\"\",Input!$C488,Input!H488)","v":"Eve tick "},{"$f":"IF(Input!I488=\"\",Input!$C488,Input!I488)","v":"Eve tick "},{"$f":"IF(Input!J488=\"\",Input!$C488,Input!J488)","v":"Eve tick "},{"$f":"IF(Input!K488=\"\",Input!$C488,Input!K488)","v":"Eve tick "},{"$f":"IF(Input!L488=\"\",Input!$C488,Input!L488)","v":"Eve tick "},{"$f":"IF(Input!M488=\"\",Input!$C488,Input!M488)","v":"Eve tick "}]
["FIB2_Bars=120||120||1||1200||N","Bars for range calculation ",0,{"$f":"IF(Input!D489=\"\",Input!$C489,Input!D489)","v":0},{"$f":"IF(Input!E489=\"\",Input!$C489,Input!E489)","v":0},{"$f":"IF(Input!F489=\"\",Input!$C489,Input!F489)","v":0},{"$f":"IF(Input!G489=\"\",Input!$C489,Input!G489)","v":0},{"$f":"IF(Input!H489=\"\",Input!$C489,Input!H489)","v":0},{"$f":"IF(Input!I489=\"\",Input!$C489,Input!I489)","v":0},{"$f":"IF(Input!J489=\"\",Input!$C489,Input!J489)","v":0},{"$f":"IF(Input!K489=\"\",Input!$C489,Input!K489)","v":0},{"$f":"IF(Input!L489=\"\",Input!$C489,Input!L489)","v":0},{"$f":"IF(Input!M489=\"\",Input!$C489,Input!M489)","v":0}]
["FIB2_Level=61.8||61.8||6.180000||618.000000||N","Fibo level ",0,{"$f":"IF(Input!D490=\"\",Input!$C490,Input!D490)","v":0},{"$f":"IF(Input!E490=\"\",Input!$C490,Input!E490)","v":0},{"$f":"IF(Input!F490=\"\",Input!$C490,Input!F490)","v":0},{"$f":"IF(Input!G490=\"\",Input!$C490,Input!G490)","v":0},{"$f":"IF(Input!H490=\"\",Input!$C490,Input!H490)","v":0},{"$f":"IF(Input!I490=\"\",Input!$C490,Input!I490)","v":0},{"$f":"IF(Input!J490=\"\",Input!$C490,Input!J490)","v":0},{"$f":"IF(Input!K490=\"\",Input!$C490,Input!K490)","v":0},{"$f":"IF(Input!L490=\"\",Input!$C490,Input!L490)","v":0},{"$f":"IF(Input!M490=\"\",Input!$C490,Input!M490)","v":0}]
["FIB2_UseClosedBars=true||false||0||true||N","Use closed bars only ",false,{"$f":"IF(Input!D491=\"\",Input!$C491,Input!D491)","v":false},{"$f":"IF(Input!E491=\"\",Input!$C491,Input!E491)","v":false},{"$f":"IF(Input!F491=\"\",Input!$C491,Input!F491)","v":false},{"$f":"IF(Input!G491=\"\",Input!$C491,Input!G491)","v":false},{"$f":"IF(Input!H491=\"\",Input!$C491,Input!H491)","v":false},{"$f":"IF(Input!I491=\"\",Input!$C491,Input!I491)","v":false},{"$f":"IF(Input!J491=\"\",Input!$C491,Input!J491)","v":false},{"$f":"IF(Input!K491=\"\",Input!$C491,Input!K491)","v":false},{"$f":"IF(Input!L491=\"\",Input!$C491,Input!L491)","v":false},{"$f":"IF(Input!M491=\"\",Input!$C491,Input!M491)","v":false}]
["FIB2_OpenOn=0||0||0||3||N","Open on ","Ocn't use fcrc en ",{"$f":"IF(Input!D492=\"\",Input!$C492,Input!D492)","v":"Ocn't use fcrc en "},{"$f":"IF(Input!E492=\"\",Input!$C492,Input!E492)","v":"Ocn't use fcrc en "},{"$f":"IF(Input!F492=\"\",Input!$C492,Input!F492)","v":"Ocn't use fcrc en "},{"$f":"IF(Input!G492=\"\",Input!$C492,Input!G492)","v":"Ocn't use fcrc en "},{"$f":"IF(Input!H492=\"\",Input!$C492,Input!H492)","v":"Ocn't use fcrc en "},{"$f":"IF(Input!I492=\"\",Input!$C492,Input!I492)","v":"Ocn't use fcrc en "},{"$f":"IF(Input!J492=\"\",Input!$C492,Input!J492)","v":"Ocn't use fcrc en "},{"$f":"IF(Input!K492=\"\",Input!$C492,Input!K492)","v":"Ocn't use fcrc en "},{"$f":"IF(Input!L492=\"\",Input!$C492,Input!L492)","v":"Ocn't use fcrc en "},{"$f":"IF(Input!M492=\"\",Input!$C492,Input!M492)","v":"Ocn't use fcrc en "}]
["FIB2_MartinOn=0||0||0||3||N","Open martin on ","Open on Individual signal ",{"$f":"IF(Input!D493=\"\",Input!$C493,Input!D493)","v":"Open on Individual signal "},{"$f":"IF(Input!E493=\"\",Input!$C493,Input!E493)","v":"Open on Individual signal "},{"$f":"IF(Input!F493=\"\",Input!$C493,Input!F493)","v":"Open on Individual signal "},{"$f":"IF(Input!G493=\"\",Input!$C493,Input!G493)","v":"Open on Individual signal "},{"$f":"IF(Input!H493=\"\",Input!$C493,Input!H493)","v":"Open on Individual signal "},{"$f":"IF(Input!I493=\"\",Input!$C493,Input!I493)","v":"Open on Individual signal "},{"$f":"IF(Input!J493=\"\",Input!$C493,Input!J493)","v":"Open on Individual signal "},{"$f":"IF(Input!K493=\"\",Input!$C493,Input!K493)","v":"Open on Individual signal "},{"$f":"IF(Input!L493=\"\",Input!$C493,Input!L493)","v":"Open on Individual signal "},{"$f":"IF(Input!M493=\"\",Input!$C493,Input!M493)","v":"Open on Individual signal "}]
["FIB2_HedgeOn=0||0||0||3||N","Open hedge on ","Open on Individual signal ",{"$f":"IF(Input!D494=\"\",Input!$C494,Input!D494)","v":"Open on Individual signal "},{"$f":"IF(Input!E494=\"\",Input!$C494,Input!E494)","v":"Open on Individual signal "},{"$f":"IF(Input!F494=\"\",Input!$C494,Input!F494)","v":"Open on Individual signal "},{"$f":"IF(Input!G494=\"\",Input!$C494,Input!G494)","v":"Open on Individual signal "},{"$f":"IF(Input!H494=\"\",Input!$C494,Input!H494)","v":"Open on Individual signal "},{"$f":"IF(Input!I494=\"\",Input!$C494,Input!I494)","v":"Open on Individual signal "},{"$f":"IF(Input!J494=\"\",Input!$C494,Input!J494)","v":"Open on Individual signal "},{"$f":"IF(Input!K494=\"\",Input!$C494,Input!K494)","v":"Open on Individual signal "},{"$f":"IF(Input!L494=\"\",Input!$C494,Input!L494)","v":"Open on Individual signal "},{"$f":"IF(Input!M494=\"\",Input!$C494,Input!M494)","v":"Open on Individual signal "}]
["FIB2_CloseOn=0||0||0||4||N","Close on ","Close on Individual signal, in profit only ",{"$f":"IF(Input!D495=\"\",Input!$C495,Input!D495)","v":"Close on Individual signal, in profit only "},{"$f":"IF(Input!E495=\"\",Input!$C495,Input!E495)","v":"Close on Individual signal, in profit only "},{"$f":"IF(Input!F495=\"\",Input!$C495,Input!F495)","v":"Close on Individual signal, in profit only "},{"$f":"IF(Input!G495=\"\",Input!$C495,Input!G495)","v":"Close on Individual signal, in profit only "},{"$f":"IF(Input!H495=\"\",Input!$C495,Input!H495)","v":"Close on Individual signal, in profit only "},{"$f":"IF(Input!I495=\"\",Input!$C495,Input!I495)","v":"Close on Individual signal, in profit only "},{"$f":"IF(Input!J495=\"\",Input!$C495,Input!J495)","v":"Close on Individual signal, in profit only "},{"$f":"IF(Input!K495=\"\",Input!$C495,Input!K495)","v":"Close on Individual signal, in profit only "},{"$f":"IF(Input!L495=\"\",Input!$C495,Input!L495)","v":"Close on Individual signal, in profit only "},{"$f":"IF(Input!M495=\"\",Input!$C495,Input!M495)","v":"Close on Individual signal, in profit only "}]
["FIB2_PartialCloseOn=0||0||0||3||N","Partial close on ","Partial close on Individual signal ",{"$f":"IF(Input!D496=\"\",Input!$C496,Input!D496)","v":"Partial close on Individual signal "},{"$f":"IF(Input!E496=\"\",Input!$C496,Input!E496)","v":"Partial close on Individual signal "},{"$f":"IF(Input!F496=\"\",Input!$C496,Input!F496)","v":"Partial close on Individual signal "},{"$f":"IF(Input!G496=\"\",Input!$C496,Input!G496)","v":"Partial close on Individual signal "},{"$f":"IF(Input!H496=\"\",Input!$C496,Input!H496)","v":"Partial close on Individual signal "},{"$f":"IF(Input!I496=\"\",Input!$C496,Input!I496)","v":"Partial close on Individual signal "},{"$f":"IF(Input!J496=\"\",Input!$C496,Input!J496)","v":"Partial close on Individual signal "},{"$f":"IF(Input!K496=\"\",Input!$C496,Input!K496)","v":"Partial close on Individual signal "},{"$f":"IF(Input!L496=\"\",Input!$C496,Input!L496)","v":"Partial close on Individual signal "},{"$f":"IF(Input!M496=\"\",Input!$C496,Input!M496)","v":"Partial close on Individual signal "}]
["; Spread settings","Spread settings "]
["Spread_Settings====================================================================================","Spread settings: "]
["Spread_MaxCurrent=0||0||0.000000||0.000000||N","Max current spread (O disable limit) ",0,{"$f":"IF(Input!D499=\"\",Input!$C499,Input!D499)","v":0},{"$f":"IF(Input!E499=\"\",Input!$C499,Input!E499)","v":0},{"$f":"IF(Input!F499=\"\",Input!$C499,Input!F499)","v":0},{"$f":"IF(Input!G499=\"\",Input!$C499,Input!G499)","v":0},{"$f":"IF(Input!H499=\"\",Input!$C499,Input!H499)","v":0},{"$f":"IF(Input!I499=\"\",Input!$C499,Input!I499)","v":0},{"$f":"IF(Input!J499=\"\",Input!$C499,Input!J499)","v":0},{"$f":"IF(Input!K499=\"\",Input!$C499,Input!K499)","v":0},{"$f":"IF(Input!L499=\"\",Input!$C499,Input!L499)","v":0},{"$f":"IF(Input!M499=\"\",Input!$C499,Input!M499)","v":0}]
["Spread_MaxAverage=0||0||0.000000||0.000000||N","Max average spread (O - disable limit) ",0,{"$f":"IF(Input!D500=\"\",Input!$C500,Input!D500)","v":0},{"$f":"IF(Input!E500=\"\",Input!$C500,Input!E500)","v":0},{"$f":"IF(Input!F500=\"\",Input!$C500,Input!F500)","v":0},{"$f":"IF(Input!G500=\"\",Input!$C500,Input!G500)","v":0},{"$f":"IF(Input!H500=\"\",Input!$C500,Input!H500)","v":0},{"$f":"IF(Input!I500=\"\",Input!$C500,Input!I500)","v":0},{"$f":"IF(Input!J500=\"\",Input!$C500,Input!J500)","v":0},{"$f":"IF(Input!K500=\"\",Input!$C500,Input!K500)","v":0},{"$f":"IF(Input!L500=\"\",Input!$C500,Input!L500)","v":0},{"$f":"IF(Input!M500=\"\",Input!$C500,Input!M500)","v":0}]
["Spread_SecondsToAnalyze=30||30||1||300||N","Seconds for averaging ",0,{"$f":"IF(Input!D501=\"\",Input!$C501,Input!D501)","v":0},{"$f":"IF(Input!E501=\"\",Input!$C501,Input!E501)","v":0},{"$f":"IF(Input!F501=\"\",Input!$C501,Input!F501)","v":0},{"$f":"IF(Input!G501=\"\",Input!$C501,Input!G501)","v":0},{"$f":"IF(Input!H501=\"\",Input!$C501,Input!H501)","v":0},{"$f":"IF(Input!I501=\"\",Input!$C501,Input!I501)","v":0},{"$f":"IF(Input!J501=\"\",Input!$C501,Input!J501)","v":0},{"$f":"IF(Input!K501=\"\",Input!$C501,Input!K501)","v":0},{"$f":"IF(Input!L501=\"\",Input!$C501,Input!L501)","v":0},{"$f":"IF(Input!M501=\"\",Input!$C501,Input!M501)","v":0}]
["; Time settings","Time settings "]
["Time_Settings====================================================================================","Time settings: "]
["Time_ApplyTo=1||0||0||3||N","Apply schedule to ","Apply to all trade operations ",{"$f":"IF(Input!D504=\"\",Input!$C504,Input!D504)","v":"Apply to all trade operations "},{"$f":"IF(Input!E504=\"\",Input!$C504,Input!E504)","v":"Apply to all trade operations "},{"$f":"IF(Input!F504=\"\",Input!$C504,Input!F504)","v":"Apply to all trade operations "},{"$f":"IF(Input!G504=\"\",Input!$C504,Input!G504)","v":"Apply to all trade operations "},{"$f":"IF(Input!H504=\"\",Input!$C504,Input!H504)","v":"Apply to all trade operations "},{"$f":"IF(Input!I504=\"\",Input!$C504,Input!I504)","v":"Apply to all trade operations "},{"$f":"IF(Input!J504=\"\",Input!$C504,Input!J504)","v":"Apply to all trade operations "},{"$f":"IF(Input!K504=\"\",Input!$C504,Input!K504)","v":"Apply to all trade operations "},{"$f":"IF(Input!L504=\"\",Input!$C504,Input!L504)","v":"Apply to all trade operations "},{"$f":"IF(Input!M504=\"\",Input!$C504,Input!M504)","v":"Apply to all trade operations "}]
["Time_DST_Mode=2||0||0||4||N","DST mode ","DST Eurc e (last Sunda / last Sundi ",{"$f":"IF(Input!D505=\"\",Input!$C505,Input!D505)","v":"DST Eurc e (last Sunda / last Sundi "},{"$f":"IF(Input!E505=\"\",Input!$C505,Input!E505)","v":"DST Eurc e (last Sunda / last Sundi "},{"$f":"IF(Input!F505=\"\",Input!$C505,Input!F505)","v":"DST Eurc e (last Sunda / last Sundi "},{"$f":"IF(Input!G505=\"\",Input!$C505,Input!G505)","v":"DST Eurc e (last Sunda / last Sundi "},{"$f":"IF(Input!H505=\"\",Input!$C505,Input!H505)","v":"DST Eurc e (last Sunda / last Sundi "},{"$f":"IF(Input!I505=\"\",Input!$C505,Input!I505)","v":"DST Eurc e (last Sunda / last Sundi "},{"$f":"IF(Input!J505=\"\",Input!$C505,Input!J505)","v":"DST Eurc e (last Sunda / last Sundi "},{"$f":"IF(Input!K505=\"\",Input!$C505,Input!K505)","v":"DST Eurc e (last Sunda / last Sundi "},{"$f":"IF(Input!L505=\"\",Input!$C505,Input!L505)","v":"DST Eurc e (last Sunda / last Sundi "},{"$f":"IF(Input!M505=\"\",Input!$C505,Input!M505)","v":"DST Eurc e (last Sunda / last Sundi "}]
["Time_Manual_GMT_Offset=2||2||1||20||N","GMT offset for StrategyTester ",0,{"$f":"IF(Input!D506=\"\",Input!$C506,Input!D506)","v":0},{"$f":"IF(Input!E506=\"\",Input!$C506,Input!E506)","v":0},{"$f":"IF(Input!F506=\"\",Input!$C506,Input!F506)","v":0},{"$f":"IF(Input!G506=\"\",Input!$C506,Input!G506)","v":0},{"$f":"IF(Input!H506=\"\",Input!$C506,Input!H506)","v":0},{"$f":"IF(Input!I506=\"\",Input!$C506,Input!I506)","v":0},{"$f":"IF(Input!J506=\"\",Input!$C506,Input!J506)","v":0},{"$f":"IF(Input!K506=\"\",Input!$C506,Input!K506)","v":0},{"$f":"IF(Input!L506=\"\",Input!$C506,Input!L506)","v":0},{"$f":"IF(Input!M506=\"\",Input!$C506,Input!M506)","v":0}]
["; Every Day","Every Day "]
["EveryDay_Properties===== Every Day ====","Every Day. "]
["EveryDay_StartHour=-1||-1||0||23||N","EveryDay start hour ","00",{"$f":"IF(Input!D509=\"\",Input!$C509,Input!D509)","v":"Disabled"},{"$f":"IF(Input!E509=\"\",Input!$C509,Input!E509)","v":"00"},{"$f":"IF(Input!F509=\"\",Input!$C509,Input!F509)","v":"00"},{"$f":"IF(Input!G509=\"\",Input!$C509,Input!G509)","v":"00"},{"$f":"IF(Input!H509=\"\",Input!$C509,Input!H509)","v":"00"},{"$f":"IF(Input!I509=\"\",Input!$C509,Input!I509)","v":"00"},{"$f":"IF(Input!J509=\"\",Input!$C509,Input!J509)","v":"00"},{"$f":"IF(Input!K509=\"\",Input!$C509,Input!K509)","v":"00"},{"$f":"IF(Input!L509=\"\",Input!$C509,Input!L509)","v":"00"},{"$f":"IF(Input!M509=\"\",Input!$C509,Input!M509)","v":"00"}]
["EveryDay_StartMinute=0||0||0||55||N","EveryDay start minute ","00",{"$f":"IF(Input!D510=\"\",Input!$C510,Input!D510)","v":"00"},{"$f":"IF(Input!E510=\"\",Input!$C510,Input!E510)","v":"00"},{"$f":"IF(Input!F510=\"\",Input!$C510,Input!F510)","v":"00"},{"$f":"IF(Input!G510=\"\",Input!$C510,Input!G510)","v":"00"},{"$f":"IF(Input!H510=\"\",Input!$C510,Input!H510)","v":"00"},{"$f":"IF(Input!I510=\"\",Input!$C510,Input!I510)","v":"00"},{"$f":"IF(Input!J510=\"\",Input!$C510,Input!J510)","v":"00"},{"$f":"IF(Input!K510=\"\",Input!$C510,Input!K510)","v":"00"},{"$f":"IF(Input!L510=\"\",Input!$C510,Input!L510)","v":"00"},{"$f":"IF(Input!M510=\"\",Input!$C510,Input!M510)","v":"00"}]
["EveryDay_EndHour=-1||-1||0||23||N","EveryDay end hour ","00",{"$f":"IF(Input!D511=\"\",Input!$C511,Input!D511)","v":"00"},{"$f":"IF(Input!E511=\"\",Input!$C511,Input!E511)","v":"00"},{"$f":"IF(Input!F511=\"\",Input!$C511,Input!F511)","v":"00"},{"$f":"IF(Input!G511=\"\",Input!$C511,Input!G511)","v":"00"},{"$f":"IF(Input!H511=\"\",Input!$C511,Input!H511)","v":"00"},{"$f":"IF(Input!I511=\"\",Input!$C511,Input!I511)","v":"00"},{"$f":"IF(Input!J511=\"\",Input!$C511,Input!J511)","v":"00"},{"$f":"IF(Input!K511=\"\",Input!$C511,Input!K511)","v":"00"},{"$f":"IF(Input!L511=\"\",Input!$C511,Input!L511)","v":"00"},{"$f":"IF(Input!M511=\"\",Input!$C511,Input!M511)","v":"00"}]
["EveryDay_EndMinute=0||0||0||59||N","EveryDay end minute ","00",{"$f":"IF(Input!D512=\"\",Input!$C512,Input!D512)","v":"00"},{"$f":"IF(Input!E512=\"\",Input!$C512,Input!E512)","v":"00"},{"$f":"IF(Input!F512=\"\",Input!$C512,Input!F512)","v":"00"},{"$f":"IF(Input!G512=\"\",Input!$C512,Input!G512)","v":"00"},{"$f":"IF(Input!H512=\"\",Input!$C512,Input!H512)","v":"00"},{"$f":"IF(Input!I512=\"\",Input!$C512,Input!I512)","v":"00"},{"$f":"IF(Input!J512=\"\",Input!$C512,Input!J512)","v":"00"},{"$f":"IF(Input!K512=\"\",Input!$C512,Input!K512)","v":"00"},{"$f":"IF(Input!L512=\"\",Input!$C512,Input!L512)","v":"00"},{"$f":"IF(Input!M512=\"\",Input!$C512,Input!M512)","v":"00"}]
["EveryDay_CloseHour=-1||-1||0||23||N","EveryDay close hour ","00",{"$f":"IF(Input!D513=\"\",Input!$C513,Input!D513)","v":"00"},{"$f":"IF(Input!E513=\"\",Input!$C513,Input!E513)","v":"00"},{"$f":"IF(Input!F513=\"\",Input!$C513,Input!F513)","v":"00"},{"$f":"IF(Input!G513=\"\",Input!$C513,Input!G513)","v":"00"},{"$f":"IF(Input!H513=\"\",Input!$C513,Input!H513)","v":"00"},{"$f":"IF(Input!I513=\"\",Input!$C513,Input!I513)","v":"00"},{"$f":"IF(Input!J513=\"\",Input!$C513,Input!J513)","v":"00"},{"$f":"IF(Input!K513=\"\",Input!$C513,Input!K513)","v":"00"},{"$f":"IF(Input!L513=\"\",Input!$C513,Input!L513)","v":"00"},{"$f":"IF(Input!M513=\"\",Input!$C513,Input!M513)","v":"00"}]
["EveryDay_CloseMinute=0||0||0||55||N","EveryDay close minute ","00",{"$f":"IF(Input!D514=\"\",Input!$C514,Input!D514)","v":"00"},{"$f":"IF(Input!E514=\"\",Input!$C514,Input!E514)","v":"00"},{"$f":"IF(Input!F514=\"\",Input!$C514,Input!F514)","v":"00"},{"$f":"IF(Input!G514=\"\",Input!$C514,Input!G514)","v":"00"},{"$f":"IF(Input!H514=\"\",Input!$C514,Input!H514)","v":"00"},{"$f":"IF(Input!I514=\"\",Input!$C514,Input!I514)","v":"00"},{"$f":"IF(Input!J514=\"\",Input!$C514,Input!J514)","v":"00"},{"$f":"IF(Input!K514=\"\",Input!$C514,Input!K514)","v":"00"},{"$f":"IF(Input!L514=\"\",Input!$C514,Input!L514)","v":"00"},{"$f":"IF(Input!M514=\"\",Input!$C514,Input!M514)","v":"00"}]
["; Friday and Monday","Friday and Monday "]
["FridayMonday_Properties===== Friday and Monday ====","Friday and Monday. "]
["FridayStop_Hour=-1||-1||0||23||N","Friday stop hour ","00",{"$f":"IF(Input!D517=\"\",Input!$C517,Input!D517)","v":"00"},{"$f":"IF(Input!E517=\"\",Input!$C517,Input!E517)","v":"00"},{"$f":"IF(Input!F517=\"\",Input!$C517,Input!F517)","v":"00"},{"$f":"IF(Input!G517=\"\",Input!$C517,Input!G517)","v":"00"},{"$f":"IF(Input!H517=\"\",Input!$C517,Input!H517)","v":"00"},{"$f":"IF(Input!I517=\"\",Input!$C517,Input!I517)","v":"00"},{"$f":"IF(Input!J517=\"\",Input!$C517,Input!J517)","v":"00"},{"$f":"IF(Input!K517=\"\",Input!$C517,Input!K517)","v":"00"},{"$f":"IF(Input!L517=\"\",Input!$C517,Input!L517)","v":"00"},{"$f":"IF(Input!M517=\"\",Input!$C517,Input!M517)","v":"00"}]
["FridayStop_Minute=0||0||0||55||N","Friday stop minute ","00",{"$f":"IF(Input!D518=\"\",Input!$C518,Input!D518)","v":"00"},{"$f":"IF(Input!E518=\"\",Input!$C518,Input!E518)","v":"00"},{"$f":"IF(Input!F518=\"\",Input!$C518,Input!F518)","v":"00"},{"$f":"IF(Input!G518=\"\",Input!$C518,Input!G518)","v":"00"},{"$f":"IF(Input!H518=\"\",Input!$C518,Input!H518)","v":"00"},{"$f":"IF(Input!I518=\"\",Input!$C518,Input!I518)","v":"00"},{"$f":"IF(Input!J518=\"\",Input!$C518,Input!J518)","v":"00"},{"$f":"IF(Input!K518=\"\",Input!$C518,Input!K518)","v":"00"},{"$f":"IF(Input!L518=\"\",Input!$C518,Input!L518)","v":"00"},{"$f":"IF(Input!M518=\"\",Input!$C518,Input!M518)","v":"00"}]
["FridayClose_Hour=-1||-1||0||23||N","Friday close hour ","00",{"$f":"IF(Input!D519=\"\",Input!$C519,Input!D519)","v":"00"},{"$f":"IF(Input!E519=\"\",Input!$C519,Input!E519)","v":"00"},{"$f":"IF(Input!F519=\"\",Input!$C519,Input!F519)","v":"00"},{"$f":"IF(Input!G519=\"\",Input!$C519,Input!G519)","v":"00"},{"$f":"IF(Input!H519=\"\",Input!$C519,Input!H519)","v":"00"},{"$f":"IF(Input!I519=\"\",Input!$C519,Input!I519)","v":"00"},{"$f":"IF(Input!J519=\"\",Input!$C519,Input!J519)","v":"00"},{"$f":"IF(Input!K519=\"\",Input!$C519,Input!K519)","v":"00"},{"$f":"IF(Input!L519=\"\",Input!$C519,Input!L519)","v":"00"},{"$f":"IF(Input!M519=\"\",Input!$C519,Input!M519)","v":"00"}]
["FridayClose_Minute=0||0||0||55||N","Friday close minute ","00",{"$f":"IF(Input!D520=\"\",Input!$C520,Input!D520)","v":"00"},{"$f":"IF(Input!E520=\"\",Input!$C520,Input!E520)","v":"00"},{"$f":"IF(Input!F520=\"\",Input!$C520,Input!F520)","v":"00"},{"$f":"IF(Input!G520=\"\",Input!$C520,Input!G520)","v":"00"},{"$f":"IF(Input!H520=\"\",Input!$C520,Input!H520)","v":"00"},{"$f":"IF(Input!I520=\"\",Input!$C520,Input!I520)","v":"00"},{"$f":"IF(Input!J520=\"\",Input!$C520,Input!J520)","v":"00"},{"$f":"IF(Input!K520=\"\",Input!$C520,Input!K520)","v":"00"},{"$f":"IF(Input!L520=\"\",Input!$C520,Input!L520)","v":"00"},{"$f":"IF(Input!M520=\"\",Input!$C520,Input!M520)","v":"00"}]
["MondayStart_Hour=-1||-1||0||23||N","Monday start hour ","00",{"$f":"IF(Input!D521=\"\",Input!$C521,Input!D521)","v":"00"},{"$f":"IF(Input!E521=\"\",Input!$C521,Input!E521)","v":"00"},{"$f":"IF(Input!F521=\"\",Input!$C521,Input!F521)","v":"00"},{"$f":"IF(Input!G521=\"\",Input!$C521,Input!G521)","v":"00"},{"$f":"IF(Input!H521=\"\",Input!$C521,Input!H521)","v":"00"},{"$f":"IF(Input!I521=\"\",Input!$C521,Input!I521)","v":"00"},{"$f":"IF(Input!J521=\"\",Input!$C521,Input!J521)","v":"00"},{"$f":"IF(Input!K521=\"\",Input!$C521,Input!K521)","v":"00"},{"$f":"IF(Input!L521=\"\",Input!$C521,Input!L521)","v":"00"},{"$f":"IF(Input!M521=\"\",Input!$C521,Input!M521)","v":"00"}]
["MondayStart_Minute=0||0||0||55||N","Monday start minute ","00",{"$f":"IF(Input!D522=\"\",Input!$C522,Input!D522)","v":"00"},{"$f":"IF(Input!E522=\"\",Input!$C522,Input!E522)","v":"00"},{"$f":"IF(Input!F522=\"\",Input!$C522,Input!F522)","v":"00"},{"$f":"IF(Input!G522=\"\",Input!$C522,Input!G522)","v":"00"},{"$f":"IF(Input!H522=\"\",Input!$C522,Input!H522)","v":"00"},{"$f":"IF(Input!I522=\"\",Input!$C522,Input!I522)","v":"00"},{"$f":"IF(Input!J522=\"\",Input!$C522,Input!J522)","v":"00"},{"$f":"IF(Input!K522=\"\",Input!$C522,Input!K522)","v":"00"},{"$f":"IF(Input!L522=\"\",Input!$C522,Input!L522)","v":"00"},{"$f":"IF(Input!M522=\"\",Input!$C522,Input!M522)","v":"00"}]
["; Custom Schedule","Custom Schedule "]
["Custom_Schedule_Properties===== Custom Schedule ====","Custom Schedule: "]
["Custom_Schedule_On=false||false||0||true||N","Enable Custom Schedule ",false,{"$f":"IF(Input!D525=\"\",Input!$C525,Input!D525)","v":false},{"$f":"IF(Input!E525=\"\",Input!$C525,Input!E525)","v":false},{"$f":"IF(Input!F525=\"\",Input!$C525,Input!F525)","v":false},{"$f":"IF(Input!G525=\"\",Input!$C525,Input!G525)","v":false},{"$f":"IF(Input!H525=\"\",Input!$C525,Input!H525)","v":false},{"$f":"IF(Input!I525=\"\",Input!$C525,Input!I525)","v":false},{"$f":"IF(Input!J525=\"\",Input!$C525,Input!J525)","v":false},{"$f":"IF(Input!K525=\"\",Input!$C525,Input!K525)","v":false},{"$f":"IF(Input!L525=\"\",Input!$C525,Input!L525)","v":false},{"$f":"IF(Input!M525=\"\",Input!$C525,Input!M525)","v":false}]
["Monday_StartHour=-1||-1||0||23||N","Monday start hour ","00",{"$f":"IF(Input!D526=\"\",Input!$C526,Input!D526)","v":"00"},{"$f":"IF(Input!E526=\"\",Input!$C526,Input!E526)","v":"00"},{"$f":"IF(Input!F526=\"\",Input!$C526,Input!F526)","v":"00"},{"$f":"IF(Input!G526=\"\",Input!$C526,Input!G526)","v":"00"},{"$f":"IF(Input!H526=\"\",Input!$C526,Input!H526)","v":"00"},{"$f":"IF(Input!I526=\"\",Input!$C526,Input!I526)","v":"00"},{"$f":"IF(Input!J526=\"\",Input!$C526,Input!J526)","v":"00"},{"$f":"IF(Input!K526=\"\",Input!$C526,Input!K526)","v":"00"},{"$f":"IF(Input!L526=\"\",Input!$C526,Input!L526)","v":"00"},{"$f":"IF(Input!M526=\"\",Input!$C526,Input!M526)","v":"00"}]
["Monday_StartMinute=0||0||0||55||N","Monday start minute ","00",{"$f":"IF(Input!D527=\"\",Input!$C527,Input!D527)","v":"00"},{"$f":"IF(Input!E527=\"\",Input!$C527,Input!E527)","v":"00"},{"$f":"IF(Input!F527=\"\",Input!$C527,Input!F527)","v":"00"},{"$f":"IF(Input!G527=\"\",Input!$C527,Input!G527)","v":"00"},{"$f":"IF(Input!H527=\"\",Input!$C527,Input!H527)","v":"00"},{"$f":"IF(Input!I527=\"\",Input!$C527,Input!I527)","v":"00"},{"$f":"IF(Input!J527=\"\",Input!$C527,Input!J527)","v":"00"},{"$f":"IF(Input!K527=\"\",Input!$C527,Input!K527)","v":"00"},{"$f":"IF(Input!L527=\"\",Input!$C527,Input!L527)","v":"00"},{"$f":"IF(Input!M527=\"\",Input!$C527,Input!M527)","v":"00"}]
["Monday_EndHour=-1||-1||0||23||N","Monday end hour ","00",{"$f":"IF(Input!D528=\"\",Input!$C528,Input!D528)","v":"00"},{"$f":"IF(Input!E528=\"\",Input!$C528,Input!E528)","v":"00"},{"$f":"IF(Input!F528=\"\",Input!$C528,Input!F528)","v":"00"},{"$f":"IF(Input!G528=\"\",Input!$C528,Input!G528)","v":"00"},{"$f":"IF(Input!H528=\"\",Input!$C528,Input!H528)","v":"00"},{"$f":"IF(Input!I528=\"\",Input!$C528,Input!I528)","v":"00"},{"$f":"IF(Input!J528=\"\",Input!$C528,Input!J528)","v":"00"},{"$f":"IF(Input!K528=\"\",Input!$C528,Input!K528)","v":"00"},{"$f":"IF(Input!L528=\"\",Input!$C528,Input!L528)","v":"00"},{"$f":"IF(Input!M528=\"\",Input!$C528,Input!M528)","v":"00"}]
["Monday_EndMinute=0||0||0||55||N","Monday end minute ","00",{"$f":"IF(Input!D529=\"\",Input!$C529,Input!D529)","v":"00"},{"$f":"IF(Input!E529=\"\",Input!$C529,Input!E529)","v":"00"},{"$f":"IF(Input!F529=\"\",Input!$C529,Input!F529)","v":"00"},{"$f":"IF(Input!G529=\"\",Input!$C529,Input!G529)","v":"00"},{"$f":"IF(Input!H529=\"\",Input!$C529,Input!H529)","v":"00"},{"$f":"IF(Input!I529=\"\",Input!$C529,Input!I529)","v":"00"},{"$f":"IF(Input!J529=\"\",Input!$C529,Input!J529)","v":"00"},{"$f":"IF(Input!K529=\"\",Input!$C529,Input!K529)","v":"00"},{"$f":"IF(Input!L529=\"\",Input!$C529,Input!L529)","v":"00"},{"$f":"IF(Input!M529=\"\",Input!$C529,Input!M529)","v":"00"}]
["Tuesday_StartHour=-1||-1||0||23||N","Tuesday start hour ","00",{"$f":"IF(Input!D530=\"\",Input!$C530,Input!D530)","v":"00"},{"$f":"IF(Input!E530=\"\",Input!$C530,Input!E530)","v":"00"},{"$f":"IF(Input!F530=\"\",Input!$C530,Input!F530)","v":"00"},{"$f":"IF(Input!G530=\"\",Input!$C530,Input!G530)","v":"00"},{"$f":"IF(Input!H530=\"\",Input!$C530,Input!H530)","v":"00"},{"$f":"IF(Input!I530=\"\",Input!$C530,Input!I530)","v":"00"},{"$f":"IF(Input!J530=\"\",Input!$C530,Input!J530)","v":"00"},{"$f":"IF(Input!K530=\"\",Input!$C530,Input!K530)","v":"00"},{"$f":"IF(Input!L530=\"\",Input!$C530,Input!L530)","v":"00"},{"$f":"IF(Input!M530=\"\",Input!$C530,Input!M530)","v":"00"}]
["Tuesday_StartMinute=0||0||0||55||N","Tuesday start minute ","00",{"$f":"IF(Input!D531=\"\",Input!$C531,Input!D531)","v":"00"},{"$f":"IF(Input!E531=\"\",Input!$C531,Input!E531)","v":"00"},{"$f":"IF(Input!F531=\"\",Input!$C531,Input!F531)","v":"00"},{"$f":"IF(Input!G531=\"\",Input!$C531,Input!G531)","v":"00"},{"$f":"IF(Input!H531=\"\",Input!$C531,Input!H531)","v":"00"},{"$f":"IF(Input!I531=\"\",Input!$C531,Input!I531)","v":"00"},{"$f":"IF(Input!J531=\"\",Input!$C531,Input!J531)","v":"00"},{"$f":"IF(Input!K531=\"\",Input!$C531,Input!K531)","v":"00"},{"$f":"IF(Input!L531=\"\",Input!$C531,Input!L531)","v":"00"},{"$f":"IF(Input!M531=\"\",Input!$C531,Input!M531)","v":"00"}]
["Tuesday_EndHour=-1||-1||0||23||N","Tuesday end hour ","00",{"$f":"IF(Input!D532=\"\",Input!$C532,Input!D532)","v":"00"},{"$f":"IF(Input!E532=\"\",Input!$C532,Input!E532)","v":"00"},{"$f":"IF(Input!F532=\"\",Input!$C532,Input!F532)","v":"00"},{"$f":"IF(Input!G532=\"\",Input!$C532,Input!G532)","v":"00"},{"$f":"IF(Input!H532=\"\",Input!$C532,Input!H532)","v":"00"},{"$f":"IF(Input!I532=\"\",Input!$C532,Input!I532)","v":"00"},{"$f":"IF(Input!J532=\"\",Input!$C532,Input!J532)","v":"00"},{"$f":"IF(Input!K532=\"\",Input!$C532,Input!K532)","v":"00"},{"$f":"IF(Input!L532=\"\",Input!$C532,Input!L532)","v":"00"},{"$f":"IF(Input!M532=\"\",Input!$C532,Input!M532)","v":"00"}]
["Tuesday_EndMinute=0||0||0||55||N","Tuesday end minute ","00",{"$f":"IF(Input!D533=\"\",Input!$C533,Input!D533)","v":"00"},{"$f":"IF(Input!E533=\"\",Input!$C533,Input!E533)","v":"00"},{"$f":"IF(Input!F533=\"\",Input!$C533,Input!F533)","v":"00"},{"$f":"IF(Input!G533=\"\",Input!$C533,Input!G533)","v":"00"},{"$f":"IF(Input!H533=\"\",Input!$C533,Input!H533)","v":"00"},{"$f":"IF(Input!I533=\"\",Input!$C533,Input!I533)","v":"00"},{"$f":"IF(Input!J533=\"\",Input!$C533,Input!J533)","v":"00"},{"$f":"IF(Input!K533=\"\",Input!$C533,Input!K533)","v":"00"},{"$f":"IF(Input!L533=\"\",Input!$C533,Input!L533)","v":"00"},{"$f":"IF(Input!M533=\"\",Input!$C533,Input!M533)","v":"00"}]
["Wednesday_StartHour=-1||-1||0||23||N","Wednesday start hour ","00",{"$f":"IF(Input!D534=\"\",Input!$C534,Input!D534)","v":"00"},{"$f":"IF(Input!E534=\"\",Input!$C534,Input!E534)","v":"00"},{"$f":"IF(Input!F534=\"\",Input!$C534,Input!F534)","v":"00"},{"$f":"IF(Input!G534=\"\",Input!$C534,Input!G534)","v":"00"},{"$f":"IF(Input!H534=\"\",Input!$C534,Input!H534)","v":"00"},{"$f":"IF(Input!I534=\"\",Input!$C534,Input!I534)","v":"00"},{"$f":"IF(Input!J534=\"\",Input!$C534,Input!J534)","v":"00"},{"$f":"IF(Input!K534=\"\",Input!$C534,Input!K534)","v":"00"},{"$f":"IF(Input!L534=\"\",Input!$C534,Input!L534)","v":"00"},{"$f":"IF(Input!M534=\"\",Input!$C534,Input!M534)","v":"00"}]
["Wednesday_StartMinute=0||0||0||55||N","Wednesday start minute ","00",{"$f":"IF(Input!D535=\"\",Input!$C535,Input!D535)","v":"00"},{"$f":"IF(Input!E535=\"\",Input!$C535,Input!E535)","v":"00"},{"$f":"IF(Input!F535=\"\",Input!$C535,Input!F535)","v":"00"},{"$f":"IF(Input!G535=\"\",Input!$C535,Input!G535)","v":"00"},{"$f":"IF(Input!H535=\"\",Input!$C535,Input!H535)","v":"00"},{"$f":"IF(Input!I535=\"\",Input!$C535,Input!I535)","v":"00"},{"$f":"IF(Input!J535=\"\",Input!$C535,Input!J535)","v":"00"},{"$f":"IF(Input!K535=\"\",Input!$C535,Input!K535)","v":"00"},{"$f":"IF(Input!L535=\"\",Input!$C535,Input!L535)","v":"00"},{"$f":"IF(Input!M535=\"\",Input!$C535,Input!M535)","v":"00"}]
["Wednesday_EndHour=-1||-1||0||23||N","Wednesday end hour ","00",{"$f":"IF(Input!D536=\"\",Input!$C536,Input!D536)","v":"00"},{"$f":"IF(Input!E536=\"\",Input!$C536,Input!E536)","v":"00"},{"$f":"IF(Input!F536=\"\",Input!$C536,Input!F536)","v":"00"},{"$f":"IF(Input!G536=\"\",Input!$C536,Input!G536)","v":"00"},{"$f":"IF(Input!H536=\"\",Input!$C536,Input!H536)","v":"00"},{"$f":"IF(Input!I536=\"\",Input!$C536,Input!I536)","v":"00"},{"$f":"IF(Input!J536=\"\",Input!$C536,Input!J536)","v":"00"},{"$f":"IF(Input!K536=\"\",Input!$C536,Input!K536)","v":"00"},{"$f":"IF(Input!L536=\"\",Input!$C536,Input!L536)","v":"00"},{"$f":"IF(Input!M536=\"\",Input!$C536,Input!M536)","v":"00"}]
["Wednesday_EndMinute=0||0||0||55||N","Wednesday end minute ","00",{"$f":"IF(Input!D537=\"\",Input!$C537,Input!D537)","v":"00"},{"$f":"IF(Input!E537=\"\",Input!$C537,Input!E537)","v":"00"},{"$f":"IF(Input!F537=\"\",Input!$C537,Input!F537)","v":"00"},{"$f":"IF(Input!G537=\"\",Input!$C537,Input!G537)","v":"00"},{"$f":"IF(Input!H537=\"\",Input!$C537,Input!H537)","v":"00"},{"$f":"IF(Input!I537=\"\",Input!$C537,Input!I537)","v":"00"},{"$f":"IF(Input!J537=\"\",Input!$C537,Input!J537)","v":"00"},{"$f":"IF(Input!K537=\"\",Input!$C537,Input!K537)","v":"00"},{"$f":"IF(Input!L537=\"\",Input!$C537,Input!L537)","v":"00"},{"$f":"IF(Input!M537=\"\",Input!$C537,Input!M537)","v":"00"}]
["Thursday_StartHour=-1||-1||0||23||N","Thursday start hour ","00",{"$f":"IF(Input!D538=\"\",Input!$C538,Input!D538)","v":"00"},{"$f":"IF(Input!E538=\"\",Input!$C538,Input!E538)","v":"00"},{"$f":"IF(Input!F538=\"\",Input!$C538,Input!F538)","v":"00"},{"$f":"IF(Input!G538=\"\",Input!$C538,Input!G538)","v":"00"},{"$f":"IF(Input!H538=\"\",Input!$C538,Input!H538)","v":"00"},{"$f":"IF(Input!I538=\"\",Input!$C538,Input!I538)","v":"00"},{"$f":"IF(Input!J538=\"\",Input!$C538,Input!J538)","v":"00"},{"$f":"IF(Input!K538=\"\",Input!$C538,Input!K538)","v":"00"},{"$f":"IF(Input!L538=\"\",Input!$C538,Input!L538)","v":"00"},{"$f":"IF(Input!M538=\"\",Input!$C538,Input!M538)","v":"00"}]
["Thursday_StartMinute=0||0||0||55||N","Thursday start minute ","00",{"$f":"IF(Input!D539=\"\",Input!$C539,Input!D539)","v":"00"},{"$f":"IF(Input!E539=\"\",Input!$C539,Input!E539)","v":"00"},{"$f":"IF(Input!F539=\"\",Input!$C539,Input!F539)","v":"00"},{"$f":"IF(Input!G539=\"\",Input!$C539,Input!G539)","v":"00"},{"$f":"IF(Input!H539=\"\",Input!$C539,Input!H539)","v":"00"},{"$f":"IF(Input!I539=\"\",Input!$C539,Input!I539)","v":"00"},{"$f":"IF(Input!J539=\"\",Input!$C539,Input!J539)","v":"00"},{"$f":"IF(Input!K539=\"\",Input!$C539,Input!K539)","v":"00"},{"$f":"IF(Input!L539=\"\",Input!$C539,Input!L539)","v":"00"},{"$f":"IF(Input!M539=\"\",Input!$C539,Input!M539)","v":"00"}]
["Thursday_EndHour=-1||-1||0||23||N","Thursday end hour ","00",{"$f":"IF(Input!D540=\"\",Input!$C540,Input!D540)","v":"00"},{"$f":"IF(Input!E540=\"\",Input!$C540,Input!E540)","v":"00"},{"$f":"IF(Input!F540=\"\",Input!$C540,Input!F540)","v":"00"},{"$f":"IF(Input!G540=\"\",Input!$C540,Input!G540)","v":"00"},{"$f":"IF(Input!H540=\"\",Input!$C540,Input!H540)","v":"00"},{"$f":"IF(Input!I540=\"\",Input!$C540,Input!I540)","v":"00"},{"$f":"IF(Input!J540=\"\",Input!$C540,Input!J540)","v":"00"},{"$f":"IF(Input!K540=\"\",Input!$C540,Input!K540)","v":"00"},{"$f":"IF(Input!L540=\"\",Input!$C540,Input!L540)","v":"00"},{"$f":"IF(Input!M540=\"\",Input!$C540,Input!M540)","v":"00"}]
["Thursday_EndMinute=0||0||0||55||N","Thursday end minute ","00",{"$f":"IF(Input!D541=\"\",Input!$C541,Input!D541)","v":"00"},{"$f":"IF(Input!E541=\"\",Input!$C541,Input!E541)","v":"00"},{"$f":"IF(Input!F541=\"\",Input!$C541,Input!F541)","v":"00"},{"$f":"IF(Input!G541=\"\",Input!$C541,Input!G541)","v":"00"},{"$f":"IF(Input!H541=\"\",Input!$C541,Input!H541)","v":"00"},{"$f":"IF(Input!I541=\"\",Input!$C541,Input!I541)","v":"00"},{"$f":"IF(Input!J541=\"\",Input!$C541,Input!J541)","v":"00"},{"$f":"IF(Input!K541=\"\",Input!$C541,Input!K541)","v":"00"},{"$f":"IF(Input!L541=\"\",Input!$C541,Input!L541)","v":"00"},{"$f":"IF(Input!M541=\"\",Input!$C541,Input!M541)","v":"00"}]
["Friday_StartHour=-1||-1||0||23||N","Friday start hour ","00",{"$f":"IF(Input!D542=\"\",Input!$C542,Input!D542)","v":"00"},{"$f":"IF(Input!E542=\"\",Input!$C542,Input!E542)","v":"00"},{"$f":"IF(Input!F542=\"\",Input!$C542,Input!F542)","v":"00"},{"$f":"IF(Input!G542=\"\",Input!$C542,Input!G542)","v":"00"},{"$f":"IF(Input!H542=\"\",Input!$C542,Input!H542)","v":"00"},{"$f":"IF(Input!I542=\"\",Input!$C542,Input!I542)","v":"00"},{"$f":"IF(Input!J542=\"\",Input!$C542,Input!J542)","v":"00"},{"$f":"IF(Input!K542=\"\",Input!$C542,Input!K542)","v":"00"},{"$f":"IF(Input!L542=\"\",Input!$C542,Input!L542)","v":"00"},{"$f":"IF(Input!M542=\"\",Input!$C542,Input!M542)","v":"00"}]
["Friday_StartMinute=0||0||0||55||N","Friday start minute ","00",{"$f":"IF(Input!D543=\"\",Input!$C543,Input!D543)","v":"00"},{"$f":"IF(Input!E543=\"\",Input!$C543,Input!E543)","v":"00"},{"$f":"IF(Input!F543=\"\",Input!$C543,Input!F543)","v":"00"},{"$f":"IF(Input!G543=\"\",Input!$C543,Input!G543)","v":"00"},{"$f":"IF(Input!H543=\"\",Input!$C543,Input!H543)","v":"00"},{"$f":"IF(Input!I543=\"\",Input!$C543,Input!I543)","v":"00"},{"$f":"IF(Input!J543=\"\",Input!$C543,Input!J543)","v":"00"},{"$f":"IF(Input!K543=\"\",Input!$C543,Input!K543)","v":"00"},{"$f":"IF(Input!L543=\"\",Input!$C543,Input!L543)","v":"00"},{"$f":"IF(Input!M543=\"\",Input!$C543,Input!M543)","v":"00"}]
["Friday_EndHour=-1||-1||0||23||N","Friday end hour ","00",{"$f":"IF(Input!D544=\"\",Input!$C544,Input!D544)","v":"00"},{"$f":"IF(Input!E544=\"\",Input!$C544,Input!E544)","v":"00"},{"$f":"IF(Input!F544=\"\",Input!$C544,Input!F544)","v":"00"},{"$f":"IF(Input!G544=\"\",Input!$C544,Input!G544)","v":"00"},{"$f":"IF(Input!H544=\"\",Input!$C544,Input!H544)","v":"00"},{"$f":"IF(Input!I544=\"\",Input!$C544,Input!I544)","v":"00"},{"$f":"IF(Input!J544=\"\",Input!$C544,Input!J544)","v":"00"},{"$f":"IF(Input!K544=\"\",Input!$C544,Input!K544)","v":"00"},{"$f":"IF(Input!L544=\"\",Input!$C544,Input!L544)","v":"00"},{"$f":"IF(Input!M544=\"\",Input!$C544,Input!M544)","v":"00"}]
["Friday_EndMinute=0||0||0||55||N","Friday end minute ","00",{"$f":"IF(Input!D545=\"\",Input!$C545,Input!D545)","v":"00"},{"$f":"IF(Input!E545=\"\",Input!$C545,Input!E545)","v":"00"},{"$f":"IF(Input!F545=\"\",Input!$C545,Input!F545)","v":"00"},{"$f":"IF(Input!G545=\"\",Input!$C545,Input!G545)","v":"00"},{"$f":"IF(Input!H545=\"\",Input!$C545,Input!H545)","v":"00"},{"$f":"IF(Input!I545=\"\",Input!$C545,Input!I545)","v":"00"},{"$f":"IF(Input!J545=\"\",Input!$C545,Input!J545)","v":"00"},{"$f":"IF(Input!K545=\"\",Input!$C545,Input!K545)","v":"00"},{"$f":"IF(Input!L545=\"\",Input!$C545,Input!L545)","v":"00"},{"$f":"IF(Input!M545=\"\",Input!$C545,Input!M545)","v":"00"}]
["; New Year Holidays","New Year Holidays "]
["NewYear_Properties===== New Year Holidays ====","New Year Holidays: "]
["LastDecemberDay=0||0||1||10||N","Last December day to trade (O - disable) ",0,{"$f":"IF(Input!D548=\"\",Input!$C548,Input!D548)","v":0},{"$f":"IF(Input!E548=\"\",Input!$C548,Input!E548)","v":0},{"$f":"IF(Input!F548=\"\",Input!$C548,Input!F548)","v":0},{"$f":"IF(Input!G548=\"\",Input!$C548,Input!G548)","v":0},{"$f":"IF(Input!H548=\"\",Input!$C548,Input!H548)","v":0},{"$f":"IF(Input!I548=\"\",Input!$C548,Input!I548)","v":0},{"$f":"IF(Input!J548=\"\",Input!$C548,Input!J548)","v":0},{"$f":"IF(Input!K548=\"\",Input!$C548,Input!K548)","v":0},{"$f":"IF(Input!L548=\"\",Input!$C548,Input!L548)","v":0},{"$f":"IF(Input!M548=\"\",Input!$C548,Input!M548)","v":0}]
["FirstJanuaryDay=0||0||1||10||N","First January day to trade (O disable) ",0,{"$f":"IF(Input!D549=\"\",Input!$C549,Input!D549)","v":0},{"$f":"IF(Input!E549=\"\",Input!$C549,Input!E549)","v":0},{"$f":"IF(Input!F549=\"\",Input!$C549,Input!F549)","v":0},{"$f":"IF(Input!G549=\"\",Input!$C549,Input!G549)","v":0},{"$f":"IF(Input!H549=\"\",Input!$C549,Input!H549)","v":0},{"$f":"IF(Input!I549=\"\",Input!$C549,Input!I549)","v":0},{"$f":"IF(Input!J549=\"\",Input!$C549,Input!J549)","v":0},{"$f":"IF(Input!K549=\"\",Input!$C549,Input!K549)","v":0},{"$f":"IF(Input!L549=\"\",Input!$C549,Input!L549)","v":0},{"$f":"IF(Input!M549=\"\",Input!$C549,Input!M549)","v":0}]
["; News settings","News settings "]
["News_Properties====================================================================================","News properties: "]
["News_Mode=0||0||0||2||N","News filter mode ","News Disabled",{"$f":"IF(Input!D552=\"\",Input!$C552,Input!D552)","v":"News Disabled"},{"$f":"IF(Input!E552=\"\",Input!$C552,Input!E552)","v":"News Disabled"},{"$f":"IF(Input!F552=\"\",Input!$C552,Input!F552)","v":"News Disabled"},{"$f":"IF(Input!G552=\"\",Input!$C552,Input!G552)","v":"News Disabled"},{"$f":"IF(Input!H552=\"\",Input!$C552,Input!H552)","v":"News Disabled"},{"$f":"IF(Input!I552=\"\",Input!$C552,Input!I552)","v":"News Disabled"},{"$f":"IF(Input!J552=\"\",Input!$C552,Input!J552)","v":"News Disabled"},{"$f":"IF(Input!K552=\"\",Input!$C552,Input!K552)","v":"News Disabled"},{"$f":"IF(Input!L552=\"\",Input!$C552,Input!L552)","v":"News Disabled"},{"$f":"IF(Input!M552=\"\",Input!$C552,Input!M552)","v":"News Disabled"}]
["News_Currencies=auto","Currencies ",null,{"$f":"IF(Input!D553=\"\",Input!$C553,Input!D553)","v":0},{"$f":"IF(Input!E553=\"\",Input!$C553,Input!E553)","v":0},{"$f":"IF(Input!F553=\"\",Input!$C553,Input!F553)","v":0},{"$f":"IF(Input!G553=\"\",Input!$C553,Input!G553)","v":0},{"$f":"IF(Input!H553=\"\",Input!$C553,Input!H553)","v":0},{"$f":"IF(Input!I553=\"\",Input!$C553,Input!I553)","v":0},{"$f":"IF(Input!J553=\"\",Input!$C553,Input!J553)","v":0},{"$f":"IF(Input!K553=\"\",Input!$C553,Input!K553)","v":0},{"$f":"IF(Input!L553=\"\",Input!$C553,Input!L553)","v":0},{"$f":"IF(Input!M553=\"\",Input!$C553,Input!M553)","v":0}]
["News_Impact_H=true||false||0||true||N","High-impact ",false,{"$f":"IF(Input!D554=\"\",Input!$C554,Input!D554)","v":false},{"$f":"IF(Input!E554=\"\",Input!$C554,Input!E554)","v":false},{"$f":"IF(Input!F554=\"\",Input!$C554,Input!F554)","v":false},{"$f":"IF(Input!G554=\"\",Input!$C554,Input!G554)","v":false},{"$f":"IF(Input!H554=\"\",Input!$C554,Input!H554)","v":false},{"$f":"IF(Input!I554=\"\",Input!$C554,Input!I554)","v":false},{"$f":"IF(Input!J554=\"\",Input!$C554,Input!J554)","v":false},{"$f":"IF(Input!K554=\"\",Input!$C554,Input!K554)","v":false},{"$f":"IF(Input!L554=\"\",Input!$C554,Input!L554)","v":false},{"$f":"IF(Input!M554=\"\",Input!$C554,Input!M554)","v":false}]
["News_Impact_M=true||false||0||true||N","Medium impact ",false,{"$f":"IF(Input!D555=\"\",Input!$C555,Input!D555)","v":false},{"$f":"IF(Input!E555=\"\",Input!$C555,Input!E555)","v":false},{"$f":"IF(Input!F555=\"\",Input!$C555,Input!F555)","v":false},{"$f":"IF(Input!G555=\"\",Input!$C555,Input!G555)","v":false},{"$f":"IF(Input!H555=\"\",Input!$C555,Input!H555)","v":false},{"$f":"IF(Input!I555=\"\",Input!$C555,Input!I555)","v":false},{"$f":"IF(Input!J555=\"\",Input!$C555,Input!J555)","v":false},{"$f":"IF(Input!K555=\"\",Input!$C555,Input!K555)","v":false},{"$f":"IF(Input!L555=\"\",Input!$C555,Input!L555)","v":false},{"$f":"IF(Input!M555=\"\",Input!$C555,Input!M555)","v":false}]
["News_Impact_L=false||false||0||true||N","Low-impact ",false,{"$f":"IF(Input!D556=\"\",Input!$C556,Input!D556)","v":false},{"$f":"IF(Input!E556=\"\",Input!$C556,Input!E556)","v":false},{"$f":"IF(Input!F556=\"\",Input!$C556,Input!F556)","v":false},{"$f":"IF(Input!G556=\"\",Input!$C556,Input!G556)","v":false},{"$f":"IF(Input!H556=\"\",Input!$C556,Input!H556)","v":false},{"$f":"IF(Input!I556=\"\",Input!$C556,Input!I556)","v":false},{"$f":"IF(Input!J556=\"\",Input!$C556,Input!J556)","v":false},{"$f":"IF(Input!K556=\"\",Input!$C556,Input!K556)","v":false},{"$f":"IF(Input!L556=\"\",Input!$C556,Input!L556)","v":false},{"$f":"IF(Input!M556=\"\",Input!$C556,Input!M556)","v":false}]
["News_Impact_N=false||false||0||true||N","Holidays ",false,{"$f":"IF(Input!D557=\"\",Input!$C557,Input!D557)","v":false},{"$f":"IF(Input!E557=\"\",Input!$C557,Input!E557)","v":false},{"$f":"IF(Input!F557=\"\",Input!$C557,Input!F557)","v":false},{"$f":"IF(Input!G557=\"\",Input!$C557,Input!G557)","v":false},{"$f":"IF(Input!H557=\"\",Input!$C557,Input!H557)","v":false},{"$f":"IF(Input!I557=\"\",Input!$C557,Input!I557)","v":false},{"$f":"IF(Input!J557=\"\",Input!$C557,Input!J557)","v":false},{"$f":"IF(Input!K557=\"\",Input!$C557,Input!K557)","v":false},{"$f":"IF(Input!L557=\"\",Input!$C557,Input!L557)","v":false},{"$f":"IF(Input!M557=\"\",Input!$C557,Input!M557)","v":false}]
["News_FilterInclude=","Include key-words (comma separated) "]
["News_MinutesBefore=15||15||1||150||N","Minutes before ",0,{"$f":"IF(Input!D559=\"\",Input!$C559,Input!D559)","v":0},{"$f":"IF(Input!E559=\"\",Input!$C559,Input!E559)","v":0},{"$f":"IF(Input!F559=\"\",Input!$C559,Input!F559)","v":0},{"$f":"IF(Input!G559=\"\",Input!$C559,Input!G559)","v":0},{"$f":"IF(Input!H559=\"\",Input!$C559,Input!H559)","v":0},{"$f":"IF(Input!I559=\"\",Input!$C559,Input!I559)","v":0},{"$f":"IF(Input!J559=\"\",Input!$C559,Input!J559)","v":0},{"$f":"IF(Input!K559=\"\",Input!$C559,Input!K559)","v":0},{"$f":"IF(Input!L559=\"\",Input!$C559,Input!L559)","v":0},{"$f":"IF(Input!M559=\"\",Input!$C559,Input!M559)","v":0}]
["News_MinutesAfter=15||15||1||150||N","Minutes after ",0,{"$f":"IF(Input!D560=\"\",Input!$C560,Input!D560)","v":0},{"$f":"IF(Input!E560=\"\",Input!$C560,Input!E560)","v":0},{"$f":"IF(Input!F560=\"\",Input!$C560,Input!F560)","v":0},{"$f":"IF(Input!G560=\"\",Input!$C560,Input!G560)","v":0},{"$f":"IF(Input!H560=\"\",Input!$C560,Input!H560)","v":0},{"$f":"IF(Input!I560=\"\",Input!$C560,Input!I560)","v":0},{"$f":"IF(Input!J560=\"\",Input!$C560,Input!J560)","v":0},{"$f":"IF(Input!K560=\"\",Input!$C560,Input!K560)","v":0},{"$f":"IF(Input!L560=\"\",Input!$C560,Input!L560)","v":0},{"$f":"IF(Input!M560=\"\",Input!$C560,Input!M560)","v":0}]
["News_OpenOn=0||0||0||3||N","Open on ","Ocn't use fcrc en ",{"$f":"IF(Input!D561=\"\",Input!$C561,Input!D561)","v":"Ocn't use fcrc en "},{"$f":"IF(Input!E561=\"\",Input!$C561,Input!E561)","v":"Ocn't use fcrc en "},{"$f":"IF(Input!F561=\"\",Input!$C561,Input!F561)","v":"Ocn't use fcrc en "},{"$f":"IF(Input!G561=\"\",Input!$C561,Input!G561)","v":"Ocn't use fcrc en "},{"$f":"IF(Input!H561=\"\",Input!$C561,Input!H561)","v":"Ocn't use fcrc en "},{"$f":"IF(Input!I561=\"\",Input!$C561,Input!I561)","v":"Ocn't use fcrc en "},{"$f":"IF(Input!J561=\"\",Input!$C561,Input!J561)","v":"Ocn't use fcrc en "},{"$f":"IF(Input!K561=\"\",Input!$C561,Input!K561)","v":"Ocn't use fcrc en "},{"$f":"IF(Input!L561=\"\",Input!$C561,Input!L561)","v":"Ocn't use fcrc en "},{"$f":"IF(Input!M561=\"\",Input!$C561,Input!M561)","v":"Ocn't use fcrc en "}]
["News_MartinOn=0||0||0||3||N","Open martin on ","Open on Individual signal ",{"$f":"IF(Input!D562=\"\",Input!$C562,Input!D562)","v":"Open on Individual signal "},{"$f":"IF(Input!E562=\"\",Input!$C562,Input!E562)","v":"Open on Individual signal "},{"$f":"IF(Input!F562=\"\",Input!$C562,Input!F562)","v":"Open on Individual signal "},{"$f":"IF(Input!G562=\"\",Input!$C562,Input!G562)","v":"Open on Individual signal "},{"$f":"IF(Input!H562=\"\",Input!$C562,Input!H562)","v":"Open on Individual signal "},{"$f":"IF(Input!I562=\"\",Input!$C562,Input!I562)","v":"Open on Individual signal "},{"$f":"IF(Input!J562=\"\",Input!$C562,Input!J562)","v":"Open on Individual signal "},{"$f":"IF(Input!K562=\"\",Input!$C562,Input!K562)","v":"Open on Individual signal "},{"$f":"IF(Input!L562=\"\",Input!$C562,Input!L562)","v":"Open on Individual signal "},{"$f":"IF(Input!M562=\"\",Input!$C562,Input!M562)","v":"Open on Individual signal "}]
["News_HedgeOn=0||0||0||3||N","Open hedge on ","Open on Individual signal ",{"$f":"IF(Input!D563=\"\",Input!$C563,Input!D563)","v":"Open on Individual signal "},{"$f":"IF(Input!E563=\"\",Input!$C563,Input!E563)","v":"Open on Individual signal "},{"$f":"IF(Input!F563=\"\",Input!$C563,Input!F563)","v":"Open on Individual signal "},{"$f":"IF(Input!G563=\"\",Input!$C563,Input!G563)","v":"Open on Individual signal "},{"$f":"IF(Input!H563=\"\",Input!$C563,Input!H563)","v":"Open on Individual signal "},{"$f":"IF(Input!I563=\"\",Input!$C563,Input!I563)","v":"Open on Individual signal "},{"$f":"IF(Input!J563=\"\",Input!$C563,Input!J563)","v":"Open on Individual signal "},{"$f":"IF(Input!K563=\"\",Input!$C563,Input!K563)","v":"Open on Individual signal "},{"$f":"IF(Input!L563=\"\",Input!$C563,Input!L563)","v":"Open on Individual signal "},{"$f":"IF(Input!M563=\"\",Input!$C563,Input!M563)","v":"Open on Individual signal "}]
["News_CloseOn=0||0||0||4||N","Close on ","Close on Individual signal, in profit only ",{"$f":"IF(Input!D564=\"\",Input!$C564,Input!D564)","v":"Close on Individual signal, in profit only "},{"$f":"IF(Input!E564=\"\",Input!$C564,Input!E564)","v":"Close on Individual signal, in profit only "},{"$f":"IF(Input!F564=\"\",Input!$C564,Input!F564)","v":"Close on Individual signal, in profit only "},{"$f":"IF(Input!G564=\"\",Input!$C564,Input!G564)","v":"Close on Individual signal, in profit only "},{"$f":"IF(Input!H564=\"\",Input!$C564,Input!H564)","v":"Close on Individual signal, in profit only "},{"$f":"IF(Input!I564=\"\",Input!$C564,Input!I564)","v":"Close on Individual signal, in profit only "},{"$f":"IF(Input!J564=\"\",Input!$C564,Input!J564)","v":"Close on Individual signal, in profit only "},{"$f":"IF(Input!K564=\"\",Input!$C564,Input!K564)","v":"Close on Individual signal, in profit only "},{"$f":"IF(Input!L564=\"\",Input!$C564,Input!L564)","v":"Close on Individual signal, in profit only "},{"$f":"IF(Input!M564=\"\",Input!$C564,Input!M564)","v":"Close on Individual signal, in profit only "}]
["News_PartialCloseOn=0||0||0||3||N","Partial close on ","Partial close on Individual signal ",{"$f":"IF(Input!D565=\"\",Input!$C565,Input!D565)","v":"Partial close on Individual signal "},{"$f":"IF(Input!E565=\"\",Input!$C565,Input!E565)","v":"Partial close on Individual signal "},{"$f":"IF(Input!F565=\"\",Input!$C565,Input!F565)","v":"Partial close on Individual signal "},{"$f":"IF(Input!G565=\"\",Input!$C565,Input!G565)","v":"Partial close on Individual signal "},{"$f":"IF(Input!H565=\"\",Input!$C565,Input!H565)","v":"Partial close on Individual signal "},{"$f":"IF(Input!I565=\"\",Input!$C565,Input!I565)","v":"Partial close on Individual signal "},{"$f":"IF(Input!J565=\"\",Input!$C565,Input!J565)","v":"Partial close on Individual signal "},{"$f":"IF(Input!K565=\"\",Input!$C565,Input!K565)","v":"Partial close on Individual signal "},{"$f":"IF(Input!L565=\"\",Input!$C565,Input!L565)","v":"Partial close on Individual signal "},{"$f":"IF(Input!M565=\"\",Input!$C565,Input!M565)","v":"Partial close on Individual signal "}]
["News_Draw_Properties===== Visualization ====","Visualization properties: "]
["News_ShowOnChart=true","Show on chart ",false,{"$f":"IF(Input!D567=\"\",Input!$C567,Input!D567)","v":false},{"$f":"IF(Input!E567=\"\",Input!$C567,Input!E567)","v":false},{"$f":"IF(Input!F567=\"\",Input!$C567,Input!F567)","v":false},{"$f":"IF(Input!G567=\"\",Input!$C567,Input!G567)","v":false},{"$f":"IF(Input!H567=\"\",Input!$C567,Input!H567)","v":false},{"$f":"IF(Input!I567=\"\",Input!$C567,Input!I567)","v":false},{"$f":"IF(Input!J567=\"\",Input!$C567,Input!J567)","v":false},{"$f":"IF(Input!K567=\"\",Input!$C567,Input!K567)","v":false},{"$f":"IF(Input!L567=\"\",Input!$C567,Input!L567)","v":false},{"$f":"IF(Input!M567=\"\",Input!$C567,Input!M567)","v":false}]
["News_Style_History=0","Previous events line style ","Dash",{"$f":"IF(Input!D568=\"\",Input!$C568,Input!D568)","v":"Dash"},{"$f":"IF(Input!E568=\"\",Input!$C568,Input!E568)","v":"Dash"},{"$f":"IF(Input!F568=\"\",Input!$C568,Input!F568)","v":"Dash"},{"$f":"IF(Input!G568=\"\",Input!$C568,Input!G568)","v":"Dash"},{"$f":"IF(Input!H568=\"\",Input!$C568,Input!H568)","v":"Dash"},{"$f":"IF(Input!I568=\"\",Input!$C568,Input!I568)","v":"Dash"},{"$f":"IF(Input!J568=\"\",Input!$C568,Input!J568)","v":"Dash"},{"$f":"IF(Input!K568=\"\",Input!$C568,Input!K568)","v":"Dash"},{"$f":"IF(Input!L568=\"\",Input!$C568,Input!L568)","v":"Dash"},{"$f":"IF(Input!M568=\"\",Input!$C568,Input!M568)","v":"Dash"}]
["News_Style_Future=3","Future events line style ","Dash",{"$f":"IF(Input!D569=\"\",Input!$C569,Input!D569)","v":"Dash"},{"$f":"IF(Input!E569=\"\",Input!$C569,Input!E569)","v":"Dash"},{"$f":"IF(Input!F569=\"\",Input!$C569,Input!F569)","v":"Dash"},{"$f":"IF(Input!G569=\"\",Input!$C569,Input!G569)","v":"Dash"},{"$f":"IF(Input!H569=\"\",Input!$C569,Input!H569)","v":"Dash"},{"$f":"IF(Input!I569=\"\",Input!$C569,Input!I569)","v":"Dash"},{"$f":"IF(Input!J569=\"\",Input!$C569,Input!J569)","v":"Dash"},{"$f":"IF(Input!K569=\"\",Input!$C569,Input!K569)","v":"Dash"},{"$f":"IF(Input!L569=\"\",Input!$C569,Input!L569)","v":"Dash"},{"$f":"IF(Input!M569=\"\",Input!$C569,Input!M569)","v":"Dash"}]
["News_Color_ImpactH=255","High impact color ","Red",{"$f":"IF(Input!D570=\"\",Input!$C570,Input!D570)","v":"Red"},{"$f":"IF(Input!E570=\"\",Input!$C570,Input!E570)","v":"Red"},{"$f":"IF(Input!F570=\"\",Input!$C570,Input!F570)","v":"Red"},{"$f":"IF(Input!G570=\"\",Input!$C570,Input!G570)","v":"Red"},{"$f":"IF(Input!H570=\"\",Input!$C570,Input!H570)","v":"Red"},{"$f":"IF(Input!I570=\"\",Input!$C570,Input!I570)","v":"Red"},{"$f":"IF(Input!J570=\"\",Input!$C570,Input!J570)","v":"Red"},{"$f":"IF(Input!K570=\"\",Input!$C570,Input!K570)","v":"Red"},{"$f":"IF(Input!L570=\"\",Input!$C570,Input!L570)","v":"Red"},{"$f":"IF(Input!M570=\"\",Input!$C570,Input!M570)","v":"Red"}]
["News_Color_ImpactM=65535","Medium impact color ","Yellow",{"$f":"IF(Input!D571=\"\",Input!$C571,Input!D571)","v":"Yellow"},{"$f":"IF(Input!E571=\"\",Input!$C571,Input!E571)","v":"Yellow"},{"$f":"IF(Input!F571=\"\",Input!$C571,Input!F571)","v":"Yellow"},{"$f":"IF(Input!G571=\"\",Input!$C571,Input!G571)","v":"Yellow"},{"$f":"IF(Input!H571=\"\",Input!$C571,Input!H571)","v":"Yellow"},{"$f":"IF(Input!I571=\"\",Input!$C571,Input!I571)","v":"Yellow"},{"$f":"IF(Input!J571=\"\",Input!$C571,Input!J571)","v":"Yellow"},{"$f":"IF(Input!K571=\"\",Input!$C571,Input!K571)","v":"Yellow"},{"$f":"IF(Input!L571=\"\",Input!$C571,Input!L571)","v":"Yellow"},{"$f":"IF(Input!M571=\"\",Input!$C571,Input!M571)","v":"Yellow"}]
["News_Color_ImpactL=32768","Low impact color ","Green",{"$f":"IF(Input!D572=\"\",Input!$C572,Input!D572)","v":"Green"},{"$f":"IF(Input!E572=\"\",Input!$C572,Input!E572)","v":"Green"},{"$f":"IF(Input!F572=\"\",Input!$C572,Input!F572)","v":"Green"},{"$f":"IF(Input!G572=\"\",Input!$C572,Input!G572)","v":"Green"},{"$f":"IF(Input!H572=\"\",Input!$C572,Input!H572)","v":"Green"},{"$f":"IF(Input!I572=\"\",Input!$C572,Input!I572)","v":"Green"},{"$f":"IF(Input!J572=\"\",Input!$C572,Input!J572)","v":"Green"},{"$f":"IF(Input!K572=\"\",Input!$C572,Input!K572)","v":"Green"},{"$f":"IF(Input!L572=\"\",Input!$C572,Input!L572)","v":"Green"},{"$f":"IF(Input!M572=\"\",Input!$C572,Input!M572)","v":"Green"}]
["News_Color_ImpactN=12632256","No impact (holidays) color ","Silver",{"$f":"IF(Input!D573=\"\",Input!$C573,Input!D573)","v":"Silver"},{"$f":"IF(Input!E573=\"\",Input!$C573,Input!E573)","v":"Silver"},{"$f":"IF(Input!F573=\"\",Input!$C573,Input!F573)","v":"Silver"},{"$f":"IF(Input!G573=\"\",Input!$C573,Input!G573)","v":"Silver"},{"$f":"IF(Input!H573=\"\",Input!$C573,Input!H573)","v":"Silver"},{"$f":"IF(Input!I573=\"\",Input!$C573,Input!I573)","v":"Silver"},{"$f":"IF(Input!J573=\"\",Input!$C573,Input!J573)","v":"Silver"},{"$f":"IF(Input!K573=\"\",Input!$C573,Input!K573)","v":"Silver"},{"$f":"IF(Input!L573=\"\",Input!$C573,Input!L573)","v":"Silver"},{"$f":"IF(Input!M573=\"\",Input!$C573,Input!M573)","v":"Silver"}]
["; Lines settings","Lines settings "]
["Lines_Settings====================================================================================","Lines settings: "]
["NextOrder_Width=1","NextOrder width (O - don't draw) ",0,{"$f":"IF(Input!D576=\"\",Input!$C576,Input!D576)","v":0},{"$f":"IF(Input!E576=\"\",Input!$C576,Input!E576)","v":0},{"$f":"IF(Input!F576=\"\",Input!$C576,Input!F576)","v":0},{"$f":"IF(Input!G576=\"\",Input!$C576,Input!G576)","v":0},{"$f":"IF(Input!H576=\"\",Input!$C576,Input!H576)","v":0},{"$f":"IF(Input!I576=\"\",Input!$C576,Input!I576)","v":0},{"$f":"IF(Input!J576=\"\",Input!$C576,Input!J576)","v":0},{"$f":"IF(Input!K576=\"\",Input!$C576,Input!K576)","v":0},{"$f":"IF(Input!L576=\"\",Input!$C576,Input!L576)","v":0},{"$f":"IF(Input!M576=\"\",Input!$C576,Input!M576)","v":0}]
["NextOrder_Style=2","NextOrder style ","Dash",{"$f":"IF(Input!D577=\"\",Input!$C577,Input!D577)","v":"Dash"},{"$f":"IF(Input!E577=\"\",Input!$C577,Input!E577)","v":"Dash"},{"$f":"IF(Input!F577=\"\",Input!$C577,Input!F577)","v":"Dash"},{"$f":"IF(Input!G577=\"\",Input!$C577,Input!G577)","v":"Dash"},{"$f":"IF(Input!H577=\"\",Input!$C577,Input!H577)","v":"Dash"},{"$f":"IF(Input!I577=\"\",Input!$C577,Input!I577)","v":"Dash"},{"$f":"IF(Input!J577=\"\",Input!$C577,Input!J577)","v":"Dash"},{"$f":"IF(Input!K577=\"\",Input!$C577,Input!K577)","v":"Dash"},{"$f":"IF(Input!L577=\"\",Input!$C577,Input!L577)","v":"Dash"},{"$f":"IF(Input!M577=\"\",Input!$C577,Input!M577)","v":"Dash"}]
["NextOrder_ColorB=65280","NextOrder color BUY ","Lime",{"$f":"IF(Input!D578=\"\",Input!$C578,Input!D578)","v":"Lime"},{"$f":"IF(Input!E578=\"\",Input!$C578,Input!E578)","v":"Lime"},{"$f":"IF(Input!F578=\"\",Input!$C578,Input!F578)","v":"Lime"},{"$f":"IF(Input!G578=\"\",Input!$C578,Input!G578)","v":"Lime"},{"$f":"IF(Input!H578=\"\",Input!$C578,Input!H578)","v":"Lime"},{"$f":"IF(Input!I578=\"\",Input!$C578,Input!I578)","v":"Lime"},{"$f":"IF(Input!J578=\"\",Input!$C578,Input!J578)","v":"Lime"},{"$f":"IF(Input!K578=\"\",Input!$C578,Input!K578)","v":"Lime"},{"$f":"IF(Input!L578=\"\",Input!$C578,Input!L578)","v":"Lime"},{"$f":"IF(Input!M578=\"\",Input!$C578,Input!M578)","v":"Lime"}]
["NextOrder_ColorS=255","NextOrder color SELL ","Red",{"$f":"IF(Input!D579=\"\",Input!$C579,Input!D579)","v":"Red"},{"$f":"IF(Input!E579=\"\",Input!$C579,Input!E579)","v":"Red"},{"$f":"IF(Input!F579=\"\",Input!$C579,Input!F579)","v":"Red"},{"$f":"IF(Input!G579=\"\",Input!$C579,Input!G579)","v":"Red"},{"$f":"IF(Input!H579=\"\",Input!$C579,Input!H579)","v":"Red"},{"$f":"IF(Input!I579=\"\",Input!$C579,Input!I579)","v":"Red"},{"$f":"IF(Input!J579=\"\",Input!$C579,Input!J579)","v":"Red"},{"$f":"IF(Input!K579=\"\",Input!$C579,Input!K579)","v":"Red"},{"$f":"IF(Input!L579=\"\",Input!$C579,Input!L579)","v":"Red"},{"$f":"IF(Input!M579=\"\",Input!$C579,Input!M579)","v":"Red"}]
["StopLoss_Width=1","StopLoss width (O - don't draw) ",0,{"$f":"IF(Input!D580=\"\",Input!$C580,Input!D580)","v":0},{"$f":"IF(Input!E580=\"\",Input!$C580,Input!E580)","v":0},{"$f":"IF(Input!F580=\"\",Input!$C580,Input!F580)","v":0},{"$f":"IF(Input!G580=\"\",Input!$C580,Input!G580)","v":0},{"$f":"IF(Input!H580=\"\",Input!$C580,Input!H580)","v":0},{"$f":"IF(Input!I580=\"\",Input!$C580,Input!I580)","v":0},{"$f":"IF(Input!J580=\"\",Input!$C580,Input!J580)","v":0},{"$f":"IF(Input!K580=\"\",Input!$C580,Input!K580)","v":0},{"$f":"IF(Input!L580=\"\",Input!$C580,Input!L580)","v":0},{"$f":"IF(Input!M580=\"\",Input!$C580,Input!M580)","v":0}]
["StopLoss_Style=1","StopLoss style ","Dash",{"$f":"IF(Input!D581=\"\",Input!$C581,Input!D581)","v":"Dash"},{"$f":"IF(Input!E581=\"\",Input!$C581,Input!E581)","v":"Dash"},{"$f":"IF(Input!F581=\"\",Input!$C581,Input!F581)","v":"Dash"},{"$f":"IF(Input!G581=\"\",Input!$C581,Input!G581)","v":"Dash"},{"$f":"IF(Input!H581=\"\",Input!$C581,Input!H581)","v":"Dash"},{"$f":"IF(Input!I581=\"\",Input!$C581,Input!I581)","v":"Dash"},{"$f":"IF(Input!J581=\"\",Input!$C581,Input!J581)","v":"Dash"},{"$f":"IF(Input!K581=\"\",Input!$C581,Input!K581)","v":"Dash"},{"$f":"IF(Input!L581=\"\",Input!$C581,Input!L581)","v":"Dash"},{"$f":"IF(Input!M581=\"\",Input!$C581,Input!M581)","v":"Dash"}]
["StopLoss_ColorB=16711935","StopLoss color BUY ","Magenta",{"$f":"IF(Input!D582=\"\",Input!$C582,Input!D582)","v":"Magenta"},{"$f":"IF(Input!E582=\"\",Input!$C582,Input!E582)","v":"Magenta"},{"$f":"IF(Input!F582=\"\",Input!$C582,Input!F582)","v":"Magenta"},{"$f":"IF(Input!G582=\"\",Input!$C582,Input!G582)","v":"Magenta"},{"$f":"IF(Input!H582=\"\",Input!$C582,Input!H582)","v":"Magenta"},{"$f":"IF(Input!I582=\"\",Input!$C582,Input!I582)","v":"Magenta"},{"$f":"IF(Input!J582=\"\",Input!$C582,Input!J582)","v":"Magenta"},{"$f":"IF(Input!K582=\"\",Input!$C582,Input!K582)","v":"Magenta"},{"$f":"IF(Input!L582=\"\",Input!$C582,Input!L582)","v":"Magenta"},{"$f":"IF(Input!M582=\"\",Input!$C582,Input!M582)","v":"Magenta"}]
["StopLoss_ColorS=16711935","StopLoss color SELL ","Magenta",{"$f":"IF(Input!D583=\"\",Input!$C583,Input!D583)","v":"Magenta"},{"$f":"IF(Input!E583=\"\",Input!$C583,Input!E583)","v":"Magenta"},{"$f":"IF(Input!F583=\"\",Input!$C583,Input!F583)","v":"Magenta"},{"$f":"IF(Input!G583=\"\",Input!$C583,Input!G583)","v":"Magenta"},{"$f":"IF(Input!H583=\"\",Input!$C583,Input!H583)","v":"Magenta"},{"$f":"IF(Input!I583=\"\",Input!$C583,Input!I583)","v":"Magenta"},{"$f":"IF(Input!J583=\"\",Input!$C583,Input!J583)","v":"Magenta"},{"$f":"IF(Input!K583=\"\",Input!$C583,Input!K583)","v":"Magenta"},{"$f":"IF(Input!L583=\"\",Input!$C583,Input!L583)","v":"Magenta"},{"$f":"IF(Input!M583=\"\",Input!$C583,Input!M583)","v":"Magenta"}]
["BreakEven_Width=1","8reakEven width (O - don't draw) ",0,{"$f":"IF(Input!D584=\"\",Input!$C584,Input!D584)","v":0},{"$f":"IF(Input!E584=\"\",Input!$C584,Input!E584)","v":0},{"$f":"IF(Input!F584=\"\",Input!$C584,Input!F584)","v":0},{"$f":"IF(Input!G584=\"\",Input!$C584,Input!G584)","v":0},{"$f":"IF(Input!H584=\"\",Input!$C584,Input!H584)","v":0},{"$f":"IF(Input!I584=\"\",Input!$C584,Input!I584)","v":0},{"$f":"IF(Input!J584=\"\",Input!$C584,Input!J584)","v":0},{"$f":"IF(Input!K584=\"\",Input!$C584,Input!K584)","v":0},{"$f":"IF(Input!L584=\"\",Input!$C584,Input!L584)","v":0},{"$f":"IF(Input!M584=\"\",Input!$C584,Input!M584)","v":0}]
["BreakEven_Style=0","8reakEven style ","Dash",{"$f":"IF(Input!D585=\"\",Input!$C585,Input!D585)","v":"Dash"},{"$f":"IF(Input!E585=\"\",Input!$C585,Input!E585)","v":"Dash"},{"$f":"IF(Input!F585=\"\",Input!$C585,Input!F585)","v":"Dash"},{"$f":"IF(Input!G585=\"\",Input!$C585,Input!G585)","v":"Dash"},{"$f":"IF(Input!H585=\"\",Input!$C585,Input!H585)","v":"Dash"},{"$f":"IF(Input!I585=\"\",Input!$C585,Input!I585)","v":"Dash"},{"$f":"IF(Input!J585=\"\",Input!$C585,Input!J585)","v":"Dash"},{"$f":"IF(Input!K585=\"\",Input!$C585,Input!K585)","v":"Dash"},{"$f":"IF(Input!L585=\"\",Input!$C585,Input!L585)","v":"Dash"},{"$f":"IF(Input!M585=\"\",Input!$C585,Input!M585)","v":"Dash"}]
["BreakEven_ColorB=65471","8reakEven color BUY ","191,255,0",{"$f":"IF(Input!D586=\"\",Input!$C586,Input!D586)","v":"191,255,0"},{"$f":"IF(Input!E586=\"\",Input!$C586,Input!E586)","v":"191,255,0"},{"$f":"IF(Input!F586=\"\",Input!$C586,Input!F586)","v":"191,255,0"},{"$f":"IF(Input!G586=\"\",Input!$C586,Input!G586)","v":"191,255,0"},{"$f":"IF(Input!H586=\"\",Input!$C586,Input!H586)","v":"191,255,0"},{"$f":"IF(Input!I586=\"\",Input!$C586,Input!I586)","v":"191,255,0"},{"$f":"IF(Input!J586=\"\",Input!$C586,Input!J586)","v":"191,255,0"},{"$f":"IF(Input!K586=\"\",Input!$C586,Input!K586)","v":"191,255,0"},{"$f":"IF(Input!L586=\"\",Input!$C586,Input!L586)","v":"191,255,0"},{"$f":"IF(Input!M586=\"\",Input!$C586,Input!M586)","v":"191,255,0"}]
["BreakEven_ColorS=33023","8reakEven color SELL ","255,128,0",{"$f":"IF(Input!D587=\"\",Input!$C587,Input!D587)","v":"255,128,0"},{"$f":"IF(Input!E587=\"\",Input!$C587,Input!E587)","v":"255,128,0"},{"$f":"IF(Input!F587=\"\",Input!$C587,Input!F587)","v":"255,128,0"},{"$f":"IF(Input!G587=\"\",Input!$C587,Input!G587)","v":"255,128,0"},{"$f":"IF(Input!H587=\"\",Input!$C587,Input!H587)","v":"255,128,0"},{"$f":"IF(Input!I587=\"\",Input!$C587,Input!I587)","v":"255,128,0"},{"$f":"IF(Input!J587=\"\",Input!$C587,Input!J587)","v":"255,128,0"},{"$f":"IF(Input!K587=\"\",Input!$C587,Input!K587)","v":"255,128,0"},{"$f":"IF(Input!L587=\"\",Input!$C587,Input!L587)","v":"255,128,0"},{"$f":"IF(Input!M587=\"\",Input!$C587,Input!M587)","v":"255,128,0"}]
["TakeProfit_Width=1","TakeProfit width (O - don't draw) ",0,{"$f":"IF(Input!D588=\"\",Input!$C588,Input!D588)","v":0},{"$f":"IF(Input!E588=\"\",Input!$C588,Input!E588)","v":0},{"$f":"IF(Input!F588=\"\",Input!$C588,Input!F588)","v":0},{"$f":"IF(Input!G588=\"\",Input!$C588,Input!G588)","v":0},{"$f":"IF(Input!H588=\"\",Input!$C588,Input!H588)","v":0},{"$f":"IF(Input!I588=\"\",Input!$C588,Input!I588)","v":0},{"$f":"IF(Input!J588=\"\",Input!$C588,Input!J588)","v":0},{"$f":"IF(Input!K588=\"\",Input!$C588,Input!K588)","v":0},{"$f":"IF(Input!L588=\"\",Input!$C588,Input!L588)","v":0},{"$f":"IF(Input!M588=\"\",Input!$C588,Input!M588)","v":0}]
["TakeProfit_Style=4","TakeProfit style ","Dash",{"$f":"IF(Input!D589=\"\",Input!$C589,Input!D589)","v":"Dash"},{"$f":"IF(Input!E589=\"\",Input!$C589,Input!E589)","v":"Dash"},{"$f":"IF(Input!F589=\"\",Input!$C589,Input!F589)","v":"Dash"},{"$f":"IF(Input!G589=\"\",Input!$C589,Input!G589)","v":"Dash"},{"$f":"IF(Input!H589=\"\",Input!$C589,Input!H589)","v":"Dash"},{"$f":"IF(Input!I589=\"\",Input!$C589,Input!I589)","v":"Dash"},{"$f":"IF(Input!J589=\"\",Input!$C589,Input!J589)","v":"Dash"},{"$f":"IF(Input!K589=\"\",Input!$C589,Input!K589)","v":"Dash"},{"$f":"IF(Input!L589=\"\",Input!$C589,Input!L589)","v":"Dash"},{"$f":"IF(Input!M589=\"\",Input!$C589,Input!M589)","v":"Dash"}]
["TakeProfit_ColorB=65280","TakeProfit color BUY ","Lime",{"$f":"IF(Input!D590=\"\",Input!$C590,Input!D590)","v":"Lime"},{"$f":"IF(Input!E590=\"\",Input!$C590,Input!E590)","v":"Lime"},{"$f":"IF(Input!F590=\"\",Input!$C590,Input!F590)","v":"Lime"},{"$f":"IF(Input!G590=\"\",Input!$C590,Input!G590)","v":"Lime"},{"$f":"IF(Input!H590=\"\",Input!$C590,Input!H590)","v":"Lime"},{"$f":"IF(Input!I590=\"\",Input!$C590,Input!I590)","v":"Lime"},{"$f":"IF(Input!J590=\"\",Input!$C590,Input!J590)","v":"Lime"},{"$f":"IF(Input!K590=\"\",Input!$C590,Input!K590)","v":"Lime"},{"$f":"IF(Input!L590=\"\",Input!$C590,Input!L590)","v":"Lime"},{"$f":"IF(Input!M590=\"\",Input!$C590,Input!M590)","v":"Lime"}]
["TakeProfit_ColorS=255","TakeProfit color SELL ","Red",{"$f":"IF(Input!D591=\"\",Input!$C591,Input!D591)","v":"Red"},{"$f":"IF(Input!E591=\"\",Input!$C591,Input!E591)","v":"Red"},{"$f":"IF(Input!F591=\"\",Input!$C591,Input!F591)","v":"Red"},{"$f":"IF(Input!G591=\"\",Input!$C591,Input!G591)","v":"Red"},{"$f":"IF(Input!H591=\"\",Input!$C591,Input!H591)","v":"Red"},{"$f":"IF(Input!I591=\"\",Input!$C591,Input!I591)","v":"Red"},{"$f":"IF(Input!J591=\"\",Input!$C591,Input!J591)","v":"Red"},{"$f":"IF(Input!K591=\"\",Input!$C591,Input!K591)","v":"Red"},{"$f":"IF(Input!L591=\"\",Input!$C591,Input!L591)","v":"Red"},{"$f":"IF(Input!M591=\"\",Input!$C591,Input!M591)","v":"Red"}]
["; GUI settings","GU I settings "]
["GUI_Settings====================================================================================","GUI settings: "]
["GUI_Enabled=true","Enable panel ",false,{"$f":"IF(Input!D594=\"\",Input!$C594,Input!D594)","v":false},{"$f":"IF(Input!E594=\"\",Input!$C594,Input!E594)","v":false},{"$f":"IF(Input!F594=\"\",Input!$C594,Input!F594)","v":false},{"$f":"IF(Input!G594=\"\",Input!$C594,Input!G594)","v":false},{"$f":"IF(Input!H594=\"\",Input!$C594,Input!H594)","v":false},{"$f":"IF(Input!I594=\"\",Input!$C594,Input!I594)","v":false},{"$f":"IF(Input!J594=\"\",Input!$C594,Input!J594)","v":false},{"$f":"IF(Input!K594=\"\",Input!$C594,Input!K594)","v":false},{"$f":"IF(Input!L594=\"\",Input!$C594,Input!L594)","v":false},{"$f":"IF(Input!M594=\"\",Input!$C594,Input!M594)","v":false}]
["GUI_FontName=Segoe UI","Font name ","Segoe UI",{"$f":"IF(Input!D595=\"\",Input!$C595,Input!D595)","v":"Segoe UI"},{"$f":"IF(Input!E595=\"\",Input!$C595,Input!E595)","v":"Segoe UI"},{"$f":"IF(Input!F595=\"\",Input!$C595,Input!F595)","v":"Segoe UI"},{"$f":"IF(Input!G595=\"\",Input!$C595,Input!G595)","v":"Segoe UI"},{"$f":"IF(Input!H595=\"\",Input!$C595,Input!H595)","v":"Segoe UI"},{"$f":"IF(Input!I595=\"\",Input!$C595,Input!I595)","v":"Segoe UI"},{"$f":"IF(Input!J595=\"\",Input!$C595,Input!J595)","v":"Segoe UI"},{"$f":"IF(Input!K595=\"\",Input!$C595,Input!K595)","v":"Segoe UI"},{"$f":"IF(Input!L595=\"\",Input!$C595,Input!L595)","v":"Segoe UI"},{"$f":"IF(Input!M595=\"\",Input!$C595,Input!M595)","v":"Segoe UI"}]
["GUI_Color_Text=0","Buttons text color ","Black",{"$f":"IF(Input!D596=\"\",Input!$C596,Input!D596)","v":"Black"},{"$f":"IF(Input!E596=\"\",Input!$C596,Input!E596)","v":"Black"},{"$f":"IF(Input!F596=\"\",Input!$C596,Input!F596)","v":"Black"},{"$f":"IF(Input!G596=\"\",Input!$C596,Input!G596)","v":"Black"},{"$f":"IF(Input!H596=\"\",Input!$C596,Input!H596)","v":"Black"},{"$f":"IF(Input!I596=\"\",Input!$C596,Input!I596)","v":"Black"},{"$f":"IF(Input!J596=\"\",Input!$C596,Input!J596)","v":"Black"},{"$f":"IF(Input!K596=\"\",Input!$C596,Input!K596)","v":"Black"},{"$f":"IF(Input!L596=\"\",Input!$C596,Input!L596)","v":"Black"},{"$f":"IF(Input!M596=\"\",Input!$C596,Input!M596)","v":"Black"}]
["GUI_Window_Alpha=255","Window transparency (0 255) ","255",{"$f":"IF(Input!D597=\"\",Input!$C597,Input!D597)","v":"255"},{"$f":"IF(Input!E597=\"\",Input!$C597,Input!E597)","v":"255"},{"$f":"IF(Input!F597=\"\",Input!$C597,Input!F597)","v":"255"},{"$f":"IF(Input!G597=\"\",Input!$C597,Input!G597)","v":"255"},{"$f":"IF(Input!H597=\"\",Input!$C597,Input!H597)","v":"255"},{"$f":"IF(Input!I597=\"\",Input!$C597,Input!I597)","v":"255"},{"$f":"IF(Input!J597=\"\",Input!$C597,Input!J597)","v":"255"},{"$f":"IF(Input!K597=\"\",Input!$C597,Input!K597)","v":"255"},{"$f":"IF(Input!L597=\"\",Input!$C597,Input!L597)","v":"255"},{"$f":"IF(Input!M597=\"\",Input!$C597,Input!M597)","v":"255"}]
["GUI_ShowSignals=true","Show signals ",false,{"$f":"IF(Input!D598=\"\",Input!$C598,Input!D598)","v":false},{"$f":"IF(Input!E598=\"\",Input!$C598,Input!E598)","v":false},{"$f":"IF(Input!F598=\"\",Input!$C598,Input!F598)","v":false},{"$f":"IF(Input!G598=\"\",Input!$C598,Input!G598)","v":false},{"$f":"IF(Input!H598=\"\",Input!$C598,Input!H598)","v":false},{"$f":"IF(Input!I598=\"\",Input!$C598,Input!I598)","v":false},{"$f":"IF(Input!J598=\"\",Input!$C598,Input!J598)","v":false},{"$f":"IF(Input!K598=\"\",Input!$C598,Input!K598)","v":false},{"$f":"IF(Input!L598=\"\",Input!$C598,Input!L598)","v":false},{"$f":"IF(Input!M598=\"\",Input!$C598,Input!M598)","v":false}]
["GUI_Color_Signal=13350833","Signals background color ","177,183,203",{"$f":"IF(Input!D599=\"\",Input!$C599,Input!D599)","v":"177,183,203"},{"$f":"IF(Input!E599=\"\",Input!$C599,Input!E599)","v":"177,183,203"},{"$f":"IF(Input!F599=\"\",Input!$C599,Input!F599)","v":"177,183,203"},{"$f":"IF(Input!G599=\"\",Input!$C599,Input!G599)","v":"177,183,203"},{"$f":"IF(Input!H599=\"\",Input!$C599,Input!H599)","v":"177,183,203"},{"$f":"IF(Input!I599=\"\",Input!$C599,Input!I599)","v":"177,183,203"},{"$f":"IF(Input!J599=\"\",Input!$C599,Input!J599)","v":"177,183,203"},{"$f":"IF(Input!K599=\"\",Input!$C599,Input!K599)","v":"177,183,203"},{"$f":"IF(Input!L599=\"\",Input!$C599,Input!L599)","v":"177,183,203"},{"$f":"IF(Input!M599=\"\",Input!$C599,Input!M599)","v":"177,183,203"}]
["GUI_Color_SignalText=0","Signals text color ","Black",{"$f":"IF(Input!D600=\"\",Input!$C600,Input!D600)","v":"Black"},{"$f":"IF(Input!E600=\"\",Input!$C600,Input!E600)","v":"Black"},{"$f":"IF(Input!F600=\"\",Input!$C600,Input!F600)","v":"Black"},{"$f":"IF(Input!G600=\"\",Input!$C600,Input!G600)","v":"Black"},{"$f":"IF(Input!H600=\"\",Input!$C600,Input!H600)","v":"Black"},{"$f":"IF(Input!I600=\"\",Input!$C600,Input!I600)","v":"Black"},{"$f":"IF(Input!J600=\"\",Input!$C600,Input!J600)","v":"Black"},{"$f":"IF(Input!K600=\"\",Input!$C600,Input!K600)","v":"Black"},{"$f":"IF(Input!L600=\"\",Input!$C600,Input!L600)","v":"Black"},{"$f":"IF(Input!M600=\"\",Input!$C600,Input!M600)","v":"Black"}]
["GUI_Color_B_Back=16777184","Buy background color ","LightCyan",{"$f":"IF(Input!D601=\"\",Input!$C601,Input!D601)","v":"LightCyan"},{"$f":"IF(Input!E601=\"\",Input!$C601,Input!E601)","v":"LightCyan"},{"$f":"IF(Input!F601=\"\",Input!$C601,Input!F601)","v":"LightCyan"},{"$f":"IF(Input!G601=\"\",Input!$C601,Input!G601)","v":"LightCyan"},{"$f":"IF(Input!H601=\"\",Input!$C601,Input!H601)","v":"LightCyan"},{"$f":"IF(Input!I601=\"\",Input!$C601,Input!I601)","v":"LightCyan"},{"$f":"IF(Input!J601=\"\",Input!$C601,Input!J601)","v":"LightCyan"},{"$f":"IF(Input!K601=\"\",Input!$C601,Input!K601)","v":"LightCyan"},{"$f":"IF(Input!L601=\"\",Input!$C601,Input!L601)","v":"LightCyan"},{"$f":"IF(Input!M601=\"\",Input!$C601,Input!M601)","v":"LightCyan"}]
["GUI_Color_B_Button=15130800","Buy buttons color ","PowderBlue",{"$f":"IF(Input!D602=\"\",Input!$C602,Input!D602)","v":"PowderBlue"},{"$f":"IF(Input!E602=\"\",Input!$C602,Input!E602)","v":"PowderBlue"},{"$f":"IF(Input!F602=\"\",Input!$C602,Input!F602)","v":"PowderBlue"},{"$f":"IF(Input!G602=\"\",Input!$C602,Input!G602)","v":"PowderBlue"},{"$f":"IF(Input!H602=\"\",Input!$C602,Input!H602)","v":"PowderBlue"},{"$f":"IF(Input!I602=\"\",Input!$C602,Input!I602)","v":"PowderBlue"},{"$f":"IF(Input!J602=\"\",Input!$C602,Input!J602)","v":"PowderBlue"},{"$f":"IF(Input!K602=\"\",Input!$C602,Input!K602)","v":"PowderBlue"},{"$f":"IF(Input!L602=\"\",Input!$C602,Input!L602)","v":"PowderBlue"},{"$f":"IF(Input!M602=\"\",Input!$C602,Input!M602)","v":"PowderBlue"}]
["GUI_Color_B_ButtonP=16748574","Buy pressed buttons color ","DodgerBlue",{"$f":"IF(Input!D603=\"\",Input!$C603,Input!D603)","v":"DodgerBlue"},{"$f":"IF(Input!E603=\"\",Input!$C603,Input!E603)","v":"DodgerBlue"},{"$f":"IF(Input!F603=\"\",Input!$C603,Input!F603)","v":"DodgerBlue"},{"$f":"IF(Input!G603=\"\",Input!$C603,Input!G603)","v":"DodgerBlue"},{"$f":"IF(Input!H603=\"\",Input!$C603,Input!H603)","v":"DodgerBlue"},{"$f":"IF(Input!I603=\"\",Input!$C603,Input!I603)","v":"DodgerBlue"},{"$f":"IF(Input!J603=\"\",Input!$C603,Input!J603)","v":"DodgerBlue"},{"$f":"IF(Input!K603=\"\",Input!$C603,Input!K603)","v":"DodgerBlue"},{"$f":"IF(Input!L603=\"\",Input!$C603,Input!L603)","v":"DodgerBlue"},{"$f":"IF(Input!M603=\"\",Input!$C603,Input!M603)","v":"DodgerBlue"}]
["GUI_Color_B_Border=15570276","Buy buttons borders color ","CornflowerBlue",{"$f":"IF(Input!D604=\"\",Input!$C604,Input!D604)","v":"CornflowerBlue"},{"$f":"IF(Input!E604=\"\",Input!$C604,Input!E604)","v":"CornflowerBlue"},{"$f":"IF(Input!F604=\"\",Input!$C604,Input!F604)","v":"CornflowerBlue"},{"$f":"IF(Input!G604=\"\",Input!$C604,Input!G604)","v":"CornflowerBlue"},{"$f":"IF(Input!H604=\"\",Input!$C604,Input!H604)","v":"CornflowerBlue"},{"$f":"IF(Input!I604=\"\",Input!$C604,Input!I604)","v":"CornflowerBlue"},{"$f":"IF(Input!J604=\"\",Input!$C604,Input!J604)","v":"CornflowerBlue"},{"$f":"IF(Input!K604=\"\",Input!$C604,Input!K604)","v":"CornflowerBlue"},{"$f":"IF(Input!L604=\"\",Input!$C604,Input!L604)","v":"CornflowerBlue"},{"$f":"IF(Input!M604=\"\",Input!$C604,Input!M604)","v":"CornflowerBlue"}]
["GUI_Color_B_Text=0","Buy text color ","Black",{"$f":"IF(Input!D605=\"\",Input!$C605,Input!D605)","v":"Black"},{"$f":"IF(Input!E605=\"\",Input!$C605,Input!E605)","v":"Black"},{"$f":"IF(Input!F605=\"\",Input!$C605,Input!F605)","v":"Black"},{"$f":"IF(Input!G605=\"\",Input!$C605,Input!G605)","v":"Black"},{"$f":"IF(Input!H605=\"\",Input!$C605,Input!H605)","v":"Black"},{"$f":"IF(Input!I605=\"\",Input!$C605,Input!I605)","v":"Black"},{"$f":"IF(Input!J605=\"\",Input!$C605,Input!J605)","v":"Black"},{"$f":"IF(Input!K605=\"\",Input!$C605,Input!K605)","v":"Black"},{"$f":"IF(Input!L605=\"\",Input!$C605,Input!L605)","v":"Black"},{"$f":"IF(Input!M605=\"\",Input!$C605,Input!M605)","v":"Black"}]
["GUI_Color_S_Back=16118015","Sell background color ","LavenderBlush",{"$f":"IF(Input!D606=\"\",Input!$C606,Input!D606)","v":"LavenderBlush"},{"$f":"IF(Input!E606=\"\",Input!$C606,Input!E606)","v":"LavenderBlush"},{"$f":"IF(Input!F606=\"\",Input!$C606,Input!F606)","v":"LavenderBlush"},{"$f":"IF(Input!G606=\"\",Input!$C606,Input!G606)","v":"LavenderBlush"},{"$f":"IF(Input!H606=\"\",Input!$C606,Input!H606)","v":"LavenderBlush"},{"$f":"IF(Input!I606=\"\",Input!$C606,Input!I606)","v":"LavenderBlush"},{"$f":"IF(Input!J606=\"\",Input!$C606,Input!J606)","v":"LavenderBlush"},{"$f":"IF(Input!K606=\"\",Input!$C606,Input!K606)","v":"LavenderBlush"},{"$f":"IF(Input!L606=\"\",Input!$C606,Input!L606)","v":"LavenderBlush"},{"$f":"IF(Input!M606=\"\",Input!$C606,Input!M606)","v":"LavenderBlush"}]
["GUI_Color_S_Button=12695295","Sell buttons color ","LightPink",{"$f":"IF(Input!D607=\"\",Input!$C607,Input!D607)","v":"LightPink"},{"$f":"IF(Input!E607=\"\",Input!$C607,Input!E607)","v":"LightPink"},{"$f":"IF(Input!F607=\"\",Input!$C607,Input!F607)","v":"LightPink"},{"$f":"IF(Input!G607=\"\",Input!$C607,Input!G607)","v":"LightPink"},{"$f":"IF(Input!H607=\"\",Input!$C607,Input!H607)","v":"LightPink"},{"$f":"IF(Input!I607=\"\",Input!$C607,Input!I607)","v":"LightPink"},{"$f":"IF(Input!J607=\"\",Input!$C607,Input!J607)","v":"LightPink"},{"$f":"IF(Input!K607=\"\",Input!$C607,Input!K607)","v":"LightPink"},{"$f":"IF(Input!L607=\"\",Input!$C607,Input!L607)","v":"LightPink"},{"$f":"IF(Input!M607=\"\",Input!$C607,Input!M607)","v":"LightPink"}]
["GUI_Color_S_ButtonP=17919","Sell pressed buttons color ","OrangeRed",{"$f":"IF(Input!D608=\"\",Input!$C608,Input!D608)","v":"OrangeRed"},{"$f":"IF(Input!E608=\"\",Input!$C608,Input!E608)","v":"OrangeRed"},{"$f":"IF(Input!F608=\"\",Input!$C608,Input!F608)","v":"OrangeRed"},{"$f":"IF(Input!G608=\"\",Input!$C608,Input!G608)","v":"OrangeRed"},{"$f":"IF(Input!H608=\"\",Input!$C608,Input!H608)","v":"OrangeRed"},{"$f":"IF(Input!I608=\"\",Input!$C608,Input!I608)","v":"OrangeRed"},{"$f":"IF(Input!J608=\"\",Input!$C608,Input!J608)","v":"OrangeRed"},{"$f":"IF(Input!K608=\"\",Input!$C608,Input!K608)","v":"OrangeRed"},{"$f":"IF(Input!L608=\"\",Input!$C608,Input!L608)","v":"OrangeRed"},{"$f":"IF(Input!M608=\"\",Input!$C608,Input!M608)","v":"OrangeRed"}]
["GUI_Color_S_Border=8421616","Sell buttons borders color ","LightCoral",{"$f":"IF(Input!D609=\"\",Input!$C609,Input!D609)","v":"LightCoral"},{"$f":"IF(Input!E609=\"\",Input!$C609,Input!E609)","v":"LightCoral"},{"$f":"IF(Input!F609=\"\",Input!$C609,Input!F609)","v":"LightCoral"},{"$f":"IF(Input!G609=\"\",Input!$C609,Input!G609)","v":"LightCoral"},{"$f":"IF(Input!H609=\"\",Input!$C609,Input!H609)","v":"LightCoral"},{"$f":"IF(Input!I609=\"\",Input!$C609,Input!I609)","v":"LightCoral"},{"$f":"IF(Input!J609=\"\",Input!$C609,Input!J609)","v":"LightCoral"},{"$f":"IF(Input!K609=\"\",Input!$C609,Input!K609)","v":"LightCoral"},{"$f":"IF(Input!L609=\"\",Input!$C609,Input!L609)","v":"LightCoral"},{"$f":"IF(Input!M609=\"\",Input!$C609,Input!M609)","v":"LightCoral"}]
["GUI_Color_S_Text=0","Sell text color ","Black",{"$f":"IF(Input!D610=\"\",Input!$C610,Input!D610)","v":"Black"},{"$f":"IF(Input!E610=\"\",Input!$C610,Input!E610)","v":"Black"},{"$f":"IF(Input!F610=\"\",Input!$C610,Input!F610)","v":"Black"},{"$f":"IF(Input!G610=\"\",Input!$C610,Input!G610)","v":"Black"},{"$f":"IF(Input!H610=\"\",Input!$C610,Input!H610)","v":"Black"},{"$f":"IF(Input!I610=\"\",Input!$C610,Input!I610)","v":"Black"},{"$f":"IF(Input!J610=\"\",Input!$C610,Input!J610)","v":"Black"},{"$f":"IF(Input!K610=\"\",Input!$C610,Input!K610)","v":"Black"},{"$f":"IF(Input!L610=\"\",Input!$C610,Input!L610)","v":"Black"},{"$f":"IF(Input!M610=\"\",Input!$C610,Input!M610)","v":"Black"}]
["; Show orders","Show orders "]
["ShowOrders_Settings====================================================================================","Show Orders settings: "]
["Show_Opened=0||0||0||3||N","Show OPENED deals ","Trend lines frcmc en tc current rice ",{"$f":"IF(Input!D613=\"\",Input!$C613,Input!D613)","v":"Trend lines frcmc en tc current rice "},{"$f":"IF(Input!E613=\"\",Input!$C613,Input!E613)","v":"Trend lines frcmc en tc current rice "},{"$f":"IF(Input!F613=\"\",Input!$C613,Input!F613)","v":"Trend lines frcmc en tc current rice "},{"$f":"IF(Input!G613=\"\",Input!$C613,Input!G613)","v":"Trend lines frcmc en tc current rice "},{"$f":"IF(Input!H613=\"\",Input!$C613,Input!H613)","v":"Trend lines frcmc en tc current rice "},{"$f":"IF(Input!I613=\"\",Input!$C613,Input!I613)","v":"Trend lines frcmc en tc current rice "},{"$f":"IF(Input!J613=\"\",Input!$C613,Input!J613)","v":"Trend lines frcmc en tc current rice "},{"$f":"IF(Input!K613=\"\",Input!$C613,Input!K613)","v":"Trend lines frcmc en tc current rice "},{"$f":"IF(Input!L613=\"\",Input!$C613,Input!L613)","v":"Trend lines frcmc en tc current rice "},{"$f":"IF(Input!M613=\"\",Input!$C613,Input!M613)","v":"Trend lines frcmc en tc current rice "}]
["Show_Closed=false||false||0||true||N","Show CLOSED deals ",false,{"$f":"IF(Input!D614=\"\",Input!$C614,Input!D614)","v":false},{"$f":"IF(Input!E614=\"\",Input!$C614,Input!E614)","v":false},{"$f":"IF(Input!F614=\"\",Input!$C614,Input!F614)","v":false},{"$f":"IF(Input!G614=\"\",Input!$C614,Input!G614)","v":false},{"$f":"IF(Input!H614=\"\",Input!$C614,Input!H614)","v":false},{"$f":"IF(Input!I614=\"\",Input!$C614,Input!I614)","v":false},{"$f":"IF(Input!J614=\"\",Input!$C614,Input!J614)","v":false},{"$f":"IF(Input!K614=\"\",Input!$C614,Input!K614)","v":false},{"$f":"IF(Input!L614=\"\",Input!$C614,Input!L614)","v":false},{"$f":"IF(Input!M614=\"\",Input!$C614,Input!M614)","v":false}]
["Show_Pending=false||false||0||true||N","Show PENDING orders ",false,{"$f":"IF(Input!D615=\"\",Input!$C615,Input!D615)","v":false},{"$f":"IF(Input!E615=\"\",Input!$C615,Input!E615)","v":false},{"$f":"IF(Input!F615=\"\",Input!$C615,Input!F615)","v":false},{"$f":"IF(Input!G615=\"\",Input!$C615,Input!G615)","v":false},{"$f":"IF(Input!H615=\"\",Input!$C615,Input!H615)","v":false},{"$f":"IF(Input!I615=\"\",Input!$C615,Input!I615)","v":false},{"$f":"IF(Input!J615=\"\",Input!$C615,Input!J615)","v":false},{"$f":"IF(Input!K615=\"\",Input!$C615,Input!K615)","v":false},{"$f":"IF(Input!L615=\"\",Input!$C615,Input!L615)","v":false},{"$f":"IF(Input!M615=\"\",Input!$C615,Input!M615)","v":false}]
["MaxHistoryDeals=500||500||1||5000||N","Max history deals (O - disable limit) ",0,{"$f":"IF(Input!D616=\"\",Input!$C616,Input!D616)","v":0},{"$f":"IF(Input!E616=\"\",Input!$C616,Input!E616)","v":0},{"$f":"IF(Input!F616=\"\",Input!$C616,Input!F616)","v":0},{"$f":"IF(Input!G616=\"\",Input!$C616,Input!G616)","v":0},{"$f":"IF(Input!H616=\"\",Input!$C616,Input!H616)","v":0},{"$f":"IF(Input!I616=\"\",Input!$C616,Input!I616)","v":0},{"$f":"IF(Input!J616=\"\",Input!$C616,Input!J616)","v":0},{"$f":"IF(Input!K616=\"\",Input!$C616,Input!K616)","v":0},{"$f":"IF(Input!L616=\"\",Input!$C616,Input!L616)","v":0},{"$f":"IF(Input!M616=\"\",Input!$C616,Input!M616)","v":0}]
["Color_Properties=","Main Color properties: "]
["Color_B_Open=16748574","BUYS open arrows ","DodgerBlue",{"$f":"IF(Input!D618=\"\",Input!$C618,Input!D618)","v":"DodgerBlue"},{"$f":"IF(Input!E618=\"\",Input!$C618,Input!E618)","v":"DodgerBlue"},{"$f":"IF(Input!F618=\"\",Input!$C618,Input!F618)","v":"DodgerBlue"},{"$f":"IF(Input!G618=\"\",Input!$C618,Input!G618)","v":"DodgerBlue"},{"$f":"IF(Input!H618=\"\",Input!$C618,Input!H618)","v":"DodgerBlue"},{"$f":"IF(Input!I618=\"\",Input!$C618,Input!I618)","v":"DodgerBlue"},{"$f":"IF(Input!J618=\"\",Input!$C618,Input!J618)","v":"DodgerBlue"},{"$f":"IF(Input!K618=\"\",Input!$C618,Input!K618)","v":"DodgerBlue"},{"$f":"IF(Input!L618=\"\",Input!$C618,Input!L618)","v":"DodgerBlue"},{"$f":"IF(Input!M618=\"\",Input!$C618,Input!M618)","v":"DodgerBlue"}]
["Color_B=16748574","Profitable BUYS ","DodgerBlue",{"$f":"IF(Input!D619=\"\",Input!$C619,Input!D619)","v":"DodgerBlue"},{"$f":"IF(Input!E619=\"\",Input!$C619,Input!E619)","v":"DodgerBlue"},{"$f":"IF(Input!F619=\"\",Input!$C619,Input!F619)","v":"DodgerBlue"},{"$f":"IF(Input!G619=\"\",Input!$C619,Input!G619)","v":"DodgerBlue"},{"$f":"IF(Input!H619=\"\",Input!$C619,Input!H619)","v":"DodgerBlue"},{"$f":"IF(Input!I619=\"\",Input!$C619,Input!I619)","v":"DodgerBlue"},{"$f":"IF(Input!J619=\"\",Input!$C619,Input!J619)","v":"DodgerBlue"},{"$f":"IF(Input!K619=\"\",Input!$C619,Input!K619)","v":"DodgerBlue"},{"$f":"IF(Input!L619=\"\",Input!$C619,Input!L619)","v":"DodgerBlue"},{"$f":"IF(Input!M619=\"\",Input!$C619,Input!M619)","v":"DodgerBlue"}]
["Color_B_Loss=15130800","Losing BUYS ","PowderBlue",{"$f":"IF(Input!D620=\"\",Input!$C620,Input!D620)","v":"PowderBlue"},{"$f":"IF(Input!E620=\"\",Input!$C620,Input!E620)","v":"PowderBlue"},{"$f":"IF(Input!F620=\"\",Input!$C620,Input!F620)","v":"PowderBlue"},{"$f":"IF(Input!G620=\"\",Input!$C620,Input!G620)","v":"PowderBlue"},{"$f":"IF(Input!H620=\"\",Input!$C620,Input!H620)","v":"PowderBlue"},{"$f":"IF(Input!I620=\"\",Input!$C620,Input!I620)","v":"PowderBlue"},{"$f":"IF(Input!J620=\"\",Input!$C620,Input!J620)","v":"PowderBlue"},{"$f":"IF(Input!K620=\"\",Input!$C620,Input!K620)","v":"PowderBlue"},{"$f":"IF(Input!L620=\"\",Input!$C620,Input!L620)","v":"PowderBlue"},{"$f":"IF(Input!M620=\"\",Input!$C620,Input!M620)","v":"PowderBlue"}]
["Color_S_Open=17919","SELLs open arrcws ","OrangeRed",{"$f":"IF(Input!D621=\"\",Input!$C621,Input!D621)","v":"OrangeRed"},{"$f":"IF(Input!E621=\"\",Input!$C621,Input!E621)","v":"OrangeRed"},{"$f":"IF(Input!F621=\"\",Input!$C621,Input!F621)","v":"OrangeRed"},{"$f":"IF(Input!G621=\"\",Input!$C621,Input!G621)","v":"OrangeRed"},{"$f":"IF(Input!H621=\"\",Input!$C621,Input!H621)","v":"OrangeRed"},{"$f":"IF(Input!I621=\"\",Input!$C621,Input!I621)","v":"OrangeRed"},{"$f":"IF(Input!J621=\"\",Input!$C621,Input!J621)","v":"OrangeRed"},{"$f":"IF(Input!K621=\"\",Input!$C621,Input!K621)","v":"OrangeRed"},{"$f":"IF(Input!L621=\"\",Input!$C621,Input!L621)","v":"OrangeRed"},{"$f":"IF(Input!M621=\"\",Input!$C621,Input!M621)","v":"OrangeRed"}]
["Color_S=17919","Profitable SELLs ","OrangeRed",{"$f":"IF(Input!D622=\"\",Input!$C622,Input!D622)","v":"OrangeRed"},{"$f":"IF(Input!E622=\"\",Input!$C622,Input!E622)","v":"OrangeRed"},{"$f":"IF(Input!F622=\"\",Input!$C622,Input!F622)","v":"OrangeRed"},{"$f":"IF(Input!G622=\"\",Input!$C622,Input!G622)","v":"OrangeRed"},{"$f":"IF(Input!H622=\"\",Input!$C622,Input!H622)","v":"OrangeRed"},{"$f":"IF(Input!I622=\"\",Input!$C622,Input!I622)","v":"OrangeRed"},{"$f":"IF(Input!J622=\"\",Input!$C622,Input!J622)","v":"OrangeRed"},{"$f":"IF(Input!K622=\"\",Input!$C622,Input!K622)","v":"OrangeRed"},{"$f":"IF(Input!L622=\"\",Input!$C622,Input!L622)","v":"OrangeRed"},{"$f":"IF(Input!M622=\"\",Input!$C622,Input!M622)","v":"OrangeRed"}]
["Color_S_Loss=12695295","Losing SELLs ","LightPink",{"$f":"IF(Input!D623=\"\",Input!$C623,Input!D623)","v":"LightPink"},{"$f":"IF(Input!E623=\"\",Input!$C623,Input!E623)","v":"LightPink"},{"$f":"IF(Input!F623=\"\",Input!$C623,Input!F623)","v":"LightPink"},{"$f":"IF(Input!G623=\"\",Input!$C623,Input!G623)","v":"LightPink"},{"$f":"IF(Input!H623=\"\",Input!$C623,Input!H623)","v":"LightPink"},{"$f":"IF(Input!I623=\"\",Input!$C623,Input!I623)","v":"LightPink"},{"$f":"IF(Input!J623=\"\",Input!$C623,Input!J623)","v":"LightPink"},{"$f":"IF(Input!K623=\"\",Input!$C623,Input!K623)","v":"LightPink"},{"$f":"IF(Input!L623=\"\",Input!$C623,Input!L623)","v":"LightPink"},{"$f":"IF(Input!M623=\"\",Input!$C623,Input!M623)","v":"LightPink"}]
["Profit_Properties=","Profit properties: "]
["Profit_ShowInMoney=false||false||0||true||N","Show profit in money ",false,{"$f":"IF(Input!D625=\"\",Input!$C625,Input!D625)","v":false},{"$f":"IF(Input!E625=\"\",Input!$C625,Input!E625)","v":false},{"$f":"IF(Input!F625=\"\",Input!$C625,Input!F625)","v":false},{"$f":"IF(Input!G625=\"\",Input!$C625,Input!G625)","v":false},{"$f":"IF(Input!H625=\"\",Input!$C625,Input!H625)","v":false},{"$f":"IF(Input!I625=\"\",Input!$C625,Input!I625)","v":false},{"$f":"IF(Input!J625=\"\",Input!$C625,Input!J625)","v":false},{"$f":"IF(Input!K625=\"\",Input!$C625,Input!K625)","v":false},{"$f":"IF(Input!L625=\"\",Input!$C625,Input!L625)","v":false},{"$f":"IF(Input!M625=\"\",Input!$C625,Input!M625)","v":false}]
["Profit_ShowInPoints=false||false||0||true||N","Show profit in points ",false,{"$f":"IF(Input!D626=\"\",Input!$C626,Input!D626)","v":false},{"$f":"IF(Input!E626=\"\",Input!$C626,Input!E626)","v":false},{"$f":"IF(Input!F626=\"\",Input!$C626,Input!F626)","v":false},{"$f":"IF(Input!G626=\"\",Input!$C626,Input!G626)","v":false},{"$f":"IF(Input!H626=\"\",Input!$C626,Input!H626)","v":false},{"$f":"IF(Input!I626=\"\",Input!$C626,Input!I626)","v":false},{"$f":"IF(Input!J626=\"\",Input!$C626,Input!J626)","v":false},{"$f":"IF(Input!K626=\"\",Input!$C626,Input!K626)","v":false},{"$f":"IF(Input!L626=\"\",Input!$C626,Input!L626)","v":false},{"$f":"IF(Input!M626=\"\",Input!$C626,Input!M626)","v":false}]
["Profit_ShowInPercents=false||false||0||true||N","Show profit in percents ",false,{"$f":"IF(Input!D627=\"\",Input!$C627,Input!D627)","v":false},{"$f":"IF(Input!E627=\"\",Input!$C627,Input!E627)","v":false},{"$f":"IF(Input!F627=\"\",Input!$C627,Input!F627)","v":false},{"$f":"IF(Input!G627=\"\",Input!$C627,Input!G627)","v":false},{"$f":"IF(Input!H627=\"\",Input!$C627,Input!H627)","v":false},{"$f":"IF(Input!I627=\"\",Input!$C627,Input!I627)","v":false},{"$f":"IF(Input!J627=\"\",Input!$C627,Input!J627)","v":false},{"$f":"IF(Input!K627=\"\",Input!$C627,Input!K627)","v":false},{"$f":"IF(Input!L627=\"\",Input!$C627,Input!L627)","v":false},{"$f":"IF(Input!M627=\"\",Input!$C627,Input!M627)","v":false}]
["Profit_Aggregate=false||false||0||true||N","Aggregate profit for opened positions ",false,{"$f":"IF(Input!D628=\"\",Input!$C628,Input!D628)","v":false},{"$f":"IF(Input!E628=\"\",Input!$C628,Input!E628)","v":false},{"$f":"IF(Input!F628=\"\",Input!$C628,Input!F628)","v":false},{"$f":"IF(Input!G628=\"\",Input!$C628,Input!G628)","v":false},{"$f":"IF(Input!H628=\"\",Input!$C628,Input!H628)","v":false},{"$f":"IF(Input!I628=\"\",Input!$C628,Input!I628)","v":false},{"$f":"IF(Input!J628=\"\",Input!$C628,Input!J628)","v":false},{"$f":"IF(Input!K628=\"\",Input!$C628,Input!K628)","v":false},{"$f":"IF(Input!L628=\"\",Input!$C628,Input!L628)","v":false},{"$f":"IF(Input!M628=\"\",Input!$C628,Input!M628)","v":false}]
["ProfitDigitsToShow=1||1||1||10||N","Number of digits to show ",0,{"$f":"IF(Input!D629=\"\",Input!$C629,Input!D629)","v":0},{"$f":"IF(Input!E629=\"\",Input!$C629,Input!E629)","v":0},{"$f":"IF(Input!F629=\"\",Input!$C629,Input!F629)","v":0},{"$f":"IF(Input!G629=\"\",Input!$C629,Input!G629)","v":0},{"$f":"IF(Input!H629=\"\",Input!$C629,Input!H629)","v":0},{"$f":"IF(Input!I629=\"\",Input!$C629,Input!I629)","v":0},{"$f":"IF(Input!J629=\"\",Input!$C629,Input!J629)","v":0},{"$f":"IF(Input!K629=\"\",Input!$C629,Input!K629)","v":0},{"$f":"IF(Input!L629=\"\",Input!$C629,Input!L629)","v":0},{"$f":"IF(Input!M629=\"\",Input!$C629,Input!M629)","v":0}]
["Font=Arial","Font ","Arial",{"$f":"IF(Input!D630=\"\",Input!$C630,Input!D630)","v":"Arial"},{"$f":"IF(Input!E630=\"\",Input!$C630,Input!E630)","v":"Arial"},{"$f":"IF(Input!F630=\"\",Input!$C630,Input!F630)","v":"Arial"},{"$f":"IF(Input!G630=\"\",Input!$C630,Input!G630)","v":"Arial"},{"$f":"IF(Input!H630=\"\",Input!$C630,Input!H630)","v":"Arial"},{"$f":"IF(Input!I630=\"\",Input!$C630,Input!I630)","v":"Arial"},{"$f":"IF(Input!J630=\"\",Input!$C630,Input!J630)","v":"Arial"},{"$f":"IF(Input!K630=\"\",Input!$C630,Input!K630)","v":"Arial"},{"$f":"IF(Input!L630=\"\",Input!$C630,Input!L630)","v":"Arial"},{"$f":"IF(Input!M630=\"\",Input!$C630,Input!M630)","v":"Arial"}]
["FontSize=9||9||1||90||N","Font size ",0,{"$f":"IF(Input!D631=\"\",Input!$C631,Input!D631)","v":0},{"$f":"IF(Input!E631=\"\",Input!$C631,Input!E631)","v":0},{"$f":"IF(Input!F631=\"\",Input!$C631,Input!F631)","v":0},{"$f":"IF(Input!G631=\"\",Input!$C631,Input!G631)","v":0},{"$f":"IF(Input!H631=\"\",Input!$C631,Input!H631)","v":0},{"$f":"IF(Input!I631=\"\",Input!$C631,Input!I631)","v":0},{"$f":"IF(Input!J631=\"\",Input!$C631,Input!J631)","v":0},{"$f":"IF(Input!K631=\"\",Input!$C631,Input!K631)","v":0},{"$f":"IF(Input!L631=\"\",Input!$C631,Input!L631)","v":0},{"$f":"IF(Input!M631=\"\",Input!$C631,Input!M631)","v":0}]
["Style_Properties=","Style properties: "]
["Open_Close_Line_Width=1||1||1||10||N","Open- Close lines width (O don't draw) ",0,{"$f":"IF(Input!D633=\"\",Input!$C633,Input!D633)","v":0},{"$f":"IF(Input!E633=\"\",Input!$C633,Input!E633)","v":0},{"$f":"IF(Input!F633=\"\",Input!$C633,Input!F633)","v":0},{"$f":"IF(Input!G633=\"\",Input!$C633,Input!G633)","v":0},{"$f":"IF(Input!H633=\"\",Input!$C633,Input!H633)","v":0},{"$f":"IF(Input!I633=\"\",Input!$C633,Input!I633)","v":0},{"$f":"IF(Input!J633=\"\",Input!$C633,Input!J633)","v":0},{"$f":"IF(Input!K633=\"\",Input!$C633,Input!K633)","v":0},{"$f":"IF(Input!L633=\"\",Input!$C633,Input!L633)","v":0},{"$f":"IF(Input!M633=\"\",Input!$C633,Input!M633)","v":0}]
["Open_Close_Line_Style=2||0||0||4||N","Open-Close lines style ","Dash",{"$f":"IF(Input!D634=\"\",Input!$C634,Input!D634)","v":"Dash"},{"$f":"IF(Input!E634=\"\",Input!$C634,Input!E634)","v":"Dash"},{"$f":"IF(Input!F634=\"\",Input!$C634,Input!F634)","v":"Dash"},{"$f":"IF(Input!G634=\"\",Input!$C634,Input!G634)","v":"Dash"},{"$f":"IF(Input!H634=\"\",Input!$C634,Input!H634)","v":"Dash"},{"$f":"IF(Input!I634=\"\",Input!$C634,Input!I634)","v":"Dash"},{"$f":"IF(Input!J634=\"\",Input!$C634,Input!J634)","v":"Dash"},{"$f":"IF(Input!K634=\"\",Input!$C634,Input!K634)","v":"Dash"},{"$f":"IF(Input!L634=\"\",Input!$C634,Input!L634)","v":"Dash"},{"$f":"IF(Input!M634=\"\",Input!$C634,Input!M634)","v":"Dash"}]
["Open_PriceLabel_Width=0||0||1||10||N","Open price labels width (O don't draw) ",0,{"$f":"IF(Input!D635=\"\",Input!$C635,Input!D635)","v":0},{"$f":"IF(Input!E635=\"\",Input!$C635,Input!E635)","v":0},{"$f":"IF(Input!F635=\"\",Input!$C635,Input!F635)","v":0},{"$f":"IF(Input!G635=\"\",Input!$C635,Input!G635)","v":0},{"$f":"IF(Input!H635=\"\",Input!$C635,Input!H635)","v":0},{"$f":"IF(Input!I635=\"\",Input!$C635,Input!I635)","v":0},{"$f":"IF(Input!J635=\"\",Input!$C635,Input!J635)","v":0},{"$f":"IF(Input!K635=\"\",Input!$C635,Input!K635)","v":0},{"$f":"IF(Input!L635=\"\",Input!$C635,Input!L635)","v":0},{"$f":"IF(Input!M635=\"\",Input!$C635,Input!M635)","v":0}]
["Close_PriceLabel_Width=0||0||1||10||N","Close price labels width (O - don't draw) ",0,{"$f":"IF(Input!D636=\"\",Input!$C636,Input!D636)","v":0},{"$f":"IF(Input!E636=\"\",Input!$C636,Input!E636)","v":0},{"$f":"IF(Input!F636=\"\",Input!$C636,Input!F636)","v":0},{"$f":"IF(Input!G636=\"\",Input!$C636,Input!G636)","v":0},{"$f":"IF(Input!H636=\"\",Input!$C636,Input!H636)","v":0},{"$f":"IF(Input!I636=\"\",Input!$C636,Input!I636)","v":0},{"$f":"IF(Input!J636=\"\",Input!$C636,Input!J636)","v":0},{"$f":"IF(Input!K636=\"\",Input!$C636,Input!K636)","v":0},{"$f":"IF(Input!L636=\"\",Input!$C636,Input!L636)","v":0},{"$f":"IF(Input!M636=\"\",Input!$C636,Input!M636)","v":0}]
["SL_TP_Dashes_Show=false||false||0||true||N","Show SL and TP dashes ",false,{"$f":"IF(Input!D637=\"\",Input!$C637,Input!D637)","v":false},{"$f":"IF(Input!E637=\"\",Input!$C637,Input!E637)","v":false},{"$f":"IF(Input!F637=\"\",Input!$C637,Input!F637)","v":false},{"$f":"IF(Input!G637=\"\",Input!$C637,Input!G637)","v":false},{"$f":"IF(Input!H637=\"\",Input!$C637,Input!H637)","v":false},{"$f":"IF(Input!I637=\"\",Input!$C637,Input!I637)","v":false},{"$f":"IF(Input!J637=\"\",Input!$C637,Input!J637)","v":false},{"$f":"IF(Input!K637=\"\",Input!$C637,Input!K637)","v":false},{"$f":"IF(Input!L637=\"\",Input!$C637,Input!L637)","v":false},{"$f":"IF(Input!M637=\"\",Input!$C637,Input!M637)","v":false}]
["SL_TP_Lines_Width=0||0||1||10||N","SL and TP vertical lines width (O - don't draw) ",0,{"$f":"IF(Input!D638=\"\",Input!$C638,Input!D638)","v":0},{"$f":"IF(Input!E638=\"\",Input!$C638,Input!E638)","v":0},{"$f":"IF(Input!F638=\"\",Input!$C638,Input!F638)","v":0},{"$f":"IF(Input!G638=\"\",Input!$C638,Input!G638)","v":0},{"$f":"IF(Input!H638=\"\",Input!$C638,Input!H638)","v":0},{"$f":"IF(Input!I638=\"\",Input!$C638,Input!I638)","v":0},{"$f":"IF(Input!J638=\"\",Input!$C638,Input!J638)","v":0},{"$f":"IF(Input!K638=\"\",Input!$C638,Input!K638)","v":0},{"$f":"IF(Input!L638=\"\",Input!$C638,Input!L638)","v":0},{"$f":"IF(Input!M638=\"\",Input!$C638,Input!M638)","v":0}]
["SL_TP_Lines_Style=2||0||0||4||N","SL and TP vertical lines style ",0,{"$f":"IF(Input!D639=\"\",Input!$C639,Input!D639)","v":0},{"$f":"IF(Input!E639=\"\",Input!$C639,Input!E639)","v":0},{"$f":"IF(Input!F639=\"\",Input!$C639,Input!F639)","v":0},{"$f":"IF(Input!G639=\"\",Input!$C639,Input!G639)","v":0},{"$f":"IF(Input!H639=\"\",Input!$C639,Input!H639)","v":0},{"$f":"IF(Input!I639=\"\",Input!$C639,Input!I639)","v":0},{"$f":"IF(Input!J639=\"\",Input!$C639,Input!J639)","v":0},{"$f":"IF(Input!K639=\"\",Input!$C639,Input!K639)","v":0},{"$f":"IF(Input!L639=\"\",Input!$C639,Input!L639)","v":0},{"$f":"IF(Input!M639=\"\",Input!$C639,Input!M639)","v":0}]
["Expiration_Width=0||0||1||10||N","Expiration lines width (O - don't draw) ","Dash",{"$f":"IF(Input!D640=\"\",Input!$C640,Input!D640)","v":"Dash"},{"$f":"IF(Input!E640=\"\",Input!$C640,Input!E640)","v":"Dash"},{"$f":"IF(Input!F640=\"\",Input!$C640,Input!F640)","v":"Dash"},{"$f":"IF(Input!G640=\"\",Input!$C640,Input!G640)","v":"Dash"},{"$f":"IF(Input!H640=\"\",Input!$C640,Input!H640)","v":"Dash"},{"$f":"IF(Input!I640=\"\",Input!$C640,Input!I640)","v":"Dash"},{"$f":"IF(Input!J640=\"\",Input!$C640,Input!J640)","v":"Dash"},{"$f":"IF(Input!K640=\"\",Input!$C640,Input!K640)","v":"Dash"},{"$f":"IF(Input!L640=\"\",Input!$C640,Input!L640)","v":"Dash"},{"$f":"IF(Input!M640=\"\",Input!$C640,Input!M640)","v":"Dash"}]
["Expiration_Style=2||0||0||4||N","Expiration lines style ",0,{"$f":"IF(Input!D641=\"\",Input!$C641,Input!D641)","v":0},{"$f":"IF(Input!E641=\"\",Input!$C641,Input!E641)","v":0},{"$f":"IF(Input!F641=\"\",Input!$C641,Input!F641)","v":0},{"$f":"IF(Input!G641=\"\",Input!$C641,Input!G641)","v":0},{"$f":"IF(Input!H641=\"\",Input!$C641,Input!H641)","v":0},{"$f":"IF(Input!I641=\"\",Input!$C641,Input!I641)","v":0},{"$f":"IF(Input!J641=\"\",Input!$C641,Input!J641)","v":0},{"$f":"IF(Input!K641=\"\",Input!$C641,Input!K641)","v":0},{"$f":"IF(Input!L641=\"\",Input!$C641,Input!L641)","v":0},{"$f":"IF(Input!M641=\"\",Input!$C641,Input!M641)","v":0}]
["; Notifications settings","Notifications settings "]
["Notifications_Settings====================================================================================","Notifications settings: "]
["MessagesToGrammy=false||false||0||true||N","Enable messages to Grammy ",false,{"$f":"IF(Input!D644=\"\",Input!$C644,Input!D644)","v":false},{"$f":"IF(Input!E644=\"\",Input!$C644,Input!E644)","v":false},{"$f":"IF(Input!F644=\"\",Input!$C644,Input!F644)","v":false},{"$f":"IF(Input!G644=\"\",Input!$C644,Input!G644)","v":false},{"$f":"IF(Input!H644=\"\",Input!$C644,Input!H644)","v":false},{"$f":"IF(Input!I644=\"\",Input!$C644,Input!I644)","v":false},{"$f":"IF(Input!J644=\"\",Input!$C644,Input!J644)","v":false},{"$f":"IF(Input!K644=\"\",Input!$C644,Input!K644)","v":false},{"$f":"IF(Input!L644=\"\",Input!$C644,Input!L644)","v":false},{"$f":"IF(Input!M644=\"\",Input!$C644,Input!M644)","v":false}]
["Alerts_Enabled=false","Enable alert on first signal ",false,{"$f":"IF(Input!D645=\"\",Input!$C645,Input!D645)","v":false},{"$f":"IF(Input!E645=\"\",Input!$C645,Input!E645)","v":false},{"$f":"IF(Input!F645=\"\",Input!$C645,Input!F645)","v":false},{"$f":"IF(Input!G645=\"\",Input!$C645,Input!G645)","v":false},{"$f":"IF(Input!H645=\"\",Input!$C645,Input!H645)","v":false},{"$f":"IF(Input!I645=\"\",Input!$C645,Input!I645)","v":false},{"$f":"IF(Input!J645=\"\",Input!$C645,Input!J645)","v":false},{"$f":"IF(Input!K645=\"\",Input!$C645,Input!K645)","v":false},{"$f":"IF(Input!L645=\"\",Input!$C645,Input!L645)","v":false},{"$f":"IF(Input!M645=\"\",Input!$C645,Input!M645)","v":false}]
["Sounds_Enabled=false","Enable sounds ",false,{"$f":"IF(Input!D646=\"\",Input!$C646,Input!D646)","v":false},{"$f":"IF(Input!E646=\"\",Input!$C646,Input!E646)","v":false},{"$f":"IF(Input!F646=\"\",Input!$C646,Input!F646)","v":false},{"$f":"IF(Input!G646=\"\",Input!$C646,Input!G646)","v":false},{"$f":"IF(Input!H646=\"\",Input!$C646,Input!H646)","v":false},{"$f":"IF(Input!I646=\"\",Input!$C646,Input!I646)","v":false},{"$f":"IF(Input!J646=\"\",Input!$C646,Input!J646)","v":false},{"$f":"IF(Input!K646=\"\",Input!$C646,Input!K646)","v":false},{"$f":"IF(Input!L646=\"\",Input!$C646,Input!L646)","v":false},{"$f":"IF(Input!M646=\"\",Input!$C646,Input!M646)","v":false}]
["Sounds_OpenFirst=expert.wav","First signal sound name ","expert.wav",{"$f":"IF(Input!D647=\"\",Input!$C647,Input!D647)","v":"expert.wav"},{"$f":"IF(Input!E647=\"\",Input!$C647,Input!E647)","v":"expert.wav"},{"$f":"IF(Input!F647=\"\",Input!$C647,Input!F647)","v":"expert.wav"},{"$f":"IF(Input!G647=\"\",Input!$C647,Input!G647)","v":"expert.wav"},{"$f":"IF(Input!H647=\"\",Input!$C647,Input!H647)","v":"expert.wav"},{"$f":"IF(Input!I647=\"\",Input!$C647,Input!I647)","v":"expert.wav"},{"$f":"IF(Input!J647=\"\",Input!$C647,Input!J647)","v":"expert.wav"},{"$f":"IF(Input!K647=\"\",Input!$C647,Input!K647)","v":"expert.wav"},{"$f":"IF(Input!L647=\"\",Input!$C647,Input!L647)","v":"expert.wav"},{"$f":"IF(Input!M647=\"\",Input!$C647,Input!M647)","v":"expert.wav"}]
["Sounds_OpenMartin=alert2.wav","Martin opening sound name ","alert2.wav",{"$f":"IF(Input!D648=\"\",Input!$C648,Input!D648)","v":"alert2.wav"},{"$f":"IF(Input!E648=\"\",Input!$C648,Input!E648)","v":"alert2.wav"},{"$f":"IF(Input!F648=\"\",Input!$C648,Input!F648)","v":"alert2.wav"},{"$f":"IF(Input!G648=\"\",Input!$C648,Input!G648)","v":"alert2.wav"},{"$f":"IF(Input!H648=\"\",Input!$C648,Input!H648)","v":"alert2.wav"},{"$f":"IF(Input!I648=\"\",Input!$C648,Input!I648)","v":"alert2.wav"},{"$f":"IF(Input!J648=\"\",Input!$C648,Input!J648)","v":"alert2.wav"},{"$f":"IF(Input!K648=\"\",Input!$C648,Input!K648)","v":"alert2.wav"},{"$f":"IF(Input!L648=\"\",Input!$C648,Input!L648)","v":"alert2.wav"},{"$f":"IF(Input!M648=\"\",Input!$C648,Input!M648)","v":"alert2.wav"}]
["Sounds_OpenAntiMartin=alert2.wav","Anti-martin opening sound name ","alert2.wav",{"$f":"IF(Input!D649=\"\",Input!$C649,Input!D649)","v":"alert2.wav"},{"$f":"IF(Input!E649=\"\",Input!$C649,Input!E649)","v":"alert2.wav"},{"$f":"IF(Input!F649=\"\",Input!$C649,Input!F649)","v":"alert2.wav"},{"$f":"IF(Input!G649=\"\",Input!$C649,Input!G649)","v":"alert2.wav"},{"$f":"IF(Input!H649=\"\",Input!$C649,Input!H649)","v":"alert2.wav"},{"$f":"IF(Input!I649=\"\",Input!$C649,Input!I649)","v":"alert2.wav"},{"$f":"IF(Input!J649=\"\",Input!$C649,Input!J649)","v":"alert2.wav"},{"$f":"IF(Input!K649=\"\",Input!$C649,Input!K649)","v":"alert2.wav"},{"$f":"IF(Input!L649=\"\",Input!$C649,Input!L649)","v":"alert2.wav"},{"$f":"IF(Input!M649=\"\",Input!$C649,Input!M649)","v":"alert2.wav"}]
["Sounds_Close=alert.wav","Closing sound name ","alert.wav",{"$f":"IF(Input!D650=\"\",Input!$C650,Input!D650)","v":"alert.wav"},{"$f":"IF(Input!E650=\"\",Input!$C650,Input!E650)","v":"alert.wav"},{"$f":"IF(Input!F650=\"\",Input!$C650,Input!F650)","v":"alert.wav"},{"$f":"IF(Input!G650=\"\",Input!$C650,Input!G650)","v":"alert.wav"},{"$f":"IF(Input!H650=\"\",Input!$C650,Input!H650)","v":"alert.wav"},{"$f":"IF(Input!I650=\"\",Input!$C650,Input!I650)","v":"alert.wav"},{"$f":"IF(Input!J650=\"\",Input!$C650,Input!J650)","v":"alert.wav"},{"$f":"IF(Input!K650=\"\",Input!$C650,Input!K650)","v":"alert.wav"},{"$f":"IF(Input!L650=\"\",Input!$C650,Input!L650)","v":"alert.wav"},{"$f":"IF(Input!M650=\"\",Input!$C650,Input!M650)","v":"alert.wav"}]
["; Tester and Optimization settings","Tester and Optimization settings "]
["Optimization_Settings====================================================================================","Tester and Optimization settings: "]
["TesterWithdrawal_Header===== Tester withdrawal ====","Tester withdrawal: "]
["TesterWithdrawal_Type=0||0||0||2||N","Withdrawal type ","Withdraw percent of profit ",{"$f":"IF(Input!D654=\"\",Input!$C654,Input!D654)","v":"Withdraw percent of profit "},{"$f":"IF(Input!E654=\"\",Input!$C654,Input!E654)","v":"Withdraw percent of profit "},{"$f":"IF(Input!F654=\"\",Input!$C654,Input!F654)","v":"Withdraw percent of profit "},{"$f":"IF(Input!G654=\"\",Input!$C654,Input!G654)","v":"Withdraw percent of profit "},{"$f":"IF(Input!H654=\"\",Input!$C654,Input!H654)","v":"Withdraw percent of profit "},{"$f":"IF(Input!I654=\"\",Input!$C654,Input!I654)","v":"Withdraw percent of profit "},{"$f":"IF(Input!J654=\"\",Input!$C654,Input!J654)","v":"Withdraw percent of profit "},{"$f":"IF(Input!K654=\"\",Input!$C654,Input!K654)","v":"Withdraw percent of profit "},{"$f":"IF(Input!L654=\"\",Input!$C654,Input!L654)","v":"Withdraw percent of profit "},{"$f":"IF(Input!M654=\"\",Input!$C654,Input!M654)","v":"Withdraw percent of profit "}]
["TesterWithdrawal_Frequency=2||0||0||4||N","Withdrawal frequency ","Withdraw ",{"$f":"IF(Input!D655=\"\",Input!$C655,Input!D655)","v":"Withdraw "},{"$f":"IF(Input!E655=\"\",Input!$C655,Input!E655)","v":"Withdraw "},{"$f":"IF(Input!F655=\"\",Input!$C655,Input!F655)","v":"Withdraw "},{"$f":"IF(Input!G655=\"\",Input!$C655,Input!G655)","v":"Withdraw "},{"$f":"IF(Input!H655=\"\",Input!$C655,Input!H655)","v":"Withdraw "},{"$f":"IF(Input!I655=\"\",Input!$C655,Input!I655)","v":"Withdraw "},{"$f":"IF(Input!J655=\"\",Input!$C655,Input!J655)","v":"Withdraw "},{"$f":"IF(Input!K655=\"\",Input!$C655,Input!K655)","v":"Withdraw "},{"$f":"IF(Input!L655=\"\",Input!$C655,Input!L655)","v":"Withdraw "},{"$f":"IF(Input!M655=\"\",Input!$C655,Input!M655)","v":"Withdraw "}]
["TesterWithdrawal_Size=50||50||5.000000||500.000000||N","Withdrawal size or amount) ",0,{"$f":"IF(Input!D656=\"\",Input!$C656,Input!D656)","v":0},{"$f":"IF(Input!E656=\"\",Input!$C656,Input!E656)","v":0},{"$f":"IF(Input!F656=\"\",Input!$C656,Input!F656)","v":0},{"$f":"IF(Input!G656=\"\",Input!$C656,Input!G656)","v":0},{"$f":"IF(Input!H656=\"\",Input!$C656,Input!H656)","v":0},{"$f":"IF(Input!I656=\"\",Input!$C656,Input!I656)","v":0},{"$f":"IF(Input!J656=\"\",Input!$C656,Input!J656)","v":0},{"$f":"IF(Input!K656=\"\",Input!$C656,Input!K656)","v":0},{"$f":"IF(Input!L656=\"\",Input!$C656,Input!L656)","v":0},{"$f":"IF(Input!M656=\"\",Input!$C656,Input!M656)","v":0}]
["InpEquityRecorder===== Optimization criterion ====","Optimization criterion: "]
["InpEquityRecorderType=1","Custom optimization criterion ","Rh2 one u ",{"$f":"IF(Input!D658=\"\",Input!$C658,Input!D658)","v":"Rh2 one u "},{"$f":"IF(Input!E658=\"\",Input!$C658,Input!E658)","v":"Rh2 one u "},{"$f":"IF(Input!F658=\"\",Input!$C658,Input!F658)","v":"Rh2 one u "},{"$f":"IF(Input!G658=\"\",Input!$C658,Input!G658)","v":"Rh2 one u "},{"$f":"IF(Input!H658=\"\",Input!$C658,Input!H658)","v":"Rh2 one u "},{"$f":"IF(Input!I658=\"\",Input!$C658,Input!I658)","v":"Rh2 one u "},{"$f":"IF(Input!J658=\"\",Input!$C658,Input!J658)","v":"Rh2 one u "},{"$f":"IF(Input!K658=\"\",Input!$C658,Input!K658)","v":"Rh2 one u "},{"$f":"IF(Input!L658=\"\",Input!$C658,Input!L658)","v":"Rh2 one u "},{"$f":"IF(Input!M658=\"\",Input!$C658,Input!M658)","v":"Rh2 one u "}]
["InpEquityRecorderCorr=0","Correlation type ","S earman ",{"$f":"IF(Input!D659=\"\",Input!$C659,Input!D659)","v":"S earman "},{"$f":"IF(Input!E659=\"\",Input!$C659,Input!E659)","v":"S earman "},{"$f":"IF(Input!F659=\"\",Input!$C659,Input!F659)","v":"S earman "},{"$f":"IF(Input!G659=\"\",Input!$C659,Input!G659)","v":"S earman "},{"$f":"IF(Input!H659=\"\",Input!$C659,Input!H659)","v":"S earman "},{"$f":"IF(Input!I659=\"\",Input!$C659,Input!I659)","v":"S earman "},{"$f":"IF(Input!J659=\"\",Input!$C659,Input!J659)","v":"S earman "},{"$f":"IF(Input!K659=\"\",Input!$C659,Input!K659)","v":"S earman "},{"$f":"IF(Input!L659=\"\",Input!$C659,Input!L659)","v":"S earman "},{"$f":"IF(Input!M659=\"\",Input!$C659,Input!M659)","v":"S earman "}]

{"sheet":"Dashboard","index":4,"n_rows":66,"n_cols":12,"rows_kept":66,"cut":false,"hidden":false,"merged":[]}
["SET File","Default","Version 1","Version 2","Version 3","Version 4","Version 5","Version 6","Version 7","Version 8","Version 9","Version 10"]
["Company:",{"$f":"VLOOKUP($A2,Default!$A$1:$N$30,4,0)","v":"Pepperstone Limited"},{"$f":"VLOOKUP($A2,'V1'!$A$1:$N$30,4,0)","v":"Pepperstone Limited"},{"$f":"VLOOKUP($A2,'V2'!$A$1:$N$30,4,0)","v":"Pepperstone Limited"},{"$f":"VLOOKUP($A2,'V3'!$A$1:$N$30,4,0)","v":"Pepperstone Limited"},{"$f":"VLOOKUP($A2,'V4'!$A$1:$N$30,4,0)","v":"Pepperstone Limited"},{"$f":"VLOOKUP($A2,'V5'!$A$1:$N$30,4,0)","v":"Pepperstone Limited"},{"$f":"VLOOKUP($A2,'V6'!$A$1:$N$30,4,0)","v":"Pepperstone Limited"},{"$f":"VLOOKUP($A2,'V7'!$A$1:$N$30,4,0)","v":"Pepperstone Limited"},{"$f":"VLOOKUP($A2,'V8'!$A$1:$N$30,4,0)","v":"Pepperstone Limited"},{"$f":"VLOOKUP($A2,'V9'!$A$1:$N$30,4,0)","v":"Pepperstone Limited"},{"$f":"VLOOKUP($A2,'V10'!$A$1:$N$30,4,0)","v":"Pepperstone Limited"}]
["Currency:",{"$f":"VLOOKUP(A3,Default!$A$1:$N$30,4,0)","v":"GBP"},{"$f":"VLOOKUP(A3,'V1'!$A$1:$N$30,4,0)","v":"GBP"},{"$f":"VLOOKUP(A3,'V2'!$A$1:$N$30,4,0)","v":"GBP"},{"$f":"VLOOKUP(A3,'V3'!$A$1:$N$30,4,0)","v":"GBP"},{"$f":"VLOOKUP(A3,'V4'!$A$1:$N$30,4,0)","v":"GBP"},{"$f":"VLOOKUP(A3,'V5'!$A$1:$N$30,4,0)","v":"GBP"},{"$f":"VLOOKUP(A3,'V6'!$A$1:$N$30,4,0)","v":"GBP"},{"$f":"VLOOKUP(A3,'V7'!$A$1:$N$30,4,0)","v":"GBP"},{"$f":"VLOOKUP(A3,'V8'!$A$1:$N$30,4,0)","v":"GBP"},{"$f":"VLOOKUP(A3,'V9'!$A$1:$N$30,4,0)","v":"GBP"},{"$f":"VLOOKUP(A3,'V10'!$A$1:$N$30,4,0)","v":"GBP"}]
[]
["Initial Deposit:",{"$f":"VLOOKUP(A5,Default!$A$1:$N$30,4,0)","v":2500},{"$f":"VLOOKUP(A5,'V1'!$A$1:$N$30,4,0)","v":2500},{"$f":"VLOOKUP(A5,'V2'!$A$1:$N$30,4,0)","v":2500},{"$f":"VLOOKUP(A5,'V3'!$A$1:$N$30,4,0)","v":2500},{"$f":"VLOOKUP(A5,'V4'!$A$1:$N$30,4,0)","v":2500},{"$f":"VLOOKUP(A5,'V5'!$A$1:$N$30,4,0)","v":2500},{"$f":"VLOOKUP(A5,'V6'!$A$1:$N$30,4,0)","v":2500},{"$f":"VLOOKUP(A5,'V7'!$A$1:$N$30,4,0)","v":2500},{"$f":"VLOOKUP(A5,'V8'!$A$1:$N$30,4,0)","v":2500},{"$f":"VLOOKUP(A5,'V9'!$A$1:$N$30,4,0)","v":2500},{"$f":"VLOOKUP(A5,'V10'!$A$1:$N$30,4,0)","v":2500}]
["Leverage:",{"$f":"VLOOKUP(A6,Default!$A$1:$N$30,4,0)","v":"1:30"},{"$f":"VLOOKUP(A6,'V1'!$A$1:$N$30,4,0)","v":"1:30"},{"$f":"VLOOKUP(A6,'V2'!$A$1:$N$30,4,0)","v":"1:30"},{"$f":"VLOOKUP(A6,'V3'!$A$1:$N$30,4,0)","v":"1:30"},{"$f":"VLOOKUP(A6,'V4'!$A$1:$N$30,4,0)","v":"1:30"},{"$f":"VLOOKUP(A6,'V5'!$A$1:$N$30,4,0)","v":"1:30"},{"$f":"VLOOKUP(A6,'V6'!$A$1:$N$30,4,0)","v":"1:30"},{"$f":"VLOOKUP(A6,'V7'!$A$1:$N$30,4,0)","v":"1:30"},{"$f":"VLOOKUP(A6,'V8'!$A$1:$N$30,4,0)","v":"1:30"},{"$f":"VLOOKUP(A6,'V9'!$A$1:$N$30,4,0)","v":"1:30"},{"$f":"VLOOKUP(A6,'V10'!$A$1:$N$30,4,0)","v":"1:30"}]
["Withdrawal:",{"$f":"VLOOKUP(A7,Default!$A$1:$N$30,4,0)","v":101.81},{"$f":"VLOOKUP(A7,'V1'!$A$1:$N$30,4,0)","v":261.39},{"$f":"VLOOKUP(A7,'V2'!$A$1:$N$30,4,0)","v":261.39},{"$f":"VLOOKUP(A7,'V3'!$A$1:$N$30,4,0)","v":261.39},{"$f":"VLOOKUP(A7,'V4'!$A$1:$N$30,4,0)","v":261.39},{"$f":"VLOOKUP(A7,'V5'!$A$1:$N$30,4,0)","v":261.39},{"$f":"VLOOKUP(A7,'V6'!$A$1:$N$30,4,0)","v":261.39},{"$f":"VLOOKUP(A7,'V7'!$A$1:$N$30,4,0)","v":261.39},{"$f":"VLOOKUP(A7,'V8'!$A$1:$N$30,4,0)","v":261.39},{"$f":"VLOOKUP(A7,'V9'!$A$1:$N$30,4,0)","v":261.39},{"$f":"VLOOKUP(A7,'V10'!$A$1:$N$30,4,0)","v":261.39}]
[]
["History Quality:",{"$f":"VLOOKUP(A9,Default!$A$1:$N$30,4,0)","v":"100%"},{"$f":"VLOOKUP(A9,'V1'!$A$1:$N$30,4,0)","v":"100%"},{"$f":"VLOOKUP(A9,'V2'!$A$1:$N$30,4,0)","v":"100%"},{"$f":"VLOOKUP(A9,'V3'!$A$1:$N$30,4,0)","v":"100%"},{"$f":"VLOOKUP(A9,'V4'!$A$1:$N$30,4,0)","v":"100%"},{"$f":"VLOOKUP(A9,'V5'!$A$1:$N$30,4,0)","v":"100%"},{"$f":"VLOOKUP(A9,'V6'!$A$1:$N$30,4,0)","v":"100%"},{"$f":"VLOOKUP(A9,'V7'!$A$1:$N$30,4,0)","v":"100%"},{"$f":"VLOOKUP(A9,'V8'!$A$1:$N$30,4,0)","v":"100%"},{"$f":"VLOOKUP(A9,'V9'!$A$1:$N$30,4,0)","v":"100%"},{"$f":"VLOOKUP(A9,'V10'!$A$1:$N$30,4,0)","v":"100%"}]
["Bars:",{"$f":"VLOOKUP(A10,Default!$A$1:$N$30,4,0)","v":25326},{"$f":"VLOOKUP(A10,'V1'!$A$1:$N$30,4,0)","v":49209},{"$f":"VLOOKUP(A10,'V2'!$A$1:$N$30,4,0)","v":49209},{"$f":"VLOOKUP(A10,'V3'!$A$1:$N$30,4,0)","v":49209},{"$f":"VLOOKUP(A10,'V4'!$A$1:$N$30,4,0)","v":49209},{"$f":"VLOOKUP(A10,'V5'!$A$1:$N$30,4,0)","v":49209},{"$f":"VLOOKUP(A10,'V6'!$A$1:$N$30,4,0)","v":49209},{"$f":"VLOOKUP(A10,'V7'!$A$1:$N$30,4,0)","v":49209},{"$f":"VLOOKUP(A10,'V8'!$A$1:$N$30,4,0)","v":49209},{"$f":"VLOOKUP(A10,'V9'!$A$1:$N$30,4,0)","v":49209},{"$f":"VLOOKUP(A10,'V10'!$A$1:$N$30,4,0)","v":49209}]
["Total Net Profit:",{"$f":"VLOOKUP(A11,Default!$A$1:$N$30,4,0)","v":216.47},{"$f":"VLOOKUP(A11,'V1'!$A$1:$N$30,4,0)","v":413.45},{"$f":"VLOOKUP(A11,'V2'!$A$1:$N$30,4,0)","v":413.45},{"$f":"VLOOKUP(A11,'V3'!$A$1:$N$30,4,0)","v":413.45},{"$f":"VLOOKUP(A11,'V4'!$A$1:$N$30,4,0)","v":413.45},{"$f":"VLOOKUP(A11,'V5'!$A$1:$N$30,4,0)","v":413.45},{"$f":"VLOOKUP(A11,'V6'!$A$1:$N$30,4,0)","v":413.45},{"$f":"VLOOKUP(A11,'V7'!$A$1:$N$30,4,0)","v":413.45},{"$f":"VLOOKUP(A11,'V8'!$A$1:$N$30,4,0)","v":413.45},{"$f":"VLOOKUP(A11,'V9'!$A$1:$N$30,4,0)","v":413.45},{"$f":"VLOOKUP(A11,'V10'!$A$1:$N$30,4,0)","v":413.45}]
["Gross Profit:",{"$f":"VLOOKUP(A12,Default!$A$1:$N$30,4,0)","v":303.2},{"$f":"VLOOKUP(A12,'V1'!$A$1:$N$30,4,0)","v":512.19000000000005},{"$f":"VLOOKUP(A12,'V2'!$A$1:$N$30,4,0)","v":512.19000000000005},{"$f":"VLOOKUP(A12,'V3'!$A$1:$N$30,4,0)","v":512.19000000000005},{"$f":"VLOOKUP(A12,'V4'!$A$1:$N$30,4,0)","v":512.19000000000005},{"$f":"VLOOKUP(A12,'V5'!$A$1:$N$30,4,0)","v":512.19000000000005},{"$f":"VLOOKUP(A12,'V6'!$A$1:$N$30,4,0)","v":512.19000000000005},{"$f":"VLOOKUP(A12,'V7'!$A$1:$N$30,4,0)","v":512.19000000000005},{"$f":"VLOOKUP(A12,'V8'!$A$1:$N$30,4,0)","v":512.19000000000005},{"$f":"VLOOKUP(A12,'V9'!$A$1:$N$30,4,0)","v":512.19000000000005},{"$f":"VLOOKUP(A12,'V10'!$A$1:$N$30,4,0)","v":512.19000000000005}]
["Gross Loss:",{"$f":"VLOOKUP(A13,Default!$A$1:$N$30,4,0)","v":-86.73},{"$f":"VLOOKUP(A13,'V1'!$A$1:$N$30,4,0)","v":-98.74},{"$f":"VLOOKUP(A13,'V2'!$A$1:$N$30,4,0)","v":-98.74},{"$f":"VLOOKUP(A13,'V3'!$A$1:$N$30,4,0)","v":-98.74},{"$f":"VLOOKUP(A13,'V4'!$A$1:$N$30,4,0)","v":-98.74},{"$f":"VLOOKUP(A13,'V5'!$A$1:$N$30,4,0)","v":-98.74},{"$f":"VLOOKUP(A13,'V6'!$A$1:$N$30,4,0)","v":-98.74},{"$f":"VLOOKUP(A13,'V7'!$A$1:$N$30,4,0)","v":-98.74},{"$f":"VLOOKUP(A13,'V8'!$A$1:$N$30,4,0)","v":-98.74},{"$f":"VLOOKUP(A13,'V9'!$A$1:$N$30,4,0)","v":-98.74},{"$f":"VLOOKUP(A13,'V10'!$A$1:$N$30,4,0)","v":-98.74}]
[]
["Profit Factor:",{"$f":"VLOOKUP(A15,Default!$A$1:$N$30,4,0)","v":3.4959069999999999},{"$f":"VLOOKUP(A15,'V1'!$A$1:$N$30,4,0)","v":5.1872590000000001},{"$f":"VLOOKUP(A15,'V2'!$A$1:$N$30,4,0)","v":5.1872590000000001},{"$f":"VLOOKUP(A15,'V3'!$A$1:$N$30,4,0)","v":5.1872590000000001},{"$f":"VLOOKUP(A15,'V4'!$A$1:$N$30,4,0)","v":5.1872590000000001},{"$f":"VLOOKUP(A15,'V5'!$A$1:$N$30,4,0)","v":5.1872590000000001},{"$f":"VLOOKUP(A15,'V6'!$A$1:$N$30,4,0)","v":5.1872590000000001},{"$f":"VLOOKUP(A15,'V7'!$A$1:$N$30,4,0)","v":5.1872590000000001},{"$f":"VLOOKUP(A15,'V8'!$A$1:$N$30,4,0)","v":5.1872590000000001},{"$f":"VLOOKUP(A15,'V9'!$A$1:$N$30,4,0)","v":5.1872590000000001},{"$f":"VLOOKUP(A15,'V10'!$A$1:$N$30,4,0)","v":5.1872590000000001}]
["Recovery Factor:",{"$f":"VLOOKUP(A16,Default!$A$1:$N$30,4,0)","v":1.2577419999999999},{"$f":"VLOOKUP(A16,'V1'!$A$1:$N$30,4,0)","v":0.72906000000000004},{"$f":"VLOOKUP(A16,'V2'!$A$1:$N$30,4,0)","v":0.72906000000000004},{"$f":"VLOOKUP(A16,'V3'!$A$1:$N$30,4,0)","v":0.72906000000000004},{"$f":"VLOOKUP(A16,'V4'!$A$1:$N$30,4,0)","v":0.72906000000000004},{"$f":"VLOOKUP(A16,'V5'!$A$1:$N$30,4,0)","v":0.72906000000000004},{"$f":"VLOOKUP(A16,'V6'!$A$1:$N$30,4,0)","v":0.72906000000000004},{"$f":"VLOOKUP(A16,'V7'!$A$1:$N$30,4,0)","v":0.72906000000000004},{"$f":"VLOOKUP(A16,'V8'!$A$1:$N$30,4,0)","v":0.72906000000000004},{"$f":"VLOOKUP(A16,'V9'!$A$1:$N$30,4,0)","v":0.72906000000000004},{"$f":"VLOOKUP(A16,'V10'!$A$1:$N$30,4,0)","v":0.72906000000000004}]
["AHPR:",{"$f":"VLOOKUP(A17,Default!$A$1:$N$30,4,0)","v":"1.0002 (0.02%)"},{"$f":"VLOOKUP(A17,'V1'!$A$1:$N$30,4,0)","v":"1.0002 (0.02%)"},{"$f":"VLOOKUP(A17,'V2'!$A$1:$N$30,4,0)","v":"1.0002 (0.02%)"},{"$f":"VLOOKUP(A17,'V3'!$A$1:$N$30,4,0)","v":"1.0002 (0.02%)"},{"$f":"VLOOKUP(A17,'V4'!$A$1:$N$30,4,0)","v":"1.0002 (0.02%)"},{"$f":"VLOOKUP(A17,'V5'!$A$1:$N$30,4,0)","v":"1.0002 (0.02%)"},{"$f":"VLOOKUP(A17,'V6'!$A$1:$N$30,4,0)","v":"1.0002 (0.02%)"},{"$f":"VLOOKUP(A17,'V7'!$A$1:$N$30,4,0)","v":"1.0002 (0.02%)"},{"$f":"VLOOKUP(A17,'V8'!$A$1:$N$30,4,0)","v":"1.0002 (0.02%)"},{"$f":"VLOOKUP(A17,'V9'!$A$1:$N$30,4,0)","v":"1.0002 (0.02%)"},{"$f":"VLOOKUP(A17,'V10'!$A$1:$N$30,4,0)","v":"1.0002 (0.02%)"}]
["GHPR:",{"$f":"VLOOKUP(A18,Default!$A$1:$N$30,4,0)","v":"1.0002 (0.02%)"},{"$f":"VLOOKUP(A18,'V1'!$A$1:$N$30,4,0)","v":"1.0002 (0.02%)"},{"$f":"VLOOKUP(A18,'V2'!$A$1:$N$30,4,0)","v":"1.0002 (0.02%)"},{"$f":"VLOOKUP(A18,'V3'!$A$1:$N$30,4,0)","v":"1.0002 (0.02%)"},{"$f":"VLOOKUP(A18,'V4'!$A$1:$N$30,4,0)","v":"1.0002 (0.02%)"},{"$f":"VLOOKUP(A18,'V5'!$A$1:$N$30,4,0)","v":"1.0002 (0.02%)"},{"$f":"VLOOKUP(A18,'V6'!$A$1:$N$30,4,0)","v":"1.0002 (0.02%)"},{"$f":"VLOOKUP(A18,'V7'!$A$1:$N$30,4,0)","v":"1.0002 (0.02%)"},{"$f":"VLOOKUP(A18,'V8'!$A$1:$N$30,4,0)","v":"1.0002 (0.02%)"},{"$f":"VLOOKUP(A18,'V9'!$A$1:$N$30,4,0)","v":"1.0002 (0.02%)"},{"$f":"VLOOKUP(A18,'V10'!$A$1:$N$30,4,0)","v":"1.0002 (0.02%)"}]
[]
["Correlation (Profits,MFE):",{"$f":"VLOOKUP(A20,Default!$A$1:$N$30,4,0)","v":0.90726799999999996},{"$f":"VLOOKUP(A20,'V1'!$A$1:$N$30,4,0)","v":0.97429299999999996},{"$f":"VLOOKUP(A20,'V2'!$A$1:$N$30,4,0)","v":0.97429299999999996},{"$f":"VLOOKUP(A20,'V3'!$A$1:$N$30,4,0)","v":0.97429299999999996},{"$f":"VLOOKUP(A20,'V4'!$A$1:$N$30,4,0)","v":0.97429299999999996},{"$f":"VLOOKUP(A20,'V5'!$A$1:$N$30,4,0)","v":0.97429299999999996},{"$f":"VLOOKUP(A20,'V6'!$A$1:$N$30,4,0)","v":0.97429299999999996},{"$f":"VLOOKUP(A20,'V7'!$A$1:$N$30,4,0)","v":0.97429299999999996},{"$f":"VLOOKUP(A20,'V8'!$A$1:$N$30,4,0)","v":0.97429299999999996},{"$f":"VLOOKUP(A20,'V9'!$A$1:$N$30,4,0)","v":0.97429299999999996},{"$f":"VLOOKUP(A20,'V10'!$A$1:$N$30,4,0)","v":0.97429299999999996}]
["Minimal position holding time:",{"$f":"VLOOKUP(A21,Default!$A$1:$N$30,4,0)","v":"0:00:25"},{"$f":"VLOOKUP(A21,'V1'!$A$1:$N$30,4,0)","v":"0:03:47"},{"$f":"VLOOKUP(A21,'V2'!$A$1:$N$30,4,0)","v":"0:03:47"},{"$f":"VLOOKUP(A21,'V3'!$A$1:$N$30,4,0)","v":"0:03:47"},{"$f":"VLOOKUP(A21,'V4'!$A$1:$N$30,4,0)","v":"0:03:47"},{"$f":"VLOOKUP(A21,'V5'!$A$1:$N$30,4,0)","v":"0:03:47"},{"$f":"VLOOKUP(A21,'V6'!$A$1:$N$30,4,0)","v":"0:03:47"},{"$f":"VLOOKUP(A21,'V7'!$A$1:$N$30,4,0)","v":"0:03:47"},{"$f":"VLOOKUP(A21,'V8'!$A$1:$N$30,4,0)","v":"0:03:47"},{"$f":"VLOOKUP(A21,'V9'!$A$1:$N$30,4,0)","v":"0:03:47"},{"$f":"VLOOKUP(A21,'V10'!$A$1:$N$30,4,0)","v":"0:03:47"}]
[]
["Total Trades:",{"$f":"VLOOKUP(A23,Default!$A$1:$N$30,4,0)","v":191},{"$f":"VLOOKUP(A23,'V1'!$A$1:$N$30,4,0)","v":350},{"$f":"VLOOKUP(A23,'V2'!$A$1:$N$30,4,0)","v":350},{"$f":"VLOOKUP(A23,'V3'!$A$1:$N$30,4,0)","v":350},{"$f":"VLOOKUP(A23,'V4'!$A$1:$N$30,4,0)","v":350},{"$f":"VLOOKUP(A23,'V5'!$A$1:$N$30,4,0)","v":350},{"$f":"VLOOKUP(A23,'V6'!$A$1:$N$30,4,0)","v":350},{"$f":"VLOOKUP(A23,'V7'!$A$1:$N$30,4,0)","v":350},{"$f":"VLOOKUP(A23,'V8'!$A$1:$N$30,4,0)","v":350},{"$f":"VLOOKUP(A23,'V9'!$A$1:$N$30,4,0)","v":350},{"$f":"VLOOKUP(A23,'V10'!$A$1:$N$30,4,0)","v":350}]
["Total Deals:",{"$f":"VLOOKUP(A24,Default!$A$1:$N$30,4,0)","v":382},{"$f":"VLOOKUP(A24,'V1'!$A$1:$N$30,4,0)","v":700},{"$f":"VLOOKUP(A24,'V2'!$A$1:$N$30,4,0)","v":700},{"$f":"VLOOKUP(A24,'V3'!$A$1:$N$30,4,0)","v":700},{"$f":"VLOOKUP(A24,'V4'!$A$1:$N$30,4,0)","v":700},{"$f":"VLOOKUP(A24,'V5'!$A$1:$N$30,4,0)","v":700},{"$f":"VLOOKUP(A24,'V6'!$A$1:$N$30,4,0)","v":700},{"$f":"VLOOKUP(A24,'V7'!$A$1:$N$30,4,0)","v":700},{"$f":"VLOOKUP(A24,'V8'!$A$1:$N$30,4,0)","v":700},{"$f":"VLOOKUP(A24,'V9'!$A$1:$N$30,4,0)","v":700},{"$f":"VLOOKUP(A24,'V10'!$A$1:$N$30,4,0)","v":700}]
[]
["Ticks:",{"$f":"VLOOKUP(A26,Default!$E$1:$N$30,4,0)","v":5347610},{"$f":"VLOOKUP(A26,'V1'!$E$1:$N$30,4,0)","v":15141334},{"$f":"VLOOKUP(A26,'V2'!$E$1:$N$30,4,0)","v":15141334},{"$f":"VLOOKUP(A26,'V3'!$E$1:$N$30,4,0)","v":15141334},{"$f":"VLOOKUP(A26,'V4'!$E$1:$N$30,4,0)","v":15141334},{"$f":"VLOOKUP(A26,'V5'!$E$1:$N$30,4,0)","v":15141334},{"$f":"VLOOKUP(A26,'V6'!$E$1:$N$30,4,0)","v":15141334},{"$f":"VLOOKUP(A26,'V7'!$E$1:$N$30,4,0)","v":15141334},{"$f":"VLOOKUP(A26,'V8'!$E$1:$N$30,4,0)","v":15141334},{"$f":"VLOOKUP(A26,'V9'!$E$1:$N$30,4,0)","v":15141334},{"$f":"VLOOKUP(A26,'V10'!$E$1:$N$30,4,0)","v":15141334}]
["Balance Drawdown Absolute:",{"$f":"VLOOKUP(A27,Default!$E$1:$N$30,4,0)","v":0.04},{"$f":"VLOOKUP(A27,'V1'!$E$1:$N$30,4,0)","v":0.02},{"$f":"VLOOKUP(A27,'V2'!$E$1:$N$30,4,0)","v":0.02},{"$f":"VLOOKUP(A27,'V3'!$E$1:$N$30,4,0)","v":0.02},{"$f":"VLOOKUP(A27,'V4'!$E$1:$N$30,4,0)","v":0.02},{"$f":"VLOOKUP(A27,'V5'!$E$1:$N$30,4,0)","v":0.02},{"$f":"VLOOKUP(A27,'V6'!$E$1:$N$30,4,0)","v":0.02},{"$f":"VLOOKUP(A27,'V7'!$E$1:$N$30,4,0)","v":0.02},{"$f":"VLOOKUP(A27,'V8'!$E$1:$N$30,4,0)","v":0.02},{"$f":"VLOOKUP(A27,'V9'!$E$1:$N$30,4,0)","v":0.02},{"$f":"VLOOKUP(A27,'V10'!$E$1:$N$30,4,0)","v":0.02}]
["Balance Drawdown Maximal:",{"$f":"VLOOKUP(A28,Default!$E$1:$N$30,4,0)","v":"8.84 (0.34%)"},{"$f":"VLOOKUP(A28,'V1'!$E$1:$N$30,4,0)","v":"8.76 (0.34%)"},{"$f":"VLOOKUP(A28,'V2'!$E$1:$N$30,4,0)","v":"8.76 (0.34%)"},{"$f":"VLOOKUP(A28,'V3'!$E$1:$N$30,4,0)","v":"8.76 (0.34%)"},{"$f":"VLOOKUP(A28,'V4'!$E$1:$N$30,4,0)","v":"8.76 (0.34%)"},{"$f":"VLOOKUP(A28,'V5'!$E$1:$N$30,4,0)","v":"8.76 (0.34%)"},{"$f":"VLOOKUP(A28,'V6'!$E$1:$N$30,4,0)","v":"8.76 (0.34%)"},{"$f":"VLOOKUP(A28,'V7'!$E$1:$N$30,4,0)","v":"8.76 (0.34%)"},{"$f":"VLOOKUP(A28,'V8'!$E$1:$N$30,4,0)","v":"8.76 (0.34%)"},{"$f":"VLOOKUP(A28,'V9'!$E$1:$N$30,4,0)","v":"8.76 (0.34%)"},{"$f":"VLOOKUP(A28,'V10'!$E$1:$N$30,4,0)","v":"8.76 (0.34%)"}]
["Balance Drawdown Relative:",{"$f":"VLOOKUP(A29,Default!$E$1:$N$30,4,0)","v":"0.34% (8.84)"},{"$f":"VLOOKUP(A29,'V1'!$E$1:$N$30,4,0)","v":"0.34% (8.76)"},{"$f":"VLOOKUP(A29,'V2'!$E$1:$N$30,4,0)","v":"0.34% (8.76)"},{"$f":"VLOOKUP(A29,'V3'!$E$1:$N$30,4,0)","v":"0.34% (8.76)"},{"$f":"VLOOKUP(A29,'V4'!$E$1:$N$30,4,0)","v":"0.34% (8.76)"},{"$f":"VLOOKUP(A29,'V5'!$E$1:$N$30,4,0)","v":"0.34% (8.76)"},{"$f":"VLOOKUP(A29,'V6'!$E$1:$N$30,4,0)","v":"0.34% (8.76)"},{"$f":"VLOOKUP(A29,'V7'!$E$1:$N$30,4,0)","v":"0.34% (8.76)"},{"$f":"VLOOKUP(A29,'V8'!$E$1:$N$30,4,0)","v":"0.34% (8.76)"},{"$f":"VLOOKUP(A29,'V9'!$E$1:$N$30,4,0)","v":"0.34% (8.76)"},{"$f":"VLOOKUP(A29,'V10'!$E$1:$N$30,4,0)","v":"0.34% (8.76)"}]
[]
["Expected Payoff:",{"$f":"VLOOKUP(A31,Default!$E$1:$N$30,4,0)","v":1.133351},{"$f":"VLOOKUP(A31,'V1'!$E$1:$N$30,4,0)","v":1.1812860000000001},{"$f":"VLOOKUP(A31,'V2'!$E$1:$N$30,4,0)","v":1.1812860000000001},{"$f":"VLOOKUP(A31,'V3'!$E$1:$N$30,4,0)","v":1.1812860000000001},{"$f":"VLOOKUP(A31,'V4'!$E$1:$N$30,4,0)","v":1.1812860000000001},{"$f":"VLOOKUP(A31,'V5'!$E$1:$N$30,4,0)","v":1.1812860000000001},{"$f":"VLOOKUP(A31,'V6'!$E$1:$N$30,4,0)","v":1.1812860000000001},{"$f":"VLOOKUP(A31,'V7'!$E$1:$N$30,4,0)","v":1.1812860000000001},{"$f":"VLOOKUP(A31,'V8'!$E$1:$N$30,4,0)","v":1.1812860000000001},{"$f":"VLOOKUP(A31,'V9'!$E$1:$N$30,4,0)","v":1.1812860000000001},{"$f":"VLOOKUP(A31,'V10'!$E$1:$N$30,4,0)","v":1.1812860000000001}]
["Sharpe Ratio:",{"$f":"VLOOKUP(A32,Default!$E$1:$N$30,4,0)","v":1.8618729999999999},{"$f":"VLOOKUP(A32,'V1'!$E$1:$N$30,4,0)","v":0.68623100000000004},{"$f":"VLOOKUP(A32,'V2'!$E$1:$N$30,4,0)","v":0.68623100000000004},{"$f":"VLOOKUP(A32,'V3'!$E$1:$N$30,4,0)","v":0.68623100000000004},{"$f":"VLOOKUP(A32,'V4'!$E$1:$N$30,4,0)","v":0.68623100000000004},{"$f":"VLOOKUP(A32,'V5'!$E$1:$N$30,4,0)","v":0.68623100000000004},{"$f":"VLOOKUP(A32,'V6'!$E$1:$N$30,4,0)","v":0.68623100000000004},{"$f":"VLOOKUP(A32,'V7'!$E$1:$N$30,4,0)","v":0.68623100000000004},{"$f":"VLOOKUP(A32,'V8'!$E$1:$N$30,4,0)","v":0.68623100000000004},{"$f":"VLOOKUP(A32,'V9'!$E$1:$N$30,4,0)","v":0.68623100000000004},{"$f":"VLOOKUP(A32,'V10'!$E$1:$N$30,4,0)","v":0.68623100000000004}]
["LR Correlation:",{"$f":"VLOOKUP(A33,Default!$E$1:$N$30,4,0)","v":0.82425099999999996},{"$f":"VLOOKUP(A33,'V1'!$E$1:$N$30,4,0)","v":0.83106999999999998},{"$f":"VLOOKUP(A33,'V2'!$E$1:$N$30,4,0)","v":0.83106999999999998},{"$f":"VLOOKUP(A33,'V3'!$E$1:$N$30,4,0)","v":0.83106999999999998},{"$f":"VLOOKUP(A33,'V4'!$E$1:$N$30,4,0)","v":0.83106999999999998},{"$f":"VLOOKUP(A33,'V5'!$E$1:$N$30,4,0)","v":0.83106999999999998},{"$f":"VLOOKUP(A33,'V6'!$E$1:$N$30,4,0)","v":0.83106999999999998},{"$f":"VLOOKUP(A33,'V7'!$E$1:$N$30,4,0)","v":0.83106999999999998},{"$f":"VLOOKUP(A33,'V8'!$E$1:$N$30,4,0)","v":0.83106999999999998},{"$f":"VLOOKUP(A33,'V9'!$E$1:$N$30,4,0)","v":0.83106999999999998},{"$f":"VLOOKUP(A33,'V10'!$E$1:$N$30,4,0)","v":0.83106999999999998}]
["LR Standard Error:",{"$f":"VLOOKUP(A34,Default!$E$1:$N$30,4,0)","v":20.689067000000001},{"$f":"VLOOKUP(A34,'V1'!$E$1:$N$30,4,0)","v":23.964808999999999},{"$f":"VLOOKUP(A34,'V2'!$E$1:$N$30,4,0)","v":23.964808999999999},{"$f":"VLOOKUP(A34,'V3'!$E$1:$N$30,4,0)","v":23.964808999999999},{"$f":"VLOOKUP(A34,'V4'!$E$1:$N$30,4,0)","v":23.964808999999999},{"$f":"VLOOKUP(A34,'V5'!$E$1:$N$30,4,0)","v":23.964808999999999},{"$f":"VLOOKUP(A34,'V6'!$E$1:$N$30,4,0)","v":23.964808999999999},{"$f":"VLOOKUP(A34,'V7'!$E$1:$N$30,4,0)","v":23.964808999999999},{"$f":"VLOOKUP(A34,'V8'!$E$1:$N$30,4,0)","v":23.964808999999999},{"$f":"VLOOKUP(A34,'V9'!$E$1:$N$30,4,0)","v":23.964808999999999},{"$f":"VLOOKUP(A34,'V10'!$E$1:$N$30,4,0)","v":23.964808999999999}]
[]
["Correlation (Profits,MAE):",{"$f":"VLOOKUP(A36,Default!$E$1:$N$30,4,0)","v":-0.405246},{"$f":"VLOOKUP(A36,'V1'!$E$1:$N$30,4,0)","v":-0.375247},{"$f":"VLOOKUP(A36,'V2'!$E$1:$N$30,4,0)","v":-0.375247},{"$f":"VLOOKUP(A36,'V3'!$E$1:$N$30,4,0)","v":-0.375247},{"$f":"VLOOKUP(A36,'V4'!$E$1:$N$30,4,0)","v":-0.375247},{"$f":"VLOOKUP(A36,'V5'!$E$1:$N$30,4,0)","v":-0.375247},{"$f":"VLOOKUP(A36,'V6'!$E$1:$N$30,4,0)","v":-0.375247},{"$f":"VLOOKUP(A36,'V7'!$E$1:$N$30,4,0)","v":-0.375247},{"$f":"VLOOKUP(A36,'V8'!$E$1:$N$30,4,0)","v":-0.375247},{"$f":"VLOOKUP(A36,'V9'!$E$1:$N$30,4,0)","v":-0.375247},{"$f":"VLOOKUP(A36,'V10'!$E$1:$N$30,4,0)","v":-0.375247}]
["Maximal position holding time:",{"$f":"VLOOKUP(A37,Default!$E$1:$N$30,4,0)","v":"65:39:00"},{"$f":"VLOOKUP(A37,'V1'!$E$1:$N$30,4,0)","v":"404:54:30"},{"$f":"VLOOKUP(A37,'V2'!$E$1:$N$30,4,0)","v":"404:54:30"},{"$f":"VLOOKUP(A37,'V3'!$E$1:$N$30,4,0)","v":"404:54:30"},{"$f":"VLOOKUP(A37,'V4'!$E$1:$N$30,4,0)","v":"404:54:30"},{"$f":"VLOOKUP(A37,'V5'!$E$1:$N$30,4,0)","v":"404:54:30"},{"$f":"VLOOKUP(A37,'V6'!$E$1:$N$30,4,0)","v":"404:54:30"},{"$f":"VLOOKUP(A37,'V7'!$E$1:$N$30,4,0)","v":"404:54:30"},{"$f":"VLOOKUP(A37,'V8'!$E$1:$N$30,4,0)","v":"404:54:30"},{"$f":"VLOOKUP(A37,'V9'!$E$1:$N$30,4,0)","v":"404:54:30"},{"$f":"VLOOKUP(A37,'V10'!$E$1:$N$30,4,0)","v":"404:54:30"}]
[]
["Short Trades (won %):",{"$f":"VLOOKUP(A39,Default!$E$1:$N$30,4,0)","v":"112 (74.11%)"},{"$f":"VLOOKUP(A39,'V1'!$E$1:$N$30,4,0)","v":"177 (76.84%)"},{"$f":"VLOOKUP(A39,'V2'!$E$1:$N$30,4,0)","v":"177 (76.84%)"},{"$f":"VLOOKUP(A39,'V3'!$E$1:$N$30,4,0)","v":"177 (76.84%)"},{"$f":"VLOOKUP(A39,'V4'!$E$1:$N$30,4,0)","v":"177 (76.84%)"},{"$f":"VLOOKUP(A39,'V5'!$E$1:$N$30,4,0)","v":"177 (76.84%)"},{"$f":"VLOOKUP(A39,'V6'!$E$1:$N$30,4,0)","v":"177 (76.84%)"},{"$f":"VLOOKUP(A39,'V7'!$E$1:$N$30,4,0)","v":"177 (76.84%)"},{"$f":"VLOOKUP(A39,'V8'!$E$1:$N$30,4,0)","v":"177 (76.84%)"},{"$f":"VLOOKUP(A39,'V9'!$E$1:$N$30,4,0)","v":"177 (76.84%)"},{"$f":"VLOOKUP(A39,'V10'!$E$1:$N$30,4,0)","v":"177 (76.84%)"}]
["Profit Trades (% of total):",{"$f":"VLOOKUP(A40,Default!$E$1:$N$30,4,0)","v":"132 (69.11%)"},{"$f":"VLOOKUP(A40,'V1'!$E$1:$N$30,4,0)","v":"268 (76.57%)"},{"$f":"VLOOKUP(A40,'V2'!$E$1:$N$30,4,0)","v":"268 (76.57%)"},{"$f":"VLOOKUP(A40,'V3'!$E$1:$N$30,4,0)","v":"268 (76.57%)"},{"$f":"VLOOKUP(A40,'V4'!$E$1:$N$30,4,0)","v":"268 (76.57%)"},{"$f":"VLOOKUP(A40,'V5'!$E$1:$N$30,4,0)","v":"268 (76.57%)"},{"$f":"VLOOKUP(A40,'V6'!$E$1:$N$30,4,0)","v":"268 (76.57%)"},{"$f":"VLOOKUP(A40,'V7'!$E$1:$N$30,4,0)","v":"268 (76.57%)"},{"$f":"VLOOKUP(A40,'V8'!$E$1:$N$30,4,0)","v":"268 (76.57%)"},{"$f":"VLOOKUP(A40,'V9'!$E$1:$N$30,4,0)","v":"268 (76.57%)"},{"$f":"VLOOKUP(A40,'V10'!$E$1:$N$30,4,0)","v":"268 (76.57%)"}]
["Largest profit trade:",{"$f":"VLOOKUP(A41,Default!$E$1:$N$30,4,0)","v":33.32},{"$f":"VLOOKUP(A41,'V1'!$E$1:$N$30,4,0)","v":47.39},{"$f":"VLOOKUP(A41,'V2'!$E$1:$N$30,4,0)","v":47.39},{"$f":"VLOOKUP(A41,'V3'!$E$1:$N$30,4,0)","v":47.39},{"$f":"VLOOKUP(A41,'V4'!$E$1:$N$30,4,0)","v":47.39},{"$f":"VLOOKUP(A41,'V5'!$E$1:$N$30,4,0)","v":47.39},{"$f":"VLOOKUP(A41,'V6'!$E$1:$N$30,4,0)","v":47.39},{"$f":"VLOOKUP(A41,'V7'!$E$1:$N$30,4,0)","v":47.39},{"$f":"VLOOKUP(A41,'V8'!$E$1:$N$30,4,0)","v":47.39},{"$f":"VLOOKUP(A41,'V9'!$E$1:$N$30,4,0)","v":47.39},{"$f":"VLOOKUP(A41,'V10'!$E$1:$N$30,4,0)","v":47.39}]
["Average profit trade:",{"$f":"VLOOKUP(A42,Default!$E$1:$N$30,4,0)","v":2.29697},{"$f":"VLOOKUP(A42,'V1'!$E$1:$N$30,4,0)","v":1.911157},{"$f":"VLOOKUP(A42,'V2'!$E$1:$N$30,4,0)","v":1.911157},{"$f":"VLOOKUP(A42,'V3'!$E$1:$N$30,4,0)","v":1.911157},{"$f":"VLOOKUP(A42,'V4'!$E$1:$N$30,4,0)","v":1.911157},{"$f":"VLOOKUP(A42,'V5'!$E$1:$N$30,4,0)","v":1.911157},{"$f":"VLOOKUP(A42,'V6'!$E$1:$N$30,4,0)","v":1.911157},{"$f":"VLOOKUP(A42,'V7'!$E$1:$N$30,4,0)","v":1.911157},{"$f":"VLOOKUP(A42,'V8'!$E$1:$N$30,4,0)","v":1.911157},{"$f":"VLOOKUP(A42,'V9'!$E$1:$N$30,4,0)","v":1.911157},{"$f":"VLOOKUP(A42,'V10'!$E$1:$N$30,4,0)","v":1.911157}]
["Maximum consecutive wins ($):",{"$f":"VLOOKUP(A43,Default!$E$1:$N$30,4,0)","v":"13 (21.43)"},{"$f":"VLOOKUP(A43,'V1'!$E$1:$N$30,4,0)","v":"13 (45.75)"},{"$f":"VLOOKUP(A43,'V2'!$E$1:$N$30,4,0)","v":"13 (45.75)"},{"$f":"VLOOKUP(A43,'V3'!$E$1:$N$30,4,0)","v":"13 (45.75)"},{"$f":"VLOOKUP(A43,'V4'!$E$1:$N$30,4,0)","v":"13 (45.75)"},{"$f":"VLOOKUP(A43,'V5'!$E$1:$N$30,4,0)","v":"13 (45.75)"},{"$f":"VLOOKUP(A43,'V6'!$E$1:$N$30,4,0)","v":"13 (45.75)"},{"$f":"VLOOKUP(A43,'V7'!$E$1:$N$30,4,0)","v":"13 (45.75)"},{"$f":"VLOOKUP(A43,'V8'!$E$1:$N$30,4,0)","v":"13 (45.75)"},{"$f":"VLOOKUP(A43,'V9'!$E$1:$N$30,4,0)","v":"13 (45.75)"},{"$f":"VLOOKUP(A43,'V10'!$E$1:$N$30,4,0)","v":"13 (45.75)"}]
["Maximal consecutive profit (count):",{"$f":"VLOOKUP(A44,Default!$E$1:$N$30,4,0)","v":"57.35 (6)"},{"$f":"VLOOKUP(A44,'V1'!$E$1:$N$30,4,0)","v":"90.41 (9)"},{"$f":"VLOOKUP(A44,'V2'!$E$1:$N$30,4,0)","v":"90.41 (9)"},{"$f":"VLOOKUP(A44,'V3'!$E$1:$N$30,4,0)","v":"90.41 (9)"},{"$f":"VLOOKUP(A44,'V4'!$E$1:$N$30,4,0)","v":"90.41 (9)"},{"$f":"VLOOKUP(A44,'V5'!$E$1:$N$30,4,0)","v":"90.41 (9)"},{"$f":"VLOOKUP(A44,'V6'!$E$1:$N$30,4,0)","v":"90.41 (9)"},{"$f":"VLOOKUP(A44,'V7'!$E$1:$N$30,4,0)","v":"90.41 (9)"},{"$f":"VLOOKUP(A44,'V8'!$E$1:$N$30,4,0)","v":"90.41 (9)"},{"$f":"VLOOKUP(A44,'V9'!$E$1:$N$30,4,0)","v":"90.41 (9)"},{"$f":"VLOOKUP(A44,'V10'!$E$1:$N$30,4,0)","v":"90.41 (9)"}]
["Average consecutive wins:",{"$f":"VLOOKUP(A45,Default!$E$1:$N$30,4,0)","v":4},{"$f":"VLOOKUP(A45,'V1'!$E$1:$N$30,4,0)","v":5},{"$f":"VLOOKUP(A45,'V2'!$E$1:$N$30,4,0)","v":5},{"$f":"VLOOKUP(A45,'V3'!$E$1:$N$30,4,0)","v":5},{"$f":"VLOOKUP(A45,'V4'!$E$1:$N$30,4,0)","v":5},{"$f":"VLOOKUP(A45,'V5'!$E$1:$N$30,4,0)","v":5},{"$f":"VLOOKUP(A45,'V6'!$E$1:$N$30,4,0)","v":5},{"$f":"VLOOKUP(A45,'V7'!$E$1:$N$30,4,0)","v":5},{"$f":"VLOOKUP(A45,'V8'!$E$1:$N$30,4,0)","v":5},{"$f":"VLOOKUP(A45,'V9'!$E$1:$N$30,4,0)","v":5},{"$f":"VLOOKUP(A45,'V10'!$E$1:$N$30,4,0)","v":5}]
[]
["Symbols:",{"$f":"VLOOKUP(A47,Default!$I$1:$N$30,4,0)","v":1},{"$f":"VLOOKUP(A47,'V1'!$I$1:$N$30,4,0)","v":1},{"$f":"VLOOKUP(A47,'V2'!$I$1:$N$30,4,0)","v":1},{"$f":"VLOOKUP(A47,'V3'!$I$1:$N$30,4,0)","v":1},{"$f":"VLOOKUP(A47,'V4'!$I$1:$N$30,4,0)","v":1},{"$f":"VLOOKUP(A47,'V5'!$I$1:$N$30,4,0)","v":1},{"$f":"VLOOKUP(A47,'V6'!$I$1:$N$30,4,0)","v":1},{"$f":"VLOOKUP(A47,'V7'!$I$1:$N$30,4,0)","v":1},{"$f":"VLOOKUP(A47,'V8'!$I$1:$N$30,4,0)","v":1},{"$f":"VLOOKUP(A47,'V9'!$I$1:$N$30,4,0)","v":1},{"$f":"VLOOKUP(A47,'V10'!$I$1:$N$30,4,0)","v":1}]
["Equity Drawdown Absolute:",{"$f":"VLOOKUP(A48,Default!$I$1:$N$30,4,0)","v":136.51},{"$f":"VLOOKUP(A48,'V1'!$I$1:$N$30,4,0)","v":515.03},{"$f":"VLOOKUP(A48,'V2'!$I$1:$N$30,4,0)","v":515.03},{"$f":"VLOOKUP(A48,'V3'!$I$1:$N$30,4,0)","v":515.03},{"$f":"VLOOKUP(A48,'V4'!$I$1:$N$30,4,0)","v":515.03},{"$f":"VLOOKUP(A48,'V5'!$I$1:$N$30,4,0)","v":515.03},{"$f":"VLOOKUP(A48,'V6'!$I$1:$N$30,4,0)","v":515.03},{"$f":"VLOOKUP(A48,'V7'!$I$1:$N$30,4,0)","v":515.03},{"$f":"VLOOKUP(A48,'V8'!$I$1:$N$30,4,0)","v":515.03},{"$f":"VLOOKUP(A48,'V9'!$I$1:$N$30,4,0)","v":515.03},{"$f":"VLOOKUP(A48,'V10'!$I$1:$N$30,4,0)","v":515.03}]
["Equity Drawdown Maximal:",{"$f":"VLOOKUP(A49,Default!$I$1:$N$30,4,0)","v":"172.11 (6.79%)"},{"$f":"VLOOKUP(A49,'V1'!$I$1:$N$30,4,0)","v":"567.10 (22.22%)"},{"$f":"VLOOKUP(A49,'V2'!$I$1:$N$30,4,0)","v":"567.10 (22.22%)"},{"$f":"VLOOKUP(A49,'V3'!$I$1:$N$30,4,0)","v":"567.10 (22.22%)"},{"$f":"VLOOKUP(A49,'V4'!$I$1:$N$30,4,0)","v":"567.10 (22.22%)"},{"$f":"VLOOKUP(A49,'V5'!$I$1:$N$30,4,0)","v":"567.10 (22.22%)"},{"$f":"VLOOKUP(A49,'V6'!$I$1:$N$30,4,0)","v":"567.10 (22.22%)"},{"$f":"VLOOKUP(A49,'V7'!$I$1:$N$30,4,0)","v":"567.10 (22.22%)"},{"$f":"VLOOKUP(A49,'V8'!$I$1:$N$30,4,0)","v":"567.10 (22.22%)"},{"$f":"VLOOKUP(A49,'V9'!$I$1:$N$30,4,0)","v":"567.10 (22.22%)"},{"$f":"VLOOKUP(A49,'V10'!$I$1:$N$30,4,0)","v":"567.10 (22.22%)"}]
["Equity Drawdown Relative:",{"$f":"VLOOKUP(A50,Default!$I$1:$N$30,4,0)","v":"6.79% (172.11)"},{"$f":"VLOOKUP(A50,'V1'!$I$1:$N$30,4,0)","v":"22.22% (567.10)"},{"$f":"VLOOKUP(A50,'V2'!$I$1:$N$30,4,0)","v":"22.22% (567.10)"},{"$f":"VLOOKUP(A50,'V3'!$I$1:$N$30,4,0)","v":"22.22% (567.10)"},{"$f":"VLOOKUP(A50,'V4'!$I$1:$N$30,4,0)","v":"22.22% (567.10)"},{"$f":"VLOOKUP(A50,'V5'!$I$1:$N$30,4,0)","v":"22.22% (567.10)"},{"$f":"VLOOKUP(A50,'V6'!$I$1:$N$30,4,0)","v":"22.22% (567.10)"},{"$f":"VLOOKUP(A50,'V7'!$I$1:$N$30,4,0)","v":"22.22% (567.10)"},{"$f":"VLOOKUP(A50,'V8'!$I$1:$N$30,4,0)","v":"22.22% (567.10)"},{"$f":"VLOOKUP(A50,'V9'!$I$1:$N$30,4,0)","v":"22.22% (567.10)"},{"$f":"VLOOKUP(A50,'V10'!$I$1:$N$30,4,0)","v":"22.22% (567.10)"}]
[]
["Margin Level:",{"$f":"VLOOKUP(A52,Default!$I$1:$N$30,4,0)","v":"239.43%"},{"$f":"VLOOKUP(A52,'V1'!$I$1:$N$30,4,0)","v":"193.88%"},{"$f":"VLOOKUP(A52,'V2'!$I$1:$N$30,4,0)","v":"193.88%"},{"$f":"VLOOKUP(A52,'V3'!$I$1:$N$30,4,0)","v":"193.88%"},{"$f":"VLOOKUP(A52,'V4'!$I$1:$N$30,4,0)","v":"193.88%"},{"$f":"VLOOKUP(A52,'V5'!$I$1:$N$30,4,0)","v":"193.88%"},{"$f":"VLOOKUP(A52,'V6'!$I$1:$N$30,4,0)","v":"193.88%"},{"$f":"VLOOKUP(A52,'V7'!$I$1:$N$30,4,0)","v":"193.88%"},{"$f":"VLOOKUP(A52,'V8'!$I$1:$N$30,4,0)","v":"193.88%"},{"$f":"VLOOKUP(A52,'V9'!$I$1:$N$30,4,0)","v":"193.88%"},{"$f":"VLOOKUP(A52,'V10'!$I$1:$N$30,4,0)","v":"193.88%"}]
["Z-Score:",{"$f":"VLOOKUP(A53,Default!$I$1:$N$30,4,0)","v":"-3.24 (99.74%)"},{"$f":"VLOOKUP(A53,'V1'!$I$1:$N$30,4,0)","v":"-3.75 (99.74%)"},{"$f":"VLOOKUP(A53,'V2'!$I$1:$N$30,4,0)","v":"-3.75 (99.74%)"},{"$f":"VLOOKUP(A53,'V3'!$I$1:$N$30,4,0)","v":"-3.75 (99.74%)"},{"$f":"VLOOKUP(A53,'V4'!$I$1:$N$30,4,0)","v":"-3.75 (99.74%)"},{"$f":"VLOOKUP(A53,'V5'!$I$1:$N$30,4,0)","v":"-3.75 (99.74%)"},{"$f":"VLOOKUP(A53,'V6'!$I$1:$N$30,4,0)","v":"-3.75 (99.74%)"},{"$f":"VLOOKUP(A53,'V7'!$I$1:$N$30,4,0)","v":"-3.75 (99.74%)"},{"$f":"VLOOKUP(A53,'V8'!$I$1:$N$30,4,0)","v":"-3.75 (99.74%)"},{"$f":"VLOOKUP(A53,'V9'!$I$1:$N$30,4,0)","v":"-3.75 (99.74%)"},{"$f":"VLOOKUP(A53,'V10'!$I$1:$N$30,4,0)","v":"-3.75 (99.74%)"}]
["OnTester result:",{"$f":"VLOOKUP(A54,Default!$I$1:$N$30,4,0)","v":"0.3683588271819517"},{"$f":"VLOOKUP(A54,'V1'!$I$1:$N$30,4,0)","v":"0.2523809028095165"},{"$f":"VLOOKUP(A54,'V2'!$I$1:$N$30,4,0)","v":"0.2523809028095165"},{"$f":"VLOOKUP(A54,'V3'!$I$1:$N$30,4,0)","v":"0.2523809028095165"},{"$f":"VLOOKUP(A54,'V4'!$I$1:$N$30,4,0)","v":"0.2523809028095165"},{"$f":"VLOOKUP(A54,'V5'!$I$1:$N$30,4,0)","v":"0.2523809028095165"},{"$f":"VLOOKUP(A54,'V6'!$I$1:$N$30,4,0)","v":"0.2523809028095165"},{"$f":"VLOOKUP(A54,'V7'!$I$1:$N$30,4,0)","v":"0.2523809028095165"},{"$f":"VLOOKUP(A54,'V8'!$I$1:$N$30,4,0)","v":"0.2523809028095165"},{"$f":"VLOOKUP(A54,'V9'!$I$1:$N$30,4,0)","v":"0.2523809028095165"},{"$f":"VLOOKUP(A54,'V10'!$I$1:$N$30,4,0)","v":"0.2523809028095165"}]
[]
[]
["Correlation (MFE,MAE):",{"$f":"VLOOKUP(A57,Default!$I$1:$N$30,4,0)","v":-0.52218399999999998},{"$f":"VLOOKUP(A57,'V1'!$I$1:$N$30,4,0)","v":-0.429614},{"$f":"VLOOKUP(A57,'V2'!$I$1:$N$30,4,0)","v":-0.429614},{"$f":"VLOOKUP(A57,'V3'!$I$1:$N$30,4,0)","v":-0.429614},{"$f":"VLOOKUP(A57,'V4'!$I$1:$N$30,4,0)","v":-0.429614},{"$f":"VLOOKUP(A57,'V5'!$I$1:$N$30,4,0)","v":-0.429614},{"$f":"VLOOKUP(A57,'V6'!$I$1:$N$30,4,0)","v":-0.429614},{"$f":"VLOOKUP(A57,'V7'!$I$1:$N$30,4,0)","v":-0.429614},{"$f":"VLOOKUP(A57,'V8'!$I$1:$N$30,4,0)","v":-0.429614},{"$f":"VLOOKUP(A57,'V9'!$I$1:$N$30,4,0)","v":-0.429614},{"$f":"VLOOKUP(A57,'V10'!$I$1:$N$30,4,0)","v":-0.429614}]
["Average position holding time:",{"$f":"VLOOKUP(A58,Default!$I$1:$N$30,4,0)","v":"6:40:49"},{"$f":"VLOOKUP(A58,'V1'!$I$1:$N$30,4,0)","v":"10:38:00"},{"$f":"VLOOKUP(A58,'V2'!$I$1:$N$30,4,0)","v":"10:38:00"},{"$f":"VLOOKUP(A58,'V3'!$I$1:$N$30,4,0)","v":"10:38:00"},{"$f":"VLOOKUP(A58,'V4'!$I$1:$N$30,4,0)","v":"10:38:00"},{"$f":"VLOOKUP(A58,'V5'!$I$1:$N$30,4,0)","v":"10:38:00"},{"$f":"VLOOKUP(A58,'V6'!$I$1:$N$30,4,0)","v":"10:38:00"},{"$f":"VLOOKUP(A58,'V7'!$I$1:$N$30,4,0)","v":"10:38:00"},{"$f":"VLOOKUP(A58,'V8'!$I$1:$N$30,4,0)","v":"10:38:00"},{"$f":"VLOOKUP(A58,'V9'!$I$1:$N$30,4,0)","v":"10:38:00"},{"$f":"VLOOKUP(A58,'V10'!$I$1:$N$30,4,0)","v":"10:38:00"}]
[]
["Long Trades (won %):",{"$f":"VLOOKUP(A60,Default!$I$1:$N$30,4,0)","v":"79 (62.03%)"},{"$f":"VLOOKUP(A60,'V1'!$I$1:$N$30,4,0)","v":"173 (76.30%)"},{"$f":"VLOOKUP(A60,'V2'!$I$1:$N$30,4,0)","v":"173 (76.30%)"},{"$f":"VLOOKUP(A60,'V3'!$I$1:$N$30,4,0)","v":"173 (76.30%)"},{"$f":"VLOOKUP(A60,'V4'!$I$1:$N$30,4,0)","v":"173 (76.30%)"},{"$f":"VLOOKUP(A60,'V5'!$I$1:$N$30,4,0)","v":"173 (76.30%)"},{"$f":"VLOOKUP(A60,'V6'!$I$1:$N$30,4,0)","v":"173 (76.30%)"},{"$f":"VLOOKUP(A60,'V7'!$I$1:$N$30,4,0)","v":"173 (76.30%)"},{"$f":"VLOOKUP(A60,'V8'!$I$1:$N$30,4,0)","v":"173 (76.30%)"},{"$f":"VLOOKUP(A60,'V9'!$I$1:$N$30,4,0)","v":"173 (76.30%)"},{"$f":"VLOOKUP(A60,'V10'!$I$1:$N$30,4,0)","v":"173 (76.30%)"}]
["Loss Trades (% of total):",{"$f":"VLOOKUP(A61,Default!$I$1:$N$30,4,0)","v":"59 (30.89%)"},{"$f":"VLOOKUP(A61,'V1'!$I$1:$N$30,4,0)","v":"82 (23.43%)"},{"$f":"VLOOKUP(A61,'V2'!$I$1:$N$30,4,0)","v":"82 (23.43%)"},{"$f":"VLOOKUP(A61,'V3'!$I$1:$N$30,4,0)","v":"82 (23.43%)"},{"$f":"VLOOKUP(A61,'V4'!$I$1:$N$30,4,0)","v":"82 (23.43%)"},{"$f":"VLOOKUP(A61,'V5'!$I$1:$N$30,4,0)","v":"82 (23.43%)"},{"$f":"VLOOKUP(A61,'V6'!$I$1:$N$30,4,0)","v":"82 (23.43%)"},{"$f":"VLOOKUP(A61,'V7'!$I$1:$N$30,4,0)","v":"82 (23.43%)"},{"$f":"VLOOKUP(A61,'V8'!$I$1:$N$30,4,0)","v":"82 (23.43%)"},{"$f":"VLOOKUP(A61,'V9'!$I$1:$N$30,4,0)","v":"82 (23.43%)"},{"$f":"VLOOKUP(A61,'V10'!$I$1:$N$30,4,0)","v":"82 (23.43%)"}]
["Largest loss trade:",{"$f":"VLOOKUP(A62,Default!$I$1:$N$30,4,0)","v":-2.86},{"$f":"VLOOKUP(A62,'V1'!$I$1:$N$30,4,0)","v":-2.8},{"$f":"VLOOKUP(A62,'V2'!$I$1:$N$30,4,0)","v":-2.8},{"$f":"VLOOKUP(A62,'V3'!$I$1:$N$30,4,0)","v":-2.8},{"$f":"VLOOKUP(A62,'V4'!$I$1:$N$30,4,0)","v":-2.8},{"$f":"VLOOKUP(A62,'V5'!$I$1:$N$30,4,0)","v":-2.8},{"$f":"VLOOKUP(A62,'V6'!$I$1:$N$30,4,0)","v":-2.8},{"$f":"VLOOKUP(A62,'V7'!$I$1:$N$30,4,0)","v":-2.8},{"$f":"VLOOKUP(A62,'V8'!$I$1:$N$30,4,0)","v":-2.8},{"$f":"VLOOKUP(A62,'V9'!$I$1:$N$30,4,0)","v":-2.8},{"$f":"VLOOKUP(A62,'V10'!$I$1:$N$30,4,0)","v":-2.8}]
["Average loss trade:",{"$f":"VLOOKUP(A63,Default!$I$1:$N$30,4,0)","v":-1.47},{"$f":"VLOOKUP(A63,'V1'!$I$1:$N$30,4,0)","v":-1.2041459999999999},{"$f":"VLOOKUP(A63,'V2'!$I$1:$N$30,4,0)","v":-1.2041459999999999},{"$f":"VLOOKUP(A63,'V3'!$I$1:$N$30,4,0)","v":-1.2041459999999999},{"$f":"VLOOKUP(A63,'V4'!$I$1:$N$30,4,0)","v":-1.2041459999999999},{"$f":"VLOOKUP(A63,'V5'!$I$1:$N$30,4,0)","v":-1.2041459999999999},{"$f":"VLOOKUP(A63,'V6'!$I$1:$N$30,4,0)","v":-1.2041459999999999},{"$f":"VLOOKUP(A63,'V7'!$I$1:$N$30,4,0)","v":-1.2041459999999999},{"$f":"VLOOKUP(A63,'V8'!$I$1:$N$30,4,0)","v":-1.2041459999999999},{"$f":"VLOOKUP(A63,'V9'!$I$1:$N$30,4,0)","v":-1.2041459999999999},{"$f":"VLOOKUP(A63,'V10'!$I$1:$N$30,4,0)","v":-1.2041459999999999}]
["Maximum consecutive losses ($):",{"$f":"VLOOKUP(A64,Default!$I$1:$N$30,4,0)","v":"4 (-8.80)"},{"$f":"VLOOKUP(A64,'V1'!$I$1:$N$30,4,0)","v":"4 (-8.73)"},{"$f":"VLOOKUP(A64,'V2'!$I$1:$N$30,4,0)","v":"4 (-8.73)"},{"$f":"VLOOKUP(A64,'V3'!$I$1:$N$30,4,0)","v":"4 (-8.73)"},{"$f":"VLOOKUP(A64,'V4'!$I$1:$N$30,4,0)","v":"4 (-8.73)"},{"$f":"VLOOKUP(A64,'V5'!$I$1:$N$30,4,0)","v":"4 (-8.73)"},{"$f":"VLOOKUP(A64,'V6'!$I$1:$N$30,4,0)","v":"4 (-8.73)"},{"$f":"VLOOKUP(A64,'V7'!$I$1:$N$30,4,0)","v":"4 (-8.73)"},{"$f":"VLOOKUP(A64,'V8'!$I$1:$N$30,4,0)","v":"4 (-8.73)"},{"$f":"VLOOKUP(A64,'V9'!$I$1:$N$30,4,0)","v":"4 (-8.73)"},{"$f":"VLOOKUP(A64,'V10'!$I$1:$N$30,4,0)","v":"4 (-8.73)"}]
["Maximal consecutive loss (count):",{"$f":"VLOOKUP(A65,Default!$I$1:$N$30,4,0)","v":"-8.80 (4)"},{"$f":"VLOOKUP(A65,'V1'!$I$1:$N$30,4,0)","v":"-8.73 (4)"},{"$f":"VLOOKUP(A65,'V2'!$I$1:$N$30,4,0)","v":"-8.73 (4)"},{"$f":"VLOOKUP(A65,'V3'!$I$1:$N$30,4,0)","v":"-8.73 (4)"},{"$f":"VLOOKUP(A65,'V4'!$I$1:$N$30,4,0)","v":"-8.73 (4)"},{"$f":"VLOOKUP(A65,'V5'!$I$1:$N$30,4,0)","v":"-8.73 (4)"},{"$f":"VLOOKUP(A65,'V6'!$I$1:$N$30,4,0)","v":"-8.73 (4)"},{"$f":"VLOOKUP(A65,'V7'!$I$1:$N$30,4,0)","v":"-8.73 (4)"},{"$f":"VLOOKUP(A65,'V8'!$I$1:$N$30,4,0)","v":"-8.73 (4)"},{"$f":"VLOOKUP(A65,'V9'!$I$1:$N$30,4,0)","v":"-8.73 (4)"},{"$f":"VLOOKUP(A65,'V10'!$I$1:$N$30,4,0)","v":"-8.73 (4)"}]
["Average consecutive losses:",{"$f":"VLOOKUP(A66,Default!$I$1:$N$30,4,0)","v":2},{"$f":"VLOOKUP(A66,'V1'!$I$1:$N$30,4,0)","v":2},{"$f":"VLOOKUP(A66,'V2'!$I$1:$N$30,4,0)","v":2},{"$f":"VLOOKUP(A66,'V3'!$I$1:$N$30,4,0)","v":2},{"$f":"VLOOKUP(A66,'V4'!$I$1:$N$30,4,0)","v":2},{"$f":"VLOOKUP(A66,'V5'!$I$1:$N$30,4,0)","v":2},{"$f":"VLOOKUP(A66,'V6'!$I$1:$N$30,4,0)","v":2},{"$f":"VLOOKUP(A66,'V7'!$I$1:$N$30,4,0)","v":2},{"$f":"VLOOKUP(A66,'V8'!$I$1:$N$30,4,0)","v":2},{"$f":"VLOOKUP(A66,'V9'!$I$1:$N$30,4,0)","v":2},{"$f":"VLOOKUP(A66,'V10'!$I$1:$N$30,4,0)","v":2}]

{"sheet":"Default","index":5,"n_rows":27,"n_cols":12,"rows_kept":27,"cut":false,"hidden":false,"merged":[[6,0,6,2],[0,0,0,2],[0,3,0,13],[1,0,1,2],[1,3,1,13],[2,0,2,2],[2,3,2,13],[3,0,3,2],[3,3,3,13],[4,0,4,2],[4,3,4,13],[5,0,5,13],[7,0,7,2],[7,4,7,6],[7,8,7,10],[7,11,7,13],[8,0,8,2],[8,4,8,6],[8,8,8,10],[8,11,8,13],[9,0,9,2],[9,4,9,6],[9,8,9,10],[9,11,9,13],[10,0,10,2],[10,4,10,6],[10,8,10,10],[10,11,10,13],[12,0,12,2],[12,4,12,6],[12,8,12,10],[12,11,12,13],[13,0,13,2],[13,4,13,6],[13,8,13,10],[13,11,13,13],[14,0,14,2],[14,4,14,6],[14,8,14,10],[14,11,14,13],[15,0,15,2],[15,4,15,6],[17,0,17,2],[17,4,17,6],[17,8,17,10],[17,11,17,13],[18,0,18,2],[18,4,18,6],[18,8,18,10],[18,11,18,13],[20,0,20,2],[20,4,20,6],[20,8,20,10],[20,11,20,13],[21,0,21,2],[21,4,21,6],[21,8,21,10],[21,11,21,13],[22,4,22,6],[22,8,22,10],[22,11,22,13],[23,4,23,6],[23,8,23,10],[23,11,23,13],[26,4,26,6],[26,8,26,10],[26,11,26,13],[24,4,24,6],[24,8,24,10],[24,11,24,13],[25,4,25,6],[25,8,25,10],[25,11,25,13]]}
["Company:",null,null,"Pepperstone Limited"]
["Currency:",null,null,"GBP"]
["Initial Deposit:",null,null,2500]
["Leverage:",null,null,"1:30"]
["Withdrawal:",null,null,101.81]
["Results"]
["History Quality:",null,null,"100%"]
["Bars:",null,null,25326,"Ticks:",null,null,5347610,"Symbols:",null,null,1]
["Total Net Profit:",null,null,216.47,"Balance Drawdown Absolute:",null,null,0.04,"Equity Drawdown Absolute:",null,null,136.51]
["Gross Profit:",null,null,303.2,"Balance Drawdown Maximal:",null,null,"8.84 (0.34%)","Equity Drawdown Maximal:",null,null,"172.11 (6.79%)"]
["Gross Loss:",null,null,-86.73,"Balance Drawdown Relative:",null,null,"0.34% (8.84)","Equity Drawdown Relative:",null,null,"6.79% (172.11)"]
[]
["Profit Factor:",null,null,3.4959069999999999,"Expected Payoff:",null,null,1.133351,"Margin Level:",null,null,"239.43%"]
["Recovery Factor:",null,null,1.2577419999999999,"Sharpe Ratio:",null,null,1.8618729999999999,"Z-Score:",null,null,"-3.24 (99.74%)"]
["AHPR:",null,null,"1.0002 (0.02%)","LR Correlation:",null,null,0.82425099999999996,"OnTester result:",null,null,"0.3683588271819517"]
["GHPR:",null,null,"1.0002 (0.02%)","LR Standard Error:",null,null,20.689067000000001]
[]
["Correlation (Profits,MFE):",null,null,0.90726799999999996,"Correlation (Profits,MAE):",null,null,-0.405246,"Correlation (MFE,MAE):",null,null,-0.52218399999999998]
["Minimal position holding time:",null,null,"0:00:25","Maximal position holding time:",null,null,"65:39:00","Average position holding time:",null,null,"6:40:49"]
[]
["Total Trades:",null,null,191,"Short Trades (won %):",null,null,"112 (74.11%)","Long Trades (won %):",null,null,"79 (62.03%)"]
["Total Deals:",null,null,382,"Profit Trades (% of total):",null,null,"132 (69.11%)","Loss Trades (% of total):",null,null,"59 (30.89%)"]
[null,null,null,null,"Largest profit trade:",null,null,33.32,"Largest loss trade:",null,null,-2.86]
[null,null,null,null,"Average profit trade:",null,null,2.29697,"Average loss trade:",null,null,-1.47]
[null,null,null,null,"Maximum consecutive wins ($):",null,null,"13 (21.43)","Maximum consecutive losses ($):",null,null,"4 (-8.80)"]
[null,null,null,null,"Maximal consecutive profit (count):",null,null,"57.35 (6)","Maximal consecutive loss (count):",null,null,"-8.80 (4)"]
[null,null,null,null,"Average consecutive wins:",null,null,4,"Average consecutive losses:",null,null,2]

{"sheet":"V1","index":6,"n_rows":27,"n_cols":12,"rows_kept":27,"cut":false,"hidden":false,"merged":[[6,0,6,2],[0,0,0,2],[0,3,0,13],[1,0,1,2],[1,3,1,13],[2,0,2,2],[2,3,2,13],[3,0,3,2],[3,3,3,13],[4,0,4,2],[4,3,4,13],[5,0,5,13],[7,0,7,2],[7,4,7,6],[7,8,7,10],[7,11,7,13],[8,0,8,2],[8,4,8,6],[8,8,8,10],[8,11,8,13],[9,0,9,2],[9,4,9,6],[9,8,9,10],[9,11,9,13],[10,0,10,2],[10,4,10,6],[10,8,10,10],[10,11,10,13],[12,0,12,2],[12,4,12,6],[12,8,12,10],[12,11,12,13],[13,0,13,2],[13,4,13,6],[13,8,13,10],[13,11,13,13],[14,0,14,2],[14,4,14,6],[14,8,14,10],[14,11,14,13],[15,0,15,2],[15,4,15,6],[17,0,17,2],[17,4,17,6],[17,8,17,10],[17,11,17,13],[18,0,18,2],[18,4,18,6],[18,8,18,10],[18,11,18,13],[20,0,20,2],[20,4,20,6],[20,8,20,10],[20,11,20,13],[21,0,21,2],[21,4,21,6],[21,8,21,10],[21,11,21,13],[22,4,22,6],[22,8,22,10],[22,11,22,13],[23,4,23,6],[23,8,23,10],[23,11,23,13],[26,4,26,6],[26,8,26,10],[26,11,26,13],[24,4,24,6],[24,8,24,10],[24,11,24,13],[25,4,25,6],[25,8,25,10],[25,11,25,13]]}
["Company:",null,null,"Pepperstone Limited"]
["Currency:",null,null,"GBP"]
["Initial Deposit:",null,null,2500]
["Leverage:",null,null,"1:30"]
["Withdrawal:",null,null,261.39]
["Results"]
["History Quality:",null,null,"100%"]
["Bars:",null,null,49209,"Ticks:",null,null,15141334,"Symbols:",null,null,1]
["Total Net Profit:",null,null,413.45,"Balance Drawdown Absolute:",null,null,0.02,"Equity Drawdown Absolute:",null,null,515.03]
["Gross Profit:",null,null,512.19000000000005,"Balance Drawdown Maximal:",null,null,"8.76 (0.34%)","Equity Drawdown Maximal:",null,null,"567.10 (22.22%)"]
["Gross Loss:",null,null,-98.74,"Balance Drawdown Relative:",null,null,"0.34% (8.76)","Equity Drawdown Relative:",null,null,"22.22% (567.10)"]
[]
["Profit Factor:",null,null,5.1872590000000001,"Expected Payoff:",null,null,1.1812860000000001,"Margin Level:",null,null,"193.88%"]
["Recovery Factor:",null,null,0.72906000000000004,"Sharpe Ratio:",null,null,0.68623100000000004,"Z-Score:",null,null,"-3.75 (99.74%)"]
["AHPR:",null,null,"1.0002 (0.02%)","LR Correlation:",null,null,0.83106999999999998,"OnTester result:",null,null,"0.2523809028095165"]
["GHPR:",null,null,"1.0002 (0.02%)","LR Standard Error:",null,null,23.964808999999999]
[]
["Correlation (Profits,MFE):",null,null,0.97429299999999996,"Correlation (Profits,MAE):",null,null,-0.375247,"Correlation (MFE,MAE):",null,null,-0.429614]
["Minimal position holding time:",null,null,"0:03:47","Maximal position holding time:",null,null,"404:54:30","Average position holding time:",null,null,"10:38:00"]
[]
["Total Trades:",null,null,350,"Short Trades (won %):",null,null,"177 (76.84%)","Long Trades (won %):",null,null,"173 (76.30%)"]
["Total Deals:",null,null,700,"Profit Trades (% of total):",null,null,"268 (76.57%)","Loss Trades (% of total):",null,null,"82 (23.43%)"]
[null,null,null,null,"Largest profit trade:",null,null,47.39,"Largest loss trade:",null,null,-2.8]
[null,null,null,null,"Average profit trade:",null,null,1.911157,"Average loss trade:",null,null,-1.2041459999999999]
[null,null,null,null,"Maximum consecutive wins ($):",null,null,"13 (45.75)","Maximum consecutive losses ($):",null,null,"4 (-8.73)"]
[null,null,null,null,"Maximal consecutive profit (count):",null,null,"90.41 (9)","Maximal consecutive loss (count):",null,null,"-8.73 (4)"]
[null,null,null,null,"Average consecutive wins:",null,null,5,"Average consecutive losses:",null,null,2]

{"sheet":"V2","index":7,"n_rows":27,"n_cols":12,"rows_kept":27,"cut":false,"hidden":false,"merged":[[6,0,6,2],[0,0,0,2],[0,3,0,13],[1,0,1,2],[1,3,1,13],[2,0,2,2],[2,3,2,13],[3,0,3,2],[3,3,3,13],[4,0,4,2],[4,3,4,13],[5,0,5,13],[7,0,7,2],[7,4,7,6],[7,8,7,10],[7,11,7,13],[8,0,8,2],[8,4,8,6],[8,8,8,10],[8,11,8,13],[9,0,9,2],[9,4,9,6],[9,8,9,10],[9,11,9,13],[10,0,10,2],[10,4,10,6],[10,8,10,10],[10,11,10,13],[12,0,12,2],[12,4,12,6],[12,8,12,10],[12,11,12,13],[13,0,13,2],[13,4,13,6],[13,8,13,10],[13,11,13,13],[14,0,14,2],[14,4,14,6],[14,8,14,10],[14,11,14,13],[15,0,15,2],[15,4,15,6],[17,0,17,2],[17,4,17,6],[17,8,17,10],[17,11,17,13],[18,0,18,2],[18,4,18,6],[18,8,18,10],[18,11,18,13],[20,0,20,2],[20,4,20,6],[20,8,20,10],[20,11,20,13],[21,0,21,2],[21,4,21,6],[21,8,21,10],[21,11,21,13],[22,4,22,6],[22,8,22,10],[22,11,22,13],[23,4,23,6],[23,8,23,10],[23,11,23,13],[26,4,26,6],[26,8,26,10],[26,11,26,13],[24,4,24,6],[24,8,24,10],[24,11,24,13],[25,4,25,6],[25,8,25,10],[25,11,25,13]]}
["Company:",null,null,"Pepperstone Limited"]
["Currency:",null,null,"GBP"]
["Initial Deposit:",null,null,2500]
["Leverage:",null,null,"1:30"]
["Withdrawal:",null,null,261.39]
["Results"]
["History Quality:",null,null,"100%"]
["Bars:",null,null,49209,"Ticks:",null,null,15141334,"Symbols:",null,null,1]
["Total Net Profit:",null,null,413.45,"Balance Drawdown Absolute:",null,null,0.02,"Equity Drawdown Absolute:",null,null,515.03]
["Gross Profit:",null,null,512.19000000000005,"Balance Drawdown Maximal:",null,null,"8.76 (0.34%)","Equity Drawdown Maximal:",null,null,"567.10 (22.22%)"]
["Gross Loss:",null,null,-98.74,"Balance Drawdown Relative:",null,null,"0.34% (8.76)","Equity Drawdown Relative:",null,null,"22.22% (567.10)"]
[]
["Profit Factor:",null,null,5.1872590000000001,"Expected Payoff:",null,null,1.1812860000000001,"Margin Level:",null,null,"193.88%"]
["Recovery Factor:",null,null,0.72906000000000004,"Sharpe Ratio:",null,null,0.68623100000000004,"Z-Score:",null,null,"-3.75 (99.74%)"]
["AHPR:",null,null,"1.0002 (0.02%)","LR Correlation:",null,null,0.83106999999999998,"OnTester result:",null,null,"0.2523809028095165"]
["GHPR:",null,null,"1.0002 (0.02%)","LR Standard Error:",null,null,23.964808999999999]
[]
["Correlation (Profits,MFE):",null,null,0.97429299999999996,"Correlation (Profits,MAE):",null,null,-0.375247,"Correlation (MFE,MAE):",null,null,-0.429614]
["Minimal position holding time:",null,null,"0:03:47","Maximal position holding time:",null,null,"404:54:30","Average position holding time:",null,null,"10:38:00"]
[]
["Total Trades:",null,null,350,"Short Trades (won %):",null,null,"177 (76.84%)","Long Trades (won %):",null,null,"173 (76.30%)"]
["Total Deals:",null,null,700,"Profit Trades (% of total):",null,null,"268 (76.57%)","Loss Trades (% of total):",null,null,"82 (23.43%)"]
[null,null,null,null,"Largest profit trade:",null,null,47.39,"Largest loss trade:",null,null,-2.8]
[null,null,null,null,"Average profit trade:",null,null,1.911157,"Average loss trade:",null,null,-1.2041459999999999]
[null,null,null,null,"Maximum consecutive wins ($):",null,null,"13 (45.75)","Maximum consecutive losses ($):",null,null,"4 (-8.73)"]
[null,null,null,null,"Maximal consecutive profit (count):",null,null,"90.41 (9)","Maximal consecutive loss (count):",null,null,"-8.73 (4)"]
[null,null,null,null,"Average consecutive wins:",null,null,5,"Average consecutive losses:",null,null,2]

{"sheet":"V3","index":8,"n_rows":27,"n_cols":12,"rows_kept":27,"cut":false,"hidden":false,"merged":[[6,0,6,2],[0,0,0,2],[0,3,0,13],[1,0,1,2],[1,3,1,13],[2,0,2,2],[2,3,2,13],[3,0,3,2],[3,3,3,13],[4,0,4,2],[4,3,4,13],[5,0,5,13],[7,0,7,2],[7,4,7,6],[7,8,7,10],[7,11,7,13],[8,0,8,2],[8,4,8,6],[8,8,8,10],[8,11,8,13],[9,0,9,2],[9,4,9,6],[9,8,9,10],[9,11,9,13],[10,0,10,2],[10,4,10,6],[10,8,10,10],[10,11,10,13],[12,0,12,2],[12,4,12,6],[12,8,12,10],[12,11,12,13],[13,0,13,2],[13,4,13,6],[13,8,13,10],[13,11,13,13],[14,0,14,2],[14,4,14,6],[14,8,14,10],[14,11,14,13],[15,0,15,2],[15,4,15,6],[17,0,17,2],[17,4,17,6],[17,8,17,10],[17,11,17,13],[18,0,18,2],[18,4,18,6],[18,8,18,10],[18,11,18,13],[20,0,20,2],[20,4,20,6],[20,8,20,10],[20,11,20,13],[21,0,21,2],[21,4,21,6],[21,8,21,10],[21,11,21,13],[22,4,22,6],[22,8,22,10],[22,11,22,13],[23,4,23,6],[23,8,23,10],[23,11,23,13],[26,4,26,6],[26,8,26,10],[26,11,26,13],[24,4,24,6],[24,8,24,10],[24,11,24,13],[25,4,25,6],[25,8,25,10],[25,11,25,13]]}
["Company:",null,null,"Pepperstone Limited"]
["Currency:",null,null,"GBP"]
["Initial Deposit:",null,null,2500]
["Leverage:",null,null,"1:30"]
["Withdrawal:",null,null,261.39]
["Results"]
["History Quality:",null,null,"100%"]
["Bars:",null,null,49209,"Ticks:",null,null,15141334,"Symbols:",null,null,1]
["Total Net Profit:",null,null,413.45,"Balance Drawdown Absolute:",null,null,0.02,"Equity Drawdown Absolute:",null,null,515.03]
["Gross Profit:",null,null,512.19000000000005,"Balance Drawdown Maximal:",null,null,"8.76 (0.34%)","Equity Drawdown Maximal:",null,null,"567.10 (22.22%)"]
["Gross Loss:",null,null,-98.74,"Balance Drawdown Relative:",null,null,"0.34% (8.76)","Equity Drawdown Relative:",null,null,"22.22% (567.10)"]
[]
["Profit Factor:",null,null,5.1872590000000001,"Expected Payoff:",null,null,1.1812860000000001,"Margin Level:",null,null,"193.88%"]
["Recovery Factor:",null,null,0.72906000000000004,"Sharpe Ratio:",null,null,0.68623100000000004,"Z-Score:",null,null,"-3.75 (99.74%)"]
["AHPR:",null,null,"1.0002 (0.02%)","LR Correlation:",null,null,0.83106999999999998,"OnTester result:",null,null,"0.2523809028095165"]
["GHPR:",null,null,"1.0002 (0.02%)","LR Standard Error:",null,null,23.964808999999999]
[]
["Correlation (Profits,MFE):",null,null,0.97429299999999996,"Correlation (Profits,MAE):",null,null,-0.375247,"Correlation (MFE,MAE):",null,null,-0.429614]
["Minimal position holding time:",null,null,"0:03:47","Maximal position holding time:",null,null,"404:54:30","Average position holding time:",null,null,"10:38:00"]
[]
["Total Trades:",null,null,350,"Short Trades (won %):",null,null,"177 (76.84%)","Long Trades (won %):",null,null,"173 (76.30%)"]
["Total Deals:",null,null,700,"Profit Trades (% of total):",null,null,"268 (76.57%)","Loss Trades (% of total):",null,null,"82 (23.43%)"]
[null,null,null,null,"Largest profit trade:",null,null,47.39,"Largest loss trade:",null,null,-2.8]
[null,null,null,null,"Average profit trade:",null,null,1.911157,"Average loss trade:",null,null,-1.2041459999999999]
[null,null,null,null,"Maximum consecutive wins ($):",null,null,"13 (45.75)","Maximum consecutive losses ($):",null,null,"4 (-8.73)"]
[null,null,null,null,"Maximal consecutive profit (count):",null,null,"90.41 (9)","Maximal consecutive loss (count):",null,null,"-8.73 (4)"]
[null,null,null,null,"Average consecutive wins:",null,null,5,"Average consecutive losses:",null,null,2]

{"sheet":"V4","index":9,"n_rows":27,"n_cols":12,"rows_kept":27,"cut":false,"hidden":false,"merged":[[6,0,6,2],[0,0,0,2],[0,3,0,13],[1,0,1,2],[1,3,1,13],[2,0,2,2],[2,3,2,13],[3,0,3,2],[3,3,3,13],[4,0,4,2],[4,3,4,13],[5,0,5,13],[7,0,7,2],[7,4,7,6],[7,8,7,10],[7,11,7,13],[8,0,8,2],[8,4,8,6],[8,8,8,10],[8,11,8,13],[9,0,9,2],[9,4,9,6],[9,8,9,10],[9,11,9,13],[10,0,10,2],[10,4,10,6],[10,8,10,10],[10,11,10,13],[12,0,12,2],[12,4,12,6],[12,8,12,10],[12,11,12,13],[13,0,13,2],[13,4,13,6],[13,8,13,10],[13,11,13,13],[14,0,14,2],[14,4,14,6],[14,8,14,10],[14,11,14,13],[15,0,15,2],[15,4,15,6],[17,0,17,2],[17,4,17,6],[17,8,17,10],[17,11,17,13],[18,0,18,2],[18,4,18,6],[18,8,18,10],[18,11,18,13],[20,0,20,2],[20,4,20,6],[20,8,20,10],[20,11,20,13],[21,0,21,2],[21,4,21,6],[21,8,21,10],[21,11,21,13],[22,4,22,6],[22,8,22,10],[22,11,22,13],[23,4,23,6],[23,8,23,10],[23,11,23,13],[26,4,26,6],[26,8,26,10],[26,11,26,13],[24,4,24,6],[24,8,24,10],[24,11,24,13],[25,4,25,6],[25,8,25,10],[25,11,25,13]]}
["Company:",null,null,"Pepperstone Limited"]
["Currency:",null,null,"GBP"]
["Initial Deposit:",null,null,2500]
["Leverage:",null,null,"1:30"]
["Withdrawal:",null,null,261.39]
["Results"]
["History Quality:",null,null,"100%"]
["Bars:",null,null,49209,"Ticks:",null,null,15141334,"Symbols:",null,null,1]
["Total Net Profit:",null,null,413.45,"Balance Drawdown Absolute:",null,null,0.02,"Equity Drawdown Absolute:",null,null,515.03]
["Gross Profit:",null,null,512.19000000000005,"Balance Drawdown Maximal:",null,null,"8.76 (0.34%)","Equity Drawdown Maximal:",null,null,"567.10 (22.22%)"]
["Gross Loss:",null,null,-98.74,"Balance Drawdown Relative:",null,null,"0.34% (8.76)","Equity Drawdown Relative:",null,null,"22.22% (567.10)"]
[]
["Profit Factor:",null,null,5.1872590000000001,"Expected Payoff:",null,null,1.1812860000000001,"Margin Level:",null,null,"193.88%"]
["Recovery Factor:",null,null,0.72906000000000004,"Sharpe Ratio:",null,null,0.68623100000000004,"Z-Score:",null,null,"-3.75 (99.74%)"]
["AHPR:",null,null,"1.0002 (0.02%)","LR Correlation:",null,null,0.83106999999999998,"OnTester result:",null,null,"0.2523809028095165"]
["GHPR:",null,null,"1.0002 (0.02%)","LR Standard Error:",null,null,23.964808999999999]
[]
["Correlation (Profits,MFE):",null,null,0.97429299999999996,"Correlation (Profits,MAE):",null,null,-0.375247,"Correlation (MFE,MAE):",null,null,-0.429614]
["Minimal position holding time:",null,null,"0:03:47","Maximal position holding time:",null,null,"404:54:30","Average position holding time:",null,null,"10:38:00"]
[]
["Total Trades:",null,null,350,"Short Trades (won %):",null,null,"177 (76.84%)","Long Trades (won %):",null,null,"173 (76.30%)"]
["Total Deals:",null,null,700,"Profit Trades (% of total):",null,null,"268 (76.57%)","Loss Trades (% of total):",null,null,"82 (23.43%)"]
[null,null,null,null,"Largest profit trade:",null,null,47.39,"Largest loss trade:",null,null,-2.8]
[null,null,null,null,"Average profit trade:",null,null,1.911157,"Average loss trade:",null,null,-1.2041459999999999]
[null,null,null,null,"Maximum consecutive wins ($):",null,null,"13 (45.75)","Maximum consecutive losses ($):",null,null,"4 (-8.73)"]
[null,null,null,null,"Maximal consecutive profit (count):",null,null,"90.41 (9)","Maximal consecutive loss (count):",null,null,"-8.73 (4)"]
[null,null,null,null,"Average consecutive wins:",null,null,5,"Average consecutive losses:",null,null,2]

{"sheet":"V5","index":10,"n_rows":27,"n_cols":12,"rows_kept":27,"cut":false,"hidden":false,"merged":[[6,0,6,2],[0,0,0,2],[0,3,0,13],[1,0,1,2],[1,3,1,13],[2,0,2,2],[2,3,2,13],[3,0,3,2],[3,3,3,13],[4,0,4,2],[4,3,4,13],[5,0,5,13],[7,0,7,2],[7,4,7,6],[7,8,7,10],[7,11,7,13],[8,0,8,2],[8,4,8,6],[8,8,8,10],[8,11,8,13],[9,0,9,2],[9,4,9,6],[9,8,9,10],[9,11,9,13],[10,0,10,2],[10,4,10,6],[10,8,10,10],[10,11,10,13],[12,0,12,2],[12,4,12,6],[12,8,12,10],[12,11,12,13],[13,0,13,2],[13,4,13,6],[13,8,13,10],[13,11,13,13],[14,0,14,2],[14,4,14,6],[14,8,14,10],[14,11,14,13],[15,0,15,2],[15,4,15,6],[17,0,17,2],[17,4,17,6],[17,8,17,10],[17,11,17,13],[18,0,18,2],[18,4,18,6],[18,8,18,10],[18,11,18,13],[20,0,20,2],[20,4,20,6],[20,8,20,10],[20,11,20,13],[21,0,21,2],[21,4,21,6],[21,8,21,10],[21,11,21,13],[22,4,22,6],[22,8,22,10],[22,11,22,13],[23,4,23,6],[23,8,23,10],[23,11,23,13],[26,4,26,6],[26,8,26,10],[26,11,26,13],[24,4,24,6],[24,8,24,10],[24,11,24,13],[25,4,25,6],[25,8,25,10],[25,11,25,13]]}
["Company:",null,null,"Pepperstone Limited"]
["Currency:",null,null,"GBP"]
["Initial Deposit:",null,null,2500]
["Leverage:",null,null,"1:30"]
["Withdrawal:",null,null,261.39]
["Results"]
["History Quality:",null,null,"100%"]
["Bars:",null,null,49209,"Ticks:",null,null,15141334,"Symbols:",null,null,1]
["Total Net Profit:",null,null,413.45,"Balance Drawdown Absolute:",null,null,0.02,"Equity Drawdown Absolute:",null,null,515.03]
["Gross Profit:",null,null,512.19000000000005,"Balance Drawdown Maximal:",null,null,"8.76 (0.34%)","Equity Drawdown Maximal:",null,null,"567.10 (22.22%)"]
["Gross Loss:",null,null,-98.74,"Balance Drawdown Relative:",null,null,"0.34% (8.76)","Equity Drawdown Relative:",null,null,"22.22% (567.10)"]
[]
["Profit Factor:",null,null,5.1872590000000001,"Expected Payoff:",null,null,1.1812860000000001,"Margin Level:",null,null,"193.88%"]
["Recovery Factor:",null,null,0.72906000000000004,"Sharpe Ratio:",null,null,0.68623100000000004,"Z-Score:",null,null,"-3.75 (99.74%)"]
["AHPR:",null,null,"1.0002 (0.02%)","LR Correlation:",null,null,0.83106999999999998,"OnTester result:",null,null,"0.2523809028095165"]
["GHPR:",null,null,"1.0002 (0.02%)","LR Standard Error:",null,null,23.964808999999999]
[]
["Correlation (Profits,MFE):",null,null,0.97429299999999996,"Correlation (Profits,MAE):",null,null,-0.375247,"Correlation (MFE,MAE):",null,null,-0.429614]
["Minimal position holding time:",null,null,"0:03:47","Maximal position holding time:",null,null,"404:54:30","Average position holding time:",null,null,"10:38:00"]
[]
["Total Trades:",null,null,350,"Short Trades (won %):",null,null,"177 (76.84%)","Long Trades (won %):",null,null,"173 (76.30%)"]
["Total Deals:",null,null,700,"Profit Trades (% of total):",null,null,"268 (76.57%)","Loss Trades (% of total):",null,null,"82 (23.43%)"]
[null,null,null,null,"Largest profit trade:",null,null,47.39,"Largest loss trade:",null,null,-2.8]
[null,null,null,null,"Average profit trade:",null,null,1.911157,"Average loss trade:",null,null,-1.2041459999999999]
[null,null,null,null,"Maximum consecutive wins ($):",null,null,"13 (45.75)","Maximum consecutive losses ($):",null,null,"4 (-8.73)"]
[null,null,null,null,"Maximal consecutive profit (count):",null,null,"90.41 (9)","Maximal consecutive loss (count):",null,null,"-8.73 (4)"]
[null,null,null,null,"Average consecutive wins:",null,null,5,"Average consecutive losses:",null,null,2]

{"sheet":"V6","index":11,"n_rows":27,"n_cols":12,"rows_kept":27,"cut":false,"hidden":false,"merged":[[6,0,6,2],[0,0,0,2],[0,3,0,13],[1,0,1,2],[1,3,1,13],[2,0,2,2],[2,3,2,13],[3,0,3,2],[3,3,3,13],[4,0,4,2],[4,3,4,13],[5,0,5,13],[7,0,7,2],[7,4,7,6],[7,8,7,10],[7,11,7,13],[8,0,8,2],[8,4,8,6],[8,8,8,10],[8,11,8,13],[9,0,9,2],[9,4,9,6],[9,8,9,10],[9,11,9,13],[10,0,10,2],[10,4,10,6],[10,8,10,10],[10,11,10,13],[12,0,12,2],[12,4,12,6],[12,8,12,10],[12,11,12,13],[13,0,13,2],[13,4,13,6],[13,8,13,10],[13,11,13,13],[14,0,14,2],[14,4,14,6],[14,8,14,10],[14,11,14,13],[15,0,15,2],[15,4,15,6],[17,0,17,2],[17,4,17,6],[17,8,17,10],[17,11,17,13],[18,0,18,2],[18,4,18,6],[18,8,18,10],[18,11,18,13],[20,0,20,2],[20,4,20,6],[20,8,20,10],[20,11,20,13],[21,0,21,2],[21,4,21,6],[21,8,21,10],[21,11,21,13],[22,4,22,6],[22,8,22,10],[22,11,22,13],[23,4,23,6],[23,8,23,10],[23,11,23,13],[26,4,26,6],[26,8,26,10],[26,11,26,13],[24,4,24,6],[24,8,24,10],[24,11,24,13],[25,4,25,6],[25,8,25,10],[25,11,25,13]]}
["Company:",null,null,"Pepperstone Limited"]
["Currency:",null,null,"GBP"]
["Initial Deposit:",null,null,2500]
["Leverage:",null,null,"1:30"]
["Withdrawal:",null,null,261.39]
["Results"]
["History Quality:",null,null,"100%"]
["Bars:",null,null,49209,"Ticks:",null,null,15141334,"Symbols:",null,null,1]
["Total Net Profit:",null,null,413.45,"Balance Drawdown Absolute:",null,null,0.02,"Equity Drawdown Absolute:",null,null,515.03]
["Gross Profit:",null,null,512.19000000000005,"Balance Drawdown Maximal:",null,null,"8.76 (0.34%)","Equity Drawdown Maximal:",null,null,"567.10 (22.22%)"]
["Gross Loss:",null,null,-98.74,"Balance Drawdown Relative:",null,null,"0.34% (8.76)","Equity Drawdown Relative:",null,null,"22.22% (567.10)"]
[]
["Profit Factor:",null,null,5.1872590000000001,"Expected Payoff:",null,null,1.1812860000000001,"Margin Level:",null,null,"193.88%"]
["Recovery Factor:",null,null,0.72906000000000004,"Sharpe Ratio:",null,null,0.68623100000000004,"Z-Score:",null,null,"-3.75 (99.74%)"]
["AHPR:",null,null,"1.0002 (0.02%)","LR Correlation:",null,null,0.83106999999999998,"OnTester result:",null,null,"0.2523809028095165"]
["GHPR:",null,null,"1.0002 (0.02%)","LR Standard Error:",null,null,23.964808999999999]
[]
["Correlation (Profits,MFE):",null,null,0.97429299999999996,"Correlation (Profits,MAE):",null,null,-0.375247,"Correlation (MFE,MAE):",null,null,-0.429614]
["Minimal position holding time:",null,null,"0:03:47","Maximal position holding time:",null,null,"404:54:30","Average position holding time:",null,null,"10:38:00"]
[]
["Total Trades:",null,null,350,"Short Trades (won %):",null,null,"177 (76.84%)","Long Trades (won %):",null,null,"173 (76.30%)"]
["Total Deals:",null,null,700,"Profit Trades (% of total):",null,null,"268 (76.57%)","Loss Trades (% of total):",null,null,"82 (23.43%)"]
[null,null,null,null,"Largest profit trade:",null,null,47.39,"Largest loss trade:",null,null,-2.8]
[null,null,null,null,"Average profit trade:",null,null,1.911157,"Average loss trade:",null,null,-1.2041459999999999]
[null,null,null,null,"Maximum consecutive wins ($):",null,null,"13 (45.75)","Maximum consecutive losses ($):",null,null,"4 (-8.73)"]
[null,null,null,null,"Maximal consecutive profit (count):",null,null,"90.41 (9)","Maximal consecutive loss (count):",null,null,"-8.73 (4)"]
[null,null,null,null,"Average consecutive wins:",null,null,5,"Average consecutive losses:",null,null,2]

{"sheet":"V7","index":12,"n_rows":27,"n_cols":12,"rows_kept":27,"cut":false,"hidden":false,"merged":[[6,0,6,2],[0,0,0,2],[0,3,0,13],[1,0,1,2],[1,3,1,13],[2,0,2,2],[2,3,2,13],[3,0,3,2],[3,3,3,13],[4,0,4,2],[4,3,4,13],[5,0,5,13],[7,0,7,2],[7,4,7,6],[7,8,7,10],[7,11,7,13],[8,0,8,2],[8,4,8,6],[8,8,8,10],[8,11,8,13],[9,0,9,2],[9,4,9,6],[9,8,9,10],[9,11,9,13],[10,0,10,2],[10,4,10,6],[10,8,10,10],[10,11,10,13],[12,0,12,2],[12,4,12,6],[12,8,12,10],[12,11,12,13],[13,0,13,2],[13,4,13,6],[13,8,13,10],[13,11,13,13],[14,0,14,2],[14,4,14,6],[14,8,14,10],[14,11,14,13],[15,0,15,2],[15,4,15,6],[17,0,17,2],[17,4,17,6],[17,8,17,10],[17,11,17,13],[18,0,18,2],[18,4,18,6],[18,8,18,10],[18,11,18,13],[20,0,20,2],[20,4,20,6],[20,8,20,10],[20,11,20,13],[21,0,21,2],[21,4,21,6],[21,8,21,10],[21,11,21,13],[22,4,22,6],[22,8,22,10],[22,11,22,13],[23,4,23,6],[23,8,23,10],[23,11,23,13],[26,4,26,6],[26,8,26,10],[26,11,26,13],[24,4,24,6],[24,8,24,10],[24,11,24,13],[25,4,25,6],[25,8,25,10],[25,11,25,13]]}
["Company:",null,null,"Pepperstone Limited"]
["Currency:",null,null,"GBP"]
["Initial Deposit:",null,null,2500]
["Leverage:",null,null,"1:30"]
["Withdrawal:",null,null,261.39]
["Results"]
["History Quality:",null,null,"100%"]
["Bars:",null,null,49209,"Ticks:",null,null,15141334,"Symbols:",null,null,1]
["Total Net Profit:",null,null,413.45,"Balance Drawdown Absolute:",null,null,0.02,"Equity Drawdown Absolute:",null,null,515.03]
["Gross Profit:",null,null,512.19000000000005,"Balance Drawdown Maximal:",null,null,"8.76 (0.34%)","Equity Drawdown Maximal:",null,null,"567.10 (22.22%)"]
["Gross Loss:",null,null,-98.74,"Balance Drawdown Relative:",null,null,"0.34% (8.76)","Equity Drawdown Relative:",null,null,"22.22% (567.10)"]
[]
["Profit Factor:",null,null,5.1872590000000001,"Expected Payoff:",null,null,1.1812860000000001,"Margin Level:",null,null,"193.88%"]
["Recovery Factor:",null,null,0.72906000000000004,"Sharpe Ratio:",null,null,0.68623100000000004,"Z-Score:",null,null,"-3.75 (99.74%)"]
["AHPR:",null,null,"1.0002 (0.02%)","LR Correlation:",null,null,0.83106999999999998,"OnTester result:",null,null,"0.2523809028095165"]
["GHPR:",null,null,"1.0002 (0.02%)","LR Standard Error:",null,null,23.964808999999999]
[]
["Correlation (Profits,MFE):",null,null,0.97429299999999996,"Correlation (Profits,MAE):",null,null,-0.375247,"Correlation (MFE,MAE):",null,null,-0.429614]
["Minimal position holding time:",null,null,"0:03:47","Maximal position holding time:",null,null,"404:54:30","Average position holding time:",null,null,"10:38:00"]
[]
["Total Trades:",null,null,350,"Short Trades (won %):",null,null,"177 (76.84%)","Long Trades (won %):",null,null,"173 (76.30%)"]
["Total Deals:",null,null,700,"Profit Trades (% of total):",null,null,"268 (76.57%)","Loss Trades (% of total):",null,null,"82 (23.43%)"]
[null,null,null,null,"Largest profit trade:",null,null,47.39,"Largest loss trade:",null,null,-2.8]
[null,null,null,null,"Average profit trade:",null,null,1.911157,"Average loss trade:",null,null,-1.2041459999999999]
[null,null,null,null,"Maximum consecutive wins ($):",null,null,"13 (45.75)","Maximum consecutive losses ($):",null,null,"4 (-8.73)"]
[null,null,null,null,"Maximal consecutive profit (count):",null,null,"90.41 (9)","Maximal consecutive loss (count):",null,null,"-8.73 (4)"]
[null,null,null,null,"Average consecutive wins:",null,null,5,"Average consecutive losses:",null,null,2]

{"sheet":"V8","index":13,"n_rows":27,"n_cols":12,"rows_kept":27,"cut":false,"hidden":false,"merged":[[6,0,6,2],[0,0,0,2],[0,3,0,13],[1,0,1,2],[1,3,1,13],[2,0,2,2],[2,3,2,13],[3,0,3,2],[3,3,3,13],[4,0,4,2],[4,3,4,13],[5,0,5,13],[7,0,7,2],[7,4,7,6],[7,8,7,10],[7,11,7,13],[8,0,8,2],[8,4,8,6],[8,8,8,10],[8,11,8,13],[9,0,9,2],[9,4,9,6],[9,8,9,10],[9,11,9,13],[10,0,10,2],[10,4,10,6],[10,8,10,10],[10,11,10,13],[12,0,12,2],[12,4,12,6],[12,8,12,10],[12,11,12,13],[13,0,13,2],[13,4,13,6],[13,8,13,10],[13,11,13,13],[14,0,14,2],[14,4,14,6],[14,8,14,10],[14,11,14,13],[15,0,15,2],[15,4,15,6],[17,0,17,2],[17,4,17,6],[17,8,17,10],[17,11,17,13],[18,0,18,2],[18,4,18,6],[18,8,18,10],[18,11,18,13],[20,0,20,2],[20,4,20,6],[20,8,20,10],[20,11,20,13],[21,0,21,2],[21,4,21,6],[21,8,21,10],[21,11,21,13],[22,4,22,6],[22,8,22,10],[22,11,22,13],[23,4,23,6],[23,8,23,10],[23,11,23,13],[26,4,26,6],[26,8,26,10],[26,11,26,13],[24,4,24,6],[24,8,24,10],[24,11,24,13],[25,4,25,6],[25,8,25,10],[25,11,25,13]]}
["Company:",null,null,"Pepperstone Limited"]
["Currency:",null,null,"GBP"]
["Initial Deposit:",null,null,2500]
["Leverage:",null,null,"1:30"]
["Withdrawal:",null,null,261.39]
["Results"]
["History Quality:",null,null,"100%"]
["Bars:",null,null,49209,"Ticks:",null,null,15141334,"Symbols:",null,null,1]
["Total Net Profit:",null,null,413.45,"Balance Drawdown Absolute:",null,null,0.02,"Equity Drawdown Absolute:",null,null,515.03]
["Gross Profit:",null,null,512.19000000000005,"Balance Drawdown Maximal:",null,null,"8.76 (0.34%)","Equity Drawdown Maximal:",null,null,"567.10 (22.22%)"]
["Gross Loss:",null,null,-98.74,"Balance Drawdown Relative:",null,null,"0.34% (8.76)","Equity Drawdown Relative:",null,null,"22.22% (567.10)"]
[]
["Profit Factor:",null,null,5.1872590000000001,"Expected Payoff:",null,null,1.1812860000000001,"Margin Level:",null,null,"193.88%"]
["Recovery Factor:",null,null,0.72906000000000004,"Sharpe Ratio:",null,null,0.68623100000000004,"Z-Score:",null,null,"-3.75 (99.74%)"]
["AHPR:",null,null,"1.0002 (0.02%)","LR Correlation:",null,null,0.83106999999999998,"OnTester result:",null,null,"0.2523809028095165"]
["GHPR:",null,null,"1.0002 (0.02%)","LR Standard Error:",null,null,23.964808999999999]
[]
["Correlation (Profits,MFE):",null,null,0.97429299999999996,"Correlation (Profits,MAE):",null,null,-0.375247,"Correlation (MFE,MAE):",null,null,-0.429614]
["Minimal position holding time:",null,null,"0:03:47","Maximal position holding time:",null,null,"404:54:30","Average position holding time:",null,null,"10:38:00"]
[]
["Total Trades:",null,null,350,"Short Trades (won %):",null,null,"177 (76.84%)","Long Trades (won %):",null,null,"173 (76.30%)"]
["Total Deals:",null,null,700,"Profit Trades (% of total):",null,null,"268 (76.57%)","Loss Trades (% of total):",null,null,"82 (23.43%)"]
[null,null,null,null,"Largest profit trade:",null,null,47.39,"Largest loss trade:",null,null,-2.8]
[null,null,null,null,"Average profit trade:",null,null,1.911157,"Average loss trade:",null,null,-1.2041459999999999]
[null,null,null,null,"Maximum consecutive wins ($):",null,null,"13 (45.75)","Maximum consecutive losses ($):",null,null,"4 (-8.73)"]
[null,null,null,null,"Maximal consecutive profit (count):",null,null,"90.41 (9)","Maximal consecutive loss (count):",null,null,"-8.73 (4)"]
[null,null,null,null,"Average consecutive wins:",null,null,5,"Average consecutive losses:",null,null,2]

{"sheet":"V9","index":14,"n_rows":27,"n_cols":12,"rows_kept":27,"cut":false,"hidden":false,"merged":[[6,0,6,2],[0,0,0,2],[0,3,0,13],[1,0,1,2],[1,3,1,13],[2,0,2,2],[2,3,2,13],[3,0,3,2],[3,3,3,13],[4,0,4,2],[4,3,4,13],[5,0,5,13],[7,0,7,2],[7,4,7,6],[7,8,7,10],[7,11,7,13],[8,0,8,2],[8,4,8,6],[8,8,8,10],[8,11,8,13],[9,0,9,2],[9,4,9,6],[9,8,9,10],[9,11,9,13],[10,0,10,2],[10,4,10,6],[10,8,10,10],[10,11,10,13],[12,0,12,2],[12,4,12,6],[12,8,12,10],[12,11,12,13],[13,0,13,2],[13,4,13,6],[13,8,13,10],[13,11,13,13],[14,0,14,2],[14,4,14,6],[14,8,14,10],[14,11,14,13],[15,0,15,2],[15,4,15,6],[17,0,17,2],[17,4,17,6],[17,8,17,10],[17,11,17,13],[18,0,18,2],[18,4,18,6],[18,8,18,10],[18,11,18,13],[20,0,20,2],[20,4,20,6],[20,8,20,10],[20,11,20,13],[21,0,21,2],[21,4,21,6],[21,8,21,10],[21,11,21,13],[22,4,22,6],[22,8,22,10],[22,11,22,13],[23,4,23,6],[23,8,23,10],[23,11,23,13],[26,4,26,6],[26,8,26,10],[26,11,26,13],[24,4,24,6],[24,8,24,10],[24,11,24,13],[25,4,25,6],[25,8,25,10],[25,11,25,13]]}
["Company:",null,null,"Pepperstone Limited"]
["Currency:",null,null,"GBP"]
["Initial Deposit:",null,null,2500]
["Leverage:",null,null,"1:30"]
["Withdrawal:",null,null,261.39]
["Results"]
["History Quality:",null,null,"100%"]
["Bars:",null,null,49209,"Ticks:",null,null,15141334,"Symbols:",null,null,1]
["Total Net Profit:",null,null,413.45,"Balance Drawdown Absolute:",null,null,0.02,"Equity Drawdown Absolute:",null,null,515.03]
["Gross Profit:",null,null,512.19000000000005,"Balance Drawdown Maximal:",null,null,"8.76 (0.34%)","Equity Drawdown Maximal:",null,null,"567.10 (22.22%)"]
["Gross Loss:",null,null,-98.74,"Balance Drawdown Relative:",null,null,"0.34% (8.76)","Equity Drawdown Relative:",null,null,"22.22% (567.10)"]
[]
["Profit Factor:",null,null,5.1872590000000001,"Expected Payoff:",null,null,1.1812860000000001,"Margin Level:",null,null,"193.88%"]
["Recovery Factor:",null,null,0.72906000000000004,"Sharpe Ratio:",null,null,0.68623100000000004,"Z-Score:",null,null,"-3.75 (99.74%)"]
["AHPR:",null,null,"1.0002 (0.02%)","LR Correlation:",null,null,0.83106999999999998,"OnTester result:",null,null,"0.2523809028095165"]
["GHPR:",null,null,"1.0002 (0.02%)","LR Standard Error:",null,null,23.964808999999999]
[]
["Correlation (Profits,MFE):",null,null,0.97429299999999996,"Correlation (Profits,MAE):",null,null,-0.375247,"Correlation (MFE,MAE):",null,null,-0.429614]
["Minimal position holding time:",null,null,"0:03:47","Maximal position holding time:",null,null,"404:54:30","Average position holding time:",null,null,"10:38:00"]
[]
["Total Trades:",null,null,350,"Short Trades (won %):",null,null,"177 (76.84%)","Long Trades (won %):",null,null,"173 (76.30%)"]
["Total Deals:",null,null,700,"Profit Trades (% of total):",null,null,"268 (76.57%)","Loss Trades (% of total):",null,null,"82 (23.43%)"]
[null,null,null,null,"Largest profit trade:",null,null,47.39,"Largest loss trade:",null,null,-2.8]
[null,null,null,null,"Average profit trade:",null,null,1.911157,"Average loss trade:",null,null,-1.2041459999999999]
[null,null,null,null,"Maximum consecutive wins ($):",null,null,"13 (45.75)","Maximum consecutive losses ($):",null,null,"4 (-8.73)"]
[null,null,null,null,"Maximal consecutive profit (count):",null,null,"90.41 (9)","Maximal consecutive loss (count):",null,null,"-8.73 (4)"]
[null,null,null,null,"Average consecutive wins:",null,null,5,"Average consecutive losses:",null,null,2]

{"sheet":"V10","index":15,"n_rows":27,"n_cols":12,"rows_kept":27,"cut":false,"hidden":false,"merged":[[6,0,6,2],[0,0,0,2],[0,3,0,13],[1,0,1,2],[1,3,1,13],[2,0,2,2],[2,3,2,13],[3,0,3,2],[3,3,3,13],[4,0,4,2],[4,3,4,13],[5,0,5,13],[7,0,7,2],[7,4,7,6],[7,8,7,10],[7,11,7,13],[8,0,8,2],[8,4,8,6],[8,8,8,10],[8,11,8,13],[9,0,9,2],[9,4,9,6],[9,8,9,10],[9,11,9,13],[10,0,10,2],[10,4,10,6],[10,8,10,10],[10,11,10,13],[12,0,12,2],[12,4,12,6],[12,8,12,10],[12,11,12,13],[13,0,13,2],[13,4,13,6],[13,8,13,10],[13,11,13,13],[14,0,14,2],[14,4,14,6],[14,8,14,10],[14,11,14,13],[15,0,15,2],[15,4,15,6],[17,0,17,2],[17,4,17,6],[17,8,17,10],[17,11,17,13],[18,0,18,2],[18,4,18,6],[18,8,18,10],[18,11,18,13],[20,0,20,2],[20,4,20,6],[20,8,20,10],[20,11,20,13],[21,0,21,2],[21,4,21,6],[21,8,21,10],[21,11,21,13],[22,4,22,6],[22,8,22,10],[22,11,22,13],[23,4,23,6],[23,8,23,10],[23,11,23,13],[26,4,26,6],[26,8,26,10],[26,11,26,13],[24,4,24,6],[24,8,24,10],[24,11,24,13],[25,4,25,6],[25,8,25,10],[25,11,25,13]]}
["Company:",null,null,"Pepperstone Limited"]
["Currency:",null,null,"GBP"]
["Initial Deposit:",null,null,2500]
["Leverage:",null,null,"1:30"]
["Withdrawal:",null,null,261.39]
["Results"]
["History Quality:",null,null,"100%"]
["Bars:",null,null,49209,"Ticks:",null,null,15141334,"Symbols:",null,null,1]
["Total Net Profit:",null,null,413.45,"Balance Drawdown Absolute:",null,null,0.02,"Equity Drawdown Absolute:",null,null,515.03]
["Gross Profit:",null,null,512.19000000000005,"Balance Drawdown Maximal:",null,null,"8.76 (0.34%)","Equity Drawdown Maximal:",null,null,"567.10 (22.22%)"]
["Gross Loss:",null,null,-98.74,"Balance Drawdown Relative:",null,null,"0.34% (8.76)","Equity Drawdown Relative:",null,null,"22.22% (567.10)"]
[]
["Profit Factor:",null,null,5.1872590000000001,"Expected Payoff:",null,null,1.1812860000000001,"Margin Level:",null,null,"193.88%"]
["Recovery Factor:",null,null,0.72906000000000004,"Sharpe Ratio:",null,null,0.68623100000000004,"Z-Score:",null,null,"-3.75 (99.74%)"]
["AHPR:",null,null,"1.0002 (0.02%)","LR Correlation:",null,null,0.83106999999999998,"OnTester result:",null,null,"0.2523809028095165"]
["GHPR:",null,null,"1.0002 (0.02%)","LR Standard Error:",null,null,23.964808999999999]
[]
["Correlation (Profits,MFE):",null,null,0.97429299999999996,"Correlation (Profits,MAE):",null,null,-0.375247,"Correlation (MFE,MAE):",null,null,-0.429614]
["Minimal position holding time:",null,null,"0:03:47","Maximal position holding time:",null,null,"404:54:30","Average position holding time:",null,null,"10:38:00"]
[]
["Total Trades:",null,null,350,"Short Trades (won %):",null,null,"177 (76.84%)","Long Trades (won %):",null,null,"173 (76.30%)"]
["Total Deals:",null,null,700,"Profit Trades (% of total):",null,null,"268 (76.57%)","Loss Trades (% of total):",null,null,"82 (23.43%)"]
[null,null,null,null,"Largest profit trade:",null,null,47.39,"Largest loss trade:",null,null,-2.8]
[null,null,null,null,"Average profit trade:",null,null,1.911157,"Average loss trade:",null,null,-1.2041459999999999]
[null,null,null,null,"Maximum consecutive wins ($):",null,null,"13 (45.75)","Maximum consecutive losses ($):",null,null,"4 (-8.73)"]
[null,null,null,null,"Maximal consecutive profit (count):",null,null,"90.41 (9)","Maximal consecutive loss (count):",null,null,"-8.73 (4)"]
[null,null,null,null,"Average consecutive wins:",null,null,5,"Average consecutive losses:",null,null,2]